{"text_format":"1","workbook":"xlsx","n_sheets":12,"sheets":["Control Panel","File 1","File 2","File 3","File 4","File 5","Flat","programmer","Dashboard","Color Contrast verification","Budget_by_Source","Expenses"],"not_rendered":{"charts":2,"images":2,"macros":1,"external_links":0,"defined_names":10,"comments":0,"pivot_tables":0},"unopened":[],"bounds":{"document_bytes":16777216,"sheet_cells":100000,"rows_first":2000,"rows_last":500,"rows_between":2000,"halvings":0,"cell_chars":16384,"cell_head_chars":4096},"cells_cut":0,"cells_raw":0,"read":"whole","date_system":"1900"}

{"sheet":"Control Panel","index":0,"n_rows":488,"n_cols":14,"rows_kept":488,"cut":false,"hidden":false,"merged":[[18,10,24,13],[6,4,6,10],[8,2,8,10],[9,2,9,10],[1,4,1,10],[2,4,2,10],[3,4,3,10],[4,4,4,10],[5,4,5,10]]}
[]
[null,null,"Import Data for…","Date of Import","Filename",null,null,null,null,null,null,"Programs","File's Label for Dashboard tab:","Clear Data:"]
[null,1,null,null,null,null,null,null,null,null,null,{"$f":"MAX(COUNTA('File 1'!B:B)-1,0)","v":0}]
[null,2,null,null,null,null,null,null,null,null,null,{"$f":"MAX(COUNTA('File 2'!B:B)-1,0)","v":0}]
[null,3,null,null,null,null,null,null,null,null,null,{"$f":"MAX(COUNTA('File 3'!B:B)-1,0)","v":0}]
[null,4,null,null,null,null,null,null,null,null,null,{"$f":"MAX(COUNTA('File 4'!B:B)-1,0)","v":0}]
[null,5,null,null,null,null,null,null,null,null,null,{"$f":"MAX(COUNTA('File 5'!B:B)-1,0)","v":0}]
[]
[null,"\n","Instructions:  Click on one of the \"File\" buttons to import data for that file (one file per tab).  You will then be prompted to browse to the file that contains the data you would like to import.  There will be a 20-40 second pause, then you will see a popup message when the import is done."]
[null,null,"After you have imported all the files you would like to import, visit the Dashboard tab to view some longitudinal comparisons."]
[]
[]
[]
[null,null,null,null,{"$f":"IF(INDEX(programmer!$T:$T,ROWS(A$1:A1),1)=\"\",\"\",INDEX(programmer!$T:$T,ROWS(A$1:A1),1))","v":"Program"},"File 1","File 2","File 3","File 4","File 5"]
[null,null,null,null,{"$f":"IF(INDEX(programmer!$T:$T,ROWS(A$1:A2),1)=\"\",\"\",INDEX(programmer!$T:$T,ROWS(A$1:A2),1))","v":""},{"$f":"IF(ISERROR(VLOOKUP($E15,'File 1'!$B:$B,1,FALSE)),\"\",\"ü\")","v":""},{"$f":"IF(ISERROR(VLOOKUP($E15,'File 2'!$B:$B,1,FALSE)),\"\",\"ü\")","v":""},{"$f":"IF(ISERROR(VLOOKUP($E15,'File 3'!$B:$B,1,FALSE)),\"\",\"ü\")","v":""},{"$f":"IF(ISERROR(VLOOKUP($E15,'File 4'!$B:$B,1,FALSE)),\"\",\"ü\")","v":""},{"$f":"IF(ISERROR(VLOOKUP($E15,'File 5'!$B:$B,1,FALSE)),\"\",\"ü\")","v":""}]
[null,null,null,null,{"$f":"IF(INDEX(programmer!$T:$T,ROWS(A$1:A3),1)=\"\",\"\",INDEX(programmer!$T:$T,ROWS(A$1:A3),1))","v":""},{"$f":"IF(ISERROR(VLOOKUP($E16,'File 1'!$B:$B,1,FALSE)),\"\",\"ü\")","v":""},{"$f":"IF(ISERROR(VLOOKUP($E16,'File 2'!$B:$B,1,FALSE)),\"\",\"ü\")","v":""},{"$f":"IF(ISERROR(VLOOKUP($E16,'File 3'!$B:$B,1,FALSE)),\"\",\"ü\")","v":""},{"$f":"IF(ISERROR(VLOOKUP($E16,'File 4'!$B:$B,1,FALSE)),\"\",\"ü\")","v":""},{"$f":"IF(ISERROR(VLOOKUP($E16,'File 5'!$B:$B,1,FALSE)),\"\",\"ü\")","v":""}]
[null,null,null,null,{"$f":"IF(INDEX(programmer!$T:$T,ROWS(A$1:A4),1)=\"\",\"\",INDEX(programmer!$T:$T,ROWS(A$1:A4),1))","v":""},{"$f":"IF(ISERROR(VLOOKUP($E17,'File 1'!$B:$B,1,FALSE)),\"\",\"ü\")","v":""},{"$f":"IF(ISERROR(VLOOKUP($E17,'File 2'!$B:$B,1,FALSE)),\"\",\"ü\")","v":""},{"$f":"IF(ISERROR(VLOOKUP($E17,'File 3'!$B:$B,1,FALSE)),\"\",\"ü\")","v":""},{"$f":"IF(ISERROR(VLOOKUP($E17,'File 4'!$B:$B,1,FALSE)),\"\",\"ü\")","v":""},{"$f":"IF(ISERROR(VLOOKUP($E17,'File 5'!$B:$B,1,FALSE)),\"\",\"ü\")","v":""}]
[null,null,null,null,{"$f":"IF(INDEX(programmer!$T:$T,ROWS(A$1:A5),1)=\"\",\"\",INDEX(programmer!$T:$T,ROWS(A$1:A5),1))","v":""},{"$f":"IF(ISERROR(VLOOKUP($E18,'File 1'!$B:$B,1,FALSE)),\"\",\"ü\")","v":""},{"$f":"IF(ISERROR(VLOOKUP($E18,'File 2'!$B:$B,1,FALSE)),\"\",\"ü\")","v":""},{"$f":"IF(ISERROR(VLOOKUP($E18,'File 3'!$B:$B,1,FALSE)),\"\",\"ü\")","v":""},{"$f":"IF(ISERROR(VLOOKUP($E18,'File 4'!$B:$B,1,FALSE)),\"\",\"ü\")","v":""},{"$f":"IF(ISERROR(VLOOKUP($E18,'File 5'!$B:$B,1,FALSE)),\"\",\"ü\")","v":""}]
[null,null,null,null,{"$f":"IF(INDEX(programmer!$T:$T,ROWS(A$1:A6),1)=\"\",\"\",INDEX(programmer!$T:$T,ROWS(A$1:A6),1))","v":""},{"$f":"IF(ISERROR(VLOOKUP($E19,'File 1'!$B:$B,1,FALSE)),\"\",\"ü\")","v":""},{"$f":"IF(ISERROR(VLOOKUP($E19,'File 2'!$B:$B,1,FALSE)),\"\",\"ü\")","v":""},{"$f":"IF(ISERROR(VLOOKUP($E19,'File 3'!$B:$B,1,FALSE)),\"\",\"ü\")","v":""},{"$f":"IF(ISERROR(VLOOKUP($E19,'File 4'!$B:$B,1,FALSE)),\"\",\"ü\")","v":""},{"$f":"IF(ISERROR(VLOOKUP($E19,'File 5'!$B:$B,1,FALSE)),\"\",\"ü\")","v":""},"The contents of this template were developed under a grant from the U.S. Department of Education, #H373Z190002, and a cooperative agreement, #H326P170001, from the Office of Special Education Programs, U.S. Department of Education. However, those contents do not necessarily represent the policy of the U.S. Department of Education, and you should not assume endorsement by the Federal Government. DaSy Center Project Officers, Meredith Miceli and Amy Bae. ECTA Center Project Officer, Julia Martin Eile."]
[null,null,null,null,{"$f":"IF(INDEX(programmer!$T:$T,ROWS(A$1:A7),1)=\"\",\"\",INDEX(programmer!$T:$T,ROWS(A$1:A7),1))","v":""},{"$f":"IF(ISERROR(VLOOKUP($E20,'File 1'!$B:$B,1,FALSE)),\"\",\"ü\")","v":""},{"$f":"IF(ISERROR(VLOOKUP($E20,'File 2'!$B:$B,1,FALSE)),\"\",\"ü\")","v":""},{"$f":"IF(ISERROR(VLOOKUP($E20,'File 3'!$B:$B,1,FALSE)),\"\",\"ü\")","v":""},{"$f":"IF(ISERROR(VLOOKUP($E20,'File 4'!$B:$B,1,FALSE)),\"\",\"ü\")","v":""},{"$f":"IF(ISERROR(VLOOKUP($E20,'File 5'!$B:$B,1,FALSE)),\"\",\"ü\")","v":""}]
[null,null,null,null,{"$f":"IF(INDEX(programmer!$T:$T,ROWS(A$1:A8),1)=\"\",\"\",INDEX(programmer!$T:$T,ROWS(A$1:A8),1))","v":""},{"$f":"IF(ISERROR(VLOOKUP($E21,'File 1'!$B:$B,1,FALSE)),\"\",\"ü\")","v":""},{"$f":"IF(ISERROR(VLOOKUP($E21,'File 2'!$B:$B,1,FALSE)),\"\",\"ü\")","v":""},{"$f":"IF(ISERROR(VLOOKUP($E21,'File 3'!$B:$B,1,FALSE)),\"\",\"ü\")","v":""},{"$f":"IF(ISERROR(VLOOKUP($E21,'File 4'!$B:$B,1,FALSE)),\"\",\"ü\")","v":""},{"$f":"IF(ISERROR(VLOOKUP($E21,'File 5'!$B:$B,1,FALSE)),\"\",\"ü\")","v":""}]
[null,null,null,null,{"$f":"IF(INDEX(programmer!$T:$T,ROWS(A$1:A9),1)=\"\",\"\",INDEX(programmer!$T:$T,ROWS(A$1:A9),1))","v":""},{"$f":"IF(ISERROR(VLOOKUP($E22,'File 1'!$B:$B,1,FALSE)),\"\",\"ü\")","v":""},{"$f":"IF(ISERROR(VLOOKUP($E22,'File 2'!$B:$B,1,FALSE)),\"\",\"ü\")","v":""},{"$f":"IF(ISERROR(VLOOKUP($E22,'File 3'!$B:$B,1,FALSE)),\"\",\"ü\")","v":""},{"$f":"IF(ISERROR(VLOOKUP($E22,'File 4'!$B:$B,1,FALSE)),\"\",\"ü\")","v":""},{"$f":"IF(ISERROR(VLOOKUP($E22,'File 5'!$B:$B,1,FALSE)),\"\",\"ü\")","v":""}]
[null,null,null,null,{"$f":"IF(INDEX(programmer!$T:$T,ROWS(A$1:A10),1)=\"\",\"\",INDEX(programmer!$T:$T,ROWS(A$1:A10),1))","v":""},{"$f":"IF(ISERROR(VLOOKUP($E23,'File 1'!$B:$B,1,FALSE)),\"\",\"ü\")","v":""},{"$f":"IF(ISERROR(VLOOKUP($E23,'File 2'!$B:$B,1,FALSE)),\"\",\"ü\")","v":""},{"$f":"IF(ISERROR(VLOOKUP($E23,'File 3'!$B:$B,1,FALSE)),\"\",\"ü\")","v":""},{"$f":"IF(ISERROR(VLOOKUP($E23,'File 4'!$B:$B,1,FALSE)),\"\",\"ü\")","v":""},{"$f":"IF(ISERROR(VLOOKUP($E23,'File 5'!$B:$B,1,FALSE)),\"\",\"ü\")","v":""}]
[null,null,null,null,{"$f":"IF(INDEX(programmer!$T:$T,ROWS(A$1:A11),1)=\"\",\"\",INDEX(programmer!$T:$T,ROWS(A$1:A11),1))","v":""},{"$f":"IF(ISERROR(VLOOKUP($E24,'File 1'!$B:$B,1,FALSE)),\"\",\"ü\")","v":""},{"$f":"IF(ISERROR(VLOOKUP($E24,'File 2'!$B:$B,1,FALSE)),\"\",\"ü\")","v":""},{"$f":"IF(ISERROR(VLOOKUP($E24,'File 3'!$B:$B,1,FALSE)),\"\",\"ü\")","v":""},{"$f":"IF(ISERROR(VLOOKUP($E24,'File 4'!$B:$B,1,FALSE)),\"\",\"ü\")","v":""},{"$f":"IF(ISERROR(VLOOKUP($E24,'File 5'!$B:$B,1,FALSE)),\"\",\"ü\")","v":""}]
[null,null,null,null,{"$f":"IF(INDEX(programmer!$T:$T,ROWS(A$1:A12),1)=\"\",\"\",INDEX(programmer!$T:$T,ROWS(A$1:A12),1))","v":""},{"$f":"IF(ISERROR(VLOOKUP($E25,'File 1'!$B:$B,1,FALSE)),\"\",\"ü\")","v":""},{"$f":"IF(ISERROR(VLOOKUP($E25,'File 2'!$B:$B,1,FALSE)),\"\",\"ü\")","v":""},{"$f":"IF(ISERROR(VLOOKUP($E25,'File 3'!$B:$B,1,FALSE)),\"\",\"ü\")","v":""},{"$f":"IF(ISERROR(VLOOKUP($E25,'File 4'!$B:$B,1,FALSE)),\"\",\"ü\")","v":""},{"$f":"IF(ISERROR(VLOOKUP($E25,'File 5'!$B:$B,1,FALSE)),\"\",\"ü\")","v":""}]
[null,null,null,null,{"$f":"IF(INDEX(programmer!$T:$T,ROWS(A$1:A13),1)=\"\",\"\",INDEX(programmer!$T:$T,ROWS(A$1:A13),1))","v":""},{"$f":"IF(ISERROR(VLOOKUP($E26,'File 1'!$B:$B,1,FALSE)),\"\",\"ü\")","v":""},{"$f":"IF(ISERROR(VLOOKUP($E26,'File 2'!$B:$B,1,FALSE)),\"\",\"ü\")","v":""},{"$f":"IF(ISERROR(VLOOKUP($E26,'File 3'!$B:$B,1,FALSE)),\"\",\"ü\")","v":""},{"$f":"IF(ISERROR(VLOOKUP($E26,'File 4'!$B:$B,1,FALSE)),\"\",\"ü\")","v":""},{"$f":"IF(ISERROR(VLOOKUP($E26,'File 5'!$B:$B,1,FALSE)),\"\",\"ü\")","v":""}]
[null,null,null,null,{"$f":"IF(INDEX(programmer!$T:$T,ROWS(A$1:A14),1)=\"\",\"\",INDEX(programmer!$T:$T,ROWS(A$1:A14),1))","v":""},{"$f":"IF(ISERROR(VLOOKUP($E27,'File 1'!$B:$B,1,FALSE)),\"\",\"ü\")","v":""},{"$f":"IF(ISERROR(VLOOKUP($E27,'File 2'!$B:$B,1,FALSE)),\"\",\"ü\")","v":""},{"$f":"IF(ISERROR(VLOOKUP($E27,'File 3'!$B:$B,1,FALSE)),\"\",\"ü\")","v":""},{"$f":"IF(ISERROR(VLOOKUP($E27,'File 4'!$B:$B,1,FALSE)),\"\",\"ü\")","v":""},{"$f":"IF(ISERROR(VLOOKUP($E27,'File 5'!$B:$B,1,FALSE)),\"\",\"ü\")","v":""}]
[null,null,null,null,{"$f":"IF(INDEX(programmer!$T:$T,ROWS(A$1:A15),1)=\"\",\"\",INDEX(programmer!$T:$T,ROWS(A$1:A15),1))","v":""},{"$f":"IF(ISERROR(VLOOKUP($E28,'File 1'!$B:$B,1,FALSE)),\"\",\"ü\")","v":""},{"$f":"IF(ISERROR(VLOOKUP($E28,'File 2'!$B:$B,1,FALSE)),\"\",\"ü\")","v":""},{"$f":"IF(ISERROR(VLOOKUP($E28,'File 3'!$B:$B,1,FALSE)),\"\",\"ü\")","v":""},{"$f":"IF(ISERROR(VLOOKUP($E28,'File 4'!$B:$B,1,FALSE)),\"\",\"ü\")","v":""},{"$f":"IF(ISERROR(VLOOKUP($E28,'File 5'!$B:$B,1,FALSE)),\"\",\"ü\")","v":""}]
[null,null,null,null,{"$f":"IF(INDEX(programmer!$T:$T,ROWS(A$1:A16),1)=\"\",\"\",INDEX(programmer!$T:$T,ROWS(A$1:A16),1))","v":""},{"$f":"IF(ISERROR(VLOOKUP($E29,'File 1'!$B:$B,1,FALSE)),\"\",\"ü\")","v":""},{"$f":"IF(ISERROR(VLOOKUP($E29,'File 2'!$B:$B,1,FALSE)),\"\",\"ü\")","v":""},{"$f":"IF(ISERROR(VLOOKUP($E29,'File 3'!$B:$B,1,FALSE)),\"\",\"ü\")","v":""},{"$f":"IF(ISERROR(VLOOKUP($E29,'File 4'!$B:$B,1,FALSE)),\"\",\"ü\")","v":""},{"$f":"IF(ISERROR(VLOOKUP($E29,'File 5'!$B:$B,1,FALSE)),\"\",\"ü\")","v":""}]
[null,null,null,null,{"$f":"IF(INDEX(programmer!$T:$T,ROWS(A$1:A17),1)=\"\",\"\",INDEX(programmer!$T:$T,ROWS(A$1:A17),1))","v":""},{"$f":"IF(ISERROR(VLOOKUP($E30,'File 1'!$B:$B,1,FALSE)),\"\",\"ü\")","v":""},{"$f":"IF(ISERROR(VLOOKUP($E30,'File 2'!$B:$B,1,FALSE)),\"\",\"ü\")","v":""},{"$f":"IF(ISERROR(VLOOKUP($E30,'File 3'!$B:$B,1,FALSE)),\"\",\"ü\")","v":""},{"$f":"IF(ISERROR(VLOOKUP($E30,'File 4'!$B:$B,1,FALSE)),\"\",\"ü\")","v":""},{"$f":"IF(ISERROR(VLOOKUP($E30,'File 5'!$B:$B,1,FALSE)),\"\",\"ü\")","v":""}]
[null,null,null,null,{"$f":"IF(INDEX(programmer!$T:$T,ROWS(A$1:A18),1)=\"\",\"\",INDEX(programmer!$T:$T,ROWS(A$1:A18),1))","v":""},{"$f":"IF(ISERROR(VLOOKUP($E31,'File 1'!$B:$B,1,FALSE)),\"\",\"ü\")","v":""},{"$f":"IF(ISERROR(VLOOKUP($E31,'File 2'!$B:$B,1,FALSE)),\"\",\"ü\")","v":""},{"$f":"IF(ISERROR(VLOOKUP($E31,'File 3'!$B:$B,1,FALSE)),\"\",\"ü\")","v":""},{"$f":"IF(ISERROR(VLOOKUP($E31,'File 4'!$B:$B,1,FALSE)),\"\",\"ü\")","v":""},{"$f":"IF(ISERROR(VLOOKUP($E31,'File 5'!$B:$B,1,FALSE)),\"\",\"ü\")","v":""}]
[null,null,null,null,{"$f":"IF(INDEX(programmer!$T:$T,ROWS(A$1:A19),1)=\"\",\"\",INDEX(programmer!$T:$T,ROWS(A$1:A19),1))","v":""},{"$f":"IF(ISERROR(VLOOKUP($E32,'File 1'!$B:$B,1,FALSE)),\"\",\"ü\")","v":""},{"$f":"IF(ISERROR(VLOOKUP($E32,'File 2'!$B:$B,1,FALSE)),\"\",\"ü\")","v":""},{"$f":"IF(ISERROR(VLOOKUP($E32,'File 3'!$B:$B,1,FALSE)),\"\",\"ü\")","v":""},{"$f":"IF(ISERROR(VLOOKUP($E32,'File 4'!$B:$B,1,FALSE)),\"\",\"ü\")","v":""},{"$f":"IF(ISERROR(VLOOKUP($E32,'File 5'!$B:$B,1,FALSE)),\"\",\"ü\")","v":""}]
[null,null,null,null,{"$f":"IF(INDEX(programmer!$T:$T,ROWS(A$1:A20),1)=\"\",\"\",INDEX(programmer!$T:$T,ROWS(A$1:A20),1))","v":""},{"$f":"IF(ISERROR(VLOOKUP($E33,'File 1'!$B:$B,1,FALSE)),\"\",\"ü\")","v":""},{"$f":"IF(ISERROR(VLOOKUP($E33,'File 2'!$B:$B,1,FALSE)),\"\",\"ü\")","v":""},{"$f":"IF(ISERROR(VLOOKUP($E33,'File 3'!$B:$B,1,FALSE)),\"\",\"ü\")","v":""},{"$f":"IF(ISERROR(VLOOKUP($E33,'File 4'!$B:$B,1,FALSE)),\"\",\"ü\")","v":""},{"$f":"IF(ISERROR(VLOOKUP($E33,'File 5'!$B:$B,1,FALSE)),\"\",\"ü\")","v":""}]
[null,null,null,null,{"$f":"IF(INDEX(programmer!$T:$T,ROWS(A$1:A21),1)=\"\",\"\",INDEX(programmer!$T:$T,ROWS(A$1:A21),1))","v":""},{"$f":"IF(ISERROR(VLOOKUP($E34,'File 1'!$B:$B,1,FALSE)),\"\",\"ü\")","v":""},{"$f":"IF(ISERROR(VLOOKUP($E34,'File 2'!$B:$B,1,FALSE)),\"\",\"ü\")","v":""},{"$f":"IF(ISERROR(VLOOKUP($E34,'File 3'!$B:$B,1,FALSE)),\"\",\"ü\")","v":""},{"$f":"IF(ISERROR(VLOOKUP($E34,'File 4'!$B:$B,1,FALSE)),\"\",\"ü\")","v":""},{"$f":"IF(ISERROR(VLOOKUP($E34,'File 5'!$B:$B,1,FALSE)),\"\",\"ü\")","v":""}]
[null,null,null,null,{"$f":"IF(INDEX(programmer!$T:$T,ROWS(A$1:A22),1)=\"\",\"\",INDEX(programmer!$T:$T,ROWS(A$1:A22),1))","v":""},{"$f":"IF(ISERROR(VLOOKUP($E35,'File 1'!$B:$B,1,FALSE)),\"\",\"ü\")","v":""},{"$f":"IF(ISERROR(VLOOKUP($E35,'File 2'!$B:$B,1,FALSE)),\"\",\"ü\")","v":""},{"$f":"IF(ISERROR(VLOOKUP($E35,'File 3'!$B:$B,1,FALSE)),\"\",\"ü\")","v":""},{"$f":"IF(ISERROR(VLOOKUP($E35,'File 4'!$B:$B,1,FALSE)),\"\",\"ü\")","v":""},{"$f":"IF(ISERROR(VLOOKUP($E35,'File 5'!$B:$B,1,FALSE)),\"\",\"ü\")","v":""}]
[null,null,null,null,{"$f":"IF(INDEX(programmer!$T:$T,ROWS(A$1:A23),1)=\"\",\"\",INDEX(programmer!$T:$T,ROWS(A$1:A23),1))","v":""},{"$f":"IF(ISERROR(VLOOKUP($E36,'File 1'!$B:$B,1,FALSE)),\"\",\"ü\")","v":""},{"$f":"IF(ISERROR(VLOOKUP($E36,'File 2'!$B:$B,1,FALSE)),\"\",\"ü\")","v":""},{"$f":"IF(ISERROR(VLOOKUP($E36,'File 3'!$B:$B,1,FALSE)),\"\",\"ü\")","v":""},{"$f":"IF(ISERROR(VLOOKUP($E36,'File 4'!$B:$B,1,FALSE)),\"\",\"ü\")","v":""},{"$f":"IF(ISERROR(VLOOKUP($E36,'File 5'!$B:$B,1,FALSE)),\"\",\"ü\")","v":""}]
[null,null,null,null,{"$f":"IF(INDEX(programmer!$T:$T,ROWS(A$1:A24),1)=\"\",\"\",INDEX(programmer!$T:$T,ROWS(A$1:A24),1))","v":""},{"$f":"IF(ISERROR(VLOOKUP($E37,'File 1'!$B:$B,1,FALSE)),\"\",\"ü\")","v":""},{"$f":"IF(ISERROR(VLOOKUP($E37,'File 2'!$B:$B,1,FALSE)),\"\",\"ü\")","v":""},{"$f":"IF(ISERROR(VLOOKUP($E37,'File 3'!$B:$B,1,FALSE)),\"\",\"ü\")","v":""},{"$f":"IF(ISERROR(VLOOKUP($E37,'File 4'!$B:$B,1,FALSE)),\"\",\"ü\")","v":""},{"$f":"IF(ISERROR(VLOOKUP($E37,'File 5'!$B:$B,1,FALSE)),\"\",\"ü\")","v":""}]
[null,null,null,null,{"$f":"IF(INDEX(programmer!$T:$T,ROWS(A$1:A25),1)=\"\",\"\",INDEX(programmer!$T:$T,ROWS(A$1:A25),1))","v":""},{"$f":"IF(ISERROR(VLOOKUP($E38,'File 1'!$B:$B,1,FALSE)),\"\",\"ü\")","v":""},{"$f":"IF(ISERROR(VLOOKUP($E38,'File 2'!$B:$B,1,FALSE)),\"\",\"ü\")","v":""},{"$f":"IF(ISERROR(VLOOKUP($E38,'File 3'!$B:$B,1,FALSE)),\"\",\"ü\")","v":""},{"$f":"IF(ISERROR(VLOOKUP($E38,'File 4'!$B:$B,1,FALSE)),\"\",\"ü\")","v":""},{"$f":"IF(ISERROR(VLOOKUP($E38,'File 5'!$B:$B,1,FALSE)),\"\",\"ü\")","v":""}]
[null,null,null,null,{"$f":"IF(INDEX(programmer!$T:$T,ROWS(A$1:A26),1)=\"\",\"\",INDEX(programmer!$T:$T,ROWS(A$1:A26),1))","v":""},{"$f":"IF(ISERROR(VLOOKUP($E39,'File 1'!$B:$B,1,FALSE)),\"\",\"ü\")","v":""},{"$f":"IF(ISERROR(VLOOKUP($E39,'File 2'!$B:$B,1,FALSE)),\"\",\"ü\")","v":""},{"$f":"IF(ISERROR(VLOOKUP($E39,'File 3'!$B:$B,1,FALSE)),\"\",\"ü\")","v":""},{"$f":"IF(ISERROR(VLOOKUP($E39,'File 4'!$B:$B,1,FALSE)),\"\",\"ü\")","v":""},{"$f":"IF(ISERROR(VLOOKUP($E39,'File 5'!$B:$B,1,FALSE)),\"\",\"ü\")","v":""}]
[null,null,null,null,{"$f":"IF(INDEX(programmer!$T:$T,ROWS(A$1:A27),1)=\"\",\"\",INDEX(programmer!$T:$T,ROWS(A$1:A27),1))","v":""},{"$f":"IF(ISERROR(VLOOKUP($E40,'File 1'!$B:$B,1,FALSE)),\"\",\"ü\")","v":""},{"$f":"IF(ISERROR(VLOOKUP($E40,'File 2'!$B:$B,1,FALSE)),\"\",\"ü\")","v":""},{"$f":"IF(ISERROR(VLOOKUP($E40,'File 3'!$B:$B,1,FALSE)),\"\",\"ü\")","v":""},{"$f":"IF(ISERROR(VLOOKUP($E40,'File 4'!$B:$B,1,FALSE)),\"\",\"ü\")","v":""},{"$f":"IF(ISERROR(VLOOKUP($E40,'File 5'!$B:$B,1,FALSE)),\"\",\"ü\")","v":""}]
[null,null,null,null,{"$f":"IF(INDEX(programmer!$T:$T,ROWS(A$1:A28),1)=\"\",\"\",INDEX(programmer!$T:$T,ROWS(A$1:A28),1))","v":""},{"$f":"IF(ISERROR(VLOOKUP($E41,'File 1'!$B:$B,1,FALSE)),\"\",\"ü\")","v":""},{"$f":"IF(ISERROR(VLOOKUP($E41,'File 2'!$B:$B,1,FALSE)),\"\",\"ü\")","v":""},{"$f":"IF(ISERROR(VLOOKUP($E41,'File 3'!$B:$B,1,FALSE)),\"\",\"ü\")","v":""},{"$f":"IF(ISERROR(VLOOKUP($E41,'File 4'!$B:$B,1,FALSE)),\"\",\"ü\")","v":""},{"$f":"IF(ISERROR(VLOOKUP($E41,'File 5'!$B:$B,1,FALSE)),\"\",\"ü\")","v":""}]
[null,null,null,null,{"$f":"IF(INDEX(programmer!$T:$T,ROWS(A$1:A29),1)=\"\",\"\",INDEX(programmer!$T:$T,ROWS(A$1:A29),1))","v":""},{"$f":"IF(ISERROR(VLOOKUP($E42,'File 1'!$B:$B,1,FALSE)),\"\",\"ü\")","v":""},{"$f":"IF(ISERROR(VLOOKUP($E42,'File 2'!$B:$B,1,FALSE)),\"\",\"ü\")","v":""},{"$f":"IF(ISERROR(VLOOKUP($E42,'File 3'!$B:$B,1,FALSE)),\"\",\"ü\")","v":""},{"$f":"IF(ISERROR(VLOOKUP($E42,'File 4'!$B:$B,1,FALSE)),\"\",\"ü\")","v":""},{"$f":"IF(ISERROR(VLOOKUP($E42,'File 5'!$B:$B,1,FALSE)),\"\",\"ü\")","v":""}]
[null,null,null,null,{"$f":"IF(INDEX(programmer!$T:$T,ROWS(A$1:A30),1)=\"\",\"\",INDEX(programmer!$T:$T,ROWS(A$1:A30),1))","v":""},{"$f":"IF(ISERROR(VLOOKUP($E43,'File 1'!$B:$B,1,FALSE)),\"\",\"ü\")","v":""},{"$f":"IF(ISERROR(VLOOKUP($E43,'File 2'!$B:$B,1,FALSE)),\"\",\"ü\")","v":""},{"$f":"IF(ISERROR(VLOOKUP($E43,'File 3'!$B:$B,1,FALSE)),\"\",\"ü\")","v":""},{"$f":"IF(ISERROR(VLOOKUP($E43,'File 4'!$B:$B,1,FALSE)),\"\",\"ü\")","v":""},{"$f":"IF(ISERROR(VLOOKUP($E43,'File 5'!$B:$B,1,FALSE)),\"\",\"ü\")","v":""}]
[null,null,null,null,{"$f":"IF(INDEX(programmer!$T:$T,ROWS(A$1:A31),1)=\"\",\"\",INDEX(programmer!$T:$T,ROWS(A$1:A31),1))","v":""},{"$f":"IF(ISERROR(VLOOKUP($E44,'File 1'!$B:$B,1,FALSE)),\"\",\"ü\")","v":""},{"$f":"IF(ISERROR(VLOOKUP($E44,'File 2'!$B:$B,1,FALSE)),\"\",\"ü\")","v":""},{"$f":"IF(ISERROR(VLOOKUP($E44,'File 3'!$B:$B,1,FALSE)),\"\",\"ü\")","v":""},{"$f":"IF(ISERROR(VLOOKUP($E44,'File 4'!$B:$B,1,FALSE)),\"\",\"ü\")","v":""},{"$f":"IF(ISERROR(VLOOKUP($E44,'File 5'!$B:$B,1,FALSE)),\"\",\"ü\")","v":""}]
[null,null,null,null,{"$f":"IF(INDEX(programmer!$T:$T,ROWS(A$1:A32),1)=\"\",\"\",INDEX(programmer!$T:$T,ROWS(A$1:A32),1))","v":""},{"$f":"IF(ISERROR(VLOOKUP($E45,'File 1'!$B:$B,1,FALSE)),\"\",\"ü\")","v":""},{"$f":"IF(ISERROR(VLOOKUP($E45,'File 2'!$B:$B,1,FALSE)),\"\",\"ü\")","v":""},{"$f":"IF(ISERROR(VLOOKUP($E45,'File 3'!$B:$B,1,FALSE)),\"\",\"ü\")","v":""},{"$f":"IF(ISERROR(VLOOKUP($E45,'File 4'!$B:$B,1,FALSE)),\"\",\"ü\")","v":""},{"$f":"IF(ISERROR(VLOOKUP($E45,'File 5'!$B:$B,1,FALSE)),\"\",\"ü\")","v":""}]
[null,null,null,null,{"$f":"IF(INDEX(programmer!$T:$T,ROWS(A$1:A33),1)=\"\",\"\",INDEX(programmer!$T:$T,ROWS(A$1:A33),1))","v":""},{"$f":"IF(ISERROR(VLOOKUP($E46,'File 1'!$B:$B,1,FALSE)),\"\",\"ü\")","v":""},{"$f":"IF(ISERROR(VLOOKUP($E46,'File 2'!$B:$B,1,FALSE)),\"\",\"ü\")","v":""},{"$f":"IF(ISERROR(VLOOKUP($E46,'File 3'!$B:$B,1,FALSE)),\"\",\"ü\")","v":""},{"$f":"IF(ISERROR(VLOOKUP($E46,'File 4'!$B:$B,1,FALSE)),\"\",\"ü\")","v":""},{"$f":"IF(ISERROR(VLOOKUP($E46,'File 5'!$B:$B,1,FALSE)),\"\",\"ü\")","v":""}]
[null,null,null,null,{"$f":"IF(INDEX(programmer!$T:$T,ROWS(A$1:A34),1)=\"\",\"\",INDEX(programmer!$T:$T,ROWS(A$1:A34),1))","v":""},{"$f":"IF(ISERROR(VLOOKUP($E47,'File 1'!$B:$B,1,FALSE)),\"\",\"ü\")","v":""},{"$f":"IF(ISERROR(VLOOKUP($E47,'File 2'!$B:$B,1,FALSE)),\"\",\"ü\")","v":""},{"$f":"IF(ISERROR(VLOOKUP($E47,'File 3'!$B:$B,1,FALSE)),\"\",\"ü\")","v":""},{"$f":"IF(ISERROR(VLOOKUP($E47,'File 4'!$B:$B,1,FALSE)),\"\",\"ü\")","v":""},{"$f":"IF(ISERROR(VLOOKUP($E47,'File 5'!$B:$B,1,FALSE)),\"\",\"ü\")","v":""}]
[null,null,null,null,{"$f":"IF(INDEX(programmer!$T:$T,ROWS(A$1:A35),1)=\"\",\"\",INDEX(programmer!$T:$T,ROWS(A$1:A35),1))","v":""},{"$f":"IF(ISERROR(VLOOKUP($E48,'File 1'!$B:$B,1,FALSE)),\"\",\"ü\")","v":""},{"$f":"IF(ISERROR(VLOOKUP($E48,'File 2'!$B:$B,1,FALSE)),\"\",\"ü\")","v":""},{"$f":"IF(ISERROR(VLOOKUP($E48,'File 3'!$B:$B,1,FALSE)),\"\",\"ü\")","v":""},{"$f":"IF(ISERROR(VLOOKUP($E48,'File 4'!$B:$B,1,FALSE)),\"\",\"ü\")","v":""},{"$f":"IF(ISERROR(VLOOKUP($E48,'File 5'!$B:$B,1,FALSE)),\"\",\"ü\")","v":""}]
[null,null,null,null,{"$f":"IF(INDEX(programmer!$T:$T,ROWS(A$1:A36),1)=\"\",\"\",INDEX(programmer!$T:$T,ROWS(A$1:A36),1))","v":""},{"$f":"IF(ISERROR(VLOOKUP($E49,'File 1'!$B:$B,1,FALSE)),\"\",\"ü\")","v":""},{"$f":"IF(ISERROR(VLOOKUP($E49,'File 2'!$B:$B,1,FALSE)),\"\",\"ü\")","v":""},{"$f":"IF(ISERROR(VLOOKUP($E49,'File 3'!$B:$B,1,FALSE)),\"\",\"ü\")","v":""},{"$f":"IF(ISERROR(VLOOKUP($E49,'File 4'!$B:$B,1,FALSE)),\"\",\"ü\")","v":""},{"$f":"IF(ISERROR(VLOOKUP($E49,'File 5'!$B:$B,1,FALSE)),\"\",\"ü\")","v":""}]
[null,null,null,null,{"$f":"IF(INDEX(programmer!$T:$T,ROWS(A$1:A37),1)=\"\",\"\",INDEX(programmer!$T:$T,ROWS(A$1:A37),1))","v":""},{"$f":"IF(ISERROR(VLOOKUP($E50,'File 1'!$B:$B,1,FALSE)),\"\",\"ü\")","v":""},{"$f":"IF(ISERROR(VLOOKUP($E50,'File 2'!$B:$B,1,FALSE)),\"\",\"ü\")","v":""},{"$f":"IF(ISERROR(VLOOKUP($E50,'File 3'!$B:$B,1,FALSE)),\"\",\"ü\")","v":""},{"$f":"IF(ISERROR(VLOOKUP($E50,'File 4'!$B:$B,1,FALSE)),\"\",\"ü\")","v":""},{"$f":"IF(ISERROR(VLOOKUP($E50,'File 5'!$B:$B,1,FALSE)),\"\",\"ü\")","v":""}]
[null,null,null,null,{"$f":"IF(INDEX(programmer!$T:$T,ROWS(A$1:A38),1)=\"\",\"\",INDEX(programmer!$T:$T,ROWS(A$1:A38),1))","v":""},{"$f":"IF(ISERROR(VLOOKUP($E51,'File 1'!$B:$B,1,FALSE)),\"\",\"ü\")","v":""},{"$f":"IF(ISERROR(VLOOKUP($E51,'File 2'!$B:$B,1,FALSE)),\"\",\"ü\")","v":""},{"$f":"IF(ISERROR(VLOOKUP($E51,'File 3'!$B:$B,1,FALSE)),\"\",\"ü\")","v":""},{"$f":"IF(ISERROR(VLOOKUP($E51,'File 4'!$B:$B,1,FALSE)),\"\",\"ü\")","v":""},{"$f":"IF(ISERROR(VLOOKUP($E51,'File 5'!$B:$B,1,FALSE)),\"\",\"ü\")","v":""}]
[null,null,null,null,{"$f":"IF(INDEX(programmer!$T:$T,ROWS(A$1:A39),1)=\"\",\"\",INDEX(programmer!$T:$T,ROWS(A$1:A39),1))","v":""},{"$f":"IF(ISERROR(VLOOKUP($E52,'File 1'!$B:$B,1,FALSE)),\"\",\"ü\")","v":""},{"$f":"IF(ISERROR(VLOOKUP($E52,'File 2'!$B:$B,1,FALSE)),\"\",\"ü\")","v":""},{"$f":"IF(ISERROR(VLOOKUP($E52,'File 3'!$B:$B,1,FALSE)),\"\",\"ü\")","v":""},{"$f":"IF(ISERROR(VLOOKUP($E52,'File 4'!$B:$B,1,FALSE)),\"\",\"ü\")","v":""},{"$f":"IF(ISERROR(VLOOKUP($E52,'File 5'!$B:$B,1,FALSE)),\"\",\"ü\")","v":""}]
[null,null,null,null,{"$f":"IF(INDEX(programmer!$T:$T,ROWS(A$1:A40),1)=\"\",\"\",INDEX(programmer!$T:$T,ROWS(A$1:A40),1))","v":""},{"$f":"IF(ISERROR(VLOOKUP($E53,'File 1'!$B:$B,1,FALSE)),\"\",\"ü\")","v":""},{"$f":"IF(ISERROR(VLOOKUP($E53,'File 2'!$B:$B,1,FALSE)),\"\",\"ü\")","v":""},{"$f":"IF(ISERROR(VLOOKUP($E53,'File 3'!$B:$B,1,FALSE)),\"\",\"ü\")","v":""},{"$f":"IF(ISERROR(VLOOKUP($E53,'File 4'!$B:$B,1,FALSE)),\"\",\"ü\")","v":""},{"$f":"IF(ISERROR(VLOOKUP($E53,'File 5'!$B:$B,1,FALSE)),\"\",\"ü\")","v":""}]
[null,null,null,null,{"$f":"IF(INDEX(programmer!$T:$T,ROWS(A$1:A41),1)=\"\",\"\",INDEX(programmer!$T:$T,ROWS(A$1:A41),1))","v":""},{"$f":"IF(ISERROR(VLOOKUP($E54,'File 1'!$B:$B,1,FALSE)),\"\",\"ü\")","v":""},{"$f":"IF(ISERROR(VLOOKUP($E54,'File 2'!$B:$B,1,FALSE)),\"\",\"ü\")","v":""},{"$f":"IF(ISERROR(VLOOKUP($E54,'File 3'!$B:$B,1,FALSE)),\"\",\"ü\")","v":""},{"$f":"IF(ISERROR(VLOOKUP($E54,'File 4'!$B:$B,1,FALSE)),\"\",\"ü\")","v":""},{"$f":"IF(ISERROR(VLOOKUP($E54,'File 5'!$B:$B,1,FALSE)),\"\",\"ü\")","v":""}]
[null,null,null,null,{"$f":"IF(INDEX(programmer!$T:$T,ROWS(A$1:A42),1)=\"\",\"\",INDEX(programmer!$T:$T,ROWS(A$1:A42),1))","v":""},{"$f":"IF(ISERROR(VLOOKUP($E55,'File 1'!$B:$B,1,FALSE)),\"\",\"ü\")","v":""},{"$f":"IF(ISERROR(VLOOKUP($E55,'File 2'!$B:$B,1,FALSE)),\"\",\"ü\")","v":""},{"$f":"IF(ISERROR(VLOOKUP($E55,'File 3'!$B:$B,1,FALSE)),\"\",\"ü\")","v":""},{"$f":"IF(ISERROR(VLOOKUP($E55,'File 4'!$B:$B,1,FALSE)),\"\",\"ü\")","v":""},{"$f":"IF(ISERROR(VLOOKUP($E55,'File 5'!$B:$B,1,FALSE)),\"\",\"ü\")","v":""}]
[null,null,null,null,{"$f":"IF(INDEX(programmer!$T:$T,ROWS(A$1:A43),1)=\"\",\"\",INDEX(programmer!$T:$T,ROWS(A$1:A43),1))","v":""},{"$f":"IF(ISERROR(VLOOKUP($E56,'File 1'!$B:$B,1,FALSE)),\"\",\"ü\")","v":""},{"$f":"IF(ISERROR(VLOOKUP($E56,'File 2'!$B:$B,1,FALSE)),\"\",\"ü\")","v":""},{"$f":"IF(ISERROR(VLOOKUP($E56,'File 3'!$B:$B,1,FALSE)),\"\",\"ü\")","v":""},{"$f":"IF(ISERROR(VLOOKUP($E56,'File 4'!$B:$B,1,FALSE)),\"\",\"ü\")","v":""},{"$f":"IF(ISERROR(VLOOKUP($E56,'File 5'!$B:$B,1,FALSE)),\"\",\"ü\")","v":""}]
[null,null,null,null,{"$f":"IF(INDEX(programmer!$T:$T,ROWS(A$1:A44),1)=\"\",\"\",INDEX(programmer!$T:$T,ROWS(A$1:A44),1))","v":""},{"$f":"IF(ISERROR(VLOOKUP($E57,'File 1'!$B:$B,1,FALSE)),\"\",\"ü\")","v":""},{"$f":"IF(ISERROR(VLOOKUP($E57,'File 2'!$B:$B,1,FALSE)),\"\",\"ü\")","v":""},{"$f":"IF(ISERROR(VLOOKUP($E57,'File 3'!$B:$B,1,FALSE)),\"\",\"ü\")","v":""},{"$f":"IF(ISERROR(VLOOKUP($E57,'File 4'!$B:$B,1,FALSE)),\"\",\"ü\")","v":""},{"$f":"IF(ISERROR(VLOOKUP($E57,'File 5'!$B:$B,1,FALSE)),\"\",\"ü\")","v":""}]
[null,null,null,null,{"$f":"IF(INDEX(programmer!$T:$T,ROWS(A$1:A45),1)=\"\",\"\",INDEX(programmer!$T:$T,ROWS(A$1:A45),1))","v":""},{"$f":"IF(ISERROR(VLOOKUP($E58,'File 1'!$B:$B,1,FALSE)),\"\",\"ü\")","v":""},{"$f":"IF(ISERROR(VLOOKUP($E58,'File 2'!$B:$B,1,FALSE)),\"\",\"ü\")","v":""},{"$f":"IF(ISERROR(VLOOKUP($E58,'File 3'!$B:$B,1,FALSE)),\"\",\"ü\")","v":""},{"$f":"IF(ISERROR(VLOOKUP($E58,'File 4'!$B:$B,1,FALSE)),\"\",\"ü\")","v":""},{"$f":"IF(ISERROR(VLOOKUP($E58,'File 5'!$B:$B,1,FALSE)),\"\",\"ü\")","v":""}]
[null,null,null,null,{"$f":"IF(INDEX(programmer!$T:$T,ROWS(A$1:A46),1)=\"\",\"\",INDEX(programmer!$T:$T,ROWS(A$1:A46),1))","v":""},{"$f":"IF(ISERROR(VLOOKUP($E59,'File 1'!$B:$B,1,FALSE)),\"\",\"ü\")","v":""},{"$f":"IF(ISERROR(VLOOKUP($E59,'File 2'!$B:$B,1,FALSE)),\"\",\"ü\")","v":""},{"$f":"IF(ISERROR(VLOOKUP($E59,'File 3'!$B:$B,1,FALSE)),\"\",\"ü\")","v":""},{"$f":"IF(ISERROR(VLOOKUP($E59,'File 4'!$B:$B,1,FALSE)),\"\",\"ü\")","v":""},{"$f":"IF(ISERROR(VLOOKUP($E59,'File 5'!$B:$B,1,FALSE)),\"\",\"ü\")","v":""}]
[null,null,null,null,{"$f":"IF(INDEX(programmer!$T:$T,ROWS(A$1:A47),1)=\"\",\"\",INDEX(programmer!$T:$T,ROWS(A$1:A47),1))","v":""},{"$f":"IF(ISERROR(VLOOKUP($E60,'File 1'!$B:$B,1,FALSE)),\"\",\"ü\")","v":""},{"$f":"IF(ISERROR(VLOOKUP($E60,'File 2'!$B:$B,1,FALSE)),\"\",\"ü\")","v":""},{"$f":"IF(ISERROR(VLOOKUP($E60,'File 3'!$B:$B,1,FALSE)),\"\",\"ü\")","v":""},{"$f":"IF(ISERROR(VLOOKUP($E60,'File 4'!$B:$B,1,FALSE)),\"\",\"ü\")","v":""},{"$f":"IF(ISERROR(VLOOKUP($E60,'File 5'!$B:$B,1,FALSE)),\"\",\"ü\")","v":""}]
[null,null,null,null,{"$f":"IF(INDEX(programmer!$T:$T,ROWS(A$1:A48),1)=\"\",\"\",INDEX(programmer!$T:$T,ROWS(A$1:A48),1))","v":""},{"$f":"IF(ISERROR(VLOOKUP($E61,'File 1'!$B:$B,1,FALSE)),\"\",\"ü\")","v":""},{"$f":"IF(ISERROR(VLOOKUP($E61,'File 2'!$B:$B,1,FALSE)),\"\",\"ü\")","v":""},{"$f":"IF(ISERROR(VLOOKUP($E61,'File 3'!$B:$B,1,FALSE)),\"\",\"ü\")","v":""},{"$f":"IF(ISERROR(VLOOKUP($E61,'File 4'!$B:$B,1,FALSE)),\"\",\"ü\")","v":""},{"$f":"IF(ISERROR(VLOOKUP($E61,'File 5'!$B:$B,1,FALSE)),\"\",\"ü\")","v":""}]
[null,null,null,null,{"$f":"IF(INDEX(programmer!$T:$T,ROWS(A$1:A49),1)=\"\",\"\",INDEX(programmer!$T:$T,ROWS(A$1:A49),1))","v":""},{"$f":"IF(ISERROR(VLOOKUP($E62,'File 1'!$B:$B,1,FALSE)),\"\",\"ü\")","v":""},{"$f":"IF(ISERROR(VLOOKUP($E62,'File 2'!$B:$B,1,FALSE)),\"\",\"ü\")","v":""},{"$f":"IF(ISERROR(VLOOKUP($E62,'File 3'!$B:$B,1,FALSE)),\"\",\"ü\")","v":""},{"$f":"IF(ISERROR(VLOOKUP($E62,'File 4'!$B:$B,1,FALSE)),\"\",\"ü\")","v":""},{"$f":"IF(ISERROR(VLOOKUP($E62,'File 5'!$B:$B,1,FALSE)),\"\",\"ü\")","v":""}]
[null,null,null,null,{"$f":"IF(INDEX(programmer!$T:$T,ROWS(A$1:A50),1)=\"\",\"\",INDEX(programmer!$T:$T,ROWS(A$1:A50),1))","v":""},{"$f":"IF(ISERROR(VLOOKUP($E63,'File 1'!$B:$B,1,FALSE)),\"\",\"ü\")","v":""},{"$f":"IF(ISERROR(VLOOKUP($E63,'File 2'!$B:$B,1,FALSE)),\"\",\"ü\")","v":""},{"$f":"IF(ISERROR(VLOOKUP($E63,'File 3'!$B:$B,1,FALSE)),\"\",\"ü\")","v":""},{"$f":"IF(ISERROR(VLOOKUP($E63,'File 4'!$B:$B,1,FALSE)),\"\",\"ü\")","v":""},{"$f":"IF(ISERROR(VLOOKUP($E63,'File 5'!$B:$B,1,FALSE)),\"\",\"ü\")","v":""}]
[null,null,null,null,{"$f":"IF(INDEX(programmer!$T:$T,ROWS(A$1:A51),1)=\"\",\"\",INDEX(programmer!$T:$T,ROWS(A$1:A51),1))","v":""},{"$f":"IF(ISERROR(VLOOKUP($E64,'File 1'!$B:$B,1,FALSE)),\"\",\"ü\")","v":""},{"$f":"IF(ISERROR(VLOOKUP($E64,'File 2'!$B:$B,1,FALSE)),\"\",\"ü\")","v":""},{"$f":"IF(ISERROR(VLOOKUP($E64,'File 3'!$B:$B,1,FALSE)),\"\",\"ü\")","v":""},{"$f":"IF(ISERROR(VLOOKUP($E64,'File 4'!$B:$B,1,FALSE)),\"\",\"ü\")","v":""},{"$f":"IF(ISERROR(VLOOKUP($E64,'File 5'!$B:$B,1,FALSE)),\"\",\"ü\")","v":""}]
[null,null,null,null,{"$f":"IF(INDEX(programmer!$T:$T,ROWS(A$1:A52),1)=\"\",\"\",INDEX(programmer!$T:$T,ROWS(A$1:A52),1))","v":""},{"$f":"IF(ISERROR(VLOOKUP($E65,'File 1'!$B:$B,1,FALSE)),\"\",\"ü\")","v":""},{"$f":"IF(ISERROR(VLOOKUP($E65,'File 2'!$B:$B,1,FALSE)),\"\",\"ü\")","v":""},{"$f":"IF(ISERROR(VLOOKUP($E65,'File 3'!$B:$B,1,FALSE)),\"\",\"ü\")","v":""},{"$f":"IF(ISERROR(VLOOKUP($E65,'File 4'!$B:$B,1,FALSE)),\"\",\"ü\")","v":""},{"$f":"IF(ISERROR(VLOOKUP($E65,'File 5'!$B:$B,1,FALSE)),\"\",\"ü\")","v":""}]
[null,null,null,null,{"$f":"IF(INDEX(programmer!$T:$T,ROWS(A$1:A53),1)=\"\",\"\",INDEX(programmer!$T:$T,ROWS(A$1:A53),1))","v":""},{"$f":"IF(ISERROR(VLOOKUP($E66,'File 1'!$B:$B,1,FALSE)),\"\",\"ü\")","v":""},{"$f":"IF(ISERROR(VLOOKUP($E66,'File 2'!$B:$B,1,FALSE)),\"\",\"ü\")","v":""},{"$f":"IF(ISERROR(VLOOKUP($E66,'File 3'!$B:$B,1,FALSE)),\"\",\"ü\")","v":""},{"$f":"IF(ISERROR(VLOOKUP($E66,'File 4'!$B:$B,1,FALSE)),\"\",\"ü\")","v":""},{"$f":"IF(ISERROR(VLOOKUP($E66,'File 5'!$B:$B,1,FALSE)),\"\",\"ü\")","v":""}]
[null,null,null,null,{"$f":"IF(INDEX(programmer!$T:$T,ROWS(A$1:A54),1)=\"\",\"\",INDEX(programmer!$T:$T,ROWS(A$1:A54),1))","v":""},{"$f":"IF(ISERROR(VLOOKUP($E67,'File 1'!$B:$B,1,FALSE)),\"\",\"ü\")","v":""},{"$f":"IF(ISERROR(VLOOKUP($E67,'File 2'!$B:$B,1,FALSE)),\"\",\"ü\")","v":""},{"$f":"IF(ISERROR(VLOOKUP($E67,'File 3'!$B:$B,1,FALSE)),\"\",\"ü\")","v":""},{"$f":"IF(ISERROR(VLOOKUP($E67,'File 4'!$B:$B,1,FALSE)),\"\",\"ü\")","v":""},{"$f":"IF(ISERROR(VLOOKUP($E67,'File 5'!$B:$B,1,FALSE)),\"\",\"ü\")","v":""}]
[null,null,null,null,{"$f":"IF(INDEX(programmer!$T:$T,ROWS(A$1:A55),1)=\"\",\"\",INDEX(programmer!$T:$T,ROWS(A$1:A55),1))","v":""},{"$f":"IF(ISERROR(VLOOKUP($E68,'File 1'!$B:$B,1,FALSE)),\"\",\"ü\")","v":""},{"$f":"IF(ISERROR(VLOOKUP($E68,'File 2'!$B:$B,1,FALSE)),\"\",\"ü\")","v":""},{"$f":"IF(ISERROR(VLOOKUP($E68,'File 3'!$B:$B,1,FALSE)),\"\",\"ü\")","v":""},{"$f":"IF(ISERROR(VLOOKUP($E68,'File 4'!$B:$B,1,FALSE)),\"\",\"ü\")","v":""},{"$f":"IF(ISERROR(VLOOKUP($E68,'File 5'!$B:$B,1,FALSE)),\"\",\"ü\")","v":""}]
[null,null,null,null,{"$f":"IF(INDEX(programmer!$T:$T,ROWS(A$1:A56),1)=\"\",\"\",INDEX(programmer!$T:$T,ROWS(A$1:A56),1))","v":""},{"$f":"IF(ISERROR(VLOOKUP($E69,'File 1'!$B:$B,1,FALSE)),\"\",\"ü\")","v":""},{"$f":"IF(ISERROR(VLOOKUP($E69,'File 2'!$B:$B,1,FALSE)),\"\",\"ü\")","v":""},{"$f":"IF(ISERROR(VLOOKUP($E69,'File 3'!$B:$B,1,FALSE)),\"\",\"ü\")","v":""},{"$f":"IF(ISERROR(VLOOKUP($E69,'File 4'!$B:$B,1,FALSE)),\"\",\"ü\")","v":""},{"$f":"IF(ISERROR(VLOOKUP($E69,'File 5'!$B:$B,1,FALSE)),\"\",\"ü\")","v":""}]
[null,null,null,null,{"$f":"IF(INDEX(programmer!$T:$T,ROWS(A$1:A57),1)=\"\",\"\",INDEX(programmer!$T:$T,ROWS(A$1:A57),1))","v":""},{"$f":"IF(ISERROR(VLOOKUP($E70,'File 1'!$B:$B,1,FALSE)),\"\",\"ü\")","v":""},{"$f":"IF(ISERROR(VLOOKUP($E70,'File 2'!$B:$B,1,FALSE)),\"\",\"ü\")","v":""},{"$f":"IF(ISERROR(VLOOKUP($E70,'File 3'!$B:$B,1,FALSE)),\"\",\"ü\")","v":""},{"$f":"IF(ISERROR(VLOOKUP($E70,'File 4'!$B:$B,1,FALSE)),\"\",\"ü\")","v":""},{"$f":"IF(ISERROR(VLOOKUP($E70,'File 5'!$B:$B,1,FALSE)),\"\",\"ü\")","v":""}]
[null,null,null,null,{"$f":"IF(INDEX(programmer!$T:$T,ROWS(A$1:A58),1)=\"\",\"\",INDEX(programmer!$T:$T,ROWS(A$1:A58),1))","v":""},{"$f":"IF(ISERROR(VLOOKUP($E71,'File 1'!$B:$B,1,FALSE)),\"\",\"ü\")","v":""},{"$f":"IF(ISERROR(VLOOKUP($E71,'File 2'!$B:$B,1,FALSE)),\"\",\"ü\")","v":""},{"$f":"IF(ISERROR(VLOOKUP($E71,'File 3'!$B:$B,1,FALSE)),\"\",\"ü\")","v":""},{"$f":"IF(ISERROR(VLOOKUP($E71,'File 4'!$B:$B,1,FALSE)),\"\",\"ü\")","v":""},{"$f":"IF(ISERROR(VLOOKUP($E71,'File 5'!$B:$B,1,FALSE)),\"\",\"ü\")","v":""}]
[null,null,null,null,{"$f":"IF(INDEX(programmer!$T:$T,ROWS(A$1:A59),1)=\"\",\"\",INDEX(programmer!$T:$T,ROWS(A$1:A59),1))","v":""},{"$f":"IF(ISERROR(VLOOKUP($E72,'File 1'!$B:$B,1,FALSE)),\"\",\"ü\")","v":""},{"$f":"IF(ISERROR(VLOOKUP($E72,'File 2'!$B:$B,1,FALSE)),\"\",\"ü\")","v":""},{"$f":"IF(ISERROR(VLOOKUP($E72,'File 3'!$B:$B,1,FALSE)),\"\",\"ü\")","v":""},{"$f":"IF(ISERROR(VLOOKUP($E72,'File 4'!$B:$B,1,FALSE)),\"\",\"ü\")","v":""},{"$f":"IF(ISERROR(VLOOKUP($E72,'File 5'!$B:$B,1,FALSE)),\"\",\"ü\")","v":""}]
[null,null,null,null,{"$f":"IF(INDEX(programmer!$T:$T,ROWS(A$1:A60),1)=\"\",\"\",INDEX(programmer!$T:$T,ROWS(A$1:A60),1))","v":""},{"$f":"IF(ISERROR(VLOOKUP($E73,'File 1'!$B:$B,1,FALSE)),\"\",\"ü\")","v":""},{"$f":"IF(ISERROR(VLOOKUP($E73,'File 2'!$B:$B,1,FALSE)),\"\",\"ü\")","v":""},{"$f":"IF(ISERROR(VLOOKUP($E73,'File 3'!$B:$B,1,FALSE)),\"\",\"ü\")","v":""},{"$f":"IF(ISERROR(VLOOKUP($E73,'File 4'!$B:$B,1,FALSE)),\"\",\"ü\")","v":""},{"$f":"IF(ISERROR(VLOOKUP($E73,'File 5'!$B:$B,1,FALSE)),\"\",\"ü\")","v":""}]
[null,null,null,null,{"$f":"IF(INDEX(programmer!$T:$T,ROWS(A$1:A61),1)=\"\",\"\",INDEX(programmer!$T:$T,ROWS(A$1:A61),1))","v":""},{"$f":"IF(ISERROR(VLOOKUP($E74,'File 1'!$B:$B,1,FALSE)),\"\",\"ü\")","v":""},{"$f":"IF(ISERROR(VLOOKUP($E74,'File 2'!$B:$B,1,FALSE)),\"\",\"ü\")","v":""},{"$f":"IF(ISERROR(VLOOKUP($E74,'File 3'!$B:$B,1,FALSE)),\"\",\"ü\")","v":""},{"$f":"IF(ISERROR(VLOOKUP($E74,'File 4'!$B:$B,1,FALSE)),\"\",\"ü\")","v":""},{"$f":"IF(ISERROR(VLOOKUP($E74,'File 5'!$B:$B,1,FALSE)),\"\",\"ü\")","v":""}]
[null,null,null,null,{"$f":"IF(INDEX(programmer!$T:$T,ROWS(A$1:A62),1)=\"\",\"\",INDEX(programmer!$T:$T,ROWS(A$1:A62),1))","v":""},{"$f":"IF(ISERROR(VLOOKUP($E75,'File 1'!$B:$B,1,FALSE)),\"\",\"ü\")","v":""},{"$f":"IF(ISERROR(VLOOKUP($E75,'File 2'!$B:$B,1,FALSE)),\"\",\"ü\")","v":""},{"$f":"IF(ISERROR(VLOOKUP($E75,'File 3'!$B:$B,1,FALSE)),\"\",\"ü\")","v":""},{"$f":"IF(ISERROR(VLOOKUP($E75,'File 4'!$B:$B,1,FALSE)),\"\",\"ü\")","v":""},{"$f":"IF(ISERROR(VLOOKUP($E75,'File 5'!$B:$B,1,FALSE)),\"\",\"ü\")","v":""}]
[null,null,null,null,{"$f":"IF(INDEX(programmer!$T:$T,ROWS(A$1:A63),1)=\"\",\"\",INDEX(programmer!$T:$T,ROWS(A$1:A63),1))","v":""},{"$f":"IF(ISERROR(VLOOKUP($E76,'File 1'!$B:$B,1,FALSE)),\"\",\"ü\")","v":""},{"$f":"IF(ISERROR(VLOOKUP($E76,'File 2'!$B:$B,1,FALSE)),\"\",\"ü\")","v":""},{"$f":"IF(ISERROR(VLOOKUP($E76,'File 3'!$B:$B,1,FALSE)),\"\",\"ü\")","v":""},{"$f":"IF(ISERROR(VLOOKUP($E76,'File 4'!$B:$B,1,FALSE)),\"\",\"ü\")","v":""},{"$f":"IF(ISERROR(VLOOKUP($E76,'File 5'!$B:$B,1,FALSE)),\"\",\"ü\")","v":""}]
[null,null,null,null,{"$f":"IF(INDEX(programmer!$T:$T,ROWS(A$1:A64),1)=\"\",\"\",INDEX(programmer!$T:$T,ROWS(A$1:A64),1))","v":""},{"$f":"IF(ISERROR(VLOOKUP($E77,'File 1'!$B:$B,1,FALSE)),\"\",\"ü\")","v":""},{"$f":"IF(ISERROR(VLOOKUP($E77,'File 2'!$B:$B,1,FALSE)),\"\",\"ü\")","v":""},{"$f":"IF(ISERROR(VLOOKUP($E77,'File 3'!$B:$B,1,FALSE)),\"\",\"ü\")","v":""},{"$f":"IF(ISERROR(VLOOKUP($E77,'File 4'!$B:$B,1,FALSE)),\"\",\"ü\")","v":""},{"$f":"IF(ISERROR(VLOOKUP($E77,'File 5'!$B:$B,1,FALSE)),\"\",\"ü\")","v":""}]
[null,null,null,null,{"$f":"IF(INDEX(programmer!$T:$T,ROWS(A$1:A65),1)=\"\",\"\",INDEX(programmer!$T:$T,ROWS(A$1:A65),1))","v":""},{"$f":"IF(ISERROR(VLOOKUP($E78,'File 1'!$B:$B,1,FALSE)),\"\",\"ü\")","v":""},{"$f":"IF(ISERROR(VLOOKUP($E78,'File 2'!$B:$B,1,FALSE)),\"\",\"ü\")","v":""},{"$f":"IF(ISERROR(VLOOKUP($E78,'File 3'!$B:$B,1,FALSE)),\"\",\"ü\")","v":""},{"$f":"IF(ISERROR(VLOOKUP($E78,'File 4'!$B:$B,1,FALSE)),\"\",\"ü\")","v":""},{"$f":"IF(ISERROR(VLOOKUP($E78,'File 5'!$B:$B,1,FALSE)),\"\",\"ü\")","v":""}]
[null,null,null,null,{"$f":"IF(INDEX(programmer!$T:$T,ROWS(A$1:A66),1)=\"\",\"\",INDEX(programmer!$T:$T,ROWS(A$1:A66),1))","v":""},{"$f":"IF(ISERROR(VLOOKUP($E79,'File 1'!$B:$B,1,FALSE)),\"\",\"ü\")","v":""},{"$f":"IF(ISERROR(VLOOKUP($E79,'File 2'!$B:$B,1,FALSE)),\"\",\"ü\")","v":""},{"$f":"IF(ISERROR(VLOOKUP($E79,'File 3'!$B:$B,1,FALSE)),\"\",\"ü\")","v":""},{"$f":"IF(ISERROR(VLOOKUP($E79,'File 4'!$B:$B,1,FALSE)),\"\",\"ü\")","v":""},{"$f":"IF(ISERROR(VLOOKUP($E79,'File 5'!$B:$B,1,FALSE)),\"\",\"ü\")","v":""}]
[null,null,null,null,{"$f":"IF(INDEX(programmer!$T:$T,ROWS(A$1:A67),1)=\"\",\"\",INDEX(programmer!$T:$T,ROWS(A$1:A67),1))","v":""},{"$f":"IF(ISERROR(VLOOKUP($E80,'File 1'!$B:$B,1,FALSE)),\"\",\"ü\")","v":""},{"$f":"IF(ISERROR(VLOOKUP($E80,'File 2'!$B:$B,1,FALSE)),\"\",\"ü\")","v":""},{"$f":"IF(ISERROR(VLOOKUP($E80,'File 3'!$B:$B,1,FALSE)),\"\",\"ü\")","v":""},{"$f":"IF(ISERROR(VLOOKUP($E80,'File 4'!$B:$B,1,FALSE)),\"\",\"ü\")","v":""},{"$f":"IF(ISERROR(VLOOKUP($E80,'File 5'!$B:$B,1,FALSE)),\"\",\"ü\")","v":""}]
[null,null,null,null,{"$f":"IF(INDEX(programmer!$T:$T,ROWS(A$1:A68),1)=\"\",\"\",INDEX(programmer!$T:$T,ROWS(A$1:A68),1))","v":""},{"$f":"IF(ISERROR(VLOOKUP($E81,'File 1'!$B:$B,1,FALSE)),\"\",\"ü\")","v":""},{"$f":"IF(ISERROR(VLOOKUP($E81,'File 2'!$B:$B,1,FALSE)),\"\",\"ü\")","v":""},{"$f":"IF(ISERROR(VLOOKUP($E81,'File 3'!$B:$B,1,FALSE)),\"\",\"ü\")","v":""},{"$f":"IF(ISERROR(VLOOKUP($E81,'File 4'!$B:$B,1,FALSE)),\"\",\"ü\")","v":""},{"$f":"IF(ISERROR(VLOOKUP($E81,'File 5'!$B:$B,1,FALSE)),\"\",\"ü\")","v":""}]
[null,null,null,null,{"$f":"IF(INDEX(programmer!$T:$T,ROWS(A$1:A69),1)=\"\",\"\",INDEX(programmer!$T:$T,ROWS(A$1:A69),1))","v":""},{"$f":"IF(ISERROR(VLOOKUP($E82,'File 1'!$B:$B,1,FALSE)),\"\",\"ü\")","v":""},{"$f":"IF(ISERROR(VLOOKUP($E82,'File 2'!$B:$B,1,FALSE)),\"\",\"ü\")","v":""},{"$f":"IF(ISERROR(VLOOKUP($E82,'File 3'!$B:$B,1,FALSE)),\"\",\"ü\")","v":""},{"$f":"IF(ISERROR(VLOOKUP($E82,'File 4'!$B:$B,1,FALSE)),\"\",\"ü\")","v":""},{"$f":"IF(ISERROR(VLOOKUP($E82,'File 5'!$B:$B,1,FALSE)),\"\",\"ü\")","v":""}]
[null,null,null,null,{"$f":"IF(INDEX(programmer!$T:$T,ROWS(A$1:A70),1)=\"\",\"\",INDEX(programmer!$T:$T,ROWS(A$1:A70),1))","v":""},{"$f":"IF(ISERROR(VLOOKUP($E83,'File 1'!$B:$B,1,FALSE)),\"\",\"ü\")","v":""},{"$f":"IF(ISERROR(VLOOKUP($E83,'File 2'!$B:$B,1,FALSE)),\"\",\"ü\")","v":""},{"$f":"IF(ISERROR(VLOOKUP($E83,'File 3'!$B:$B,1,FALSE)),\"\",\"ü\")","v":""},{"$f":"IF(ISERROR(VLOOKUP($E83,'File 4'!$B:$B,1,FALSE)),\"\",\"ü\")","v":""},{"$f":"IF(ISERROR(VLOOKUP($E83,'File 5'!$B:$B,1,FALSE)),\"\",\"ü\")","v":""}]
[null,null,null,null,{"$f":"IF(INDEX(programmer!$T:$T,ROWS(A$1:A71),1)=\"\",\"\",INDEX(programmer!$T:$T,ROWS(A$1:A71),1))","v":""},{"$f":"IF(ISERROR(VLOOKUP($E84,'File 1'!$B:$B,1,FALSE)),\"\",\"ü\")","v":""},{"$f":"IF(ISERROR(VLOOKUP($E84,'File 2'!$B:$B,1,FALSE)),\"\",\"ü\")","v":""},{"$f":"IF(ISERROR(VLOOKUP($E84,'File 3'!$B:$B,1,FALSE)),\"\",\"ü\")","v":""},{"$f":"IF(ISERROR(VLOOKUP($E84,'File 4'!$B:$B,1,FALSE)),\"\",\"ü\")","v":""},{"$f":"IF(ISERROR(VLOOKUP($E84,'File 5'!$B:$B,1,FALSE)),\"\",\"ü\")","v":""}]
[null,null,null,null,{"$f":"IF(INDEX(programmer!$T:$T,ROWS(A$1:A72),1)=\"\",\"\",INDEX(programmer!$T:$T,ROWS(A$1:A72),1))","v":""},{"$f":"IF(ISERROR(VLOOKUP($E85,'File 1'!$B:$B,1,FALSE)),\"\",\"ü\")","v":""},{"$f":"IF(ISERROR(VLOOKUP($E85,'File 2'!$B:$B,1,FALSE)),\"\",\"ü\")","v":""},{"$f":"IF(ISERROR(VLOOKUP($E85,'File 3'!$B:$B,1,FALSE)),\"\",\"ü\")","v":""},{"$f":"IF(ISERROR(VLOOKUP($E85,'File 4'!$B:$B,1,FALSE)),\"\",\"ü\")","v":""},{"$f":"IF(ISERROR(VLOOKUP($E85,'File 5'!$B:$B,1,FALSE)),\"\",\"ü\")","v":""}]
[null,null,null,null,{"$f":"IF(INDEX(programmer!$T:$T,ROWS(A$1:A73),1)=\"\",\"\",INDEX(programmer!$T:$T,ROWS(A$1:A73),1))","v":""},{"$f":"IF(ISERROR(VLOOKUP($E86,'File 1'!$B:$B,1,FALSE)),\"\",\"ü\")","v":""},{"$f":"IF(ISERROR(VLOOKUP($E86,'File 2'!$B:$B,1,FALSE)),\"\",\"ü\")","v":""},{"$f":"IF(ISERROR(VLOOKUP($E86,'File 3'!$B:$B,1,FALSE)),\"\",\"ü\")","v":""},{"$f":"IF(ISERROR(VLOOKUP($E86,'File 4'!$B:$B,1,FALSE)),\"\",\"ü\")","v":""},{"$f":"IF(ISERROR(VLOOKUP($E86,'File 5'!$B:$B,1,FALSE)),\"\",\"ü\")","v":""}]
[null,null,null,null,{"$f":"IF(INDEX(programmer!$T:$T,ROWS(A$1:A74),1)=\"\",\"\",INDEX(programmer!$T:$T,ROWS(A$1:A74),1))","v":""},{"$f":"IF(ISERROR(VLOOKUP($E87,'File 1'!$B:$B,1,FALSE)),\"\",\"ü\")","v":""},{"$f":"IF(ISERROR(VLOOKUP($E87,'File 2'!$B:$B,1,FALSE)),\"\",\"ü\")","v":""},{"$f":"IF(ISERROR(VLOOKUP($E87,'File 3'!$B:$B,1,FALSE)),\"\",\"ü\")","v":""},{"$f":"IF(ISERROR(VLOOKUP($E87,'File 4'!$B:$B,1,FALSE)),\"\",\"ü\")","v":""},{"$f":"IF(ISERROR(VLOOKUP($E87,'File 5'!$B:$B,1,FALSE)),\"\",\"ü\")","v":""}]
[null,null,null,null,{"$f":"IF(INDEX(programmer!$T:$T,ROWS(A$1:A75),1)=\"\",\"\",INDEX(programmer!$T:$T,ROWS(A$1:A75),1))","v":""},{"$f":"IF(ISERROR(VLOOKUP($E88,'File 1'!$B:$B,1,FALSE)),\"\",\"ü\")","v":""},{"$f":"IF(ISERROR(VLOOKUP($E88,'File 2'!$B:$B,1,FALSE)),\"\",\"ü\")","v":""},{"$f":"IF(ISERROR(VLOOKUP($E88,'File 3'!$B:$B,1,FALSE)),\"\",\"ü\")","v":""},{"$f":"IF(ISERROR(VLOOKUP($E88,'File 4'!$B:$B,1,FALSE)),\"\",\"ü\")","v":""},{"$f":"IF(ISERROR(VLOOKUP($E88,'File 5'!$B:$B,1,FALSE)),\"\",\"ü\")","v":""}]
[null,null,null,null,{"$f":"IF(INDEX(programmer!$T:$T,ROWS(A$1:A76),1)=\"\",\"\",INDEX(programmer!$T:$T,ROWS(A$1:A76),1))","v":""},{"$f":"IF(ISERROR(VLOOKUP($E89,'File 1'!$B:$B,1,FALSE)),\"\",\"ü\")","v":""},{"$f":"IF(ISERROR(VLOOKUP($E89,'File 2'!$B:$B,1,FALSE)),\"\",\"ü\")","v":""},{"$f":"IF(ISERROR(VLOOKUP($E89,'File 3'!$B:$B,1,FALSE)),\"\",\"ü\")","v":""},{"$f":"IF(ISERROR(VLOOKUP($E89,'File 4'!$B:$B,1,FALSE)),\"\",\"ü\")","v":""},{"$f":"IF(ISERROR(VLOOKUP($E89,'File 5'!$B:$B,1,FALSE)),\"\",\"ü\")","v":""}]
[null,null,null,null,{"$f":"IF(INDEX(programmer!$T:$T,ROWS(A$1:A77),1)=\"\",\"\",INDEX(programmer!$T:$T,ROWS(A$1:A77),1))","v":""},{"$f":"IF(ISERROR(VLOOKUP($E90,'File 1'!$B:$B,1,FALSE)),\"\",\"ü\")","v":""},{"$f":"IF(ISERROR(VLOOKUP($E90,'File 2'!$B:$B,1,FALSE)),\"\",\"ü\")","v":""},{"$f":"IF(ISERROR(VLOOKUP($E90,'File 3'!$B:$B,1,FALSE)),\"\",\"ü\")","v":""},{"$f":"IF(ISERROR(VLOOKUP($E90,'File 4'!$B:$B,1,FALSE)),\"\",\"ü\")","v":""},{"$f":"IF(ISERROR(VLOOKUP($E90,'File 5'!$B:$B,1,FALSE)),\"\",\"ü\")","v":""}]
[null,null,null,null,{"$f":"IF(INDEX(programmer!$T:$T,ROWS(A$1:A78),1)=\"\",\"\",INDEX(programmer!$T:$T,ROWS(A$1:A78),1))","v":""},{"$f":"IF(ISERROR(VLOOKUP($E91,'File 1'!$B:$B,1,FALSE)),\"\",\"ü\")","v":""},{"$f":"IF(ISERROR(VLOOKUP($E91,'File 2'!$B:$B,1,FALSE)),\"\",\"ü\")","v":""},{"$f":"IF(ISERROR(VLOOKUP($E91,'File 3'!$B:$B,1,FALSE)),\"\",\"ü\")","v":""},{"$f":"IF(ISERROR(VLOOKUP($E91,'File 4'!$B:$B,1,FALSE)),\"\",\"ü\")","v":""},{"$f":"IF(ISERROR(VLOOKUP($E91,'File 5'!$B:$B,1,FALSE)),\"\",\"ü\")","v":""}]
[null,null,null,null,{"$f":"IF(INDEX(programmer!$T:$T,ROWS(A$1:A79),1)=\"\",\"\",INDEX(programmer!$T:$T,ROWS(A$1:A79),1))","v":""},{"$f":"IF(ISERROR(VLOOKUP($E92,'File 1'!$B:$B,1,FALSE)),\"\",\"ü\")","v":""},{"$f":"IF(ISERROR(VLOOKUP($E92,'File 2'!$B:$B,1,FALSE)),\"\",\"ü\")","v":""},{"$f":"IF(ISERROR(VLOOKUP($E92,'File 3'!$B:$B,1,FALSE)),\"\",\"ü\")","v":""},{"$f":"IF(ISERROR(VLOOKUP($E92,'File 4'!$B:$B,1,FALSE)),\"\",\"ü\")","v":""},{"$f":"IF(ISERROR(VLOOKUP($E92,'File 5'!$B:$B,1,FALSE)),\"\",\"ü\")","v":""}]
[null,null,null,null,{"$f":"IF(INDEX(programmer!$T:$T,ROWS(A$1:A80),1)=\"\",\"\",INDEX(programmer!$T:$T,ROWS(A$1:A80),1))","v":""},{"$f":"IF(ISERROR(VLOOKUP($E93,'File 1'!$B:$B,1,FALSE)),\"\",\"ü\")","v":""},{"$f":"IF(ISERROR(VLOOKUP($E93,'File 2'!$B:$B,1,FALSE)),\"\",\"ü\")","v":""},{"$f":"IF(ISERROR(VLOOKUP($E93,'File 3'!$B:$B,1,FALSE)),\"\",\"ü\")","v":""},{"$f":"IF(ISERROR(VLOOKUP($E93,'File 4'!$B:$B,1,FALSE)),\"\",\"ü\")","v":""},{"$f":"IF(ISERROR(VLOOKUP($E93,'File 5'!$B:$B,1,FALSE)),\"\",\"ü\")","v":""}]
[null,null,null,null,{"$f":"IF(INDEX(programmer!$T:$T,ROWS(A$1:A81),1)=\"\",\"\",INDEX(programmer!$T:$T,ROWS(A$1:A81),1))","v":""},{"$f":"IF(ISERROR(VLOOKUP($E94,'File 1'!$B:$B,1,FALSE)),\"\",\"ü\")","v":""},{"$f":"IF(ISERROR(VLOOKUP($E94,'File 2'!$B:$B,1,FALSE)),\"\",\"ü\")","v":""},{"$f":"IF(ISERROR(VLOOKUP($E94,'File 3'!$B:$B,1,FALSE)),\"\",\"ü\")","v":""},{"$f":"IF(ISERROR(VLOOKUP($E94,'File 4'!$B:$B,1,FALSE)),\"\",\"ü\")","v":""},{"$f":"IF(ISERROR(VLOOKUP($E94,'File 5'!$B:$B,1,FALSE)),\"\",\"ü\")","v":""}]
[null,null,null,null,{"$f":"IF(INDEX(programmer!$T:$T,ROWS(A$1:A82),1)=\"\",\"\",INDEX(programmer!$T:$T,ROWS(A$1:A82),1))","v":""},{"$f":"IF(ISERROR(VLOOKUP($E95,'File 1'!$B:$B,1,FALSE)),\"\",\"ü\")","v":""},{"$f":"IF(ISERROR(VLOOKUP($E95,'File 2'!$B:$B,1,FALSE)),\"\",\"ü\")","v":""},{"$f":"IF(ISERROR(VLOOKUP($E95,'File 3'!$B:$B,1,FALSE)),\"\",\"ü\")","v":""},{"$f":"IF(ISERROR(VLOOKUP($E95,'File 4'!$B:$B,1,FALSE)),\"\",\"ü\")","v":""},{"$f":"IF(ISERROR(VLOOKUP($E95,'File 5'!$B:$B,1,FALSE)),\"\",\"ü\")","v":""}]
[null,null,null,null,{"$f":"IF(INDEX(programmer!$T:$T,ROWS(A$1:A83),1)=\"\",\"\",INDEX(programmer!$T:$T,ROWS(A$1:A83),1))","v":""},{"$f":"IF(ISERROR(VLOOKUP($E96,'File 1'!$B:$B,1,FALSE)),\"\",\"ü\")","v":""},{"$f":"IF(ISERROR(VLOOKUP($E96,'File 2'!$B:$B,1,FALSE)),\"\",\"ü\")","v":""},{"$f":"IF(ISERROR(VLOOKUP($E96,'File 3'!$B:$B,1,FALSE)),\"\",\"ü\")","v":""},{"$f":"IF(ISERROR(VLOOKUP($E96,'File 4'!$B:$B,1,FALSE)),\"\",\"ü\")","v":""},{"$f":"IF(ISERROR(VLOOKUP($E96,'File 5'!$B:$B,1,FALSE)),\"\",\"ü\")","v":""}]
[null,null,null,null,{"$f":"IF(INDEX(programmer!$T:$T,ROWS(A$1:A84),1)=\"\",\"\",INDEX(programmer!$T:$T,ROWS(A$1:A84),1))","v":""},{"$f":"IF(ISERROR(VLOOKUP($E97,'File 1'!$B:$B,1,FALSE)),\"\",\"ü\")","v":""},{"$f":"IF(ISERROR(VLOOKUP($E97,'File 2'!$B:$B,1,FALSE)),\"\",\"ü\")","v":""},{"$f":"IF(ISERROR(VLOOKUP($E97,'File 3'!$B:$B,1,FALSE)),\"\",\"ü\")","v":""},{"$f":"IF(ISERROR(VLOOKUP($E97,'File 4'!$B:$B,1,FALSE)),\"\",\"ü\")","v":""},{"$f":"IF(ISERROR(VLOOKUP($E97,'File 5'!$B:$B,1,FALSE)),\"\",\"ü\")","v":""}]
[null,null,null,null,{"$f":"IF(INDEX(programmer!$T:$T,ROWS(A$1:A85),1)=\"\",\"\",INDEX(programmer!$T:$T,ROWS(A$1:A85),1))","v":""},{"$f":"IF(ISERROR(VLOOKUP($E98,'File 1'!$B:$B,1,FALSE)),\"\",\"ü\")","v":""},{"$f":"IF(ISERROR(VLOOKUP($E98,'File 2'!$B:$B,1,FALSE)),\"\",\"ü\")","v":""},{"$f":"IF(ISERROR(VLOOKUP($E98,'File 3'!$B:$B,1,FALSE)),\"\",\"ü\")","v":""},{"$f":"IF(ISERROR(VLOOKUP($E98,'File 4'!$B:$B,1,FALSE)),\"\",\"ü\")","v":""},{"$f":"IF(ISERROR(VLOOKUP($E98,'File 5'!$B:$B,1,FALSE)),\"\",\"ü\")","v":""}]
[null,null,null,null,{"$f":"IF(INDEX(programmer!$T:$T,ROWS(A$1:A86),1)=\"\",\"\",INDEX(programmer!$T:$T,ROWS(A$1:A86),1))","v":""},{"$f":"IF(ISERROR(VLOOKUP($E99,'File 1'!$B:$B,1,FALSE)),\"\",\"ü\")","v":""},{"$f":"IF(ISERROR(VLOOKUP($E99,'File 2'!$B:$B,1,FALSE)),\"\",\"ü\")","v":""},{"$f":"IF(ISERROR(VLOOKUP($E99,'File 3'!$B:$B,1,FALSE)),\"\",\"ü\")","v":""},{"$f":"IF(ISERROR(VLOOKUP($E99,'File 4'!$B:$B,1,FALSE)),\"\",\"ü\")","v":""},{"$f":"IF(ISERROR(VLOOKUP($E99,'File 5'!$B:$B,1,FALSE)),\"\",\"ü\")","v":""}]
[null,null,null,null,{"$f":"IF(INDEX(programmer!$T:$T,ROWS(A$1:A87),1)=\"\",\"\",INDEX(programmer!$T:$T,ROWS(A$1:A87),1))","v":""},{"$f":"IF(ISERROR(VLOOKUP($E100,'File 1'!$B:$B,1,FALSE)),\"\",\"ü\")","v":""},{"$f":"IF(ISERROR(VLOOKUP($E100,'File 2'!$B:$B,1,FALSE)),\"\",\"ü\")","v":""},{"$f":"IF(ISERROR(VLOOKUP($E100,'File 3'!$B:$B,1,FALSE)),\"\",\"ü\")","v":""},{"$f":"IF(ISERROR(VLOOKUP($E100,'File 4'!$B:$B,1,FALSE)),\"\",\"ü\")","v":""},{"$f":"IF(ISERROR(VLOOKUP($E100,'File 5'!$B:$B,1,FALSE)),\"\",\"ü\")","v":""}]
[null,null,null,null,{"$f":"IF(INDEX(programmer!$T:$T,ROWS(A$1:A88),1)=\"\",\"\",INDEX(programmer!$T:$T,ROWS(A$1:A88),1))","v":""},{"$f":"IF(ISERROR(VLOOKUP($E101,'File 1'!$B:$B,1,FALSE)),\"\",\"ü\")","v":""},{"$f":"IF(ISERROR(VLOOKUP($E101,'File 2'!$B:$B,1,FALSE)),\"\",\"ü\")","v":""},{"$f":"IF(ISERROR(VLOOKUP($E101,'File 3'!$B:$B,1,FALSE)),\"\",\"ü\")","v":""},{"$f":"IF(ISERROR(VLOOKUP($E101,'File 4'!$B:$B,1,FALSE)),\"\",\"ü\")","v":""},{"$f":"IF(ISERROR(VLOOKUP($E101,'File 5'!$B:$B,1,FALSE)),\"\",\"ü\")","v":""}]
[null,null,null,null,{"$f":"IF(INDEX(programmer!$T:$T,ROWS(A$1:A89),1)=\"\",\"\",INDEX(programmer!$T:$T,ROWS(A$1:A89),1))","v":""},{"$f":"IF(ISERROR(VLOOKUP($E102,'File 1'!$B:$B,1,FALSE)),\"\",\"ü\")","v":""},{"$f":"IF(ISERROR(VLOOKUP($E102,'File 2'!$B:$B,1,FALSE)),\"\",\"ü\")","v":""},{"$f":"IF(ISERROR(VLOOKUP($E102,'File 3'!$B:$B,1,FALSE)),\"\",\"ü\")","v":""},{"$f":"IF(ISERROR(VLOOKUP($E102,'File 4'!$B:$B,1,FALSE)),\"\",\"ü\")","v":""},{"$f":"IF(ISERROR(VLOOKUP($E102,'File 5'!$B:$B,1,FALSE)),\"\",\"ü\")","v":""}]
[null,null,null,null,{"$f":"IF(INDEX(programmer!$T:$T,ROWS(A$1:A90),1)=\"\",\"\",INDEX(programmer!$T:$T,ROWS(A$1:A90),1))","v":""},{"$f":"IF(ISERROR(VLOOKUP($E103,'File 1'!$B:$B,1,FALSE)),\"\",\"ü\")","v":""},{"$f":"IF(ISERROR(VLOOKUP($E103,'File 2'!$B:$B,1,FALSE)),\"\",\"ü\")","v":""},{"$f":"IF(ISERROR(VLOOKUP($E103,'File 3'!$B:$B,1,FALSE)),\"\",\"ü\")","v":""},{"$f":"IF(ISERROR(VLOOKUP($E103,'File 4'!$B:$B,1,FALSE)),\"\",\"ü\")","v":""},{"$f":"IF(ISERROR(VLOOKUP($E103,'File 5'!$B:$B,1,FALSE)),\"\",\"ü\")","v":""}]
[null,null,null,null,{"$f":"IF(INDEX(programmer!$T:$T,ROWS(A$1:A91),1)=\"\",\"\",INDEX(programmer!$T:$T,ROWS(A$1:A91),1))","v":""},{"$f":"IF(ISERROR(VLOOKUP($E104,'File 1'!$B:$B,1,FALSE)),\"\",\"ü\")","v":""},{"$f":"IF(ISERROR(VLOOKUP($E104,'File 2'!$B:$B,1,FALSE)),\"\",\"ü\")","v":""},{"$f":"IF(ISERROR(VLOOKUP($E104,'File 3'!$B:$B,1,FALSE)),\"\",\"ü\")","v":""},{"$f":"IF(ISERROR(VLOOKUP($E104,'File 4'!$B:$B,1,FALSE)),\"\",\"ü\")","v":""},{"$f":"IF(ISERROR(VLOOKUP($E104,'File 5'!$B:$B,1,FALSE)),\"\",\"ü\")","v":""}]
[null,null,null,null,{"$f":"IF(INDEX(programmer!$T:$T,ROWS(A$1:A92),1)=\"\",\"\",INDEX(programmer!$T:$T,ROWS(A$1:A92),1))","v":""},{"$f":"IF(ISERROR(VLOOKUP($E105,'File 1'!$B:$B,1,FALSE)),\"\",\"ü\")","v":""},{"$f":"IF(ISERROR(VLOOKUP($E105,'File 2'!$B:$B,1,FALSE)),\"\",\"ü\")","v":""},{"$f":"IF(ISERROR(VLOOKUP($E105,'File 3'!$B:$B,1,FALSE)),\"\",\"ü\")","v":""},{"$f":"IF(ISERROR(VLOOKUP($E105,'File 4'!$B:$B,1,FALSE)),\"\",\"ü\")","v":""},{"$f":"IF(ISERROR(VLOOKUP($E105,'File 5'!$B:$B,1,FALSE)),\"\",\"ü\")","v":""}]
[null,null,null,null,{"$f":"IF(INDEX(programmer!$T:$T,ROWS(A$1:A93),1)=\"\",\"\",INDEX(programmer!$T:$T,ROWS(A$1:A93),1))","v":""},{"$f":"IF(ISERROR(VLOOKUP($E106,'File 1'!$B:$B,1,FALSE)),\"\",\"ü\")","v":""},{"$f":"IF(ISERROR(VLOOKUP($E106,'File 2'!$B:$B,1,FALSE)),\"\",\"ü\")","v":""},{"$f":"IF(ISERROR(VLOOKUP($E106,'File 3'!$B:$B,1,FALSE)),\"\",\"ü\")","v":""},{"$f":"IF(ISERROR(VLOOKUP($E106,'File 4'!$B:$B,1,FALSE)),\"\",\"ü\")","v":""},{"$f":"IF(ISERROR(VLOOKUP($E106,'File 5'!$B:$B,1,FALSE)),\"\",\"ü\")","v":""}]
[null,null,null,null,{"$f":"IF(INDEX(programmer!$T:$T,ROWS(A$1:A94),1)=\"\",\"\",INDEX(programmer!$T:$T,ROWS(A$1:A94),1))","v":""},{"$f":"IF(ISERROR(VLOOKUP($E107,'File 1'!$B:$B,1,FALSE)),\"\",\"ü\")","v":""},{"$f":"IF(ISERROR(VLOOKUP($E107,'File 2'!$B:$B,1,FALSE)),\"\",\"ü\")","v":""},{"$f":"IF(ISERROR(VLOOKUP($E107,'File 3'!$B:$B,1,FALSE)),\"\",\"ü\")","v":""},{"$f":"IF(ISERROR(VLOOKUP($E107,'File 4'!$B:$B,1,FALSE)),\"\",\"ü\")","v":""},{"$f":"IF(ISERROR(VLOOKUP($E107,'File 5'!$B:$B,1,FALSE)),\"\",\"ü\")","v":""}]
[null,null,null,null,{"$f":"IF(INDEX(programmer!$T:$T,ROWS(A$1:A95),1)=\"\",\"\",INDEX(programmer!$T:$T,ROWS(A$1:A95),1))","v":""},{"$f":"IF(ISERROR(VLOOKUP($E108,'File 1'!$B:$B,1,FALSE)),\"\",\"ü\")","v":""},{"$f":"IF(ISERROR(VLOOKUP($E108,'File 2'!$B:$B,1,FALSE)),\"\",\"ü\")","v":""},{"$f":"IF(ISERROR(VLOOKUP($E108,'File 3'!$B:$B,1,FALSE)),\"\",\"ü\")","v":""},{"$f":"IF(ISERROR(VLOOKUP($E108,'File 4'!$B:$B,1,FALSE)),\"\",\"ü\")","v":""},{"$f":"IF(ISERROR(VLOOKUP($E108,'File 5'!$B:$B,1,FALSE)),\"\",\"ü\")","v":""}]
[null,null,null,null,{"$f":"IF(INDEX(programmer!$T:$T,ROWS(A$1:A96),1)=\"\",\"\",INDEX(programmer!$T:$T,ROWS(A$1:A96),1))","v":""},{"$f":"IF(ISERROR(VLOOKUP($E109,'File 1'!$B:$B,1,FALSE)),\"\",\"ü\")","v":""},{"$f":"IF(ISERROR(VLOOKUP($E109,'File 2'!$B:$B,1,FALSE)),\"\",\"ü\")","v":""},{"$f":"IF(ISERROR(VLOOKUP($E109,'File 3'!$B:$B,1,FALSE)),\"\",\"ü\")","v":""},{"$f":"IF(ISERROR(VLOOKUP($E109,'File 4'!$B:$B,1,FALSE)),\"\",\"ü\")","v":""},{"$f":"IF(ISERROR(VLOOKUP($E109,'File 5'!$B:$B,1,FALSE)),\"\",\"ü\")","v":""}]
[null,null,null,null,{"$f":"IF(INDEX(programmer!$T:$T,ROWS(A$1:A97),1)=\"\",\"\",INDEX(programmer!$T:$T,ROWS(A$1:A97),1))","v":""},{"$f":"IF(ISERROR(VLOOKUP($E110,'File 1'!$B:$B,1,FALSE)),\"\",\"ü\")","v":""},{"$f":"IF(ISERROR(VLOOKUP($E110,'File 2'!$B:$B,1,FALSE)),\"\",\"ü\")","v":""},{"$f":"IF(ISERROR(VLOOKUP($E110,'File 3'!$B:$B,1,FALSE)),\"\",\"ü\")","v":""},{"$f":"IF(ISERROR(VLOOKUP($E110,'File 4'!$B:$B,1,FALSE)),\"\",\"ü\")","v":""},{"$f":"IF(ISERROR(VLOOKUP($E110,'File 5'!$B:$B,1,FALSE)),\"\",\"ü\")","v":""}]
[null,null,null,null,{"$f":"IF(INDEX(programmer!$T:$T,ROWS(A$1:A98),1)=\"\",\"\",INDEX(programmer!$T:$T,ROWS(A$1:A98),1))","v":""},{"$f":"IF(ISERROR(VLOOKUP($E111,'File 1'!$B:$B,1,FALSE)),\"\",\"ü\")","v":""},{"$f":"IF(ISERROR(VLOOKUP($E111,'File 2'!$B:$B,1,FALSE)),\"\",\"ü\")","v":""},{"$f":"IF(ISERROR(VLOOKUP($E111,'File 3'!$B:$B,1,FALSE)),\"\",\"ü\")","v":""},{"$f":"IF(ISERROR(VLOOKUP($E111,'File 4'!$B:$B,1,FALSE)),\"\",\"ü\")","v":""},{"$f":"IF(ISERROR(VLOOKUP($E111,'File 5'!$B:$B,1,FALSE)),\"\",\"ü\")","v":""}]
[null,null,null,null,{"$f":"IF(INDEX(programmer!$T:$T,ROWS(A$1:A99),1)=\"\",\"\",INDEX(programmer!$T:$T,ROWS(A$1:A99),1))","v":""},{"$f":"IF(ISERROR(VLOOKUP($E112,'File 1'!$B:$B,1,FALSE)),\"\",\"ü\")","v":""},{"$f":"IF(ISERROR(VLOOKUP($E112,'File 2'!$B:$B,1,FALSE)),\"\",\"ü\")","v":""},{"$f":"IF(ISERROR(VLOOKUP($E112,'File 3'!$B:$B,1,FALSE)),\"\",\"ü\")","v":""},{"$f":"IF(ISERROR(VLOOKUP($E112,'File 4'!$B:$B,1,FALSE)),\"\",\"ü\")","v":""},{"$f":"IF(ISERROR(VLOOKUP($E112,'File 5'!$B:$B,1,FALSE)),\"\",\"ü\")","v":""}]
[null,null,null,null,{"$f":"IF(INDEX(programmer!$T:$T,ROWS(A$1:A100),1)=\"\",\"\",INDEX(programmer!$T:$T,ROWS(A$1:A100),1))","v":""},{"$f":"IF(ISERROR(VLOOKUP($E113,'File 1'!$B:$B,1,FALSE)),\"\",\"ü\")","v":""},{"$f":"IF(ISERROR(VLOOKUP($E113,'File 2'!$B:$B,1,FALSE)),\"\",\"ü\")","v":""},{"$f":"IF(ISERROR(VLOOKUP($E113,'File 3'!$B:$B,1,FALSE)),\"\",\"ü\")","v":""},{"$f":"IF(ISERROR(VLOOKUP($E113,'File 4'!$B:$B,1,FALSE)),\"\",\"ü\")","v":""},{"$f":"IF(ISERROR(VLOOKUP($E113,'File 5'!$B:$B,1,FALSE)),\"\",\"ü\")","v":""}]
[null,null,null,null,{"$f":"IF(INDEX(programmer!$T:$T,ROWS(A$1:A101),1)=\"\",\"\",INDEX(programmer!$T:$T,ROWS(A$1:A101),1))","v":""},{"$f":"IF(ISERROR(VLOOKUP($E114,'File 1'!$B:$B,1,FALSE)),\"\",\"ü\")","v":""},{"$f":"IF(ISERROR(VLOOKUP($E114,'File 2'!$B:$B,1,FALSE)),\"\",\"ü\")","v":""},{"$f":"IF(ISERROR(VLOOKUP($E114,'File 3'!$B:$B,1,FALSE)),\"\",\"ü\")","v":""},{"$f":"IF(ISERROR(VLOOKUP($E114,'File 4'!$B:$B,1,FALSE)),\"\",\"ü\")","v":""},{"$f":"IF(ISERROR(VLOOKUP($E114,'File 5'!$B:$B,1,FALSE)),\"\",\"ü\")","v":""}]
[null,null,null,null,{"$f":"IF(INDEX(programmer!$T:$T,ROWS(A$1:A102),1)=\"\",\"\",INDEX(programmer!$T:$T,ROWS(A$1:A102),1))","v":""},{"$f":"IF(ISERROR(VLOOKUP($E115,'File 1'!$B:$B,1,FALSE)),\"\",\"ü\")","v":""},{"$f":"IF(ISERROR(VLOOKUP($E115,'File 2'!$B:$B,1,FALSE)),\"\",\"ü\")","v":""},{"$f":"IF(ISERROR(VLOOKUP($E115,'File 3'!$B:$B,1,FALSE)),\"\",\"ü\")","v":""},{"$f":"IF(ISERROR(VLOOKUP($E115,'File 4'!$B:$B,1,FALSE)),\"\",\"ü\")","v":""},{"$f":"IF(ISERROR(VLOOKUP($E115,'File 5'!$B:$B,1,FALSE)),\"\",\"ü\")","v":""}]
[null,null,null,null,{"$f":"IF(INDEX(programmer!$T:$T,ROWS(A$1:A103),1)=\"\",\"\",INDEX(programmer!$T:$T,ROWS(A$1:A103),1))","v":""},{"$f":"IF(ISERROR(VLOOKUP($E116,'File 1'!$B:$B,1,FALSE)),\"\",\"ü\")","v":""},{"$f":"IF(ISERROR(VLOOKUP($E116,'File 2'!$B:$B,1,FALSE)),\"\",\"ü\")","v":""},{"$f":"IF(ISERROR(VLOOKUP($E116,'File 3'!$B:$B,1,FALSE)),\"\",\"ü\")","v":""},{"$f":"IF(ISERROR(VLOOKUP($E116,'File 4'!$B:$B,1,FALSE)),\"\",\"ü\")","v":""},{"$f":"IF(ISERROR(VLOOKUP($E116,'File 5'!$B:$B,1,FALSE)),\"\",\"ü\")","v":""}]
[null,null,null,null,{"$f":"IF(INDEX(programmer!$T:$T,ROWS(A$1:A104),1)=\"\",\"\",INDEX(programmer!$T:$T,ROWS(A$1:A104),1))","v":""},{"$f":"IF(ISERROR(VLOOKUP($E117,'File 1'!$B:$B,1,FALSE)),\"\",\"ü\")","v":""},{"$f":"IF(ISERROR(VLOOKUP($E117,'File 2'!$B:$B,1,FALSE)),\"\",\"ü\")","v":""},{"$f":"IF(ISERROR(VLOOKUP($E117,'File 3'!$B:$B,1,FALSE)),\"\",\"ü\")","v":""},{"$f":"IF(ISERROR(VLOOKUP($E117,'File 4'!$B:$B,1,FALSE)),\"\",\"ü\")","v":""},{"$f":"IF(ISERROR(VLOOKUP($E117,'File 5'!$B:$B,1,FALSE)),\"\",\"ü\")","v":""}]
[null,null,null,null,{"$f":"IF(INDEX(programmer!$T:$T,ROWS(A$1:A105),1)=\"\",\"\",INDEX(programmer!$T:$T,ROWS(A$1:A105),1))","v":""},{"$f":"IF(ISERROR(VLOOKUP($E118,'File 1'!$B:$B,1,FALSE)),\"\",\"ü\")","v":""},{"$f":"IF(ISERROR(VLOOKUP($E118,'File 2'!$B:$B,1,FALSE)),\"\",\"ü\")","v":""},{"$f":"IF(ISERROR(VLOOKUP($E118,'File 3'!$B:$B,1,FALSE)),\"\",\"ü\")","v":""},{"$f":"IF(ISERROR(VLOOKUP($E118,'File 4'!$B:$B,1,FALSE)),\"\",\"ü\")","v":""},{"$f":"IF(ISERROR(VLOOKUP($E118,'File 5'!$B:$B,1,FALSE)),\"\",\"ü\")","v":""}]
[null,null,null,null,{"$f":"IF(INDEX(programmer!$T:$T,ROWS(A$1:A106),1)=\"\",\"\",INDEX(programmer!$T:$T,ROWS(A$1:A106),1))","v":""},{"$f":"IF(ISERROR(VLOOKUP($E119,'File 1'!$B:$B,1,FALSE)),\"\",\"ü\")","v":""},{"$f":"IF(ISERROR(VLOOKUP($E119,'File 2'!$B:$B,1,FALSE)),\"\",\"ü\")","v":""},{"$f":"IF(ISERROR(VLOOKUP($E119,'File 3'!$B:$B,1,FALSE)),\"\",\"ü\")","v":""},{"$f":"IF(ISERROR(VLOOKUP($E119,'File 4'!$B:$B,1,FALSE)),\"\",\"ü\")","v":""},{"$f":"IF(ISERROR(VLOOKUP($E119,'File 5'!$B:$B,1,FALSE)),\"\",\"ü\")","v":""}]
[null,null,null,null,{"$f":"IF(INDEX(programmer!$T:$T,ROWS(A$1:A107),1)=\"\",\"\",INDEX(programmer!$T:$T,ROWS(A$1:A107),1))","v":""},{"$f":"IF(ISERROR(VLOOKUP($E120,'File 1'!$B:$B,1,FALSE)),\"\",\"ü\")","v":""},{"$f":"IF(ISERROR(VLOOKUP($E120,'File 2'!$B:$B,1,FALSE)),\"\",\"ü\")","v":""},{"$f":"IF(ISERROR(VLOOKUP($E120,'File 3'!$B:$B,1,FALSE)),\"\",\"ü\")","v":""},{"$f":"IF(ISERROR(VLOOKUP($E120,'File 4'!$B:$B,1,FALSE)),\"\",\"ü\")","v":""},{"$f":"IF(ISERROR(VLOOKUP($E120,'File 5'!$B:$B,1,FALSE)),\"\",\"ü\")","v":""}]
[null,null,null,null,{"$f":"IF(INDEX(programmer!$T:$T,ROWS(A$1:A108),1)=\"\",\"\",INDEX(programmer!$T:$T,ROWS(A$1:A108),1))","v":""},{"$f":"IF(ISERROR(VLOOKUP($E121,'File 1'!$B:$B,1,FALSE)),\"\",\"ü\")","v":""},{"$f":"IF(ISERROR(VLOOKUP($E121,'File 2'!$B:$B,1,FALSE)),\"\",\"ü\")","v":""},{"$f":"IF(ISERROR(VLOOKUP($E121,'File 3'!$B:$B,1,FALSE)),\"\",\"ü\")","v":""},{"$f":"IF(ISERROR(VLOOKUP($E121,'File 4'!$B:$B,1,FALSE)),\"\",\"ü\")","v":""},{"$f":"IF(ISERROR(VLOOKUP($E121,'File 5'!$B:$B,1,FALSE)),\"\",\"ü\")","v":""}]
[null,null,null,null,{"$f":"IF(INDEX(programmer!$T:$T,ROWS(A$1:A109),1)=\"\",\"\",INDEX(programmer!$T:$T,ROWS(A$1:A109),1))","v":""},{"$f":"IF(ISERROR(VLOOKUP($E122,'File 1'!$B:$B,1,FALSE)),\"\",\"ü\")","v":""},{"$f":"IF(ISERROR(VLOOKUP($E122,'File 2'!$B:$B,1,FALSE)),\"\",\"ü\")","v":""},{"$f":"IF(ISERROR(VLOOKUP($E122,'File 3'!$B:$B,1,FALSE)),\"\",\"ü\")","v":""},{"$f":"IF(ISERROR(VLOOKUP($E122,'File 4'!$B:$B,1,FALSE)),\"\",\"ü\")","v":""},{"$f":"IF(ISERROR(VLOOKUP($E122,'File 5'!$B:$B,1,FALSE)),\"\",\"ü\")","v":""}]
[null,null,null,null,{"$f":"IF(INDEX(programmer!$T:$T,ROWS(A$1:A110),1)=\"\",\"\",INDEX(programmer!$T:$T,ROWS(A$1:A110),1))","v":""},{"$f":"IF(ISERROR(VLOOKUP($E123,'File 1'!$B:$B,1,FALSE)),\"\",\"ü\")","v":""},{"$f":"IF(ISERROR(VLOOKUP($E123,'File 2'!$B:$B,1,FALSE)),\"\",\"ü\")","v":""},{"$f":"IF(ISERROR(VLOOKUP($E123,'File 3'!$B:$B,1,FALSE)),\"\",\"ü\")","v":""},{"$f":"IF(ISERROR(VLOOKUP($E123,'File 4'!$B:$B,1,FALSE)),\"\",\"ü\")","v":""},{"$f":"IF(ISERROR(VLOOKUP($E123,'File 5'!$B:$B,1,FALSE)),\"\",\"ü\")","v":""}]
[null,null,null,null,{"$f":"IF(INDEX(programmer!$T:$T,ROWS(A$1:A111),1)=\"\",\"\",INDEX(programmer!$T:$T,ROWS(A$1:A111),1))","v":""},{"$f":"IF(ISERROR(VLOOKUP($E124,'File 1'!$B:$B,1,FALSE)),\"\",\"ü\")","v":""},{"$f":"IF(ISERROR(VLOOKUP($E124,'File 2'!$B:$B,1,FALSE)),\"\",\"ü\")","v":""},{"$f":"IF(ISERROR(VLOOKUP($E124,'File 3'!$B:$B,1,FALSE)),\"\",\"ü\")","v":""},{"$f":"IF(ISERROR(VLOOKUP($E124,'File 4'!$B:$B,1,FALSE)),\"\",\"ü\")","v":""},{"$f":"IF(ISERROR(VLOOKUP($E124,'File 5'!$B:$B,1,FALSE)),\"\",\"ü\")","v":""}]
[null,null,null,null,{"$f":"IF(INDEX(programmer!$T:$T,ROWS(A$1:A112),1)=\"\",\"\",INDEX(programmer!$T:$T,ROWS(A$1:A112),1))","v":""},{"$f":"IF(ISERROR(VLOOKUP($E125,'File 1'!$B:$B,1,FALSE)),\"\",\"ü\")","v":""},{"$f":"IF(ISERROR(VLOOKUP($E125,'File 2'!$B:$B,1,FALSE)),\"\",\"ü\")","v":""},{"$f":"IF(ISERROR(VLOOKUP($E125,'File 3'!$B:$B,1,FALSE)),\"\",\"ü\")","v":""},{"$f":"IF(ISERROR(VLOOKUP($E125,'File 4'!$B:$B,1,FALSE)),\"\",\"ü\")","v":""},{"$f":"IF(ISERROR(VLOOKUP($E125,'File 5'!$B:$B,1,FALSE)),\"\",\"ü\")","v":""}]
[null,null,null,null,{"$f":"IF(INDEX(programmer!$T:$T,ROWS(A$1:A113),1)=\"\",\"\",INDEX(programmer!$T:$T,ROWS(A$1:A113),1))","v":""},{"$f":"IF(ISERROR(VLOOKUP($E126,'File 1'!$B:$B,1,FALSE)),\"\",\"ü\")","v":""},{"$f":"IF(ISERROR(VLOOKUP($E126,'File 2'!$B:$B,1,FALSE)),\"\",\"ü\")","v":""},{"$f":"IF(ISERROR(VLOOKUP($E126,'File 3'!$B:$B,1,FALSE)),\"\",\"ü\")","v":""},{"$f":"IF(ISERROR(VLOOKUP($E126,'File 4'!$B:$B,1,FALSE)),\"\",\"ü\")","v":""},{"$f":"IF(ISERROR(VLOOKUP($E126,'File 5'!$B:$B,1,FALSE)),\"\",\"ü\")","v":""}]
[null,null,null,null,{"$f":"IF(INDEX(programmer!$T:$T,ROWS(A$1:A114),1)=\"\",\"\",INDEX(programmer!$T:$T,ROWS(A$1:A114),1))","v":""},{"$f":"IF(ISERROR(VLOOKUP($E127,'File 1'!$B:$B,1,FALSE)),\"\",\"ü\")","v":""},{"$f":"IF(ISERROR(VLOOKUP($E127,'File 2'!$B:$B,1,FALSE)),\"\",\"ü\")","v":""},{"$f":"IF(ISERROR(VLOOKUP($E127,'File 3'!$B:$B,1,FALSE)),\"\",\"ü\")","v":""},{"$f":"IF(ISERROR(VLOOKUP($E127,'File 4'!$B:$B,1,FALSE)),\"\",\"ü\")","v":""},{"$f":"IF(ISERROR(VLOOKUP($E127,'File 5'!$B:$B,1,FALSE)),\"\",\"ü\")","v":""}]
[null,null,null,null,{"$f":"IF(INDEX(programmer!$T:$T,ROWS(A$1:A115),1)=\"\",\"\",INDEX(programmer!$T:$T,ROWS(A$1:A115),1))","v":""},{"$f":"IF(ISERROR(VLOOKUP($E128,'File 1'!$B:$B,1,FALSE)),\"\",\"ü\")","v":""},{"$f":"IF(ISERROR(VLOOKUP($E128,'File 2'!$B:$B,1,FALSE)),\"\",\"ü\")","v":""},{"$f":"IF(ISERROR(VLOOKUP($E128,'File 3'!$B:$B,1,FALSE)),\"\",\"ü\")","v":""},{"$f":"IF(ISERROR(VLOOKUP($E128,'File 4'!$B:$B,1,FALSE)),\"\",\"ü\")","v":""},{"$f":"IF(ISERROR(VLOOKUP($E128,'File 5'!$B:$B,1,FALSE)),\"\",\"ü\")","v":""}]
[null,null,null,null,{"$f":"IF(INDEX(programmer!$T:$T,ROWS(A$1:A116),1)=\"\",\"\",INDEX(programmer!$T:$T,ROWS(A$1:A116),1))","v":""},{"$f":"IF(ISERROR(VLOOKUP($E129,'File 1'!$B:$B,1,FALSE)),\"\",\"ü\")","v":""},{"$f":"IF(ISERROR(VLOOKUP($E129,'File 2'!$B:$B,1,FALSE)),\"\",\"ü\")","v":""},{"$f":"IF(ISERROR(VLOOKUP($E129,'File 3'!$B:$B,1,FALSE)),\"\",\"ü\")","v":""},{"$f":"IF(ISERROR(VLOOKUP($E129,'File 4'!$B:$B,1,FALSE)),\"\",\"ü\")","v":""},{"$f":"IF(ISERROR(VLOOKUP($E129,'File 5'!$B:$B,1,FALSE)),\"\",\"ü\")","v":""}]
[null,null,null,null,{"$f":"IF(INDEX(programmer!$T:$T,ROWS(A$1:A117),1)=\"\",\"\",INDEX(programmer!$T:$T,ROWS(A$1:A117),1))","v":""},{"$f":"IF(ISERROR(VLOOKUP($E130,'File 1'!$B:$B,1,FALSE)),\"\",\"ü\")","v":""},{"$f":"IF(ISERROR(VLOOKUP($E130,'File 2'!$B:$B,1,FALSE)),\"\",\"ü\")","v":""},{"$f":"IF(ISERROR(VLOOKUP($E130,'File 3'!$B:$B,1,FALSE)),\"\",\"ü\")","v":""},{"$f":"IF(ISERROR(VLOOKUP($E130,'File 4'!$B:$B,1,FALSE)),\"\",\"ü\")","v":""},{"$f":"IF(ISERROR(VLOOKUP($E130,'File 5'!$B:$B,1,FALSE)),\"\",\"ü\")","v":""}]
[null,null,null,null,{"$f":"IF(INDEX(programmer!$T:$T,ROWS(A$1:A118),1)=\"\",\"\",INDEX(programmer!$T:$T,ROWS(A$1:A118),1))","v":""},{"$f":"IF(ISERROR(VLOOKUP($E131,'File 1'!$B:$B,1,FALSE)),\"\",\"ü\")","v":""},{"$f":"IF(ISERROR(VLOOKUP($E131,'File 2'!$B:$B,1,FALSE)),\"\",\"ü\")","v":""},{"$f":"IF(ISERROR(VLOOKUP($E131,'File 3'!$B:$B,1,FALSE)),\"\",\"ü\")","v":""},{"$f":"IF(ISERROR(VLOOKUP($E131,'File 4'!$B:$B,1,FALSE)),\"\",\"ü\")","v":""},{"$f":"IF(ISERROR(VLOOKUP($E131,'File 5'!$B:$B,1,FALSE)),\"\",\"ü\")","v":""}]
[null,null,null,null,{"$f":"IF(INDEX(programmer!$T:$T,ROWS(A$1:A119),1)=\"\",\"\",INDEX(programmer!$T:$T,ROWS(A$1:A119),1))","v":""},{"$f":"IF(ISERROR(VLOOKUP($E132,'File 1'!$B:$B,1,FALSE)),\"\",\"ü\")","v":""},{"$f":"IF(ISERROR(VLOOKUP($E132,'File 2'!$B:$B,1,FALSE)),\"\",\"ü\")","v":""},{"$f":"IF(ISERROR(VLOOKUP($E132,'File 3'!$B:$B,1,FALSE)),\"\",\"ü\")","v":""},{"$f":"IF(ISERROR(VLOOKUP($E132,'File 4'!$B:$B,1,FALSE)),\"\",\"ü\")","v":""},{"$f":"IF(ISERROR(VLOOKUP($E132,'File 5'!$B:$B,1,FALSE)),\"\",\"ü\")","v":""}]
[null,null,null,null,{"$f":"IF(INDEX(programmer!$T:$T,ROWS(A$1:A120),1)=\"\",\"\",INDEX(programmer!$T:$T,ROWS(A$1:A120),1))","v":""},{"$f":"IF(ISERROR(VLOOKUP($E133,'File 1'!$B:$B,1,FALSE)),\"\",\"ü\")","v":""},{"$f":"IF(ISERROR(VLOOKUP($E133,'File 2'!$B:$B,1,FALSE)),\"\",\"ü\")","v":""},{"$f":"IF(ISERROR(VLOOKUP($E133,'File 3'!$B:$B,1,FALSE)),\"\",\"ü\")","v":""},{"$f":"IF(ISERROR(VLOOKUP($E133,'File 4'!$B:$B,1,FALSE)),\"\",\"ü\")","v":""},{"$f":"IF(ISERROR(VLOOKUP($E133,'File 5'!$B:$B,1,FALSE)),\"\",\"ü\")","v":""}]
[null,null,null,null,{"$f":"IF(INDEX(programmer!$T:$T,ROWS(A$1:A121),1)=\"\",\"\",INDEX(programmer!$T:$T,ROWS(A$1:A121),1))","v":""},{"$f":"IF(ISERROR(VLOOKUP($E134,'File 1'!$B:$B,1,FALSE)),\"\",\"ü\")","v":""},{"$f":"IF(ISERROR(VLOOKUP($E134,'File 2'!$B:$B,1,FALSE)),\"\",\"ü\")","v":""},{"$f":"IF(ISERROR(VLOOKUP($E134,'File 3'!$B:$B,1,FALSE)),\"\",\"ü\")","v":""},{"$f":"IF(ISERROR(VLOOKUP($E134,'File 4'!$B:$B,1,FALSE)),\"\",\"ü\")","v":""},{"$f":"IF(ISERROR(VLOOKUP($E134,'File 5'!$B:$B,1,FALSE)),\"\",\"ü\")","v":""}]
[null,null,null,null,{"$f":"IF(INDEX(programmer!$T:$T,ROWS(A$1:A122),1)=\"\",\"\",INDEX(programmer!$T:$T,ROWS(A$1:A122),1))","v":""},{"$f":"IF(ISERROR(VLOOKUP($E135,'File 1'!$B:$B,1,FALSE)),\"\",\"ü\")","v":""},{"$f":"IF(ISERROR(VLOOKUP($E135,'File 2'!$B:$B,1,FALSE)),\"\",\"ü\")","v":""},{"$f":"IF(ISERROR(VLOOKUP($E135,'File 3'!$B:$B,1,FALSE)),\"\",\"ü\")","v":""},{"$f":"IF(ISERROR(VLOOKUP($E135,'File 4'!$B:$B,1,FALSE)),\"\",\"ü\")","v":""},{"$f":"IF(ISERROR(VLOOKUP($E135,'File 5'!$B:$B,1,FALSE)),\"\",\"ü\")","v":""}]
[null,null,null,null,{"$f":"IF(INDEX(programmer!$T:$T,ROWS(A$1:A123),1)=\"\",\"\",INDEX(programmer!$T:$T,ROWS(A$1:A123),1))","v":""},{"$f":"IF(ISERROR(VLOOKUP($E136,'File 1'!$B:$B,1,FALSE)),\"\",\"ü\")","v":""},{"$f":"IF(ISERROR(VLOOKUP($E136,'File 2'!$B:$B,1,FALSE)),\"\",\"ü\")","v":""},{"$f":"IF(ISERROR(VLOOKUP($E136,'File 3'!$B:$B,1,FALSE)),\"\",\"ü\")","v":""},{"$f":"IF(ISERROR(VLOOKUP($E136,'File 4'!$B:$B,1,FALSE)),\"\",\"ü\")","v":""},{"$f":"IF(ISERROR(VLOOKUP($E136,'File 5'!$B:$B,1,FALSE)),\"\",\"ü\")","v":""}]
[null,null,null,null,{"$f":"IF(INDEX(programmer!$T:$T,ROWS(A$1:A124),1)=\"\",\"\",INDEX(programmer!$T:$T,ROWS(A$1:A124),1))","v":""},{"$f":"IF(ISERROR(VLOOKUP($E137,'File 1'!$B:$B,1,FALSE)),\"\",\"ü\")","v":""},{"$f":"IF(ISERROR(VLOOKUP($E137,'File 2'!$B:$B,1,FALSE)),\"\",\"ü\")","v":""},{"$f":"IF(ISERROR(VLOOKUP($E137,'File 3'!$B:$B,1,FALSE)),\"\",\"ü\")","v":""},{"$f":"IF(ISERROR(VLOOKUP($E137,'File 4'!$B:$B,1,FALSE)),\"\",\"ü\")","v":""},{"$f":"IF(ISERROR(VLOOKUP($E137,'File 5'!$B:$B,1,FALSE)),\"\",\"ü\")","v":""}]
[null,null,null,null,{"$f":"IF(INDEX(programmer!$T:$T,ROWS(A$1:A125),1)=\"\",\"\",INDEX(programmer!$T:$T,ROWS(A$1:A125),1))","v":""},{"$f":"IF(ISERROR(VLOOKUP($E138,'File 1'!$B:$B,1,FALSE)),\"\",\"ü\")","v":""},{"$f":"IF(ISERROR(VLOOKUP($E138,'File 2'!$B:$B,1,FALSE)),\"\",\"ü\")","v":""},{"$f":"IF(ISERROR(VLOOKUP($E138,'File 3'!$B:$B,1,FALSE)),\"\",\"ü\")","v":""},{"$f":"IF(ISERROR(VLOOKUP($E138,'File 4'!$B:$B,1,FALSE)),\"\",\"ü\")","v":""},{"$f":"IF(ISERROR(VLOOKUP($E138,'File 5'!$B:$B,1,FALSE)),\"\",\"ü\")","v":""}]
[null,null,null,null,{"$f":"IF(INDEX(programmer!$T:$T,ROWS(A$1:A126),1)=\"\",\"\",INDEX(programmer!$T:$T,ROWS(A$1:A126),1))","v":""},{"$f":"IF(ISERROR(VLOOKUP($E139,'File 1'!$B:$B,1,FALSE)),\"\",\"ü\")","v":""},{"$f":"IF(ISERROR(VLOOKUP($E139,'File 2'!$B:$B,1,FALSE)),\"\",\"ü\")","v":""},{"$f":"IF(ISERROR(VLOOKUP($E139,'File 3'!$B:$B,1,FALSE)),\"\",\"ü\")","v":""},{"$f":"IF(ISERROR(VLOOKUP($E139,'File 4'!$B:$B,1,FALSE)),\"\",\"ü\")","v":""},{"$f":"IF(ISERROR(VLOOKUP($E139,'File 5'!$B:$B,1,FALSE)),\"\",\"ü\")","v":""}]
[null,null,null,null,{"$f":"IF(INDEX(programmer!$T:$T,ROWS(A$1:A127),1)=\"\",\"\",INDEX(programmer!$T:$T,ROWS(A$1:A127),1))","v":""},{"$f":"IF(ISERROR(VLOOKUP($E140,'File 1'!$B:$B,1,FALSE)),\"\",\"ü\")","v":""},{"$f":"IF(ISERROR(VLOOKUP($E140,'File 2'!$B:$B,1,FALSE)),\"\",\"ü\")","v":""},{"$f":"IF(ISERROR(VLOOKUP($E140,'File 3'!$B:$B,1,FALSE)),\"\",\"ü\")","v":""},{"$f":"IF(ISERROR(VLOOKUP($E140,'File 4'!$B:$B,1,FALSE)),\"\",\"ü\")","v":""},{"$f":"IF(ISERROR(VLOOKUP($E140,'File 5'!$B:$B,1,FALSE)),\"\",\"ü\")","v":""}]
[null,null,null,null,{"$f":"IF(INDEX(programmer!$T:$T,ROWS(A$1:A128),1)=\"\",\"\",INDEX(programmer!$T:$T,ROWS(A$1:A128),1))","v":""},{"$f":"IF(ISERROR(VLOOKUP($E141,'File 1'!$B:$B,1,FALSE)),\"\",\"ü\")","v":""},{"$f":"IF(ISERROR(VLOOKUP($E141,'File 2'!$B:$B,1,FALSE)),\"\",\"ü\")","v":""},{"$f":"IF(ISERROR(VLOOKUP($E141,'File 3'!$B:$B,1,FALSE)),\"\",\"ü\")","v":""},{"$f":"IF(ISERROR(VLOOKUP($E141,'File 4'!$B:$B,1,FALSE)),\"\",\"ü\")","v":""},{"$f":"IF(ISERROR(VLOOKUP($E141,'File 5'!$B:$B,1,FALSE)),\"\",\"ü\")","v":""}]
[null,null,null,null,{"$f":"IF(INDEX(programmer!$T:$T,ROWS(A$1:A129),1)=\"\",\"\",INDEX(programmer!$T:$T,ROWS(A$1:A129),1))","v":""},{"$f":"IF(ISERROR(VLOOKUP($E142,'File 1'!$B:$B,1,FALSE)),\"\",\"ü\")","v":""},{"$f":"IF(ISERROR(VLOOKUP($E142,'File 2'!$B:$B,1,FALSE)),\"\",\"ü\")","v":""},{"$f":"IF(ISERROR(VLOOKUP($E142,'File 3'!$B:$B,1,FALSE)),\"\",\"ü\")","v":""},{"$f":"IF(ISERROR(VLOOKUP($E142,'File 4'!$B:$B,1,FALSE)),\"\",\"ü\")","v":""},{"$f":"IF(ISERROR(VLOOKUP($E142,'File 5'!$B:$B,1,FALSE)),\"\",\"ü\")","v":""}]
[null,null,null,null,{"$f":"IF(INDEX(programmer!$T:$T,ROWS(A$1:A130),1)=\"\",\"\",INDEX(programmer!$T:$T,ROWS(A$1:A130),1))","v":""},{"$f":"IF(ISERROR(VLOOKUP($E143,'File 1'!$B:$B,1,FALSE)),\"\",\"ü\")","v":""},{"$f":"IF(ISERROR(VLOOKUP($E143,'File 2'!$B:$B,1,FALSE)),\"\",\"ü\")","v":""},{"$f":"IF(ISERROR(VLOOKUP($E143,'File 3'!$B:$B,1,FALSE)),\"\",\"ü\")","v":""},{"$f":"IF(ISERROR(VLOOKUP($E143,'File 4'!$B:$B,1,FALSE)),\"\",\"ü\")","v":""},{"$f":"IF(ISERROR(VLOOKUP($E143,'File 5'!$B:$B,1,FALSE)),\"\",\"ü\")","v":""}]
[null,null,null,null,{"$f":"IF(INDEX(programmer!$T:$T,ROWS(A$1:A131),1)=\"\",\"\",INDEX(programmer!$T:$T,ROWS(A$1:A131),1))","v":""},{"$f":"IF(ISERROR(VLOOKUP($E144,'File 1'!$B:$B,1,FALSE)),\"\",\"ü\")","v":""},{"$f":"IF(ISERROR(VLOOKUP($E144,'File 2'!$B:$B,1,FALSE)),\"\",\"ü\")","v":""},{"$f":"IF(ISERROR(VLOOKUP($E144,'File 3'!$B:$B,1,FALSE)),\"\",\"ü\")","v":""},{"$f":"IF(ISERROR(VLOOKUP($E144,'File 4'!$B:$B,1,FALSE)),\"\",\"ü\")","v":""},{"$f":"IF(ISERROR(VLOOKUP($E144,'File 5'!$B:$B,1,FALSE)),\"\",\"ü\")","v":""}]
[null,null,null,null,{"$f":"IF(INDEX(programmer!$T:$T,ROWS(A$1:A132),1)=\"\",\"\",INDEX(programmer!$T:$T,ROWS(A$1:A132),1))","v":""},{"$f":"IF(ISERROR(VLOOKUP($E145,'File 1'!$B:$B,1,FALSE)),\"\",\"ü\")","v":""},{"$f":"IF(ISERROR(VLOOKUP($E145,'File 2'!$B:$B,1,FALSE)),\"\",\"ü\")","v":""},{"$f":"IF(ISERROR(VLOOKUP($E145,'File 3'!$B:$B,1,FALSE)),\"\",\"ü\")","v":""},{"$f":"IF(ISERROR(VLOOKUP($E145,'File 4'!$B:$B,1,FALSE)),\"\",\"ü\")","v":""},{"$f":"IF(ISERROR(VLOOKUP($E145,'File 5'!$B:$B,1,FALSE)),\"\",\"ü\")","v":""}]
[null,null,null,null,{"$f":"IF(INDEX(programmer!$T:$T,ROWS(A$1:A133),1)=\"\",\"\",INDEX(programmer!$T:$T,ROWS(A$1:A133),1))","v":""},{"$f":"IF(ISERROR(VLOOKUP($E146,'File 1'!$B:$B,1,FALSE)),\"\",\"ü\")","v":""},{"$f":"IF(ISERROR(VLOOKUP($E146,'File 2'!$B:$B,1,FALSE)),\"\",\"ü\")","v":""},{"$f":"IF(ISERROR(VLOOKUP($E146,'File 3'!$B:$B,1,FALSE)),\"\",\"ü\")","v":""},{"$f":"IF(ISERROR(VLOOKUP($E146,'File 4'!$B:$B,1,FALSE)),\"\",\"ü\")","v":""},{"$f":"IF(ISERROR(VLOOKUP($E146,'File 5'!$B:$B,1,FALSE)),\"\",\"ü\")","v":""}]
[null,null,null,null,{"$f":"IF(INDEX(programmer!$T:$T,ROWS(A$1:A134),1)=\"\",\"\",INDEX(programmer!$T:$T,ROWS(A$1:A134),1))","v":""},{"$f":"IF(ISERROR(VLOOKUP($E147,'File 1'!$B:$B,1,FALSE)),\"\",\"ü\")","v":""},{"$f":"IF(ISERROR(VLOOKUP($E147,'File 2'!$B:$B,1,FALSE)),\"\",\"ü\")","v":""},{"$f":"IF(ISERROR(VLOOKUP($E147,'File 3'!$B:$B,1,FALSE)),\"\",\"ü\")","v":""},{"$f":"IF(ISERROR(VLOOKUP($E147,'File 4'!$B:$B,1,FALSE)),\"\",\"ü\")","v":""},{"$f":"IF(ISERROR(VLOOKUP($E147,'File 5'!$B:$B,1,FALSE)),\"\",\"ü\")","v":""}]
[null,null,null,null,{"$f":"IF(INDEX(programmer!$T:$T,ROWS(A$1:A135),1)=\"\",\"\",INDEX(programmer!$T:$T,ROWS(A$1:A135),1))","v":""},{"$f":"IF(ISERROR(VLOOKUP($E148,'File 1'!$B:$B,1,FALSE)),\"\",\"ü\")","v":""},{"$f":"IF(ISERROR(VLOOKUP($E148,'File 2'!$B:$B,1,FALSE)),\"\",\"ü\")","v":""},{"$f":"IF(ISERROR(VLOOKUP($E148,'File 3'!$B:$B,1,FALSE)),\"\",\"ü\")","v":""},{"$f":"IF(ISERROR(VLOOKUP($E148,'File 4'!$B:$B,1,FALSE)),\"\",\"ü\")","v":""},{"$f":"IF(ISERROR(VLOOKUP($E148,'File 5'!$B:$B,1,FALSE)),\"\",\"ü\")","v":""}]
[null,null,null,null,{"$f":"IF(INDEX(programmer!$T:$T,ROWS(A$1:A136),1)=\"\",\"\",INDEX(programmer!$T:$T,ROWS(A$1:A136),1))","v":""},{"$f":"IF(ISERROR(VLOOKUP($E149,'File 1'!$B:$B,1,FALSE)),\"\",\"ü\")","v":""},{"$f":"IF(ISERROR(VLOOKUP($E149,'File 2'!$B:$B,1,FALSE)),\"\",\"ü\")","v":""},{"$f":"IF(ISERROR(VLOOKUP($E149,'File 3'!$B:$B,1,FALSE)),\"\",\"ü\")","v":""},{"$f":"IF(ISERROR(VLOOKUP($E149,'File 4'!$B:$B,1,FALSE)),\"\",\"ü\")","v":""},{"$f":"IF(ISERROR(VLOOKUP($E149,'File 5'!$B:$B,1,FALSE)),\"\",\"ü\")","v":""}]
[null,null,null,null,{"$f":"IF(INDEX(programmer!$T:$T,ROWS(A$1:A137),1)=\"\",\"\",INDEX(programmer!$T:$T,ROWS(A$1:A137),1))","v":""},{"$f":"IF(ISERROR(VLOOKUP($E150,'File 1'!$B:$B,1,FALSE)),\"\",\"ü\")","v":""},{"$f":"IF(ISERROR(VLOOKUP($E150,'File 2'!$B:$B,1,FALSE)),\"\",\"ü\")","v":""},{"$f":"IF(ISERROR(VLOOKUP($E150,'File 3'!$B:$B,1,FALSE)),\"\",\"ü\")","v":""},{"$f":"IF(ISERROR(VLOOKUP($E150,'File 4'!$B:$B,1,FALSE)),\"\",\"ü\")","v":""},{"$f":"IF(ISERROR(VLOOKUP($E150,'File 5'!$B:$B,1,FALSE)),\"\",\"ü\")","v":""}]
[null,null,null,null,{"$f":"IF(INDEX(programmer!$T:$T,ROWS(A$1:A138),1)=\"\",\"\",INDEX(programmer!$T:$T,ROWS(A$1:A138),1))","v":""},{"$f":"IF(ISERROR(VLOOKUP($E151,'File 1'!$B:$B,1,FALSE)),\"\",\"ü\")","v":""},{"$f":"IF(ISERROR(VLOOKUP($E151,'File 2'!$B:$B,1,FALSE)),\"\",\"ü\")","v":""},{"$f":"IF(ISERROR(VLOOKUP($E151,'File 3'!$B:$B,1,FALSE)),\"\",\"ü\")","v":""},{"$f":"IF(ISERROR(VLOOKUP($E151,'File 4'!$B:$B,1,FALSE)),\"\",\"ü\")","v":""},{"$f":"IF(ISERROR(VLOOKUP($E151,'File 5'!$B:$B,1,FALSE)),\"\",\"ü\")","v":""}]
[null,null,null,null,{"$f":"IF(INDEX(programmer!$T:$T,ROWS(A$1:A139),1)=\"\",\"\",INDEX(programmer!$T:$T,ROWS(A$1:A139),1))","v":""},{"$f":"IF(ISERROR(VLOOKUP($E152,'File 1'!$B:$B,1,FALSE)),\"\",\"ü\")","v":""},{"$f":"IF(ISERROR(VLOOKUP($E152,'File 2'!$B:$B,1,FALSE)),\"\",\"ü\")","v":""},{"$f":"IF(ISERROR(VLOOKUP($E152,'File 3'!$B:$B,1,FALSE)),\"\",\"ü\")","v":""},{"$f":"IF(ISERROR(VLOOKUP($E152,'File 4'!$B:$B,1,FALSE)),\"\",\"ü\")","v":""},{"$f":"IF(ISERROR(VLOOKUP($E152,'File 5'!$B:$B,1,FALSE)),\"\",\"ü\")","v":""}]
[null,null,null,null,{"$f":"IF(INDEX(programmer!$T:$T,ROWS(A$1:A140),1)=\"\",\"\",INDEX(programmer!$T:$T,ROWS(A$1:A140),1))","v":""},{"$f":"IF(ISERROR(VLOOKUP($E153,'File 1'!$B:$B,1,FALSE)),\"\",\"ü\")","v":""},{"$f":"IF(ISERROR(VLOOKUP($E153,'File 2'!$B:$B,1,FALSE)),\"\",\"ü\")","v":""},{"$f":"IF(ISERROR(VLOOKUP($E153,'File 3'!$B:$B,1,FALSE)),\"\",\"ü\")","v":""},{"$f":"IF(ISERROR(VLOOKUP($E153,'File 4'!$B:$B,1,FALSE)),\"\",\"ü\")","v":""},{"$f":"IF(ISERROR(VLOOKUP($E153,'File 5'!$B:$B,1,FALSE)),\"\",\"ü\")","v":""}]
[null,null,null,null,{"$f":"IF(INDEX(programmer!$T:$T,ROWS(A$1:A141),1)=\"\",\"\",INDEX(programmer!$T:$T,ROWS(A$1:A141),1))","v":""},{"$f":"IF(ISERROR(VLOOKUP($E154,'File 1'!$B:$B,1,FALSE)),\"\",\"ü\")","v":""},{"$f":"IF(ISERROR(VLOOKUP($E154,'File 2'!$B:$B,1,FALSE)),\"\",\"ü\")","v":""},{"$f":"IF(ISERROR(VLOOKUP($E154,'File 3'!$B:$B,1,FALSE)),\"\",\"ü\")","v":""},{"$f":"IF(ISERROR(VLOOKUP($E154,'File 4'!$B:$B,1,FALSE)),\"\",\"ü\")","v":""},{"$f":"IF(ISERROR(VLOOKUP($E154,'File 5'!$B:$B,1,FALSE)),\"\",\"ü\")","v":""}]
[null,null,null,null,{"$f":"IF(INDEX(programmer!$T:$T,ROWS(A$1:A142),1)=\"\",\"\",INDEX(programmer!$T:$T,ROWS(A$1:A142),1))","v":""},{"$f":"IF(ISERROR(VLOOKUP($E155,'File 1'!$B:$B,1,FALSE)),\"\",\"ü\")","v":""},{"$f":"IF(ISERROR(VLOOKUP($E155,'File 2'!$B:$B,1,FALSE)),\"\",\"ü\")","v":""},{"$f":"IF(ISERROR(VLOOKUP($E155,'File 3'!$B:$B,1,FALSE)),\"\",\"ü\")","v":""},{"$f":"IF(ISERROR(VLOOKUP($E155,'File 4'!$B:$B,1,FALSE)),\"\",\"ü\")","v":""},{"$f":"IF(ISERROR(VLOOKUP($E155,'File 5'!$B:$B,1,FALSE)),\"\",\"ü\")","v":""}]
[null,null,null,null,{"$f":"IF(INDEX(programmer!$T:$T,ROWS(A$1:A143),1)=\"\",\"\",INDEX(programmer!$T:$T,ROWS(A$1:A143),1))","v":""},{"$f":"IF(ISERROR(VLOOKUP($E156,'File 1'!$B:$B,1,FALSE)),\"\",\"ü\")","v":""},{"$f":"IF(ISERROR(VLOOKUP($E156,'File 2'!$B:$B,1,FALSE)),\"\",\"ü\")","v":""},{"$f":"IF(ISERROR(VLOOKUP($E156,'File 3'!$B:$B,1,FALSE)),\"\",\"ü\")","v":""},{"$f":"IF(ISERROR(VLOOKUP($E156,'File 4'!$B:$B,1,FALSE)),\"\",\"ü\")","v":""},{"$f":"IF(ISERROR(VLOOKUP($E156,'File 5'!$B:$B,1,FALSE)),\"\",\"ü\")","v":""}]
[null,null,null,null,{"$f":"IF(INDEX(programmer!$T:$T,ROWS(A$1:A144),1)=\"\",\"\",INDEX(programmer!$T:$T,ROWS(A$1:A144),1))","v":""},{"$f":"IF(ISERROR(VLOOKUP($E157,'File 1'!$B:$B,1,FALSE)),\"\",\"ü\")","v":""},{"$f":"IF(ISERROR(VLOOKUP($E157,'File 2'!$B:$B,1,FALSE)),\"\",\"ü\")","v":""},{"$f":"IF(ISERROR(VLOOKUP($E157,'File 3'!$B:$B,1,FALSE)),\"\",\"ü\")","v":""},{"$f":"IF(ISERROR(VLOOKUP($E157,'File 4'!$B:$B,1,FALSE)),\"\",\"ü\")","v":""},{"$f":"IF(ISERROR(VLOOKUP($E157,'File 5'!$B:$B,1,FALSE)),\"\",\"ü\")","v":""}]
[null,null,null,null,{"$f":"IF(INDEX(programmer!$T:$T,ROWS(A$1:A145),1)=\"\",\"\",INDEX(programmer!$T:$T,ROWS(A$1:A145),1))","v":""},{"$f":"IF(ISERROR(VLOOKUP($E158,'File 1'!$B:$B,1,FALSE)),\"\",\"ü\")","v":""},{"$f":"IF(ISERROR(VLOOKUP($E158,'File 2'!$B:$B,1,FALSE)),\"\",\"ü\")","v":""},{"$f":"IF(ISERROR(VLOOKUP($E158,'File 3'!$B:$B,1,FALSE)),\"\",\"ü\")","v":""},{"$f":"IF(ISERROR(VLOOKUP($E158,'File 4'!$B:$B,1,FALSE)),\"\",\"ü\")","v":""},{"$f":"IF(ISERROR(VLOOKUP($E158,'File 5'!$B:$B,1,FALSE)),\"\",\"ü\")","v":""}]
[null,null,null,null,{"$f":"IF(INDEX(programmer!$T:$T,ROWS(A$1:A146),1)=\"\",\"\",INDEX(programmer!$T:$T,ROWS(A$1:A146),1))","v":""},{"$f":"IF(ISERROR(VLOOKUP($E159,'File 1'!$B:$B,1,FALSE)),\"\",\"ü\")","v":""},{"$f":"IF(ISERROR(VLOOKUP($E159,'File 2'!$B:$B,1,FALSE)),\"\",\"ü\")","v":""},{"$f":"IF(ISERROR(VLOOKUP($E159,'File 3'!$B:$B,1,FALSE)),\"\",\"ü\")","v":""},{"$f":"IF(ISERROR(VLOOKUP($E159,'File 4'!$B:$B,1,FALSE)),\"\",\"ü\")","v":""},{"$f":"IF(ISERROR(VLOOKUP($E159,'File 5'!$B:$B,1,FALSE)),\"\",\"ü\")","v":""}]
[null,null,null,null,{"$f":"IF(INDEX(programmer!$T:$T,ROWS(A$1:A147),1)=\"\",\"\",INDEX(programmer!$T:$T,ROWS(A$1:A147),1))","v":""},{"$f":"IF(ISERROR(VLOOKUP($E160,'File 1'!$B:$B,1,FALSE)),\"\",\"ü\")","v":""},{"$f":"IF(ISERROR(VLOOKUP($E160,'File 2'!$B:$B,1,FALSE)),\"\",\"ü\")","v":""},{"$f":"IF(ISERROR(VLOOKUP($E160,'File 3'!$B:$B,1,FALSE)),\"\",\"ü\")","v":""},{"$f":"IF(ISERROR(VLOOKUP($E160,'File 4'!$B:$B,1,FALSE)),\"\",\"ü\")","v":""},{"$f":"IF(ISERROR(VLOOKUP($E160,'File 5'!$B:$B,1,FALSE)),\"\",\"ü\")","v":""}]
[null,null,null,null,{"$f":"IF(INDEX(programmer!$T:$T,ROWS(A$1:A148),1)=\"\",\"\",INDEX(programmer!$T:$T,ROWS(A$1:A148),1))","v":""},{"$f":"IF(ISERROR(VLOOKUP($E161,'File 1'!$B:$B,1,FALSE)),\"\",\"ü\")","v":""},{"$f":"IF(ISERROR(VLOOKUP($E161,'File 2'!$B:$B,1,FALSE)),\"\",\"ü\")","v":""},{"$f":"IF(ISERROR(VLOOKUP($E161,'File 3'!$B:$B,1,FALSE)),\"\",\"ü\")","v":""},{"$f":"IF(ISERROR(VLOOKUP($E161,'File 4'!$B:$B,1,FALSE)),\"\",\"ü\")","v":""},{"$f":"IF(ISERROR(VLOOKUP($E161,'File 5'!$B:$B,1,FALSE)),\"\",\"ü\")","v":""}]
[null,null,null,null,{"$f":"IF(INDEX(programmer!$T:$T,ROWS(A$1:A149),1)=\"\",\"\",INDEX(programmer!$T:$T,ROWS(A$1:A149),1))","v":""},{"$f":"IF(ISERROR(VLOOKUP($E162,'File 1'!$B:$B,1,FALSE)),\"\",\"ü\")","v":""},{"$f":"IF(ISERROR(VLOOKUP($E162,'File 2'!$B:$B,1,FALSE)),\"\",\"ü\")","v":""},{"$f":"IF(ISERROR(VLOOKUP($E162,'File 3'!$B:$B,1,FALSE)),\"\",\"ü\")","v":""},{"$f":"IF(ISERROR(VLOOKUP($E162,'File 4'!$B:$B,1,FALSE)),\"\",\"ü\")","v":""},{"$f":"IF(ISERROR(VLOOKUP($E162,'File 5'!$B:$B,1,FALSE)),\"\",\"ü\")","v":""}]
[null,null,null,null,{"$f":"IF(INDEX(programmer!$T:$T,ROWS(A$1:A150),1)=\"\",\"\",INDEX(programmer!$T:$T,ROWS(A$1:A150),1))","v":""},{"$f":"IF(ISERROR(VLOOKUP($E163,'File 1'!$B:$B,1,FALSE)),\"\",\"ü\")","v":""},{"$f":"IF(ISERROR(VLOOKUP($E163,'File 2'!$B:$B,1,FALSE)),\"\",\"ü\")","v":""},{"$f":"IF(ISERROR(VLOOKUP($E163,'File 3'!$B:$B,1,FALSE)),\"\",\"ü\")","v":""},{"$f":"IF(ISERROR(VLOOKUP($E163,'File 4'!$B:$B,1,FALSE)),\"\",\"ü\")","v":""},{"$f":"IF(ISERROR(VLOOKUP($E163,'File 5'!$B:$B,1,FALSE)),\"\",\"ü\")","v":""}]
[null,null,null,null,{"$f":"IF(INDEX(programmer!$T:$T,ROWS(A$1:A151),1)=\"\",\"\",INDEX(programmer!$T:$T,ROWS(A$1:A151),1))","v":""},{"$f":"IF(ISERROR(VLOOKUP($E164,'File 1'!$B:$B,1,FALSE)),\"\",\"ü\")","v":""},{"$f":"IF(ISERROR(VLOOKUP($E164,'File 2'!$B:$B,1,FALSE)),\"\",\"ü\")","v":""},{"$f":"IF(ISERROR(VLOOKUP($E164,'File 3'!$B:$B,1,FALSE)),\"\",\"ü\")","v":""},{"$f":"IF(ISERROR(VLOOKUP($E164,'File 4'!$B:$B,1,FALSE)),\"\",\"ü\")","v":""},{"$f":"IF(ISERROR(VLOOKUP($E164,'File 5'!$B:$B,1,FALSE)),\"\",\"ü\")","v":""}]
[null,null,null,null,{"$f":"IF(INDEX(programmer!$T:$T,ROWS(A$1:A152),1)=\"\",\"\",INDEX(programmer!$T:$T,ROWS(A$1:A152),1))","v":""},{"$f":"IF(ISERROR(VLOOKUP($E165,'File 1'!$B:$B,1,FALSE)),\"\",\"ü\")","v":""},{"$f":"IF(ISERROR(VLOOKUP($E165,'File 2'!$B:$B,1,FALSE)),\"\",\"ü\")","v":""},{"$f":"IF(ISERROR(VLOOKUP($E165,'File 3'!$B:$B,1,FALSE)),\"\",\"ü\")","v":""},{"$f":"IF(ISERROR(VLOOKUP($E165,'File 4'!$B:$B,1,FALSE)),\"\",\"ü\")","v":""},{"$f":"IF(ISERROR(VLOOKUP($E165,'File 5'!$B:$B,1,FALSE)),\"\",\"ü\")","v":""}]
[null,null,null,null,{"$f":"IF(INDEX(programmer!$T:$T,ROWS(A$1:A153),1)=\"\",\"\",INDEX(programmer!$T:$T,ROWS(A$1:A153),1))","v":""},{"$f":"IF(ISERROR(VLOOKUP($E166,'File 1'!$B:$B,1,FALSE)),\"\",\"ü\")","v":""},{"$f":"IF(ISERROR(VLOOKUP($E166,'File 2'!$B:$B,1,FALSE)),\"\",\"ü\")","v":""},{"$f":"IF(ISERROR(VLOOKUP($E166,'File 3'!$B:$B,1,FALSE)),\"\",\"ü\")","v":""},{"$f":"IF(ISERROR(VLOOKUP($E166,'File 4'!$B:$B,1,FALSE)),\"\",\"ü\")","v":""},{"$f":"IF(ISERROR(VLOOKUP($E166,'File 5'!$B:$B,1,FALSE)),\"\",\"ü\")","v":""}]
[null,null,null,null,{"$f":"IF(INDEX(programmer!$T:$T,ROWS(A$1:A154),1)=\"\",\"\",INDEX(programmer!$T:$T,ROWS(A$1:A154),1))","v":""},{"$f":"IF(ISERROR(VLOOKUP($E167,'File 1'!$B:$B,1,FALSE)),\"\",\"ü\")","v":""},{"$f":"IF(ISERROR(VLOOKUP($E167,'File 2'!$B:$B,1,FALSE)),\"\",\"ü\")","v":""},{"$f":"IF(ISERROR(VLOOKUP($E167,'File 3'!$B:$B,1,FALSE)),\"\",\"ü\")","v":""},{"$f":"IF(ISERROR(VLOOKUP($E167,'File 4'!$B:$B,1,FALSE)),\"\",\"ü\")","v":""},{"$f":"IF(ISERROR(VLOOKUP($E167,'File 5'!$B:$B,1,FALSE)),\"\",\"ü\")","v":""}]
[null,null,null,null,{"$f":"IF(INDEX(programmer!$T:$T,ROWS(A$1:A155),1)=\"\",\"\",INDEX(programmer!$T:$T,ROWS(A$1:A155),1))","v":""},{"$f":"IF(ISERROR(VLOOKUP($E168,'File 1'!$B:$B,1,FALSE)),\"\",\"ü\")","v":""},{"$f":"IF(ISERROR(VLOOKUP($E168,'File 2'!$B:$B,1,FALSE)),\"\",\"ü\")","v":""},{"$f":"IF(ISERROR(VLOOKUP($E168,'File 3'!$B:$B,1,FALSE)),\"\",\"ü\")","v":""},{"$f":"IF(ISERROR(VLOOKUP($E168,'File 4'!$B:$B,1,FALSE)),\"\",\"ü\")","v":""},{"$f":"IF(ISERROR(VLOOKUP($E168,'File 5'!$B:$B,1,FALSE)),\"\",\"ü\")","v":""}]
[null,null,null,null,{"$f":"IF(INDEX(programmer!$T:$T,ROWS(A$1:A156),1)=\"\",\"\",INDEX(programmer!$T:$T,ROWS(A$1:A156),1))","v":""},{"$f":"IF(ISERROR(VLOOKUP($E169,'File 1'!$B:$B,1,FALSE)),\"\",\"ü\")","v":""},{"$f":"IF(ISERROR(VLOOKUP($E169,'File 2'!$B:$B,1,FALSE)),\"\",\"ü\")","v":""},{"$f":"IF(ISERROR(VLOOKUP($E169,'File 3'!$B:$B,1,FALSE)),\"\",\"ü\")","v":""},{"$f":"IF(ISERROR(VLOOKUP($E169,'File 4'!$B:$B,1,FALSE)),\"\",\"ü\")","v":""},{"$f":"IF(ISERROR(VLOOKUP($E169,'File 5'!$B:$B,1,FALSE)),\"\",\"ü\")","v":""}]
[null,null,null,null,{"$f":"IF(INDEX(programmer!$T:$T,ROWS(A$1:A157),1)=\"\",\"\",INDEX(programmer!$T:$T,ROWS(A$1:A157),1))","v":""},{"$f":"IF(ISERROR(VLOOKUP($E170,'File 1'!$B:$B,1,FALSE)),\"\",\"ü\")","v":""},{"$f":"IF(ISERROR(VLOOKUP($E170,'File 2'!$B:$B,1,FALSE)),\"\",\"ü\")","v":""},{"$f":"IF(ISERROR(VLOOKUP($E170,'File 3'!$B:$B,1,FALSE)),\"\",\"ü\")","v":""},{"$f":"IF(ISERROR(VLOOKUP($E170,'File 4'!$B:$B,1,FALSE)),\"\",\"ü\")","v":""},{"$f":"IF(ISERROR(VLOOKUP($E170,'File 5'!$B:$B,1,FALSE)),\"\",\"ü\")","v":""}]
[null,null,null,null,{"$f":"IF(INDEX(programmer!$T:$T,ROWS(A$1:A158),1)=\"\",\"\",INDEX(programmer!$T:$T,ROWS(A$1:A158),1))","v":""},{"$f":"IF(ISERROR(VLOOKUP($E171,'File 1'!$B:$B,1,FALSE)),\"\",\"ü\")","v":""},{"$f":"IF(ISERROR(VLOOKUP($E171,'File 2'!$B:$B,1,FALSE)),\"\",\"ü\")","v":""},{"$f":"IF(ISERROR(VLOOKUP($E171,'File 3'!$B:$B,1,FALSE)),\"\",\"ü\")","v":""},{"$f":"IF(ISERROR(VLOOKUP($E171,'File 4'!$B:$B,1,FALSE)),\"\",\"ü\")","v":""},{"$f":"IF(ISERROR(VLOOKUP($E171,'File 5'!$B:$B,1,FALSE)),\"\",\"ü\")","v":""}]
[null,null,null,null,{"$f":"IF(INDEX(programmer!$T:$T,ROWS(A$1:A159),1)=\"\",\"\",INDEX(programmer!$T:$T,ROWS(A$1:A159),1))","v":""},{"$f":"IF(ISERROR(VLOOKUP($E172,'File 1'!$B:$B,1,FALSE)),\"\",\"ü\")","v":""},{"$f":"IF(ISERROR(VLOOKUP($E172,'File 2'!$B:$B,1,FALSE)),\"\",\"ü\")","v":""},{"$f":"IF(ISERROR(VLOOKUP($E172,'File 3'!$B:$B,1,FALSE)),\"\",\"ü\")","v":""},{"$f":"IF(ISERROR(VLOOKUP($E172,'File 4'!$B:$B,1,FALSE)),\"\",\"ü\")","v":""},{"$f":"IF(ISERROR(VLOOKUP($E172,'File 5'!$B:$B,1,FALSE)),\"\",\"ü\")","v":""}]
[null,null,null,null,{"$f":"IF(INDEX(programmer!$T:$T,ROWS(A$1:A160),1)=\"\",\"\",INDEX(programmer!$T:$T,ROWS(A$1:A160),1))","v":""},{"$f":"IF(ISERROR(VLOOKUP($E173,'File 1'!$B:$B,1,FALSE)),\"\",\"ü\")","v":""},{"$f":"IF(ISERROR(VLOOKUP($E173,'File 2'!$B:$B,1,FALSE)),\"\",\"ü\")","v":""},{"$f":"IF(ISERROR(VLOOKUP($E173,'File 3'!$B:$B,1,FALSE)),\"\",\"ü\")","v":""},{"$f":"IF(ISERROR(VLOOKUP($E173,'File 4'!$B:$B,1,FALSE)),\"\",\"ü\")","v":""},{"$f":"IF(ISERROR(VLOOKUP($E173,'File 5'!$B:$B,1,FALSE)),\"\",\"ü\")","v":""}]
[null,null,null,null,{"$f":"IF(INDEX(programmer!$T:$T,ROWS(A$1:A161),1)=\"\",\"\",INDEX(programmer!$T:$T,ROWS(A$1:A161),1))","v":""},{"$f":"IF(ISERROR(VLOOKUP($E174,'File 1'!$B:$B,1,FALSE)),\"\",\"ü\")","v":""},{"$f":"IF(ISERROR(VLOOKUP($E174,'File 2'!$B:$B,1,FALSE)),\"\",\"ü\")","v":""},{"$f":"IF(ISERROR(VLOOKUP($E174,'File 3'!$B:$B,1,FALSE)),\"\",\"ü\")","v":""},{"$f":"IF(ISERROR(VLOOKUP($E174,'File 4'!$B:$B,1,FALSE)),\"\",\"ü\")","v":""},{"$f":"IF(ISERROR(VLOOKUP($E174,'File 5'!$B:$B,1,FALSE)),\"\",\"ü\")","v":""}]
[null,null,null,null,{"$f":"IF(INDEX(programmer!$T:$T,ROWS(A$1:A162),1)=\"\",\"\",INDEX(programmer!$T:$T,ROWS(A$1:A162),1))","v":""},{"$f":"IF(ISERROR(VLOOKUP($E175,'File 1'!$B:$B,1,FALSE)),\"\",\"ü\")","v":""},{"$f":"IF(ISERROR(VLOOKUP($E175,'File 2'!$B:$B,1,FALSE)),\"\",\"ü\")","v":""},{"$f":"IF(ISERROR(VLOOKUP($E175,'File 3'!$B:$B,1,FALSE)),\"\",\"ü\")","v":""},{"$f":"IF(ISERROR(VLOOKUP($E175,'File 4'!$B:$B,1,FALSE)),\"\",\"ü\")","v":""},{"$f":"IF(ISERROR(VLOOKUP($E175,'File 5'!$B:$B,1,FALSE)),\"\",\"ü\")","v":""}]
[null,null,null,null,{"$f":"IF(INDEX(programmer!$T:$T,ROWS(A$1:A163),1)=\"\",\"\",INDEX(programmer!$T:$T,ROWS(A$1:A163),1))","v":""},{"$f":"IF(ISERROR(VLOOKUP($E176,'File 1'!$B:$B,1,FALSE)),\"\",\"ü\")","v":""},{"$f":"IF(ISERROR(VLOOKUP($E176,'File 2'!$B:$B,1,FALSE)),\"\",\"ü\")","v":""},{"$f":"IF(ISERROR(VLOOKUP($E176,'File 3'!$B:$B,1,FALSE)),\"\",\"ü\")","v":""},{"$f":"IF(ISERROR(VLOOKUP($E176,'File 4'!$B:$B,1,FALSE)),\"\",\"ü\")","v":""},{"$f":"IF(ISERROR(VLOOKUP($E176,'File 5'!$B:$B,1,FALSE)),\"\",\"ü\")","v":""}]
[null,null,null,null,{"$f":"IF(INDEX(programmer!$T:$T,ROWS(A$1:A164),1)=\"\",\"\",INDEX(programmer!$T:$T,ROWS(A$1:A164),1))","v":""},{"$f":"IF(ISERROR(VLOOKUP($E177,'File 1'!$B:$B,1,FALSE)),\"\",\"ü\")","v":""},{"$f":"IF(ISERROR(VLOOKUP($E177,'File 2'!$B:$B,1,FALSE)),\"\",\"ü\")","v":""},{"$f":"IF(ISERROR(VLOOKUP($E177,'File 3'!$B:$B,1,FALSE)),\"\",\"ü\")","v":""},{"$f":"IF(ISERROR(VLOOKUP($E177,'File 4'!$B:$B,1,FALSE)),\"\",\"ü\")","v":""},{"$f":"IF(ISERROR(VLOOKUP($E177,'File 5'!$B:$B,1,FALSE)),\"\",\"ü\")","v":""}]
[null,null,null,null,{"$f":"IF(INDEX(programmer!$T:$T,ROWS(A$1:A165),1)=\"\",\"\",INDEX(programmer!$T:$T,ROWS(A$1:A165),1))","v":""},{"$f":"IF(ISERROR(VLOOKUP($E178,'File 1'!$B:$B,1,FALSE)),\"\",\"ü\")","v":""},{"$f":"IF(ISERROR(VLOOKUP($E178,'File 2'!$B:$B,1,FALSE)),\"\",\"ü\")","v":""},{"$f":"IF(ISERROR(VLOOKUP($E178,'File 3'!$B:$B,1,FALSE)),\"\",\"ü\")","v":""},{"$f":"IF(ISERROR(VLOOKUP($E178,'File 4'!$B:$B,1,FALSE)),\"\",\"ü\")","v":""},{"$f":"IF(ISERROR(VLOOKUP($E178,'File 5'!$B:$B,1,FALSE)),\"\",\"ü\")","v":""}]
[null,null,null,null,{"$f":"IF(INDEX(programmer!$T:$T,ROWS(A$1:A166),1)=\"\",\"\",INDEX(programmer!$T:$T,ROWS(A$1:A166),1))","v":""},{"$f":"IF(ISERROR(VLOOKUP($E179,'File 1'!$B:$B,1,FALSE)),\"\",\"ü\")","v":""},{"$f":"IF(ISERROR(VLOOKUP($E179,'File 2'!$B:$B,1,FALSE)),\"\",\"ü\")","v":""},{"$f":"IF(ISERROR(VLOOKUP($E179,'File 3'!$B:$B,1,FALSE)),\"\",\"ü\")","v":""},{"$f":"IF(ISERROR(VLOOKUP($E179,'File 4'!$B:$B,1,FALSE)),\"\",\"ü\")","v":""},{"$f":"IF(ISERROR(VLOOKUP($E179,'File 5'!$B:$B,1,FALSE)),\"\",\"ü\")","v":""}]
[null,null,null,null,{"$f":"IF(INDEX(programmer!$T:$T,ROWS(A$1:A167),1)=\"\",\"\",INDEX(programmer!$T:$T,ROWS(A$1:A167),1))","v":""},{"$f":"IF(ISERROR(VLOOKUP($E180,'File 1'!$B:$B,1,FALSE)),\"\",\"ü\")","v":""},{"$f":"IF(ISERROR(VLOOKUP($E180,'File 2'!$B:$B,1,FALSE)),\"\",\"ü\")","v":""},{"$f":"IF(ISERROR(VLOOKUP($E180,'File 3'!$B:$B,1,FALSE)),\"\",\"ü\")","v":""},{"$f":"IF(ISERROR(VLOOKUP($E180,'File 4'!$B:$B,1,FALSE)),\"\",\"ü\")","v":""},{"$f":"IF(ISERROR(VLOOKUP($E180,'File 5'!$B:$B,1,FALSE)),\"\",\"ü\")","v":""}]
[null,null,null,null,{"$f":"IF(INDEX(programmer!$T:$T,ROWS(A$1:A168),1)=\"\",\"\",INDEX(programmer!$T:$T,ROWS(A$1:A168),1))","v":""},{"$f":"IF(ISERROR(VLOOKUP($E181,'File 1'!$B:$B,1,FALSE)),\"\",\"ü\")","v":""},{"$f":"IF(ISERROR(VLOOKUP($E181,'File 2'!$B:$B,1,FALSE)),\"\",\"ü\")","v":""},{"$f":"IF(ISERROR(VLOOKUP($E181,'File 3'!$B:$B,1,FALSE)),\"\",\"ü\")","v":""},{"$f":"IF(ISERROR(VLOOKUP($E181,'File 4'!$B:$B,1,FALSE)),\"\",\"ü\")","v":""},{"$f":"IF(ISERROR(VLOOKUP($E181,'File 5'!$B:$B,1,FALSE)),\"\",\"ü\")","v":""}]
[null,null,null,null,{"$f":"IF(INDEX(programmer!$T:$T,ROWS(A$1:A169),1)=\"\",\"\",INDEX(programmer!$T:$T,ROWS(A$1:A169),1))","v":""},{"$f":"IF(ISERROR(VLOOKUP($E182,'File 1'!$B:$B,1,FALSE)),\"\",\"ü\")","v":""},{"$f":"IF(ISERROR(VLOOKUP($E182,'File 2'!$B:$B,1,FALSE)),\"\",\"ü\")","v":""},{"$f":"IF(ISERROR(VLOOKUP($E182,'File 3'!$B:$B,1,FALSE)),\"\",\"ü\")","v":""},{"$f":"IF(ISERROR(VLOOKUP($E182,'File 4'!$B:$B,1,FALSE)),\"\",\"ü\")","v":""},{"$f":"IF(ISERROR(VLOOKUP($E182,'File 5'!$B:$B,1,FALSE)),\"\",\"ü\")","v":""}]
[null,null,null,null,{"$f":"IF(INDEX(programmer!$T:$T,ROWS(A$1:A170),1)=\"\",\"\",INDEX(programmer!$T:$T,ROWS(A$1:A170),1))","v":""},{"$f":"IF(ISERROR(VLOOKUP($E183,'File 1'!$B:$B,1,FALSE)),\"\",\"ü\")","v":""},{"$f":"IF(ISERROR(VLOOKUP($E183,'File 2'!$B:$B,1,FALSE)),\"\",\"ü\")","v":""},{"$f":"IF(ISERROR(VLOOKUP($E183,'File 3'!$B:$B,1,FALSE)),\"\",\"ü\")","v":""},{"$f":"IF(ISERROR(VLOOKUP($E183,'File 4'!$B:$B,1,FALSE)),\"\",\"ü\")","v":""},{"$f":"IF(ISERROR(VLOOKUP($E183,'File 5'!$B:$B,1,FALSE)),\"\",\"ü\")","v":""}]
[null,null,null,null,{"$f":"IF(INDEX(programmer!$T:$T,ROWS(A$1:A171),1)=\"\",\"\",INDEX(programmer!$T:$T,ROWS(A$1:A171),1))","v":""},{"$f":"IF(ISERROR(VLOOKUP($E184,'File 1'!$B:$B,1,FALSE)),\"\",\"ü\")","v":""},{"$f":"IF(ISERROR(VLOOKUP($E184,'File 2'!$B:$B,1,FALSE)),\"\",\"ü\")","v":""},{"$f":"IF(ISERROR(VLOOKUP($E184,'File 3'!$B:$B,1,FALSE)),\"\",\"ü\")","v":""},{"$f":"IF(ISERROR(VLOOKUP($E184,'File 4'!$B:$B,1,FALSE)),\"\",\"ü\")","v":""},{"$f":"IF(ISERROR(VLOOKUP($E184,'File 5'!$B:$B,1,FALSE)),\"\",\"ü\")","v":""}]
[null,null,null,null,{"$f":"IF(INDEX(programmer!$T:$T,ROWS(A$1:A172),1)=\"\",\"\",INDEX(programmer!$T:$T,ROWS(A$1:A172),1))","v":""},{"$f":"IF(ISERROR(VLOOKUP($E185,'File 1'!$B:$B,1,FALSE)),\"\",\"ü\")","v":""},{"$f":"IF(ISERROR(VLOOKUP($E185,'File 2'!$B:$B,1,FALSE)),\"\",\"ü\")","v":""},{"$f":"IF(ISERROR(VLOOKUP($E185,'File 3'!$B:$B,1,FALSE)),\"\",\"ü\")","v":""},{"$f":"IF(ISERROR(VLOOKUP($E185,'File 4'!$B:$B,1,FALSE)),\"\",\"ü\")","v":""},{"$f":"IF(ISERROR(VLOOKUP($E185,'File 5'!$B:$B,1,FALSE)),\"\",\"ü\")","v":""}]
[null,null,null,null,{"$f":"IF(INDEX(programmer!$T:$T,ROWS(A$1:A173),1)=\"\",\"\",INDEX(programmer!$T:$T,ROWS(A$1:A173),1))","v":""},{"$f":"IF(ISERROR(VLOOKUP($E186,'File 1'!$B:$B,1,FALSE)),\"\",\"ü\")","v":""},{"$f":"IF(ISERROR(VLOOKUP($E186,'File 2'!$B:$B,1,FALSE)),\"\",\"ü\")","v":""},{"$f":"IF(ISERROR(VLOOKUP($E186,'File 3'!$B:$B,1,FALSE)),\"\",\"ü\")","v":""},{"$f":"IF(ISERROR(VLOOKUP($E186,'File 4'!$B:$B,1,FALSE)),\"\",\"ü\")","v":""},{"$f":"IF(ISERROR(VLOOKUP($E186,'File 5'!$B:$B,1,FALSE)),\"\",\"ü\")","v":""}]
[null,null,null,null,{"$f":"IF(INDEX(programmer!$T:$T,ROWS(A$1:A174),1)=\"\",\"\",INDEX(programmer!$T:$T,ROWS(A$1:A174),1))","v":""},{"$f":"IF(ISERROR(VLOOKUP($E187,'File 1'!$B:$B,1,FALSE)),\"\",\"ü\")","v":""},{"$f":"IF(ISERROR(VLOOKUP($E187,'File 2'!$B:$B,1,FALSE)),\"\",\"ü\")","v":""},{"$f":"IF(ISERROR(VLOOKUP($E187,'File 3'!$B:$B,1,FALSE)),\"\",\"ü\")","v":""},{"$f":"IF(ISERROR(VLOOKUP($E187,'File 4'!$B:$B,1,FALSE)),\"\",\"ü\")","v":""},{"$f":"IF(ISERROR(VLOOKUP($E187,'File 5'!$B:$B,1,FALSE)),\"\",\"ü\")","v":""}]
[null,null,null,null,{"$f":"IF(INDEX(programmer!$T:$T,ROWS(A$1:A175),1)=\"\",\"\",INDEX(programmer!$T:$T,ROWS(A$1:A175),1))","v":""},{"$f":"IF(ISERROR(VLOOKUP($E188,'File 1'!$B:$B,1,FALSE)),\"\",\"ü\")","v":""},{"$f":"IF(ISERROR(VLOOKUP($E188,'File 2'!$B:$B,1,FALSE)),\"\",\"ü\")","v":""},{"$f":"IF(ISERROR(VLOOKUP($E188,'File 3'!$B:$B,1,FALSE)),\"\",\"ü\")","v":""},{"$f":"IF(ISERROR(VLOOKUP($E188,'File 4'!$B:$B,1,FALSE)),\"\",\"ü\")","v":""},{"$f":"IF(ISERROR(VLOOKUP($E188,'File 5'!$B:$B,1,FALSE)),\"\",\"ü\")","v":""}]
[null,null,null,null,{"$f":"IF(INDEX(programmer!$T:$T,ROWS(A$1:A176),1)=\"\",\"\",INDEX(programmer!$T:$T,ROWS(A$1:A176),1))","v":""},{"$f":"IF(ISERROR(VLOOKUP($E189,'File 1'!$B:$B,1,FALSE)),\"\",\"ü\")","v":""},{"$f":"IF(ISERROR(VLOOKUP($E189,'File 2'!$B:$B,1,FALSE)),\"\",\"ü\")","v":""},{"$f":"IF(ISERROR(VLOOKUP($E189,'File 3'!$B:$B,1,FALSE)),\"\",\"ü\")","v":""},{"$f":"IF(ISERROR(VLOOKUP($E189,'File 4'!$B:$B,1,FALSE)),\"\",\"ü\")","v":""},{"$f":"IF(ISERROR(VLOOKUP($E189,'File 5'!$B:$B,1,FALSE)),\"\",\"ü\")","v":""}]
[null,null,null,null,{"$f":"IF(INDEX(programmer!$T:$T,ROWS(A$1:A177),1)=\"\",\"\",INDEX(programmer!$T:$T,ROWS(A$1:A177),1))","v":""},{"$f":"IF(ISERROR(VLOOKUP($E190,'File 1'!$B:$B,1,FALSE)),\"\",\"ü\")","v":""},{"$f":"IF(ISERROR(VLOOKUP($E190,'File 2'!$B:$B,1,FALSE)),\"\",\"ü\")","v":""},{"$f":"IF(ISERROR(VLOOKUP($E190,'File 3'!$B:$B,1,FALSE)),\"\",\"ü\")","v":""},{"$f":"IF(ISERROR(VLOOKUP($E190,'File 4'!$B:$B,1,FALSE)),\"\",\"ü\")","v":""},{"$f":"IF(ISERROR(VLOOKUP($E190,'File 5'!$B:$B,1,FALSE)),\"\",\"ü\")","v":""}]
[null,null,null,null,{"$f":"IF(INDEX(programmer!$T:$T,ROWS(A$1:A178),1)=\"\",\"\",INDEX(programmer!$T:$T,ROWS(A$1:A178),1))","v":""},{"$f":"IF(ISERROR(VLOOKUP($E191,'File 1'!$B:$B,1,FALSE)),\"\",\"ü\")","v":""},{"$f":"IF(ISERROR(VLOOKUP($E191,'File 2'!$B:$B,1,FALSE)),\"\",\"ü\")","v":""},{"$f":"IF(ISERROR(VLOOKUP($E191,'File 3'!$B:$B,1,FALSE)),\"\",\"ü\")","v":""},{"$f":"IF(ISERROR(VLOOKUP($E191,'File 4'!$B:$B,1,FALSE)),\"\",\"ü\")","v":""},{"$f":"IF(ISERROR(VLOOKUP($E191,'File 5'!$B:$B,1,FALSE)),\"\",\"ü\")","v":""}]
[null,null,null,null,{"$f":"IF(INDEX(programmer!$T:$T,ROWS(A$1:A179),1)=\"\",\"\",INDEX(programmer!$T:$T,ROWS(A$1:A179),1))","v":""},{"$f":"IF(ISERROR(VLOOKUP($E192,'File 1'!$B:$B,1,FALSE)),\"\",\"ü\")","v":""},{"$f":"IF(ISERROR(VLOOKUP($E192,'File 2'!$B:$B,1,FALSE)),\"\",\"ü\")","v":""},{"$f":"IF(ISERROR(VLOOKUP($E192,'File 3'!$B:$B,1,FALSE)),\"\",\"ü\")","v":""},{"$f":"IF(ISERROR(VLOOKUP($E192,'File 4'!$B:$B,1,FALSE)),\"\",\"ü\")","v":""},{"$f":"IF(ISERROR(VLOOKUP($E192,'File 5'!$B:$B,1,FALSE)),\"\",\"ü\")","v":""}]
[null,null,null,null,{"$f":"IF(INDEX(programmer!$T:$T,ROWS(A$1:A180),1)=\"\",\"\",INDEX(programmer!$T:$T,ROWS(A$1:A180),1))","v":""},{"$f":"IF(ISERROR(VLOOKUP($E193,'File 1'!$B:$B,1,FALSE)),\"\",\"ü\")","v":""},{"$f":"IF(ISERROR(VLOOKUP($E193,'File 2'!$B:$B,1,FALSE)),\"\",\"ü\")","v":""},{"$f":"IF(ISERROR(VLOOKUP($E193,'File 3'!$B:$B,1,FALSE)),\"\",\"ü\")","v":""},{"$f":"IF(ISERROR(VLOOKUP($E193,'File 4'!$B:$B,1,FALSE)),\"\",\"ü\")","v":""},{"$f":"IF(ISERROR(VLOOKUP($E193,'File 5'!$B:$B,1,FALSE)),\"\",\"ü\")","v":""}]
[null,null,null,null,{"$f":"IF(INDEX(programmer!$T:$T,ROWS(A$1:A181),1)=\"\",\"\",INDEX(programmer!$T:$T,ROWS(A$1:A181),1))","v":""},{"$f":"IF(ISERROR(VLOOKUP($E194,'File 1'!$B:$B,1,FALSE)),\"\",\"ü\")","v":""},{"$f":"IF(ISERROR(VLOOKUP($E194,'File 2'!$B:$B,1,FALSE)),\"\",\"ü\")","v":""},{"$f":"IF(ISERROR(VLOOKUP($E194,'File 3'!$B:$B,1,FALSE)),\"\",\"ü\")","v":""},{"$f":"IF(ISERROR(VLOOKUP($E194,'File 4'!$B:$B,1,FALSE)),\"\",\"ü\")","v":""},{"$f":"IF(ISERROR(VLOOKUP($E194,'File 5'!$B:$B,1,FALSE)),\"\",\"ü\")","v":""}]
[null,null,null,null,{"$f":"IF(INDEX(programmer!$T:$T,ROWS(A$1:A182),1)=\"\",\"\",INDEX(programmer!$T:$T,ROWS(A$1:A182),1))","v":""},{"$f":"IF(ISERROR(VLOOKUP($E195,'File 1'!$B:$B,1,FALSE)),\"\",\"ü\")","v":""},{"$f":"IF(ISERROR(VLOOKUP($E195,'File 2'!$B:$B,1,FALSE)),\"\",\"ü\")","v":""},{"$f":"IF(ISERROR(VLOOKUP($E195,'File 3'!$B:$B,1,FALSE)),\"\",\"ü\")","v":""},{"$f":"IF(ISERROR(VLOOKUP($E195,'File 4'!$B:$B,1,FALSE)),\"\",\"ü\")","v":""},{"$f":"IF(ISERROR(VLOOKUP($E195,'File 5'!$B:$B,1,FALSE)),\"\",\"ü\")","v":""}]
[null,null,null,null,{"$f":"IF(INDEX(programmer!$T:$T,ROWS(A$1:A183),1)=\"\",\"\",INDEX(programmer!$T:$T,ROWS(A$1:A183),1))","v":""},{"$f":"IF(ISERROR(VLOOKUP($E196,'File 1'!$B:$B,1,FALSE)),\"\",\"ü\")","v":""},{"$f":"IF(ISERROR(VLOOKUP($E196,'File 2'!$B:$B,1,FALSE)),\"\",\"ü\")","v":""},{"$f":"IF(ISERROR(VLOOKUP($E196,'File 3'!$B:$B,1,FALSE)),\"\",\"ü\")","v":""},{"$f":"IF(ISERROR(VLOOKUP($E196,'File 4'!$B:$B,1,FALSE)),\"\",\"ü\")","v":""},{"$f":"IF(ISERROR(VLOOKUP($E196,'File 5'!$B:$B,1,FALSE)),\"\",\"ü\")","v":""}]
[null,null,null,null,{"$f":"IF(INDEX(programmer!$T:$T,ROWS(A$1:A184),1)=\"\",\"\",INDEX(programmer!$T:$T,ROWS(A$1:A184),1))","v":""},{"$f":"IF(ISERROR(VLOOKUP($E197,'File 1'!$B:$B,1,FALSE)),\"\",\"ü\")","v":""},{"$f":"IF(ISERROR(VLOOKUP($E197,'File 2'!$B:$B,1,FALSE)),\"\",\"ü\")","v":""},{"$f":"IF(ISERROR(VLOOKUP($E197,'File 3'!$B:$B,1,FALSE)),\"\",\"ü\")","v":""},{"$f":"IF(ISERROR(VLOOKUP($E197,'File 4'!$B:$B,1,FALSE)),\"\",\"ü\")","v":""},{"$f":"IF(ISERROR(VLOOKUP($E197,'File 5'!$B:$B,1,FALSE)),\"\",\"ü\")","v":""}]
[null,null,null,null,{"$f":"IF(INDEX(programmer!$T:$T,ROWS(A$1:A185),1)=\"\",\"\",INDEX(programmer!$T:$T,ROWS(A$1:A185),1))","v":""},{"$f":"IF(ISERROR(VLOOKUP($E198,'File 1'!$B:$B,1,FALSE)),\"\",\"ü\")","v":""},{"$f":"IF(ISERROR(VLOOKUP($E198,'File 2'!$B:$B,1,FALSE)),\"\",\"ü\")","v":""},{"$f":"IF(ISERROR(VLOOKUP($E198,'File 3'!$B:$B,1,FALSE)),\"\",\"ü\")","v":""},{"$f":"IF(ISERROR(VLOOKUP($E198,'File 4'!$B:$B,1,FALSE)),\"\",\"ü\")","v":""},{"$f":"IF(ISERROR(VLOOKUP($E198,'File 5'!$B:$B,1,FALSE)),\"\",\"ü\")","v":""}]
[null,null,null,null,{"$f":"IF(INDEX(programmer!$T:$T,ROWS(A$1:A186),1)=\"\",\"\",INDEX(programmer!$T:$T,ROWS(A$1:A186),1))","v":""},{"$f":"IF(ISERROR(VLOOKUP($E199,'File 1'!$B:$B,1,FALSE)),\"\",\"ü\")","v":""},{"$f":"IF(ISERROR(VLOOKUP($E199,'File 2'!$B:$B,1,FALSE)),\"\",\"ü\")","v":""},{"$f":"IF(ISERROR(VLOOKUP($E199,'File 3'!$B:$B,1,FALSE)),\"\",\"ü\")","v":""},{"$f":"IF(ISERROR(VLOOKUP($E199,'File 4'!$B:$B,1,FALSE)),\"\",\"ü\")","v":""},{"$f":"IF(ISERROR(VLOOKUP($E199,'File 5'!$B:$B,1,FALSE)),\"\",\"ü\")","v":""}]
[null,null,null,null,{"$f":"IF(INDEX(programmer!$T:$T,ROWS(A$1:A187),1)=\"\",\"\",INDEX(programmer!$T:$T,ROWS(A$1:A187),1))","v":""},{"$f":"IF(ISERROR(VLOOKUP($E200,'File 1'!$B:$B,1,FALSE)),\"\",\"ü\")","v":""},{"$f":"IF(ISERROR(VLOOKUP($E200,'File 2'!$B:$B,1,FALSE)),\"\",\"ü\")","v":""},{"$f":"IF(ISERROR(VLOOKUP($E200,'File 3'!$B:$B,1,FALSE)),\"\",\"ü\")","v":""},{"$f":"IF(ISERROR(VLOOKUP($E200,'File 4'!$B:$B,1,FALSE)),\"\",\"ü\")","v":""},{"$f":"IF(ISERROR(VLOOKUP($E200,'File 5'!$B:$B,1,FALSE)),\"\",\"ü\")","v":""}]
[null,null,null,null,{"$f":"IF(INDEX(programmer!$T:$T,ROWS(A$1:A188),1)=\"\",\"\",INDEX(programmer!$T:$T,ROWS(A$1:A188),1))","v":""},{"$f":"IF(ISERROR(VLOOKUP($E201,'File 1'!$B:$B,1,FALSE)),\"\",\"ü\")","v":""},{"$f":"IF(ISERROR(VLOOKUP($E201,'File 2'!$B:$B,1,FALSE)),\"\",\"ü\")","v":""},{"$f":"IF(ISERROR(VLOOKUP($E201,'File 3'!$B:$B,1,FALSE)),\"\",\"ü\")","v":""},{"$f":"IF(ISERROR(VLOOKUP($E201,'File 4'!$B:$B,1,FALSE)),\"\",\"ü\")","v":""},{"$f":"IF(ISERROR(VLOOKUP($E201,'File 5'!$B:$B,1,FALSE)),\"\",\"ü\")","v":""}]
[null,null,null,null,{"$f":"IF(INDEX(programmer!$T:$T,ROWS(A$1:A189),1)=\"\",\"\",INDEX(programmer!$T:$T,ROWS(A$1:A189),1))","v":""},{"$f":"IF(ISERROR(VLOOKUP($E202,'File 1'!$B:$B,1,FALSE)),\"\",\"ü\")","v":""},{"$f":"IF(ISERROR(VLOOKUP($E202,'File 2'!$B:$B,1,FALSE)),\"\",\"ü\")","v":""},{"$f":"IF(ISERROR(VLOOKUP($E202,'File 3'!$B:$B,1,FALSE)),\"\",\"ü\")","v":""},{"$f":"IF(ISERROR(VLOOKUP($E202,'File 4'!$B:$B,1,FALSE)),\"\",\"ü\")","v":""},{"$f":"IF(ISERROR(VLOOKUP($E202,'File 5'!$B:$B,1,FALSE)),\"\",\"ü\")","v":""}]
[null,null,null,null,{"$f":"IF(INDEX(programmer!$T:$T,ROWS(A$1:A190),1)=\"\",\"\",INDEX(programmer!$T:$T,ROWS(A$1:A190),1))","v":""},{"$f":"IF(ISERROR(VLOOKUP($E203,'File 1'!$B:$B,1,FALSE)),\"\",\"ü\")","v":""},{"$f":"IF(ISERROR(VLOOKUP($E203,'File 2'!$B:$B,1,FALSE)),\"\",\"ü\")","v":""},{"$f":"IF(ISERROR(VLOOKUP($E203,'File 3'!$B:$B,1,FALSE)),\"\",\"ü\")","v":""},{"$f":"IF(ISERROR(VLOOKUP($E203,'File 4'!$B:$B,1,FALSE)),\"\",\"ü\")","v":""},{"$f":"IF(ISERROR(VLOOKUP($E203,'File 5'!$B:$B,1,FALSE)),\"\",\"ü\")","v":""}]
[null,null,null,null,{"$f":"IF(INDEX(programmer!$T:$T,ROWS(A$1:A191),1)=\"\",\"\",INDEX(programmer!$T:$T,ROWS(A$1:A191),1))","v":""},{"$f":"IF(ISERROR(VLOOKUP($E204,'File 1'!$B:$B,1,FALSE)),\"\",\"ü\")","v":""},{"$f":"IF(ISERROR(VLOOKUP($E204,'File 2'!$B:$B,1,FALSE)),\"\",\"ü\")","v":""},{"$f":"IF(ISERROR(VLOOKUP($E204,'File 3'!$B:$B,1,FALSE)),\"\",\"ü\")","v":""},{"$f":"IF(ISERROR(VLOOKUP($E204,'File 4'!$B:$B,1,FALSE)),\"\",\"ü\")","v":""},{"$f":"IF(ISERROR(VLOOKUP($E204,'File 5'!$B:$B,1,FALSE)),\"\",\"ü\")","v":""}]
[null,null,null,null,{"$f":"IF(INDEX(programmer!$T:$T,ROWS(A$1:A192),1)=\"\",\"\",INDEX(programmer!$T:$T,ROWS(A$1:A192),1))","v":""},{"$f":"IF(ISERROR(VLOOKUP($E205,'File 1'!$B:$B,1,FALSE)),\"\",\"ü\")","v":""},{"$f":"IF(ISERROR(VLOOKUP($E205,'File 2'!$B:$B,1,FALSE)),\"\",\"ü\")","v":""},{"$f":"IF(ISERROR(VLOOKUP($E205,'File 3'!$B:$B,1,FALSE)),\"\",\"ü\")","v":""},{"$f":"IF(ISERROR(VLOOKUP($E205,'File 4'!$B:$B,1,FALSE)),\"\",\"ü\")","v":""},{"$f":"IF(ISERROR(VLOOKUP($E205,'File 5'!$B:$B,1,FALSE)),\"\",\"ü\")","v":""}]
[null,null,null,null,{"$f":"IF(INDEX(programmer!$T:$T,ROWS(A$1:A193),1)=\"\",\"\",INDEX(programmer!$T:$T,ROWS(A$1:A193),1))","v":""},{"$f":"IF(ISERROR(VLOOKUP($E206,'File 1'!$B:$B,1,FALSE)),\"\",\"ü\")","v":""},{"$f":"IF(ISERROR(VLOOKUP($E206,'File 2'!$B:$B,1,FALSE)),\"\",\"ü\")","v":""},{"$f":"IF(ISERROR(VLOOKUP($E206,'File 3'!$B:$B,1,FALSE)),\"\",\"ü\")","v":""},{"$f":"IF(ISERROR(VLOOKUP($E206,'File 4'!$B:$B,1,FALSE)),\"\",\"ü\")","v":""},{"$f":"IF(ISERROR(VLOOKUP($E206,'File 5'!$B:$B,1,FALSE)),\"\",\"ü\")","v":""}]
[null,null,null,null,{"$f":"IF(INDEX(programmer!$T:$T,ROWS(A$1:A194),1)=\"\",\"\",INDEX(programmer!$T:$T,ROWS(A$1:A194),1))","v":""},{"$f":"IF(ISERROR(VLOOKUP($E207,'File 1'!$B:$B,1,FALSE)),\"\",\"ü\")","v":""},{"$f":"IF(ISERROR(VLOOKUP($E207,'File 2'!$B:$B,1,FALSE)),\"\",\"ü\")","v":""},{"$f":"IF(ISERROR(VLOOKUP($E207,'File 3'!$B:$B,1,FALSE)),\"\",\"ü\")","v":""},{"$f":"IF(ISERROR(VLOOKUP($E207,'File 4'!$B:$B,1,FALSE)),\"\",\"ü\")","v":""},{"$f":"IF(ISERROR(VLOOKUP($E207,'File 5'!$B:$B,1,FALSE)),\"\",\"ü\")","v":""}]
[null,null,null,null,{"$f":"IF(INDEX(programmer!$T:$T,ROWS(A$1:A195),1)=\"\",\"\",INDEX(programmer!$T:$T,ROWS(A$1:A195),1))","v":""},{"$f":"IF(ISERROR(VLOOKUP($E208,'File 1'!$B:$B,1,FALSE)),\"\",\"ü\")","v":""},{"$f":"IF(ISERROR(VLOOKUP($E208,'File 2'!$B:$B,1,FALSE)),\"\",\"ü\")","v":""},{"$f":"IF(ISERROR(VLOOKUP($E208,'File 3'!$B:$B,1,FALSE)),\"\",\"ü\")","v":""},{"$f":"IF(ISERROR(VLOOKUP($E208,'File 4'!$B:$B,1,FALSE)),\"\",\"ü\")","v":""},{"$f":"IF(ISERROR(VLOOKUP($E208,'File 5'!$B:$B,1,FALSE)),\"\",\"ü\")","v":""}]
[null,null,null,null,{"$f":"IF(INDEX(programmer!$T:$T,ROWS(A$1:A196),1)=\"\",\"\",INDEX(programmer!$T:$T,ROWS(A$1:A196),1))","v":""},{"$f":"IF(ISERROR(VLOOKUP($E209,'File 1'!$B:$B,1,FALSE)),\"\",\"ü\")","v":""},{"$f":"IF(ISERROR(VLOOKUP($E209,'File 2'!$B:$B,1,FALSE)),\"\",\"ü\")","v":""},{"$f":"IF(ISERROR(VLOOKUP($E209,'File 3'!$B:$B,1,FALSE)),\"\",\"ü\")","v":""},{"$f":"IF(ISERROR(VLOOKUP($E209,'File 4'!$B:$B,1,FALSE)),\"\",\"ü\")","v":""},{"$f":"IF(ISERROR(VLOOKUP($E209,'File 5'!$B:$B,1,FALSE)),\"\",\"ü\")","v":""}]
[null,null,null,null,{"$f":"IF(INDEX(programmer!$T:$T,ROWS(A$1:A197),1)=\"\",\"\",INDEX(programmer!$T:$T,ROWS(A$1:A197),1))","v":""},{"$f":"IF(ISERROR(VLOOKUP($E210,'File 1'!$B:$B,1,FALSE)),\"\",\"ü\")","v":""},{"$f":"IF(ISERROR(VLOOKUP($E210,'File 2'!$B:$B,1,FALSE)),\"\",\"ü\")","v":""},{"$f":"IF(ISERROR(VLOOKUP($E210,'File 3'!$B:$B,1,FALSE)),\"\",\"ü\")","v":""},{"$f":"IF(ISERROR(VLOOKUP($E210,'File 4'!$B:$B,1,FALSE)),\"\",\"ü\")","v":""},{"$f":"IF(ISERROR(VLOOKUP($E210,'File 5'!$B:$B,1,FALSE)),\"\",\"ü\")","v":""}]
[null,null,null,null,{"$f":"IF(INDEX(programmer!$T:$T,ROWS(A$1:A198),1)=\"\",\"\",INDEX(programmer!$T:$T,ROWS(A$1:A198),1))","v":""},{"$f":"IF(ISERROR(VLOOKUP($E211,'File 1'!$B:$B,1,FALSE)),\"\",\"ü\")","v":""},{"$f":"IF(ISERROR(VLOOKUP($E211,'File 2'!$B:$B,1,FALSE)),\"\",\"ü\")","v":""},{"$f":"IF(ISERROR(VLOOKUP($E211,'File 3'!$B:$B,1,FALSE)),\"\",\"ü\")","v":""},{"$f":"IF(ISERROR(VLOOKUP($E211,'File 4'!$B:$B,1,FALSE)),\"\",\"ü\")","v":""},{"$f":"IF(ISERROR(VLOOKUP($E211,'File 5'!$B:$B,1,FALSE)),\"\",\"ü\")","v":""}]
[null,null,null,null,{"$f":"IF(INDEX(programmer!$T:$T,ROWS(A$1:A199),1)=\"\",\"\",INDEX(programmer!$T:$T,ROWS(A$1:A199),1))","v":""},{"$f":"IF(ISERROR(VLOOKUP($E212,'File 1'!$B:$B,1,FALSE)),\"\",\"ü\")","v":""},{"$f":"IF(ISERROR(VLOOKUP($E212,'File 2'!$B:$B,1,FALSE)),\"\",\"ü\")","v":""},{"$f":"IF(ISERROR(VLOOKUP($E212,'File 3'!$B:$B,1,FALSE)),\"\",\"ü\")","v":""},{"$f":"IF(ISERROR(VLOOKUP($E212,'File 4'!$B:$B,1,FALSE)),\"\",\"ü\")","v":""},{"$f":"IF(ISERROR(VLOOKUP($E212,'File 5'!$B:$B,1,FALSE)),\"\",\"ü\")","v":""}]
[null,null,null,null,{"$f":"IF(INDEX(programmer!$T:$T,ROWS(A$1:A200),1)=\"\",\"\",INDEX(programmer!$T:$T,ROWS(A$1:A200),1))","v":""},{"$f":"IF(ISERROR(VLOOKUP($E213,'File 1'!$B:$B,1,FALSE)),\"\",\"ü\")","v":""},{"$f":"IF(ISERROR(VLOOKUP($E213,'File 2'!$B:$B,1,FALSE)),\"\",\"ü\")","v":""},{"$f":"IF(ISERROR(VLOOKUP($E213,'File 3'!$B:$B,1,FALSE)),\"\",\"ü\")","v":""},{"$f":"IF(ISERROR(VLOOKUP($E213,'File 4'!$B:$B,1,FALSE)),\"\",\"ü\")","v":""},{"$f":"IF(ISERROR(VLOOKUP($E213,'File 5'!$B:$B,1,FALSE)),\"\",\"ü\")","v":""}]
[null,null,null,null,{"$f":"IF(INDEX(programmer!$T:$T,ROWS(A$1:A201),1)=\"\",\"\",INDEX(programmer!$T:$T,ROWS(A$1:A201),1))","v":""},{"$f":"IF(ISERROR(VLOOKUP($E214,'File 1'!$B:$B,1,FALSE)),\"\",\"ü\")","v":""},{"$f":"IF(ISERROR(VLOOKUP($E214,'File 2'!$B:$B,1,FALSE)),\"\",\"ü\")","v":""},{"$f":"IF(ISERROR(VLOOKUP($E214,'File 3'!$B:$B,1,FALSE)),\"\",\"ü\")","v":""},{"$f":"IF(ISERROR(VLOOKUP($E214,'File 4'!$B:$B,1,FALSE)),\"\",\"ü\")","v":""},{"$f":"IF(ISERROR(VLOOKUP($E214,'File 5'!$B:$B,1,FALSE)),\"\",\"ü\")","v":""}]
[null,null,null,null,{"$f":"IF(INDEX(programmer!$T:$T,ROWS(A$1:A202),1)=\"\",\"\",INDEX(programmer!$T:$T,ROWS(A$1:A202),1))","v":""},{"$f":"IF(ISERROR(VLOOKUP($E215,'File 1'!$B:$B,1,FALSE)),\"\",\"ü\")","v":""},{"$f":"IF(ISERROR(VLOOKUP($E215,'File 2'!$B:$B,1,FALSE)),\"\",\"ü\")","v":""},{"$f":"IF(ISERROR(VLOOKUP($E215,'File 3'!$B:$B,1,FALSE)),\"\",\"ü\")","v":""},{"$f":"IF(ISERROR(VLOOKUP($E215,'File 4'!$B:$B,1,FALSE)),\"\",\"ü\")","v":""},{"$f":"IF(ISERROR(VLOOKUP($E215,'File 5'!$B:$B,1,FALSE)),\"\",\"ü\")","v":""}]
[null,null,null,null,{"$f":"IF(INDEX(programmer!$T:$T,ROWS(A$1:A203),1)=\"\",\"\",INDEX(programmer!$T:$T,ROWS(A$1:A203),1))","v":""},{"$f":"IF(ISERROR(VLOOKUP($E216,'File 1'!$B:$B,1,FALSE)),\"\",\"ü\")","v":""},{"$f":"IF(ISERROR(VLOOKUP($E216,'File 2'!$B:$B,1,FALSE)),\"\",\"ü\")","v":""},{"$f":"IF(ISERROR(VLOOKUP($E216,'File 3'!$B:$B,1,FALSE)),\"\",\"ü\")","v":""},{"$f":"IF(ISERROR(VLOOKUP($E216,'File 4'!$B:$B,1,FALSE)),\"\",\"ü\")","v":""},{"$f":"IF(ISERROR(VLOOKUP($E216,'File 5'!$B:$B,1,FALSE)),\"\",\"ü\")","v":""}]
[null,null,null,null,{"$f":"IF(INDEX(programmer!$T:$T,ROWS(A$1:A204),1)=\"\",\"\",INDEX(programmer!$T:$T,ROWS(A$1:A204),1))","v":""},{"$f":"IF(ISERROR(VLOOKUP($E217,'File 1'!$B:$B,1,FALSE)),\"\",\"ü\")","v":""},{"$f":"IF(ISERROR(VLOOKUP($E217,'File 2'!$B:$B,1,FALSE)),\"\",\"ü\")","v":""},{"$f":"IF(ISERROR(VLOOKUP($E217,'File 3'!$B:$B,1,FALSE)),\"\",\"ü\")","v":""},{"$f":"IF(ISERROR(VLOOKUP($E217,'File 4'!$B:$B,1,FALSE)),\"\",\"ü\")","v":""},{"$f":"IF(ISERROR(VLOOKUP($E217,'File 5'!$B:$B,1,FALSE)),\"\",\"ü\")","v":""}]
[null,null,null,null,{"$f":"IF(INDEX(programmer!$T:$T,ROWS(A$1:A205),1)=\"\",\"\",INDEX(programmer!$T:$T,ROWS(A$1:A205),1))","v":""},{"$f":"IF(ISERROR(VLOOKUP($E218,'File 1'!$B:$B,1,FALSE)),\"\",\"ü\")","v":""},{"$f":"IF(ISERROR(VLOOKUP($E218,'File 2'!$B:$B,1,FALSE)),\"\",\"ü\")","v":""},{"$f":"IF(ISERROR(VLOOKUP($E218,'File 3'!$B:$B,1,FALSE)),\"\",\"ü\")","v":""},{"$f":"IF(ISERROR(VLOOKUP($E218,'File 4'!$B:$B,1,FALSE)),\"\",\"ü\")","v":""},{"$f":"IF(ISERROR(VLOOKUP($E218,'File 5'!$B:$B,1,FALSE)),\"\",\"ü\")","v":""}]
[null,null,null,null,{"$f":"IF(INDEX(programmer!$T:$T,ROWS(A$1:A206),1)=\"\",\"\",INDEX(programmer!$T:$T,ROWS(A$1:A206),1))","v":""},{"$f":"IF(ISERROR(VLOOKUP($E219,'File 1'!$B:$B,1,FALSE)),\"\",\"ü\")","v":""},{"$f":"IF(ISERROR(VLOOKUP($E219,'File 2'!$B:$B,1,FALSE)),\"\",\"ü\")","v":""},{"$f":"IF(ISERROR(VLOOKUP($E219,'File 3'!$B:$B,1,FALSE)),\"\",\"ü\")","v":""},{"$f":"IF(ISERROR(VLOOKUP($E219,'File 4'!$B:$B,1,FALSE)),\"\",\"ü\")","v":""},{"$f":"IF(ISERROR(VLOOKUP($E219,'File 5'!$B:$B,1,FALSE)),\"\",\"ü\")","v":""}]
[null,null,null,null,{"$f":"IF(INDEX(programmer!$T:$T,ROWS(A$1:A207),1)=\"\",\"\",INDEX(programmer!$T:$T,ROWS(A$1:A207),1))","v":""},{"$f":"IF(ISERROR(VLOOKUP($E220,'File 1'!$B:$B,1,FALSE)),\"\",\"ü\")","v":""},{"$f":"IF(ISERROR(VLOOKUP($E220,'File 2'!$B:$B,1,FALSE)),\"\",\"ü\")","v":""},{"$f":"IF(ISERROR(VLOOKUP($E220,'File 3'!$B:$B,1,FALSE)),\"\",\"ü\")","v":""},{"$f":"IF(ISERROR(VLOOKUP($E220,'File 4'!$B:$B,1,FALSE)),\"\",\"ü\")","v":""},{"$f":"IF(ISERROR(VLOOKUP($E220,'File 5'!$B:$B,1,FALSE)),\"\",\"ü\")","v":""}]
[null,null,null,null,{"$f":"IF(INDEX(programmer!$T:$T,ROWS(A$1:A208),1)=\"\",\"\",INDEX(programmer!$T:$T,ROWS(A$1:A208),1))","v":""},{"$f":"IF(ISERROR(VLOOKUP($E221,'File 1'!$B:$B,1,FALSE)),\"\",\"ü\")","v":""},{"$f":"IF(ISERROR(VLOOKUP($E221,'File 2'!$B:$B,1,FALSE)),\"\",\"ü\")","v":""},{"$f":"IF(ISERROR(VLOOKUP($E221,'File 3'!$B:$B,1,FALSE)),\"\",\"ü\")","v":""},{"$f":"IF(ISERROR(VLOOKUP($E221,'File 4'!$B:$B,1,FALSE)),\"\",\"ü\")","v":""},{"$f":"IF(ISERROR(VLOOKUP($E221,'File 5'!$B:$B,1,FALSE)),\"\",\"ü\")","v":""}]
[null,null,null,null,{"$f":"IF(INDEX(programmer!$T:$T,ROWS(A$1:A209),1)=\"\",\"\",INDEX(programmer!$T:$T,ROWS(A$1:A209),1))","v":""},{"$f":"IF(ISERROR(VLOOKUP($E222,'File 1'!$B:$B,1,FALSE)),\"\",\"ü\")","v":""},{"$f":"IF(ISERROR(VLOOKUP($E222,'File 2'!$B:$B,1,FALSE)),\"\",\"ü\")","v":""},{"$f":"IF(ISERROR(VLOOKUP($E222,'File 3'!$B:$B,1,FALSE)),\"\",\"ü\")","v":""},{"$f":"IF(ISERROR(VLOOKUP($E222,'File 4'!$B:$B,1,FALSE)),\"\",\"ü\")","v":""},{"$f":"IF(ISERROR(VLOOKUP($E222,'File 5'!$B:$B,1,FALSE)),\"\",\"ü\")","v":""}]
[null,null,null,null,{"$f":"IF(INDEX(programmer!$T:$T,ROWS(A$1:A210),1)=\"\",\"\",INDEX(programmer!$T:$T,ROWS(A$1:A210),1))","v":""},{"$f":"IF(ISERROR(VLOOKUP($E223,'File 1'!$B:$B,1,FALSE)),\"\",\"ü\")","v":""},{"$f":"IF(ISERROR(VLOOKUP($E223,'File 2'!$B:$B,1,FALSE)),\"\",\"ü\")","v":""},{"$f":"IF(ISERROR(VLOOKUP($E223,'File 3'!$B:$B,1,FALSE)),\"\",\"ü\")","v":""},{"$f":"IF(ISERROR(VLOOKUP($E223,'File 4'!$B:$B,1,FALSE)),\"\",\"ü\")","v":""},{"$f":"IF(ISERROR(VLOOKUP($E223,'File 5'!$B:$B,1,FALSE)),\"\",\"ü\")","v":""}]
[null,null,null,null,{"$f":"IF(INDEX(programmer!$T:$T,ROWS(A$1:A211),1)=\"\",\"\",INDEX(programmer!$T:$T,ROWS(A$1:A211),1))","v":""},{"$f":"IF(ISERROR(VLOOKUP($E224,'File 1'!$B:$B,1,FALSE)),\"\",\"ü\")","v":""},{"$f":"IF(ISERROR(VLOOKUP($E224,'File 2'!$B:$B,1,FALSE)),\"\",\"ü\")","v":""},{"$f":"IF(ISERROR(VLOOKUP($E224,'File 3'!$B:$B,1,FALSE)),\"\",\"ü\")","v":""},{"$f":"IF(ISERROR(VLOOKUP($E224,'File 4'!$B:$B,1,FALSE)),\"\",\"ü\")","v":""},{"$f":"IF(ISERROR(VLOOKUP($E224,'File 5'!$B:$B,1,FALSE)),\"\",\"ü\")","v":""}]
[null,null,null,null,{"$f":"IF(INDEX(programmer!$T:$T,ROWS(A$1:A212),1)=\"\",\"\",INDEX(programmer!$T:$T,ROWS(A$1:A212),1))","v":""},{"$f":"IF(ISERROR(VLOOKUP($E225,'File 1'!$B:$B,1,FALSE)),\"\",\"ü\")","v":""},{"$f":"IF(ISERROR(VLOOKUP($E225,'File 2'!$B:$B,1,FALSE)),\"\",\"ü\")","v":""},{"$f":"IF(ISERROR(VLOOKUP($E225,'File 3'!$B:$B,1,FALSE)),\"\",\"ü\")","v":""},{"$f":"IF(ISERROR(VLOOKUP($E225,'File 4'!$B:$B,1,FALSE)),\"\",\"ü\")","v":""},{"$f":"IF(ISERROR(VLOOKUP($E225,'File 5'!$B:$B,1,FALSE)),\"\",\"ü\")","v":""}]
[null,null,null,null,{"$f":"IF(INDEX(programmer!$T:$T,ROWS(A$1:A213),1)=\"\",\"\",INDEX(programmer!$T:$T,ROWS(A$1:A213),1))","v":""},{"$f":"IF(ISERROR(VLOOKUP($E226,'File 1'!$B:$B,1,FALSE)),\"\",\"ü\")","v":""},{"$f":"IF(ISERROR(VLOOKUP($E226,'File 2'!$B:$B,1,FALSE)),\"\",\"ü\")","v":""},{"$f":"IF(ISERROR(VLOOKUP($E226,'File 3'!$B:$B,1,FALSE)),\"\",\"ü\")","v":""},{"$f":"IF(ISERROR(VLOOKUP($E226,'File 4'!$B:$B,1,FALSE)),\"\",\"ü\")","v":""},{"$f":"IF(ISERROR(VLOOKUP($E226,'File 5'!$B:$B,1,FALSE)),\"\",\"ü\")","v":""}]
[null,null,null,null,{"$f":"IF(INDEX(programmer!$T:$T,ROWS(A$1:A214),1)=\"\",\"\",INDEX(programmer!$T:$T,ROWS(A$1:A214),1))","v":""},{"$f":"IF(ISERROR(VLOOKUP($E227,'File 1'!$B:$B,1,FALSE)),\"\",\"ü\")","v":""},{"$f":"IF(ISERROR(VLOOKUP($E227,'File 2'!$B:$B,1,FALSE)),\"\",\"ü\")","v":""},{"$f":"IF(ISERROR(VLOOKUP($E227,'File 3'!$B:$B,1,FALSE)),\"\",\"ü\")","v":""},{"$f":"IF(ISERROR(VLOOKUP($E227,'File 4'!$B:$B,1,FALSE)),\"\",\"ü\")","v":""},{"$f":"IF(ISERROR(VLOOKUP($E227,'File 5'!$B:$B,1,FALSE)),\"\",\"ü\")","v":""}]
[null,null,null,null,{"$f":"IF(INDEX(programmer!$T:$T,ROWS(A$1:A215),1)=\"\",\"\",INDEX(programmer!$T:$T,ROWS(A$1:A215),1))","v":""},{"$f":"IF(ISERROR(VLOOKUP($E228,'File 1'!$B:$B,1,FALSE)),\"\",\"ü\")","v":""},{"$f":"IF(ISERROR(VLOOKUP($E228,'File 2'!$B:$B,1,FALSE)),\"\",\"ü\")","v":""},{"$f":"IF(ISERROR(VLOOKUP($E228,'File 3'!$B:$B,1,FALSE)),\"\",\"ü\")","v":""},{"$f":"IF(ISERROR(VLOOKUP($E228,'File 4'!$B:$B,1,FALSE)),\"\",\"ü\")","v":""},{"$f":"IF(ISERROR(VLOOKUP($E228,'File 5'!$B:$B,1,FALSE)),\"\",\"ü\")","v":""}]
[null,null,null,null,{"$f":"IF(INDEX(programmer!$T:$T,ROWS(A$1:A216),1)=\"\",\"\",INDEX(programmer!$T:$T,ROWS(A$1:A216),1))","v":""},{"$f":"IF(ISERROR(VLOOKUP($E229,'File 1'!$B:$B,1,FALSE)),\"\",\"ü\")","v":""},{"$f":"IF(ISERROR(VLOOKUP($E229,'File 2'!$B:$B,1,FALSE)),\"\",\"ü\")","v":""},{"$f":"IF(ISERROR(VLOOKUP($E229,'File 3'!$B:$B,1,FALSE)),\"\",\"ü\")","v":""},{"$f":"IF(ISERROR(VLOOKUP($E229,'File 4'!$B:$B,1,FALSE)),\"\",\"ü\")","v":""},{"$f":"IF(ISERROR(VLOOKUP($E229,'File 5'!$B:$B,1,FALSE)),\"\",\"ü\")","v":""}]
[null,null,null,null,{"$f":"IF(INDEX(programmer!$T:$T,ROWS(A$1:A217),1)=\"\",\"\",INDEX(programmer!$T:$T,ROWS(A$1:A217),1))","v":""},{"$f":"IF(ISERROR(VLOOKUP($E230,'File 1'!$B:$B,1,FALSE)),\"\",\"ü\")","v":""},{"$f":"IF(ISERROR(VLOOKUP($E230,'File 2'!$B:$B,1,FALSE)),\"\",\"ü\")","v":""},{"$f":"IF(ISERROR(VLOOKUP($E230,'File 3'!$B:$B,1,FALSE)),\"\",\"ü\")","v":""},{"$f":"IF(ISERROR(VLOOKUP($E230,'File 4'!$B:$B,1,FALSE)),\"\",\"ü\")","v":""},{"$f":"IF(ISERROR(VLOOKUP($E230,'File 5'!$B:$B,1,FALSE)),\"\",\"ü\")","v":""}]
[null,null,null,null,{"$f":"IF(INDEX(programmer!$T:$T,ROWS(A$1:A218),1)=\"\",\"\",INDEX(programmer!$T:$T,ROWS(A$1:A218),1))","v":""},{"$f":"IF(ISERROR(VLOOKUP($E231,'File 1'!$B:$B,1,FALSE)),\"\",\"ü\")","v":""},{"$f":"IF(ISERROR(VLOOKUP($E231,'File 2'!$B:$B,1,FALSE)),\"\",\"ü\")","v":""},{"$f":"IF(ISERROR(VLOOKUP($E231,'File 3'!$B:$B,1,FALSE)),\"\",\"ü\")","v":""},{"$f":"IF(ISERROR(VLOOKUP($E231,'File 4'!$B:$B,1,FALSE)),\"\",\"ü\")","v":""},{"$f":"IF(ISERROR(VLOOKUP($E231,'File 5'!$B:$B,1,FALSE)),\"\",\"ü\")","v":""}]
[null,null,null,null,{"$f":"IF(INDEX(programmer!$T:$T,ROWS(A$1:A219),1)=\"\",\"\",INDEX(programmer!$T:$T,ROWS(A$1:A219),1))","v":""},{"$f":"IF(ISERROR(VLOOKUP($E232,'File 1'!$B:$B,1,FALSE)),\"\",\"ü\")","v":""},{"$f":"IF(ISERROR(VLOOKUP($E232,'File 2'!$B:$B,1,FALSE)),\"\",\"ü\")","v":""},{"$f":"IF(ISERROR(VLOOKUP($E232,'File 3'!$B:$B,1,FALSE)),\"\",\"ü\")","v":""},{"$f":"IF(ISERROR(VLOOKUP($E232,'File 4'!$B:$B,1,FALSE)),\"\",\"ü\")","v":""},{"$f":"IF(ISERROR(VLOOKUP($E232,'File 5'!$B:$B,1,FALSE)),\"\",\"ü\")","v":""}]
[null,null,null,null,{"$f":"IF(INDEX(programmer!$T:$T,ROWS(A$1:A220),1)=\"\",\"\",INDEX(programmer!$T:$T,ROWS(A$1:A220),1))","v":""},{"$f":"IF(ISERROR(VLOOKUP($E233,'File 1'!$B:$B,1,FALSE)),\"\",\"ü\")","v":""},{"$f":"IF(ISERROR(VLOOKUP($E233,'File 2'!$B:$B,1,FALSE)),\"\",\"ü\")","v":""},{"$f":"IF(ISERROR(VLOOKUP($E233,'File 3'!$B:$B,1,FALSE)),\"\",\"ü\")","v":""},{"$f":"IF(ISERROR(VLOOKUP($E233,'File 4'!$B:$B,1,FALSE)),\"\",\"ü\")","v":""},{"$f":"IF(ISERROR(VLOOKUP($E233,'File 5'!$B:$B,1,FALSE)),\"\",\"ü\")","v":""}]
[null,null,null,null,{"$f":"IF(INDEX(programmer!$T:$T,ROWS(A$1:A221),1)=\"\",\"\",INDEX(programmer!$T:$T,ROWS(A$1:A221),1))","v":""},{"$f":"IF(ISERROR(VLOOKUP($E234,'File 1'!$B:$B,1,FALSE)),\"\",\"ü\")","v":""},{"$f":"IF(ISERROR(VLOOKUP($E234,'File 2'!$B:$B,1,FALSE)),\"\",\"ü\")","v":""},{"$f":"IF(ISERROR(VLOOKUP($E234,'File 3'!$B:$B,1,FALSE)),\"\",\"ü\")","v":""},{"$f":"IF(ISERROR(VLOOKUP($E234,'File 4'!$B:$B,1,FALSE)),\"\",\"ü\")","v":""},{"$f":"IF(ISERROR(VLOOKUP($E234,'File 5'!$B:$B,1,FALSE)),\"\",\"ü\")","v":""}]
[null,null,null,null,{"$f":"IF(INDEX(programmer!$T:$T,ROWS(A$1:A222),1)=\"\",\"\",INDEX(programmer!$T:$T,ROWS(A$1:A222),1))","v":""},{"$f":"IF(ISERROR(VLOOKUP($E235,'File 1'!$B:$B,1,FALSE)),\"\",\"ü\")","v":""},{"$f":"IF(ISERROR(VLOOKUP($E235,'File 2'!$B:$B,1,FALSE)),\"\",\"ü\")","v":""},{"$f":"IF(ISERROR(VLOOKUP($E235,'File 3'!$B:$B,1,FALSE)),\"\",\"ü\")","v":""},{"$f":"IF(ISERROR(VLOOKUP($E235,'File 4'!$B:$B,1,FALSE)),\"\",\"ü\")","v":""},{"$f":"IF(ISERROR(VLOOKUP($E235,'File 5'!$B:$B,1,FALSE)),\"\",\"ü\")","v":""}]
[null,null,null,null,{"$f":"IF(INDEX(programmer!$T:$T,ROWS(A$1:A223),1)=\"\",\"\",INDEX(programmer!$T:$T,ROWS(A$1:A223),1))","v":""},{"$f":"IF(ISERROR(VLOOKUP($E236,'File 1'!$B:$B,1,FALSE)),\"\",\"ü\")","v":""},{"$f":"IF(ISERROR(VLOOKUP($E236,'File 2'!$B:$B,1,FALSE)),\"\",\"ü\")","v":""},{"$f":"IF(ISERROR(VLOOKUP($E236,'File 3'!$B:$B,1,FALSE)),\"\",\"ü\")","v":""},{"$f":"IF(ISERROR(VLOOKUP($E236,'File 4'!$B:$B,1,FALSE)),\"\",\"ü\")","v":""},{"$f":"IF(ISERROR(VLOOKUP($E236,'File 5'!$B:$B,1,FALSE)),\"\",\"ü\")","v":""}]
[null,null,null,null,{"$f":"IF(INDEX(programmer!$T:$T,ROWS(A$1:A224),1)=\"\",\"\",INDEX(programmer!$T:$T,ROWS(A$1:A224),1))","v":""},{"$f":"IF(ISERROR(VLOOKUP($E237,'File 1'!$B:$B,1,FALSE)),\"\",\"ü\")","v":""},{"$f":"IF(ISERROR(VLOOKUP($E237,'File 2'!$B:$B,1,FALSE)),\"\",\"ü\")","v":""},{"$f":"IF(ISERROR(VLOOKUP($E237,'File 3'!$B:$B,1,FALSE)),\"\",\"ü\")","v":""},{"$f":"IF(ISERROR(VLOOKUP($E237,'File 4'!$B:$B,1,FALSE)),\"\",\"ü\")","v":""},{"$f":"IF(ISERROR(VLOOKUP($E237,'File 5'!$B:$B,1,FALSE)),\"\",\"ü\")","v":""}]
[null,null,null,null,{"$f":"IF(INDEX(programmer!$T:$T,ROWS(A$1:A225),1)=\"\",\"\",INDEX(programmer!$T:$T,ROWS(A$1:A225),1))","v":""},{"$f":"IF(ISERROR(VLOOKUP($E238,'File 1'!$B:$B,1,FALSE)),\"\",\"ü\")","v":""},{"$f":"IF(ISERROR(VLOOKUP($E238,'File 2'!$B:$B,1,FALSE)),\"\",\"ü\")","v":""},{"$f":"IF(ISERROR(VLOOKUP($E238,'File 3'!$B:$B,1,FALSE)),\"\",\"ü\")","v":""},{"$f":"IF(ISERROR(VLOOKUP($E238,'File 4'!$B:$B,1,FALSE)),\"\",\"ü\")","v":""},{"$f":"IF(ISERROR(VLOOKUP($E238,'File 5'!$B:$B,1,FALSE)),\"\",\"ü\")","v":""}]
[null,null,null,null,{"$f":"IF(INDEX(programmer!$T:$T,ROWS(A$1:A226),1)=\"\",\"\",INDEX(programmer!$T:$T,ROWS(A$1:A226),1))","v":""},{"$f":"IF(ISERROR(VLOOKUP($E239,'File 1'!$B:$B,1,FALSE)),\"\",\"ü\")","v":""},{"$f":"IF(ISERROR(VLOOKUP($E239,'File 2'!$B:$B,1,FALSE)),\"\",\"ü\")","v":""},{"$f":"IF(ISERROR(VLOOKUP($E239,'File 3'!$B:$B,1,FALSE)),\"\",\"ü\")","v":""},{"$f":"IF(ISERROR(VLOOKUP($E239,'File 4'!$B:$B,1,FALSE)),\"\",\"ü\")","v":""},{"$f":"IF(ISERROR(VLOOKUP($E239,'File 5'!$B:$B,1,FALSE)),\"\",\"ü\")","v":""}]
[null,null,null,null,{"$f":"IF(INDEX(programmer!$T:$T,ROWS(A$1:A227),1)=\"\",\"\",INDEX(programmer!$T:$T,ROWS(A$1:A227),1))","v":""},{"$f":"IF(ISERROR(VLOOKUP($E240,'File 1'!$B:$B,1,FALSE)),\"\",\"ü\")","v":""},{"$f":"IF(ISERROR(VLOOKUP($E240,'File 2'!$B:$B,1,FALSE)),\"\",\"ü\")","v":""},{"$f":"IF(ISERROR(VLOOKUP($E240,'File 3'!$B:$B,1,FALSE)),\"\",\"ü\")","v":""},{"$f":"IF(ISERROR(VLOOKUP($E240,'File 4'!$B:$B,1,FALSE)),\"\",\"ü\")","v":""},{"$f":"IF(ISERROR(VLOOKUP($E240,'File 5'!$B:$B,1,FALSE)),\"\",\"ü\")","v":""}]
[null,null,null,null,{"$f":"IF(INDEX(programmer!$T:$T,ROWS(A$1:A228),1)=\"\",\"\",INDEX(programmer!$T:$T,ROWS(A$1:A228),1))","v":""},{"$f":"IF(ISERROR(VLOOKUP($E241,'File 1'!$B:$B,1,FALSE)),\"\",\"ü\")","v":""},{"$f":"IF(ISERROR(VLOOKUP($E241,'File 2'!$B:$B,1,FALSE)),\"\",\"ü\")","v":""},{"$f":"IF(ISERROR(VLOOKUP($E241,'File 3'!$B:$B,1,FALSE)),\"\",\"ü\")","v":""},{"$f":"IF(ISERROR(VLOOKUP($E241,'File 4'!$B:$B,1,FALSE)),\"\",\"ü\")","v":""},{"$f":"IF(ISERROR(VLOOKUP($E241,'File 5'!$B:$B,1,FALSE)),\"\",\"ü\")","v":""}]
[null,null,null,null,{"$f":"IF(INDEX(programmer!$T:$T,ROWS(A$1:A229),1)=\"\",\"\",INDEX(programmer!$T:$T,ROWS(A$1:A229),1))","v":""},{"$f":"IF(ISERROR(VLOOKUP($E242,'File 1'!$B:$B,1,FALSE)),\"\",\"ü\")","v":""},{"$f":"IF(ISERROR(VLOOKUP($E242,'File 2'!$B:$B,1,FALSE)),\"\",\"ü\")","v":""},{"$f":"IF(ISERROR(VLOOKUP($E242,'File 3'!$B:$B,1,FALSE)),\"\",\"ü\")","v":""},{"$f":"IF(ISERROR(VLOOKUP($E242,'File 4'!$B:$B,1,FALSE)),\"\",\"ü\")","v":""},{"$f":"IF(ISERROR(VLOOKUP($E242,'File 5'!$B:$B,1,FALSE)),\"\",\"ü\")","v":""}]
[null,null,null,null,{"$f":"IF(INDEX(programmer!$T:$T,ROWS(A$1:A230),1)=\"\",\"\",INDEX(programmer!$T:$T,ROWS(A$1:A230),1))","v":""},{"$f":"IF(ISERROR(VLOOKUP($E243,'File 1'!$B:$B,1,FALSE)),\"\",\"ü\")","v":""},{"$f":"IF(ISERROR(VLOOKUP($E243,'File 2'!$B:$B,1,FALSE)),\"\",\"ü\")","v":""},{"$f":"IF(ISERROR(VLOOKUP($E243,'File 3'!$B:$B,1,FALSE)),\"\",\"ü\")","v":""},{"$f":"IF(ISERROR(VLOOKUP($E243,'File 4'!$B:$B,1,FALSE)),\"\",\"ü\")","v":""},{"$f":"IF(ISERROR(VLOOKUP($E243,'File 5'!$B:$B,1,FALSE)),\"\",\"ü\")","v":""}]
[null,null,null,null,{"$f":"IF(INDEX(programmer!$T:$T,ROWS(A$1:A231),1)=\"\",\"\",INDEX(programmer!$T:$T,ROWS(A$1:A231),1))","v":""},{"$f":"IF(ISERROR(VLOOKUP($E244,'File 1'!$B:$B,1,FALSE)),\"\",\"ü\")","v":""},{"$f":"IF(ISERROR(VLOOKUP($E244,'File 2'!$B:$B,1,FALSE)),\"\",\"ü\")","v":""},{"$f":"IF(ISERROR(VLOOKUP($E244,'File 3'!$B:$B,1,FALSE)),\"\",\"ü\")","v":""},{"$f":"IF(ISERROR(VLOOKUP($E244,'File 4'!$B:$B,1,FALSE)),\"\",\"ü\")","v":""},{"$f":"IF(ISERROR(VLOOKUP($E244,'File 5'!$B:$B,1,FALSE)),\"\",\"ü\")","v":""}]
[null,null,null,null,{"$f":"IF(INDEX(programmer!$T:$T,ROWS(A$1:A232),1)=\"\",\"\",INDEX(programmer!$T:$T,ROWS(A$1:A232),1))","v":""},{"$f":"IF(ISERROR(VLOOKUP($E245,'File 1'!$B:$B,1,FALSE)),\"\",\"ü\")","v":""},{"$f":"IF(ISERROR(VLOOKUP($E245,'File 2'!$B:$B,1,FALSE)),\"\",\"ü\")","v":""},{"$f":"IF(ISERROR(VLOOKUP($E245,'File 3'!$B:$B,1,FALSE)),\"\",\"ü\")","v":""},{"$f":"IF(ISERROR(VLOOKUP($E245,'File 4'!$B:$B,1,FALSE)),\"\",\"ü\")","v":""},{"$f":"IF(ISERROR(VLOOKUP($E245,'File 5'!$B:$B,1,FALSE)),\"\",\"ü\")","v":""}]
[null,null,null,null,{"$f":"IF(INDEX(programmer!$T:$T,ROWS(A$1:A233),1)=\"\",\"\",INDEX(programmer!$T:$T,ROWS(A$1:A233),1))","v":""},{"$f":"IF(ISERROR(VLOOKUP($E246,'File 1'!$B:$B,1,FALSE)),\"\",\"ü\")","v":""},{"$f":"IF(ISERROR(VLOOKUP($E246,'File 2'!$B:$B,1,FALSE)),\"\",\"ü\")","v":""},{"$f":"IF(ISERROR(VLOOKUP($E246,'File 3'!$B:$B,1,FALSE)),\"\",\"ü\")","v":""},{"$f":"IF(ISERROR(VLOOKUP($E246,'File 4'!$B:$B,1,FALSE)),\"\",\"ü\")","v":""},{"$f":"IF(ISERROR(VLOOKUP($E246,'File 5'!$B:$B,1,FALSE)),\"\",\"ü\")","v":""}]
[null,null,null,null,{"$f":"IF(INDEX(programmer!$T:$T,ROWS(A$1:A234),1)=\"\",\"\",INDEX(programmer!$T:$T,ROWS(A$1:A234),1))","v":""},{"$f":"IF(ISERROR(VLOOKUP($E247,'File 1'!$B:$B,1,FALSE)),\"\",\"ü\")","v":""},{"$f":"IF(ISERROR(VLOOKUP($E247,'File 2'!$B:$B,1,FALSE)),\"\",\"ü\")","v":""},{"$f":"IF(ISERROR(VLOOKUP($E247,'File 3'!$B:$B,1,FALSE)),\"\",\"ü\")","v":""},{"$f":"IF(ISERROR(VLOOKUP($E247,'File 4'!$B:$B,1,FALSE)),\"\",\"ü\")","v":""},{"$f":"IF(ISERROR(VLOOKUP($E247,'File 5'!$B:$B,1,FALSE)),\"\",\"ü\")","v":""}]
[null,null,null,null,{"$f":"IF(INDEX(programmer!$T:$T,ROWS(A$1:A235),1)=\"\",\"\",INDEX(programmer!$T:$T,ROWS(A$1:A235),1))","v":""},{"$f":"IF(ISERROR(VLOOKUP($E248,'File 1'!$B:$B,1,FALSE)),\"\",\"ü\")","v":""},{"$f":"IF(ISERROR(VLOOKUP($E248,'File 2'!$B:$B,1,FALSE)),\"\",\"ü\")","v":""},{"$f":"IF(ISERROR(VLOOKUP($E248,'File 3'!$B:$B,1,FALSE)),\"\",\"ü\")","v":""},{"$f":"IF(ISERROR(VLOOKUP($E248,'File 4'!$B:$B,1,FALSE)),\"\",\"ü\")","v":""},{"$f":"IF(ISERROR(VLOOKUP($E248,'File 5'!$B:$B,1,FALSE)),\"\",\"ü\")","v":""}]
[null,null,null,null,{"$f":"IF(INDEX(programmer!$T:$T,ROWS(A$1:A236),1)=\"\",\"\",INDEX(programmer!$T:$T,ROWS(A$1:A236),1))","v":""},{"$f":"IF(ISERROR(VLOOKUP($E249,'File 1'!$B:$B,1,FALSE)),\"\",\"ü\")","v":""},{"$f":"IF(ISERROR(VLOOKUP($E249,'File 2'!$B:$B,1,FALSE)),\"\",\"ü\")","v":""},{"$f":"IF(ISERROR(VLOOKUP($E249,'File 3'!$B:$B,1,FALSE)),\"\",\"ü\")","v":""},{"$f":"IF(ISERROR(VLOOKUP($E249,'File 4'!$B:$B,1,FALSE)),\"\",\"ü\")","v":""},{"$f":"IF(ISERROR(VLOOKUP($E249,'File 5'!$B:$B,1,FALSE)),\"\",\"ü\")","v":""}]
[null,null,null,null,{"$f":"IF(INDEX(programmer!$T:$T,ROWS(A$1:A237),1)=\"\",\"\",INDEX(programmer!$T:$T,ROWS(A$1:A237),1))","v":""},{"$f":"IF(ISERROR(VLOOKUP($E250,'File 1'!$B:$B,1,FALSE)),\"\",\"ü\")","v":""},{"$f":"IF(ISERROR(VLOOKUP($E250,'File 2'!$B:$B,1,FALSE)),\"\",\"ü\")","v":""},{"$f":"IF(ISERROR(VLOOKUP($E250,'File 3'!$B:$B,1,FALSE)),\"\",\"ü\")","v":""},{"$f":"IF(ISERROR(VLOOKUP($E250,'File 4'!$B:$B,1,FALSE)),\"\",\"ü\")","v":""},{"$f":"IF(ISERROR(VLOOKUP($E250,'File 5'!$B:$B,1,FALSE)),\"\",\"ü\")","v":""}]
[null,null,null,null,{"$f":"IF(INDEX(programmer!$T:$T,ROWS(A$1:A238),1)=\"\",\"\",INDEX(programmer!$T:$T,ROWS(A$1:A238),1))","v":""},{"$f":"IF(ISERROR(VLOOKUP($E251,'File 1'!$B:$B,1,FALSE)),\"\",\"ü\")","v":""},{"$f":"IF(ISERROR(VLOOKUP($E251,'File 2'!$B:$B,1,FALSE)),\"\",\"ü\")","v":""},{"$f":"IF(ISERROR(VLOOKUP($E251,'File 3'!$B:$B,1,FALSE)),\"\",\"ü\")","v":""},{"$f":"IF(ISERROR(VLOOKUP($E251,'File 4'!$B:$B,1,FALSE)),\"\",\"ü\")","v":""},{"$f":"IF(ISERROR(VLOOKUP($E251,'File 5'!$B:$B,1,FALSE)),\"\",\"ü\")","v":""}]
[null,null,null,null,{"$f":"IF(INDEX(programmer!$T:$T,ROWS(A$1:A239),1)=\"\",\"\",INDEX(programmer!$T:$T,ROWS(A$1:A239),1))","v":""},{"$f":"IF(ISERROR(VLOOKUP($E252,'File 1'!$B:$B,1,FALSE)),\"\",\"ü\")","v":""},{"$f":"IF(ISERROR(VLOOKUP($E252,'File 2'!$B:$B,1,FALSE)),\"\",\"ü\")","v":""},{"$f":"IF(ISERROR(VLOOKUP($E252,'File 3'!$B:$B,1,FALSE)),\"\",\"ü\")","v":""},{"$f":"IF(ISERROR(VLOOKUP($E252,'File 4'!$B:$B,1,FALSE)),\"\",\"ü\")","v":""},{"$f":"IF(ISERROR(VLOOKUP($E252,'File 5'!$B:$B,1,FALSE)),\"\",\"ü\")","v":""}]
[null,null,null,null,{"$f":"IF(INDEX(programmer!$T:$T,ROWS(A$1:A240),1)=\"\",\"\",INDEX(programmer!$T:$T,ROWS(A$1:A240),1))","v":""},{"$f":"IF(ISERROR(VLOOKUP($E253,'File 1'!$B:$B,1,FALSE)),\"\",\"ü\")","v":""},{"$f":"IF(ISERROR(VLOOKUP($E253,'File 2'!$B:$B,1,FALSE)),\"\",\"ü\")","v":""},{"$f":"IF(ISERROR(VLOOKUP($E253,'File 3'!$B:$B,1,FALSE)),\"\",\"ü\")","v":""},{"$f":"IF(ISERROR(VLOOKUP($E253,'File 4'!$B:$B,1,FALSE)),\"\",\"ü\")","v":""},{"$f":"IF(ISERROR(VLOOKUP($E253,'File 5'!$B:$B,1,FALSE)),\"\",\"ü\")","v":""}]
[null,null,null,null,{"$f":"IF(INDEX(programmer!$T:$T,ROWS(A$1:A241),1)=\"\",\"\",INDEX(programmer!$T:$T,ROWS(A$1:A241),1))","v":""},{"$f":"IF(ISERROR(VLOOKUP($E254,'File 1'!$B:$B,1,FALSE)),\"\",\"ü\")","v":""},{"$f":"IF(ISERROR(VLOOKUP($E254,'File 2'!$B:$B,1,FALSE)),\"\",\"ü\")","v":""},{"$f":"IF(ISERROR(VLOOKUP($E254,'File 3'!$B:$B,1,FALSE)),\"\",\"ü\")","v":""},{"$f":"IF(ISERROR(VLOOKUP($E254,'File 4'!$B:$B,1,FALSE)),\"\",\"ü\")","v":""},{"$f":"IF(ISERROR(VLOOKUP($E254,'File 5'!$B:$B,1,FALSE)),\"\",\"ü\")","v":""}]
[null,null,null,null,{"$f":"IF(INDEX(programmer!$T:$T,ROWS(A$1:A242),1)=\"\",\"\",INDEX(programmer!$T:$T,ROWS(A$1:A242),1))","v":""},{"$f":"IF(ISERROR(VLOOKUP($E255,'File 1'!$B:$B,1,FALSE)),\"\",\"ü\")","v":""},{"$f":"IF(ISERROR(VLOOKUP($E255,'File 2'!$B:$B,1,FALSE)),\"\",\"ü\")","v":""},{"$f":"IF(ISERROR(VLOOKUP($E255,'File 3'!$B:$B,1,FALSE)),\"\",\"ü\")","v":""},{"$f":"IF(ISERROR(VLOOKUP($E255,'File 4'!$B:$B,1,FALSE)),\"\",\"ü\")","v":""},{"$f":"IF(ISERROR(VLOOKUP($E255,'File 5'!$B:$B,1,FALSE)),\"\",\"ü\")","v":""}]
[null,null,null,null,{"$f":"IF(INDEX(programmer!$T:$T,ROWS(A$1:A243),1)=\"\",\"\",INDEX(programmer!$T:$T,ROWS(A$1:A243),1))","v":""},{"$f":"IF(ISERROR(VLOOKUP($E256,'File 1'!$B:$B,1,FALSE)),\"\",\"ü\")","v":""},{"$f":"IF(ISERROR(VLOOKUP($E256,'File 2'!$B:$B,1,FALSE)),\"\",\"ü\")","v":""},{"$f":"IF(ISERROR(VLOOKUP($E256,'File 3'!$B:$B,1,FALSE)),\"\",\"ü\")","v":""},{"$f":"IF(ISERROR(VLOOKUP($E256,'File 4'!$B:$B,1,FALSE)),\"\",\"ü\")","v":""},{"$f":"IF(ISERROR(VLOOKUP($E256,'File 5'!$B:$B,1,FALSE)),\"\",\"ü\")","v":""}]
[null,null,null,null,{"$f":"IF(INDEX(programmer!$T:$T,ROWS(A$1:A244),1)=\"\",\"\",INDEX(programmer!$T:$T,ROWS(A$1:A244),1))","v":""},{"$f":"IF(ISERROR(VLOOKUP($E257,'File 1'!$B:$B,1,FALSE)),\"\",\"ü\")","v":""},{"$f":"IF(ISERROR(VLOOKUP($E257,'File 2'!$B:$B,1,FALSE)),\"\",\"ü\")","v":""},{"$f":"IF(ISERROR(VLOOKUP($E257,'File 3'!$B:$B,1,FALSE)),\"\",\"ü\")","v":""},{"$f":"IF(ISERROR(VLOOKUP($E257,'File 4'!$B:$B,1,FALSE)),\"\",\"ü\")","v":""},{"$f":"IF(ISERROR(VLOOKUP($E257,'File 5'!$B:$B,1,FALSE)),\"\",\"ü\")","v":""}]
[null,null,null,null,{"$f":"IF(INDEX(programmer!$T:$T,ROWS(A$1:A245),1)=\"\",\"\",INDEX(programmer!$T:$T,ROWS(A$1:A245),1))","v":""},{"$f":"IF(ISERROR(VLOOKUP($E258,'File 1'!$B:$B,1,FALSE)),\"\",\"ü\")","v":""},{"$f":"IF(ISERROR(VLOOKUP($E258,'File 2'!$B:$B,1,FALSE)),\"\",\"ü\")","v":""},{"$f":"IF(ISERROR(VLOOKUP($E258,'File 3'!$B:$B,1,FALSE)),\"\",\"ü\")","v":""},{"$f":"IF(ISERROR(VLOOKUP($E258,'File 4'!$B:$B,1,FALSE)),\"\",\"ü\")","v":""},{"$f":"IF(ISERROR(VLOOKUP($E258,'File 5'!$B:$B,1,FALSE)),\"\",\"ü\")","v":""}]
[null,null,null,null,{"$f":"IF(INDEX(programmer!$T:$T,ROWS(A$1:A246),1)=\"\",\"\",INDEX(programmer!$T:$T,ROWS(A$1:A246),1))","v":""},{"$f":"IF(ISERROR(VLOOKUP($E259,'File 1'!$B:$B,1,FALSE)),\"\",\"ü\")","v":""},{"$f":"IF(ISERROR(VLOOKUP($E259,'File 2'!$B:$B,1,FALSE)),\"\",\"ü\")","v":""},{"$f":"IF(ISERROR(VLOOKUP($E259,'File 3'!$B:$B,1,FALSE)),\"\",\"ü\")","v":""},{"$f":"IF(ISERROR(VLOOKUP($E259,'File 4'!$B:$B,1,FALSE)),\"\",\"ü\")","v":""},{"$f":"IF(ISERROR(VLOOKUP($E259,'File 5'!$B:$B,1,FALSE)),\"\",\"ü\")","v":""}]
[null,null,null,null,{"$f":"IF(INDEX(programmer!$T:$T,ROWS(A$1:A247),1)=\"\",\"\",INDEX(programmer!$T:$T,ROWS(A$1:A247),1))","v":""},{"$f":"IF(ISERROR(VLOOKUP($E260,'File 1'!$B:$B,1,FALSE)),\"\",\"ü\")","v":""},{"$f":"IF(ISERROR(VLOOKUP($E260,'File 2'!$B:$B,1,FALSE)),\"\",\"ü\")","v":""},{"$f":"IF(ISERROR(VLOOKUP($E260,'File 3'!$B:$B,1,FALSE)),\"\",\"ü\")","v":""},{"$f":"IF(ISERROR(VLOOKUP($E260,'File 4'!$B:$B,1,FALSE)),\"\",\"ü\")","v":""},{"$f":"IF(ISERROR(VLOOKUP($E260,'File 5'!$B:$B,1,FALSE)),\"\",\"ü\")","v":""}]
[null,null,null,null,{"$f":"IF(INDEX(programmer!$T:$T,ROWS(A$1:A248),1)=\"\",\"\",INDEX(programmer!$T:$T,ROWS(A$1:A248),1))","v":""},{"$f":"IF(ISERROR(VLOOKUP($E261,'File 1'!$B:$B,1,FALSE)),\"\",\"ü\")","v":""},{"$f":"IF(ISERROR(VLOOKUP($E261,'File 2'!$B:$B,1,FALSE)),\"\",\"ü\")","v":""},{"$f":"IF(ISERROR(VLOOKUP($E261,'File 3'!$B:$B,1,FALSE)),\"\",\"ü\")","v":""},{"$f":"IF(ISERROR(VLOOKUP($E261,'File 4'!$B:$B,1,FALSE)),\"\",\"ü\")","v":""},{"$f":"IF(ISERROR(VLOOKUP($E261,'File 5'!$B:$B,1,FALSE)),\"\",\"ü\")","v":""}]
[null,null,null,null,{"$f":"IF(INDEX(programmer!$T:$T,ROWS(A$1:A249),1)=\"\",\"\",INDEX(programmer!$T:$T,ROWS(A$1:A249),1))","v":""},{"$f":"IF(ISERROR(VLOOKUP($E262,'File 1'!$B:$B,1,FALSE)),\"\",\"ü\")","v":""},{"$f":"IF(ISERROR(VLOOKUP($E262,'File 2'!$B:$B,1,FALSE)),\"\",\"ü\")","v":""},{"$f":"IF(ISERROR(VLOOKUP($E262,'File 3'!$B:$B,1,FALSE)),\"\",\"ü\")","v":""},{"$f":"IF(ISERROR(VLOOKUP($E262,'File 4'!$B:$B,1,FALSE)),\"\",\"ü\")","v":""},{"$f":"IF(ISERROR(VLOOKUP($E262,'File 5'!$B:$B,1,FALSE)),\"\",\"ü\")","v":""}]
[null,null,null,null,{"$f":"IF(INDEX(programmer!$T:$T,ROWS(A$1:A250),1)=\"\",\"\",INDEX(programmer!$T:$T,ROWS(A$1:A250),1))","v":""},{"$f":"IF(ISERROR(VLOOKUP($E263,'File 1'!$B:$B,1,FALSE)),\"\",\"ü\")","v":""},{"$f":"IF(ISERROR(VLOOKUP($E263,'File 2'!$B:$B,1,FALSE)),\"\",\"ü\")","v":""},{"$f":"IF(ISERROR(VLOOKUP($E263,'File 3'!$B:$B,1,FALSE)),\"\",\"ü\")","v":""},{"$f":"IF(ISERROR(VLOOKUP($E263,'File 4'!$B:$B,1,FALSE)),\"\",\"ü\")","v":""},{"$f":"IF(ISERROR(VLOOKUP($E263,'File 5'!$B:$B,1,FALSE)),\"\",\"ü\")","v":""}]
[null,null,null,null,{"$f":"IF(INDEX(programmer!$T:$T,ROWS(A$1:A251),1)=\"\",\"\",INDEX(programmer!$T:$T,ROWS(A$1:A251),1))","v":""},{"$f":"IF(ISERROR(VLOOKUP($E264,'File 1'!$B:$B,1,FALSE)),\"\",\"ü\")","v":""},{"$f":"IF(ISERROR(VLOOKUP($E264,'File 2'!$B:$B,1,FALSE)),\"\",\"ü\")","v":""},{"$f":"IF(ISERROR(VLOOKUP($E264,'File 3'!$B:$B,1,FALSE)),\"\",\"ü\")","v":""},{"$f":"IF(ISERROR(VLOOKUP($E264,'File 4'!$B:$B,1,FALSE)),\"\",\"ü\")","v":""},{"$f":"IF(ISERROR(VLOOKUP($E264,'File 5'!$B:$B,1,FALSE)),\"\",\"ü\")","v":""}]
[null,null,null,null,{"$f":"IF(INDEX(programmer!$T:$T,ROWS(A$1:A252),1)=\"\",\"\",INDEX(programmer!$T:$T,ROWS(A$1:A252),1))","v":""},{"$f":"IF(ISERROR(VLOOKUP($E265,'File 1'!$B:$B,1,FALSE)),\"\",\"ü\")","v":""},{"$f":"IF(ISERROR(VLOOKUP($E265,'File 2'!$B:$B,1,FALSE)),\"\",\"ü\")","v":""},{"$f":"IF(ISERROR(VLOOKUP($E265,'File 3'!$B:$B,1,FALSE)),\"\",\"ü\")","v":""},{"$f":"IF(ISERROR(VLOOKUP($E265,'File 4'!$B:$B,1,FALSE)),\"\",\"ü\")","v":""},{"$f":"IF(ISERROR(VLOOKUP($E265,'File 5'!$B:$B,1,FALSE)),\"\",\"ü\")","v":""}]
[null,null,null,null,{"$f":"IF(INDEX(programmer!$T:$T,ROWS(A$1:A253),1)=\"\",\"\",INDEX(programmer!$T:$T,ROWS(A$1:A253),1))","v":""},{"$f":"IF(ISERROR(VLOOKUP($E266,'File 1'!$B:$B,1,FALSE)),\"\",\"ü\")","v":""},{"$f":"IF(ISERROR(VLOOKUP($E266,'File 2'!$B:$B,1,FALSE)),\"\",\"ü\")","v":""},{"$f":"IF(ISERROR(VLOOKUP($E266,'File 3'!$B:$B,1,FALSE)),\"\",\"ü\")","v":""},{"$f":"IF(ISERROR(VLOOKUP($E266,'File 4'!$B:$B,1,FALSE)),\"\",\"ü\")","v":""},{"$f":"IF(ISERROR(VLOOKUP($E266,'File 5'!$B:$B,1,FALSE)),\"\",\"ü\")","v":""}]
[null,null,null,null,{"$f":"IF(INDEX(programmer!$T:$T,ROWS(A$1:A254),1)=\"\",\"\",INDEX(programmer!$T:$T,ROWS(A$1:A254),1))","v":""},{"$f":"IF(ISERROR(VLOOKUP($E267,'File 1'!$B:$B,1,FALSE)),\"\",\"ü\")","v":""},{"$f":"IF(ISERROR(VLOOKUP($E267,'File 2'!$B:$B,1,FALSE)),\"\",\"ü\")","v":""},{"$f":"IF(ISERROR(VLOOKUP($E267,'File 3'!$B:$B,1,FALSE)),\"\",\"ü\")","v":""},{"$f":"IF(ISERROR(VLOOKUP($E267,'File 4'!$B:$B,1,FALSE)),\"\",\"ü\")","v":""},{"$f":"IF(ISERROR(VLOOKUP($E267,'File 5'!$B:$B,1,FALSE)),\"\",\"ü\")","v":""}]
[null,null,null,null,{"$f":"IF(INDEX(programmer!$T:$T,ROWS(A$1:A255),1)=\"\",\"\",INDEX(programmer!$T:$T,ROWS(A$1:A255),1))","v":""},{"$f":"IF(ISERROR(VLOOKUP($E268,'File 1'!$B:$B,1,FALSE)),\"\",\"ü\")","v":""},{"$f":"IF(ISERROR(VLOOKUP($E268,'File 2'!$B:$B,1,FALSE)),\"\",\"ü\")","v":""},{"$f":"IF(ISERROR(VLOOKUP($E268,'File 3'!$B:$B,1,FALSE)),\"\",\"ü\")","v":""},{"$f":"IF(ISERROR(VLOOKUP($E268,'File 4'!$B:$B,1,FALSE)),\"\",\"ü\")","v":""},{"$f":"IF(ISERROR(VLOOKUP($E268,'File 5'!$B:$B,1,FALSE)),\"\",\"ü\")","v":""}]
[null,null,null,null,{"$f":"IF(INDEX(programmer!$T:$T,ROWS(A$1:A256),1)=\"\",\"\",INDEX(programmer!$T:$T,ROWS(A$1:A256),1))","v":""},{"$f":"IF(ISERROR(VLOOKUP($E269,'File 1'!$B:$B,1,FALSE)),\"\",\"ü\")","v":""},{"$f":"IF(ISERROR(VLOOKUP($E269,'File 2'!$B:$B,1,FALSE)),\"\",\"ü\")","v":""},{"$f":"IF(ISERROR(VLOOKUP($E269,'File 3'!$B:$B,1,FALSE)),\"\",\"ü\")","v":""},{"$f":"IF(ISERROR(VLOOKUP($E269,'File 4'!$B:$B,1,FALSE)),\"\",\"ü\")","v":""},{"$f":"IF(ISERROR(VLOOKUP($E269,'File 5'!$B:$B,1,FALSE)),\"\",\"ü\")","v":""}]
[null,null,null,null,{"$f":"IF(INDEX(programmer!$T:$T,ROWS(A$1:A257),1)=\"\",\"\",INDEX(programmer!$T:$T,ROWS(A$1:A257),1))","v":""},{"$f":"IF(ISERROR(VLOOKUP($E270,'File 1'!$B:$B,1,FALSE)),\"\",\"ü\")","v":""},{"$f":"IF(ISERROR(VLOOKUP($E270,'File 2'!$B:$B,1,FALSE)),\"\",\"ü\")","v":""},{"$f":"IF(ISERROR(VLOOKUP($E270,'File 3'!$B:$B,1,FALSE)),\"\",\"ü\")","v":""},{"$f":"IF(ISERROR(VLOOKUP($E270,'File 4'!$B:$B,1,FALSE)),\"\",\"ü\")","v":""},{"$f":"IF(ISERROR(VLOOKUP($E270,'File 5'!$B:$B,1,FALSE)),\"\",\"ü\")","v":""}]
[null,null,null,null,{"$f":"IF(INDEX(programmer!$T:$T,ROWS(A$1:A258),1)=\"\",\"\",INDEX(programmer!$T:$T,ROWS(A$1:A258),1))","v":""},{"$f":"IF(ISERROR(VLOOKUP($E271,'File 1'!$B:$B,1,FALSE)),\"\",\"ü\")","v":""},{"$f":"IF(ISERROR(VLOOKUP($E271,'File 2'!$B:$B,1,FALSE)),\"\",\"ü\")","v":""},{"$f":"IF(ISERROR(VLOOKUP($E271,'File 3'!$B:$B,1,FALSE)),\"\",\"ü\")","v":""},{"$f":"IF(ISERROR(VLOOKUP($E271,'File 4'!$B:$B,1,FALSE)),\"\",\"ü\")","v":""},{"$f":"IF(ISERROR(VLOOKUP($E271,'File 5'!$B:$B,1,FALSE)),\"\",\"ü\")","v":""}]
[null,null,null,null,{"$f":"IF(INDEX(programmer!$T:$T,ROWS(A$1:A259),1)=\"\",\"\",INDEX(programmer!$T:$T,ROWS(A$1:A259),1))","v":""},{"$f":"IF(ISERROR(VLOOKUP($E272,'File 1'!$B:$B,1,FALSE)),\"\",\"ü\")","v":""},{"$f":"IF(ISERROR(VLOOKUP($E272,'File 2'!$B:$B,1,FALSE)),\"\",\"ü\")","v":""},{"$f":"IF(ISERROR(VLOOKUP($E272,'File 3'!$B:$B,1,FALSE)),\"\",\"ü\")","v":""},{"$f":"IF(ISERROR(VLOOKUP($E272,'File 4'!$B:$B,1,FALSE)),\"\",\"ü\")","v":""},{"$f":"IF(ISERROR(VLOOKUP($E272,'File 5'!$B:$B,1,FALSE)),\"\",\"ü\")","v":""}]
[null,null,null,null,{"$f":"IF(INDEX(programmer!$T:$T,ROWS(A$1:A260),1)=\"\",\"\",INDEX(programmer!$T:$T,ROWS(A$1:A260),1))","v":""},{"$f":"IF(ISERROR(VLOOKUP($E273,'File 1'!$B:$B,1,FALSE)),\"\",\"ü\")","v":""},{"$f":"IF(ISERROR(VLOOKUP($E273,'File 2'!$B:$B,1,FALSE)),\"\",\"ü\")","v":""},{"$f":"IF(ISERROR(VLOOKUP($E273,'File 3'!$B:$B,1,FALSE)),\"\",\"ü\")","v":""},{"$f":"IF(ISERROR(VLOOKUP($E273,'File 4'!$B:$B,1,FALSE)),\"\",\"ü\")","v":""},{"$f":"IF(ISERROR(VLOOKUP($E273,'File 5'!$B:$B,1,FALSE)),\"\",\"ü\")","v":""}]
[null,null,null,null,{"$f":"IF(INDEX(programmer!$T:$T,ROWS(A$1:A261),1)=\"\",\"\",INDEX(programmer!$T:$T,ROWS(A$1:A261),1))","v":""},{"$f":"IF(ISERROR(VLOOKUP($E274,'File 1'!$B:$B,1,FALSE)),\"\",\"ü\")","v":""},{"$f":"IF(ISERROR(VLOOKUP($E274,'File 2'!$B:$B,1,FALSE)),\"\",\"ü\")","v":""},{"$f":"IF(ISERROR(VLOOKUP($E274,'File 3'!$B:$B,1,FALSE)),\"\",\"ü\")","v":""},{"$f":"IF(ISERROR(VLOOKUP($E274,'File 4'!$B:$B,1,FALSE)),\"\",\"ü\")","v":""},{"$f":"IF(ISERROR(VLOOKUP($E274,'File 5'!$B:$B,1,FALSE)),\"\",\"ü\")","v":""}]
[null,null,null,null,{"$f":"IF(INDEX(programmer!$T:$T,ROWS(A$1:A262),1)=\"\",\"\",INDEX(programmer!$T:$T,ROWS(A$1:A262),1))","v":""},{"$f":"IF(ISERROR(VLOOKUP($E275,'File 1'!$B:$B,1,FALSE)),\"\",\"ü\")","v":""},{"$f":"IF(ISERROR(VLOOKUP($E275,'File 2'!$B:$B,1,FALSE)),\"\",\"ü\")","v":""},{"$f":"IF(ISERROR(VLOOKUP($E275,'File 3'!$B:$B,1,FALSE)),\"\",\"ü\")","v":""},{"$f":"IF(ISERROR(VLOOKUP($E275,'File 4'!$B:$B,1,FALSE)),\"\",\"ü\")","v":""},{"$f":"IF(ISERROR(VLOOKUP($E275,'File 5'!$B:$B,1,FALSE)),\"\",\"ü\")","v":""}]
[null,null,null,null,{"$f":"IF(INDEX(programmer!$T:$T,ROWS(A$1:A263),1)=\"\",\"\",INDEX(programmer!$T:$T,ROWS(A$1:A263),1))","v":""},{"$f":"IF(ISERROR(VLOOKUP($E276,'File 1'!$B:$B,1,FALSE)),\"\",\"ü\")","v":""},{"$f":"IF(ISERROR(VLOOKUP($E276,'File 2'!$B:$B,1,FALSE)),\"\",\"ü\")","v":""},{"$f":"IF(ISERROR(VLOOKUP($E276,'File 3'!$B:$B,1,FALSE)),\"\",\"ü\")","v":""},{"$f":"IF(ISERROR(VLOOKUP($E276,'File 4'!$B:$B,1,FALSE)),\"\",\"ü\")","v":""},{"$f":"IF(ISERROR(VLOOKUP($E276,'File 5'!$B:$B,1,FALSE)),\"\",\"ü\")","v":""}]
[null,null,null,null,{"$f":"IF(INDEX(programmer!$T:$T,ROWS(A$1:A264),1)=\"\",\"\",INDEX(programmer!$T:$T,ROWS(A$1:A264),1))","v":""},{"$f":"IF(ISERROR(VLOOKUP($E277,'File 1'!$B:$B,1,FALSE)),\"\",\"ü\")","v":""},{"$f":"IF(ISERROR(VLOOKUP($E277,'File 2'!$B:$B,1,FALSE)),\"\",\"ü\")","v":""},{"$f":"IF(ISERROR(VLOOKUP($E277,'File 3'!$B:$B,1,FALSE)),\"\",\"ü\")","v":""},{"$f":"IF(ISERROR(VLOOKUP($E277,'File 4'!$B:$B,1,FALSE)),\"\",\"ü\")","v":""},{"$f":"IF(ISERROR(VLOOKUP($E277,'File 5'!$B:$B,1,FALSE)),\"\",\"ü\")","v":""}]
[null,null,null,null,{"$f":"IF(INDEX(programmer!$T:$T,ROWS(A$1:A265),1)=\"\",\"\",INDEX(programmer!$T:$T,ROWS(A$1:A265),1))","v":""},{"$f":"IF(ISERROR(VLOOKUP($E278,'File 1'!$B:$B,1,FALSE)),\"\",\"ü\")","v":""},{"$f":"IF(ISERROR(VLOOKUP($E278,'File 2'!$B:$B,1,FALSE)),\"\",\"ü\")","v":""},{"$f":"IF(ISERROR(VLOOKUP($E278,'File 3'!$B:$B,1,FALSE)),\"\",\"ü\")","v":""},{"$f":"IF(ISERROR(VLOOKUP($E278,'File 4'!$B:$B,1,FALSE)),\"\",\"ü\")","v":""},{"$f":"IF(ISERROR(VLOOKUP($E278,'File 5'!$B:$B,1,FALSE)),\"\",\"ü\")","v":""}]
[null,null,null,null,{"$f":"IF(INDEX(programmer!$T:$T,ROWS(A$1:A266),1)=\"\",\"\",INDEX(programmer!$T:$T,ROWS(A$1:A266),1))","v":""},{"$f":"IF(ISERROR(VLOOKUP($E279,'File 1'!$B:$B,1,FALSE)),\"\",\"ü\")","v":""},{"$f":"IF(ISERROR(VLOOKUP($E279,'File 2'!$B:$B,1,FALSE)),\"\",\"ü\")","v":""},{"$f":"IF(ISERROR(VLOOKUP($E279,'File 3'!$B:$B,1,FALSE)),\"\",\"ü\")","v":""},{"$f":"IF(ISERROR(VLOOKUP($E279,'File 4'!$B:$B,1,FALSE)),\"\",\"ü\")","v":""},{"$f":"IF(ISERROR(VLOOKUP($E279,'File 5'!$B:$B,1,FALSE)),\"\",\"ü\")","v":""}]
[null,null,null,null,{"$f":"IF(INDEX(programmer!$T:$T,ROWS(A$1:A267),1)=\"\",\"\",INDEX(programmer!$T:$T,ROWS(A$1:A267),1))","v":""},{"$f":"IF(ISERROR(VLOOKUP($E280,'File 1'!$B:$B,1,FALSE)),\"\",\"ü\")","v":""},{"$f":"IF(ISERROR(VLOOKUP($E280,'File 2'!$B:$B,1,FALSE)),\"\",\"ü\")","v":""},{"$f":"IF(ISERROR(VLOOKUP($E280,'File 3'!$B:$B,1,FALSE)),\"\",\"ü\")","v":""},{"$f":"IF(ISERROR(VLOOKUP($E280,'File 4'!$B:$B,1,FALSE)),\"\",\"ü\")","v":""},{"$f":"IF(ISERROR(VLOOKUP($E280,'File 5'!$B:$B,1,FALSE)),\"\",\"ü\")","v":""}]
[null,null,null,null,{"$f":"IF(INDEX(programmer!$T:$T,ROWS(A$1:A268),1)=\"\",\"\",INDEX(programmer!$T:$T,ROWS(A$1:A268),1))","v":""},{"$f":"IF(ISERROR(VLOOKUP($E281,'File 1'!$B:$B,1,FALSE)),\"\",\"ü\")","v":""},{"$f":"IF(ISERROR(VLOOKUP($E281,'File 2'!$B:$B,1,FALSE)),\"\",\"ü\")","v":""},{"$f":"IF(ISERROR(VLOOKUP($E281,'File 3'!$B:$B,1,FALSE)),\"\",\"ü\")","v":""},{"$f":"IF(ISERROR(VLOOKUP($E281,'File 4'!$B:$B,1,FALSE)),\"\",\"ü\")","v":""},{"$f":"IF(ISERROR(VLOOKUP($E281,'File 5'!$B:$B,1,FALSE)),\"\",\"ü\")","v":""}]
[null,null,null,null,{"$f":"IF(INDEX(programmer!$T:$T,ROWS(A$1:A269),1)=\"\",\"\",INDEX(programmer!$T:$T,ROWS(A$1:A269),1))","v":""},{"$f":"IF(ISERROR(VLOOKUP($E282,'File 1'!$B:$B,1,FALSE)),\"\",\"ü\")","v":""},{"$f":"IF(ISERROR(VLOOKUP($E282,'File 2'!$B:$B,1,FALSE)),\"\",\"ü\")","v":""},{"$f":"IF(ISERROR(VLOOKUP($E282,'File 3'!$B:$B,1,FALSE)),\"\",\"ü\")","v":""},{"$f":"IF(ISERROR(VLOOKUP($E282,'File 4'!$B:$B,1,FALSE)),\"\",\"ü\")","v":""},{"$f":"IF(ISERROR(VLOOKUP($E282,'File 5'!$B:$B,1,FALSE)),\"\",\"ü\")","v":""}]
[null,null,null,null,{"$f":"IF(INDEX(programmer!$T:$T,ROWS(A$1:A270),1)=\"\",\"\",INDEX(programmer!$T:$T,ROWS(A$1:A270),1))","v":""},{"$f":"IF(ISERROR(VLOOKUP($E283,'File 1'!$B:$B,1,FALSE)),\"\",\"ü\")","v":""},{"$f":"IF(ISERROR(VLOOKUP($E283,'File 2'!$B:$B,1,FALSE)),\"\",\"ü\")","v":""},{"$f":"IF(ISERROR(VLOOKUP($E283,'File 3'!$B:$B,1,FALSE)),\"\",\"ü\")","v":""},{"$f":"IF(ISERROR(VLOOKUP($E283,'File 4'!$B:$B,1,FALSE)),\"\",\"ü\")","v":""},{"$f":"IF(ISERROR(VLOOKUP($E283,'File 5'!$B:$B,1,FALSE)),\"\",\"ü\")","v":""}]
[null,null,null,null,{"$f":"IF(INDEX(programmer!$T:$T,ROWS(A$1:A271),1)=\"\",\"\",INDEX(programmer!$T:$T,ROWS(A$1:A271),1))","v":""},{"$f":"IF(ISERROR(VLOOKUP($E284,'File 1'!$B:$B,1,FALSE)),\"\",\"ü\")","v":""},{"$f":"IF(ISERROR(VLOOKUP($E284,'File 2'!$B:$B,1,FALSE)),\"\",\"ü\")","v":""},{"$f":"IF(ISERROR(VLOOKUP($E284,'File 3'!$B:$B,1,FALSE)),\"\",\"ü\")","v":""},{"$f":"IF(ISERROR(VLOOKUP($E284,'File 4'!$B:$B,1,FALSE)),\"\",\"ü\")","v":""},{"$f":"IF(ISERROR(VLOOKUP($E284,'File 5'!$B:$B,1,FALSE)),\"\",\"ü\")","v":""}]
[null,null,null,null,{"$f":"IF(INDEX(programmer!$T:$T,ROWS(A$1:A272),1)=\"\",\"\",INDEX(programmer!$T:$T,ROWS(A$1:A272),1))","v":""},{"$f":"IF(ISERROR(VLOOKUP($E285,'File 1'!$B:$B,1,FALSE)),\"\",\"ü\")","v":""},{"$f":"IF(ISERROR(VLOOKUP($E285,'File 2'!$B:$B,1,FALSE)),\"\",\"ü\")","v":""},{"$f":"IF(ISERROR(VLOOKUP($E285,'File 3'!$B:$B,1,FALSE)),\"\",\"ü\")","v":""},{"$f":"IF(ISERROR(VLOOKUP($E285,'File 4'!$B:$B,1,FALSE)),\"\",\"ü\")","v":""},{"$f":"IF(ISERROR(VLOOKUP($E285,'File 5'!$B:$B,1,FALSE)),\"\",\"ü\")","v":""}]
[null,null,null,null,{"$f":"IF(INDEX(programmer!$T:$T,ROWS(A$1:A273),1)=\"\",\"\",INDEX(programmer!$T:$T,ROWS(A$1:A273),1))","v":""},{"$f":"IF(ISERROR(VLOOKUP($E286,'File 1'!$B:$B,1,FALSE)),\"\",\"ü\")","v":""},{"$f":"IF(ISERROR(VLOOKUP($E286,'File 2'!$B:$B,1,FALSE)),\"\",\"ü\")","v":""},{"$f":"IF(ISERROR(VLOOKUP($E286,'File 3'!$B:$B,1,FALSE)),\"\",\"ü\")","v":""},{"$f":"IF(ISERROR(VLOOKUP($E286,'File 4'!$B:$B,1,FALSE)),\"\",\"ü\")","v":""},{"$f":"IF(ISERROR(VLOOKUP($E286,'File 5'!$B:$B,1,FALSE)),\"\",\"ü\")","v":""}]
[null,null,null,null,{"$f":"IF(INDEX(programmer!$T:$T,ROWS(A$1:A274),1)=\"\",\"\",INDEX(programmer!$T:$T,ROWS(A$1:A274),1))","v":""},{"$f":"IF(ISERROR(VLOOKUP($E287,'File 1'!$B:$B,1,FALSE)),\"\",\"ü\")","v":""},{"$f":"IF(ISERROR(VLOOKUP($E287,'File 2'!$B:$B,1,FALSE)),\"\",\"ü\")","v":""},{"$f":"IF(ISERROR(VLOOKUP($E287,'File 3'!$B:$B,1,FALSE)),\"\",\"ü\")","v":""},{"$f":"IF(ISERROR(VLOOKUP($E287,'File 4'!$B:$B,1,FALSE)),\"\",\"ü\")","v":""},{"$f":"IF(ISERROR(VLOOKUP($E287,'File 5'!$B:$B,1,FALSE)),\"\",\"ü\")","v":""}]
[null,null,null,null,{"$f":"IF(INDEX(programmer!$T:$T,ROWS(A$1:A275),1)=\"\",\"\",INDEX(programmer!$T:$T,ROWS(A$1:A275),1))","v":""},{"$f":"IF(ISERROR(VLOOKUP($E288,'File 1'!$B:$B,1,FALSE)),\"\",\"ü\")","v":""},{"$f":"IF(ISERROR(VLOOKUP($E288,'File 2'!$B:$B,1,FALSE)),\"\",\"ü\")","v":""},{"$f":"IF(ISERROR(VLOOKUP($E288,'File 3'!$B:$B,1,FALSE)),\"\",\"ü\")","v":""},{"$f":"IF(ISERROR(VLOOKUP($E288,'File 4'!$B:$B,1,FALSE)),\"\",\"ü\")","v":""},{"$f":"IF(ISERROR(VLOOKUP($E288,'File 5'!$B:$B,1,FALSE)),\"\",\"ü\")","v":""}]
[null,null,null,null,{"$f":"IF(INDEX(programmer!$T:$T,ROWS(A$1:A276),1)=\"\",\"\",INDEX(programmer!$T:$T,ROWS(A$1:A276),1))","v":""},{"$f":"IF(ISERROR(VLOOKUP($E289,'File 1'!$B:$B,1,FALSE)),\"\",\"ü\")","v":""},{"$f":"IF(ISERROR(VLOOKUP($E289,'File 2'!$B:$B,1,FALSE)),\"\",\"ü\")","v":""},{"$f":"IF(ISERROR(VLOOKUP($E289,'File 3'!$B:$B,1,FALSE)),\"\",\"ü\")","v":""},{"$f":"IF(ISERROR(VLOOKUP($E289,'File 4'!$B:$B,1,FALSE)),\"\",\"ü\")","v":""},{"$f":"IF(ISERROR(VLOOKUP($E289,'File 5'!$B:$B,1,FALSE)),\"\",\"ü\")","v":""}]
[null,null,null,null,{"$f":"IF(INDEX(programmer!$T:$T,ROWS(A$1:A277),1)=\"\",\"\",INDEX(programmer!$T:$T,ROWS(A$1:A277),1))","v":""},{"$f":"IF(ISERROR(VLOOKUP($E290,'File 1'!$B:$B,1,FALSE)),\"\",\"ü\")","v":""},{"$f":"IF(ISERROR(VLOOKUP($E290,'File 2'!$B:$B,1,FALSE)),\"\",\"ü\")","v":""},{"$f":"IF(ISERROR(VLOOKUP($E290,'File 3'!$B:$B,1,FALSE)),\"\",\"ü\")","v":""},{"$f":"IF(ISERROR(VLOOKUP($E290,'File 4'!$B:$B,1,FALSE)),\"\",\"ü\")","v":""},{"$f":"IF(ISERROR(VLOOKUP($E290,'File 5'!$B:$B,1,FALSE)),\"\",\"ü\")","v":""}]
[null,null,null,null,{"$f":"IF(INDEX(programmer!$T:$T,ROWS(A$1:A278),1)=\"\",\"\",INDEX(programmer!$T:$T,ROWS(A$1:A278),1))","v":""},{"$f":"IF(ISERROR(VLOOKUP($E291,'File 1'!$B:$B,1,FALSE)),\"\",\"ü\")","v":""},{"$f":"IF(ISERROR(VLOOKUP($E291,'File 2'!$B:$B,1,FALSE)),\"\",\"ü\")","v":""},{"$f":"IF(ISERROR(VLOOKUP($E291,'File 3'!$B:$B,1,FALSE)),\"\",\"ü\")","v":""},{"$f":"IF(ISERROR(VLOOKUP($E291,'File 4'!$B:$B,1,FALSE)),\"\",\"ü\")","v":""},{"$f":"IF(ISERROR(VLOOKUP($E291,'File 5'!$B:$B,1,FALSE)),\"\",\"ü\")","v":""}]
[null,null,null,null,{"$f":"IF(INDEX(programmer!$T:$T,ROWS(A$1:A279),1)=\"\",\"\",INDEX(programmer!$T:$T,ROWS(A$1:A279),1))","v":""},{"$f":"IF(ISERROR(VLOOKUP($E292,'File 1'!$B:$B,1,FALSE)),\"\",\"ü\")","v":""},{"$f":"IF(ISERROR(VLOOKUP($E292,'File 2'!$B:$B,1,FALSE)),\"\",\"ü\")","v":""},{"$f":"IF(ISERROR(VLOOKUP($E292,'File 3'!$B:$B,1,FALSE)),\"\",\"ü\")","v":""},{"$f":"IF(ISERROR(VLOOKUP($E292,'File 4'!$B:$B,1,FALSE)),\"\",\"ü\")","v":""},{"$f":"IF(ISERROR(VLOOKUP($E292,'File 5'!$B:$B,1,FALSE)),\"\",\"ü\")","v":""}]
[null,null,null,null,{"$f":"IF(INDEX(programmer!$T:$T,ROWS(A$1:A280),1)=\"\",\"\",INDEX(programmer!$T:$T,ROWS(A$1:A280),1))","v":""},{"$f":"IF(ISERROR(VLOOKUP($E293,'File 1'!$B:$B,1,FALSE)),\"\",\"ü\")","v":""},{"$f":"IF(ISERROR(VLOOKUP($E293,'File 2'!$B:$B,1,FALSE)),\"\",\"ü\")","v":""},{"$f":"IF(ISERROR(VLOOKUP($E293,'File 3'!$B:$B,1,FALSE)),\"\",\"ü\")","v":""},{"$f":"IF(ISERROR(VLOOKUP($E293,'File 4'!$B:$B,1,FALSE)),\"\",\"ü\")","v":""},{"$f":"IF(ISERROR(VLOOKUP($E293,'File 5'!$B:$B,1,FALSE)),\"\",\"ü\")","v":""}]
[null,null,null,null,{"$f":"IF(INDEX(programmer!$T:$T,ROWS(A$1:A281),1)=\"\",\"\",INDEX(programmer!$T:$T,ROWS(A$1:A281),1))","v":""},{"$f":"IF(ISERROR(VLOOKUP($E294,'File 1'!$B:$B,1,FALSE)),\"\",\"ü\")","v":""},{"$f":"IF(ISERROR(VLOOKUP($E294,'File 2'!$B:$B,1,FALSE)),\"\",\"ü\")","v":""},{"$f":"IF(ISERROR(VLOOKUP($E294,'File 3'!$B:$B,1,FALSE)),\"\",\"ü\")","v":""},{"$f":"IF(ISERROR(VLOOKUP($E294,'File 4'!$B:$B,1,FALSE)),\"\",\"ü\")","v":""},{"$f":"IF(ISERROR(VLOOKUP($E294,'File 5'!$B:$B,1,FALSE)),\"\",\"ü\")","v":""}]
[null,null,null,null,{"$f":"IF(INDEX(programmer!$T:$T,ROWS(A$1:A282),1)=\"\",\"\",INDEX(programmer!$T:$T,ROWS(A$1:A282),1))","v":""},{"$f":"IF(ISERROR(VLOOKUP($E295,'File 1'!$B:$B,1,FALSE)),\"\",\"ü\")","v":""},{"$f":"IF(ISERROR(VLOOKUP($E295,'File 2'!$B:$B,1,FALSE)),\"\",\"ü\")","v":""},{"$f":"IF(ISERROR(VLOOKUP($E295,'File 3'!$B:$B,1,FALSE)),\"\",\"ü\")","v":""},{"$f":"IF(ISERROR(VLOOKUP($E295,'File 4'!$B:$B,1,FALSE)),\"\",\"ü\")","v":""},{"$f":"IF(ISERROR(VLOOKUP($E295,'File 5'!$B:$B,1,FALSE)),\"\",\"ü\")","v":""}]
[null,null,null,null,{"$f":"IF(INDEX(programmer!$T:$T,ROWS(A$1:A283),1)=\"\",\"\",INDEX(programmer!$T:$T,ROWS(A$1:A283),1))","v":""},{"$f":"IF(ISERROR(VLOOKUP($E296,'File 1'!$B:$B,1,FALSE)),\"\",\"ü\")","v":""},{"$f":"IF(ISERROR(VLOOKUP($E296,'File 2'!$B:$B,1,FALSE)),\"\",\"ü\")","v":""},{"$f":"IF(ISERROR(VLOOKUP($E296,'File 3'!$B:$B,1,FALSE)),\"\",\"ü\")","v":""},{"$f":"IF(ISERROR(VLOOKUP($E296,'File 4'!$B:$B,1,FALSE)),\"\",\"ü\")","v":""},{"$f":"IF(ISERROR(VLOOKUP($E296,'File 5'!$B:$B,1,FALSE)),\"\",\"ü\")","v":""}]
[null,null,null,null,{"$f":"IF(INDEX(programmer!$T:$T,ROWS(A$1:A284),1)=\"\",\"\",INDEX(programmer!$T:$T,ROWS(A$1:A284),1))","v":""},{"$f":"IF(ISERROR(VLOOKUP($E297,'File 1'!$B:$B,1,FALSE)),\"\",\"ü\")","v":""},{"$f":"IF(ISERROR(VLOOKUP($E297,'File 2'!$B:$B,1,FALSE)),\"\",\"ü\")","v":""},{"$f":"IF(ISERROR(VLOOKUP($E297,'File 3'!$B:$B,1,FALSE)),\"\",\"ü\")","v":""},{"$f":"IF(ISERROR(VLOOKUP($E297,'File 4'!$B:$B,1,FALSE)),\"\",\"ü\")","v":""},{"$f":"IF(ISERROR(VLOOKUP($E297,'File 5'!$B:$B,1,FALSE)),\"\",\"ü\")","v":""}]
[null,null,null,null,{"$f":"IF(INDEX(programmer!$T:$T,ROWS(A$1:A285),1)=\"\",\"\",INDEX(programmer!$T:$T,ROWS(A$1:A285),1))","v":""},{"$f":"IF(ISERROR(VLOOKUP($E298,'File 1'!$B:$B,1,FALSE)),\"\",\"ü\")","v":""},{"$f":"IF(ISERROR(VLOOKUP($E298,'File 2'!$B:$B,1,FALSE)),\"\",\"ü\")","v":""},{"$f":"IF(ISERROR(VLOOKUP($E298,'File 3'!$B:$B,1,FALSE)),\"\",\"ü\")","v":""},{"$f":"IF(ISERROR(VLOOKUP($E298,'File 4'!$B:$B,1,FALSE)),\"\",\"ü\")","v":""},{"$f":"IF(ISERROR(VLOOKUP($E298,'File 5'!$B:$B,1,FALSE)),\"\",\"ü\")","v":""}]
[null,null,null,null,{"$f":"IF(INDEX(programmer!$T:$T,ROWS(A$1:A286),1)=\"\",\"\",INDEX(programmer!$T:$T,ROWS(A$1:A286),1))","v":""},{"$f":"IF(ISERROR(VLOOKUP($E299,'File 1'!$B:$B,1,FALSE)),\"\",\"ü\")","v":""},{"$f":"IF(ISERROR(VLOOKUP($E299,'File 2'!$B:$B,1,FALSE)),\"\",\"ü\")","v":""},{"$f":"IF(ISERROR(VLOOKUP($E299,'File 3'!$B:$B,1,FALSE)),\"\",\"ü\")","v":""},{"$f":"IF(ISERROR(VLOOKUP($E299,'File 4'!$B:$B,1,FALSE)),\"\",\"ü\")","v":""},{"$f":"IF(ISERROR(VLOOKUP($E299,'File 5'!$B:$B,1,FALSE)),\"\",\"ü\")","v":""}]
[null,null,null,null,{"$f":"IF(INDEX(programmer!$T:$T,ROWS(A$1:A287),1)=\"\",\"\",INDEX(programmer!$T:$T,ROWS(A$1:A287),1))","v":""},{"$f":"IF(ISERROR(VLOOKUP($E300,'File 1'!$B:$B,1,FALSE)),\"\",\"ü\")","v":""},{"$f":"IF(ISERROR(VLOOKUP($E300,'File 2'!$B:$B,1,FALSE)),\"\",\"ü\")","v":""},{"$f":"IF(ISERROR(VLOOKUP($E300,'File 3'!$B:$B,1,FALSE)),\"\",\"ü\")","v":""},{"$f":"IF(ISERROR(VLOOKUP($E300,'File 4'!$B:$B,1,FALSE)),\"\",\"ü\")","v":""},{"$f":"IF(ISERROR(VLOOKUP($E300,'File 5'!$B:$B,1,FALSE)),\"\",\"ü\")","v":""}]
[null,null,null,null,{"$f":"IF(INDEX(programmer!$T:$T,ROWS(A$1:A288),1)=\"\",\"\",INDEX(programmer!$T:$T,ROWS(A$1:A288),1))","v":""},{"$f":"IF(ISERROR(VLOOKUP($E301,'File 1'!$B:$B,1,FALSE)),\"\",\"ü\")","v":""},{"$f":"IF(ISERROR(VLOOKUP($E301,'File 2'!$B:$B,1,FALSE)),\"\",\"ü\")","v":""},{"$f":"IF(ISERROR(VLOOKUP($E301,'File 3'!$B:$B,1,FALSE)),\"\",\"ü\")","v":""},{"$f":"IF(ISERROR(VLOOKUP($E301,'File 4'!$B:$B,1,FALSE)),\"\",\"ü\")","v":""},{"$f":"IF(ISERROR(VLOOKUP($E301,'File 5'!$B:$B,1,FALSE)),\"\",\"ü\")","v":""}]
[null,null,null,null,{"$f":"IF(INDEX(programmer!$T:$T,ROWS(A$1:A289),1)=\"\",\"\",INDEX(programmer!$T:$T,ROWS(A$1:A289),1))","v":""},{"$f":"IF(ISERROR(VLOOKUP($E302,'File 1'!$B:$B,1,FALSE)),\"\",\"ü\")","v":""},{"$f":"IF(ISERROR(VLOOKUP($E302,'File 2'!$B:$B,1,FALSE)),\"\",\"ü\")","v":""},{"$f":"IF(ISERROR(VLOOKUP($E302,'File 3'!$B:$B,1,FALSE)),\"\",\"ü\")","v":""},{"$f":"IF(ISERROR(VLOOKUP($E302,'File 4'!$B:$B,1,FALSE)),\"\",\"ü\")","v":""},{"$f":"IF(ISERROR(VLOOKUP($E302,'File 5'!$B:$B,1,FALSE)),\"\",\"ü\")","v":""}]
[null,null,null,null,{"$f":"IF(INDEX(programmer!$T:$T,ROWS(A$1:A290),1)=\"\",\"\",INDEX(programmer!$T:$T,ROWS(A$1:A290),1))","v":""},{"$f":"IF(ISERROR(VLOOKUP($E303,'File 1'!$B:$B,1,FALSE)),\"\",\"ü\")","v":""},{"$f":"IF(ISERROR(VLOOKUP($E303,'File 2'!$B:$B,1,FALSE)),\"\",\"ü\")","v":""},{"$f":"IF(ISERROR(VLOOKUP($E303,'File 3'!$B:$B,1,FALSE)),\"\",\"ü\")","v":""},{"$f":"IF(ISERROR(VLOOKUP($E303,'File 4'!$B:$B,1,FALSE)),\"\",\"ü\")","v":""},{"$f":"IF(ISERROR(VLOOKUP($E303,'File 5'!$B:$B,1,FALSE)),\"\",\"ü\")","v":""}]
[null,null,null,null,{"$f":"IF(INDEX(programmer!$T:$T,ROWS(A$1:A291),1)=\"\",\"\",INDEX(programmer!$T:$T,ROWS(A$1:A291),1))","v":""},{"$f":"IF(ISERROR(VLOOKUP($E304,'File 1'!$B:$B,1,FALSE)),\"\",\"ü\")","v":""},{"$f":"IF(ISERROR(VLOOKUP($E304,'File 2'!$B:$B,1,FALSE)),\"\",\"ü\")","v":""},{"$f":"IF(ISERROR(VLOOKUP($E304,'File 3'!$B:$B,1,FALSE)),\"\",\"ü\")","v":""},{"$f":"IF(ISERROR(VLOOKUP($E304,'File 4'!$B:$B,1,FALSE)),\"\",\"ü\")","v":""},{"$f":"IF(ISERROR(VLOOKUP($E304,'File 5'!$B:$B,1,FALSE)),\"\",\"ü\")","v":""}]
[null,null,null,null,{"$f":"IF(INDEX(programmer!$T:$T,ROWS(A$1:A292),1)=\"\",\"\",INDEX(programmer!$T:$T,ROWS(A$1:A292),1))","v":""},{"$f":"IF(ISERROR(VLOOKUP($E305,'File 1'!$B:$B,1,FALSE)),\"\",\"ü\")","v":""},{"$f":"IF(ISERROR(VLOOKUP($E305,'File 2'!$B:$B,1,FALSE)),\"\",\"ü\")","v":""},{"$f":"IF(ISERROR(VLOOKUP($E305,'File 3'!$B:$B,1,FALSE)),\"\",\"ü\")","v":""},{"$f":"IF(ISERROR(VLOOKUP($E305,'File 4'!$B:$B,1,FALSE)),\"\",\"ü\")","v":""},{"$f":"IF(ISERROR(VLOOKUP($E305,'File 5'!$B:$B,1,FALSE)),\"\",\"ü\")","v":""}]
[null,null,null,null,{"$f":"IF(INDEX(programmer!$T:$T,ROWS(A$1:A293),1)=\"\",\"\",INDEX(programmer!$T:$T,ROWS(A$1:A293),1))","v":""},{"$f":"IF(ISERROR(VLOOKUP($E306,'File 1'!$B:$B,1,FALSE)),\"\",\"ü\")","v":""},{"$f":"IF(ISERROR(VLOOKUP($E306,'File 2'!$B:$B,1,FALSE)),\"\",\"ü\")","v":""},{"$f":"IF(ISERROR(VLOOKUP($E306,'File 3'!$B:$B,1,FALSE)),\"\",\"ü\")","v":""},{"$f":"IF(ISERROR(VLOOKUP($E306,'File 4'!$B:$B,1,FALSE)),\"\",\"ü\")","v":""},{"$f":"IF(ISERROR(VLOOKUP($E306,'File 5'!$B:$B,1,FALSE)),\"\",\"ü\")","v":""}]
[null,null,null,null,{"$f":"IF(INDEX(programmer!$T:$T,ROWS(A$1:A294),1)=\"\",\"\",INDEX(programmer!$T:$T,ROWS(A$1:A294),1))","v":""},{"$f":"IF(ISERROR(VLOOKUP($E307,'File 1'!$B:$B,1,FALSE)),\"\",\"ü\")","v":""},{"$f":"IF(ISERROR(VLOOKUP($E307,'File 2'!$B:$B,1,FALSE)),\"\",\"ü\")","v":""},{"$f":"IF(ISERROR(VLOOKUP($E307,'File 3'!$B:$B,1,FALSE)),\"\",\"ü\")","v":""},{"$f":"IF(ISERROR(VLOOKUP($E307,'File 4'!$B:$B,1,FALSE)),\"\",\"ü\")","v":""},{"$f":"IF(ISERROR(VLOOKUP($E307,'File 5'!$B:$B,1,FALSE)),\"\",\"ü\")","v":""}]
[null,null,null,null,{"$f":"IF(INDEX(programmer!$T:$T,ROWS(A$1:A295),1)=\"\",\"\",INDEX(programmer!$T:$T,ROWS(A$1:A295),1))","v":""},{"$f":"IF(ISERROR(VLOOKUP($E308,'File 1'!$B:$B,1,FALSE)),\"\",\"ü\")","v":""},{"$f":"IF(ISERROR(VLOOKUP($E308,'File 2'!$B:$B,1,FALSE)),\"\",\"ü\")","v":""},{"$f":"IF(ISERROR(VLOOKUP($E308,'File 3'!$B:$B,1,FALSE)),\"\",\"ü\")","v":""},{"$f":"IF(ISERROR(VLOOKUP($E308,'File 4'!$B:$B,1,FALSE)),\"\",\"ü\")","v":""},{"$f":"IF(ISERROR(VLOOKUP($E308,'File 5'!$B:$B,1,FALSE)),\"\",\"ü\")","v":""}]
[null,null,null,null,{"$f":"IF(INDEX(programmer!$T:$T,ROWS(A$1:A296),1)=\"\",\"\",INDEX(programmer!$T:$T,ROWS(A$1:A296),1))","v":""},{"$f":"IF(ISERROR(VLOOKUP($E309,'File 1'!$B:$B,1,FALSE)),\"\",\"ü\")","v":""},{"$f":"IF(ISERROR(VLOOKUP($E309,'File 2'!$B:$B,1,FALSE)),\"\",\"ü\")","v":""},{"$f":"IF(ISERROR(VLOOKUP($E309,'File 3'!$B:$B,1,FALSE)),\"\",\"ü\")","v":""},{"$f":"IF(ISERROR(VLOOKUP($E309,'File 4'!$B:$B,1,FALSE)),\"\",\"ü\")","v":""},{"$f":"IF(ISERROR(VLOOKUP($E309,'File 5'!$B:$B,1,FALSE)),\"\",\"ü\")","v":""}]
[null,null,null,null,{"$f":"IF(INDEX(programmer!$T:$T,ROWS(A$1:A297),1)=\"\",\"\",INDEX(programmer!$T:$T,ROWS(A$1:A297),1))","v":""},{"$f":"IF(ISERROR(VLOOKUP($E310,'File 1'!$B:$B,1,FALSE)),\"\",\"ü\")","v":""},{"$f":"IF(ISERROR(VLOOKUP($E310,'File 2'!$B:$B,1,FALSE)),\"\",\"ü\")","v":""},{"$f":"IF(ISERROR(VLOOKUP($E310,'File 3'!$B:$B,1,FALSE)),\"\",\"ü\")","v":""},{"$f":"IF(ISERROR(VLOOKUP($E310,'File 4'!$B:$B,1,FALSE)),\"\",\"ü\")","v":""},{"$f":"IF(ISERROR(VLOOKUP($E310,'File 5'!$B:$B,1,FALSE)),\"\",\"ü\")","v":""}]
[null,null,null,null,{"$f":"IF(INDEX(programmer!$T:$T,ROWS(A$1:A298),1)=\"\",\"\",INDEX(programmer!$T:$T,ROWS(A$1:A298),1))","v":""},{"$f":"IF(ISERROR(VLOOKUP($E311,'File 1'!$B:$B,1,FALSE)),\"\",\"ü\")","v":""},{"$f":"IF(ISERROR(VLOOKUP($E311,'File 2'!$B:$B,1,FALSE)),\"\",\"ü\")","v":""},{"$f":"IF(ISERROR(VLOOKUP($E311,'File 3'!$B:$B,1,FALSE)),\"\",\"ü\")","v":""},{"$f":"IF(ISERROR(VLOOKUP($E311,'File 4'!$B:$B,1,FALSE)),\"\",\"ü\")","v":""},{"$f":"IF(ISERROR(VLOOKUP($E311,'File 5'!$B:$B,1,FALSE)),\"\",\"ü\")","v":""}]
[null,null,null,null,{"$f":"IF(INDEX(programmer!$T:$T,ROWS(A$1:A299),1)=\"\",\"\",INDEX(programmer!$T:$T,ROWS(A$1:A299),1))","v":""},{"$f":"IF(ISERROR(VLOOKUP($E312,'File 1'!$B:$B,1,FALSE)),\"\",\"ü\")","v":""},{"$f":"IF(ISERROR(VLOOKUP($E312,'File 2'!$B:$B,1,FALSE)),\"\",\"ü\")","v":""},{"$f":"IF(ISERROR(VLOOKUP($E312,'File 3'!$B:$B,1,FALSE)),\"\",\"ü\")","v":""},{"$f":"IF(ISERROR(VLOOKUP($E312,'File 4'!$B:$B,1,FALSE)),\"\",\"ü\")","v":""},{"$f":"IF(ISERROR(VLOOKUP($E312,'File 5'!$B:$B,1,FALSE)),\"\",\"ü\")","v":""}]
[null,null,null,null,{"$f":"IF(INDEX(programmer!$T:$T,ROWS(A$1:A300),1)=\"\",\"\",INDEX(programmer!$T:$T,ROWS(A$1:A300),1))","v":""},{"$f":"IF(ISERROR(VLOOKUP($E313,'File 1'!$B:$B,1,FALSE)),\"\",\"ü\")","v":""},{"$f":"IF(ISERROR(VLOOKUP($E313,'File 2'!$B:$B,1,FALSE)),\"\",\"ü\")","v":""},{"$f":"IF(ISERROR(VLOOKUP($E313,'File 3'!$B:$B,1,FALSE)),\"\",\"ü\")","v":""},{"$f":"IF(ISERROR(VLOOKUP($E313,'File 4'!$B:$B,1,FALSE)),\"\",\"ü\")","v":""},{"$f":"IF(ISERROR(VLOOKUP($E313,'File 5'!$B:$B,1,FALSE)),\"\",\"ü\")","v":""}]
[null,null,null,null,{"$f":"IF(INDEX(programmer!$T:$T,ROWS(A$1:A301),1)=\"\",\"\",INDEX(programmer!$T:$T,ROWS(A$1:A301),1))","v":""},{"$f":"IF(ISERROR(VLOOKUP($E314,'File 1'!$B:$B,1,FALSE)),\"\",\"ü\")","v":""},{"$f":"IF(ISERROR(VLOOKUP($E314,'File 2'!$B:$B,1,FALSE)),\"\",\"ü\")","v":""},{"$f":"IF(ISERROR(VLOOKUP($E314,'File 3'!$B:$B,1,FALSE)),\"\",\"ü\")","v":""},{"$f":"IF(ISERROR(VLOOKUP($E314,'File 4'!$B:$B,1,FALSE)),\"\",\"ü\")","v":""},{"$f":"IF(ISERROR(VLOOKUP($E314,'File 5'!$B:$B,1,FALSE)),\"\",\"ü\")","v":""}]
[null,null,null,null,{"$f":"IF(INDEX(programmer!$T:$T,ROWS(A$1:A302),1)=\"\",\"\",INDEX(programmer!$T:$T,ROWS(A$1:A302),1))","v":""},{"$f":"IF(ISERROR(VLOOKUP($E315,'File 1'!$B:$B,1,FALSE)),\"\",\"ü\")","v":""},{"$f":"IF(ISERROR(VLOOKUP($E315,'File 2'!$B:$B,1,FALSE)),\"\",\"ü\")","v":""},{"$f":"IF(ISERROR(VLOOKUP($E315,'File 3'!$B:$B,1,FALSE)),\"\",\"ü\")","v":""},{"$f":"IF(ISERROR(VLOOKUP($E315,'File 4'!$B:$B,1,FALSE)),\"\",\"ü\")","v":""},{"$f":"IF(ISERROR(VLOOKUP($E315,'File 5'!$B:$B,1,FALSE)),\"\",\"ü\")","v":""}]
[null,null,null,null,{"$f":"IF(INDEX(programmer!$T:$T,ROWS(A$1:A303),1)=\"\",\"\",INDEX(programmer!$T:$T,ROWS(A$1:A303),1))","v":""},{"$f":"IF(ISERROR(VLOOKUP($E316,'File 1'!$B:$B,1,FALSE)),\"\",\"ü\")","v":""},{"$f":"IF(ISERROR(VLOOKUP($E316,'File 2'!$B:$B,1,FALSE)),\"\",\"ü\")","v":""},{"$f":"IF(ISERROR(VLOOKUP($E316,'File 3'!$B:$B,1,FALSE)),\"\",\"ü\")","v":""},{"$f":"IF(ISERROR(VLOOKUP($E316,'File 4'!$B:$B,1,FALSE)),\"\",\"ü\")","v":""},{"$f":"IF(ISERROR(VLOOKUP($E316,'File 5'!$B:$B,1,FALSE)),\"\",\"ü\")","v":""}]
[null,null,null,null,{"$f":"IF(INDEX(programmer!$T:$T,ROWS(A$1:A304),1)=\"\",\"\",INDEX(programmer!$T:$T,ROWS(A$1:A304),1))","v":""},{"$f":"IF(ISERROR(VLOOKUP($E317,'File 1'!$B:$B,1,FALSE)),\"\",\"ü\")","v":""},{"$f":"IF(ISERROR(VLOOKUP($E317,'File 2'!$B:$B,1,FALSE)),\"\",\"ü\")","v":""},{"$f":"IF(ISERROR(VLOOKUP($E317,'File 3'!$B:$B,1,FALSE)),\"\",\"ü\")","v":""},{"$f":"IF(ISERROR(VLOOKUP($E317,'File 4'!$B:$B,1,FALSE)),\"\",\"ü\")","v":""},{"$f":"IF(ISERROR(VLOOKUP($E317,'File 5'!$B:$B,1,FALSE)),\"\",\"ü\")","v":""}]
[null,null,null,null,{"$f":"IF(INDEX(programmer!$T:$T,ROWS(A$1:A305),1)=\"\",\"\",INDEX(programmer!$T:$T,ROWS(A$1:A305),1))","v":""},{"$f":"IF(ISERROR(VLOOKUP($E318,'File 1'!$B:$B,1,FALSE)),\"\",\"ü\")","v":""},{"$f":"IF(ISERROR(VLOOKUP($E318,'File 2'!$B:$B,1,FALSE)),\"\",\"ü\")","v":""},{"$f":"IF(ISERROR(VLOOKUP($E318,'File 3'!$B:$B,1,FALSE)),\"\",\"ü\")","v":""},{"$f":"IF(ISERROR(VLOOKUP($E318,'File 4'!$B:$B,1,FALSE)),\"\",\"ü\")","v":""},{"$f":"IF(ISERROR(VLOOKUP($E318,'File 5'!$B:$B,1,FALSE)),\"\",\"ü\")","v":""}]
[null,null,null,null,{"$f":"IF(INDEX(programmer!$T:$T,ROWS(A$1:A306),1)=\"\",\"\",INDEX(programmer!$T:$T,ROWS(A$1:A306),1))","v":""},{"$f":"IF(ISERROR(VLOOKUP($E319,'File 1'!$B:$B,1,FALSE)),\"\",\"ü\")","v":""},{"$f":"IF(ISERROR(VLOOKUP($E319,'File 2'!$B:$B,1,FALSE)),\"\",\"ü\")","v":""},{"$f":"IF(ISERROR(VLOOKUP($E319,'File 3'!$B:$B,1,FALSE)),\"\",\"ü\")","v":""},{"$f":"IF(ISERROR(VLOOKUP($E319,'File 4'!$B:$B,1,FALSE)),\"\",\"ü\")","v":""},{"$f":"IF(ISERROR(VLOOKUP($E319,'File 5'!$B:$B,1,FALSE)),\"\",\"ü\")","v":""}]
[null,null,null,null,{"$f":"IF(INDEX(programmer!$T:$T,ROWS(A$1:A307),1)=\"\",\"\",INDEX(programmer!$T:$T,ROWS(A$1:A307),1))","v":""},{"$f":"IF(ISERROR(VLOOKUP($E320,'File 1'!$B:$B,1,FALSE)),\"\",\"ü\")","v":""},{"$f":"IF(ISERROR(VLOOKUP($E320,'File 2'!$B:$B,1,FALSE)),\"\",\"ü\")","v":""},{"$f":"IF(ISERROR(VLOOKUP($E320,'File 3'!$B:$B,1,FALSE)),\"\",\"ü\")","v":""},{"$f":"IF(ISERROR(VLOOKUP($E320,'File 4'!$B:$B,1,FALSE)),\"\",\"ü\")","v":""},{"$f":"IF(ISERROR(VLOOKUP($E320,'File 5'!$B:$B,1,FALSE)),\"\",\"ü\")","v":""}]
[null,null,null,null,{"$f":"IF(INDEX(programmer!$T:$T,ROWS(A$1:A308),1)=\"\",\"\",INDEX(programmer!$T:$T,ROWS(A$1:A308),1))","v":""},{"$f":"IF(ISERROR(VLOOKUP($E321,'File 1'!$B:$B,1,FALSE)),\"\",\"ü\")","v":""},{"$f":"IF(ISERROR(VLOOKUP($E321,'File 2'!$B:$B,1,FALSE)),\"\",\"ü\")","v":""},{"$f":"IF(ISERROR(VLOOKUP($E321,'File 3'!$B:$B,1,FALSE)),\"\",\"ü\")","v":""},{"$f":"IF(ISERROR(VLOOKUP($E321,'File 4'!$B:$B,1,FALSE)),\"\",\"ü\")","v":""},{"$f":"IF(ISERROR(VLOOKUP($E321,'File 5'!$B:$B,1,FALSE)),\"\",\"ü\")","v":""}]
[null,null,null,null,{"$f":"IF(INDEX(programmer!$T:$T,ROWS(A$1:A309),1)=\"\",\"\",INDEX(programmer!$T:$T,ROWS(A$1:A309),1))","v":""},{"$f":"IF(ISERROR(VLOOKUP($E322,'File 1'!$B:$B,1,FALSE)),\"\",\"ü\")","v":""},{"$f":"IF(ISERROR(VLOOKUP($E322,'File 2'!$B:$B,1,FALSE)),\"\",\"ü\")","v":""},{"$f":"IF(ISERROR(VLOOKUP($E322,'File 3'!$B:$B,1,FALSE)),\"\",\"ü\")","v":""},{"$f":"IF(ISERROR(VLOOKUP($E322,'File 4'!$B:$B,1,FALSE)),\"\",\"ü\")","v":""},{"$f":"IF(ISERROR(VLOOKUP($E322,'File 5'!$B:$B,1,FALSE)),\"\",\"ü\")","v":""}]
[null,null,null,null,{"$f":"IF(INDEX(programmer!$T:$T,ROWS(A$1:A310),1)=\"\",\"\",INDEX(programmer!$T:$T,ROWS(A$1:A310),1))","v":""},{"$f":"IF(ISERROR(VLOOKUP($E323,'File 1'!$B:$B,1,FALSE)),\"\",\"ü\")","v":""},{"$f":"IF(ISERROR(VLOOKUP($E323,'File 2'!$B:$B,1,FALSE)),\"\",\"ü\")","v":""},{"$f":"IF(ISERROR(VLOOKUP($E323,'File 3'!$B:$B,1,FALSE)),\"\",\"ü\")","v":""},{"$f":"IF(ISERROR(VLOOKUP($E323,'File 4'!$B:$B,1,FALSE)),\"\",\"ü\")","v":""},{"$f":"IF(ISERROR(VLOOKUP($E323,'File 5'!$B:$B,1,FALSE)),\"\",\"ü\")","v":""}]
[null,null,null,null,{"$f":"IF(INDEX(programmer!$T:$T,ROWS(A$1:A311),1)=\"\",\"\",INDEX(programmer!$T:$T,ROWS(A$1:A311),1))","v":""},{"$f":"IF(ISERROR(VLOOKUP($E324,'File 1'!$B:$B,1,FALSE)),\"\",\"ü\")","v":""},{"$f":"IF(ISERROR(VLOOKUP($E324,'File 2'!$B:$B,1,FALSE)),\"\",\"ü\")","v":""},{"$f":"IF(ISERROR(VLOOKUP($E324,'File 3'!$B:$B,1,FALSE)),\"\",\"ü\")","v":""},{"$f":"IF(ISERROR(VLOOKUP($E324,'File 4'!$B:$B,1,FALSE)),\"\",\"ü\")","v":""},{"$f":"IF(ISERROR(VLOOKUP($E324,'File 5'!$B:$B,1,FALSE)),\"\",\"ü\")","v":""}]
[null,null,null,null,{"$f":"IF(INDEX(programmer!$T:$T,ROWS(A$1:A312),1)=\"\",\"\",INDEX(programmer!$T:$T,ROWS(A$1:A312),1))","v":""},{"$f":"IF(ISERROR(VLOOKUP($E325,'File 1'!$B:$B,1,FALSE)),\"\",\"ü\")","v":""},{"$f":"IF(ISERROR(VLOOKUP($E325,'File 2'!$B:$B,1,FALSE)),\"\",\"ü\")","v":""},{"$f":"IF(ISERROR(VLOOKUP($E325,'File 3'!$B:$B,1,FALSE)),\"\",\"ü\")","v":""},{"$f":"IF(ISERROR(VLOOKUP($E325,'File 4'!$B:$B,1,FALSE)),\"\",\"ü\")","v":""},{"$f":"IF(ISERROR(VLOOKUP($E325,'File 5'!$B:$B,1,FALSE)),\"\",\"ü\")","v":""}]
[null,null,null,null,{"$f":"IF(INDEX(programmer!$T:$T,ROWS(A$1:A313),1)=\"\",\"\",INDEX(programmer!$T:$T,ROWS(A$1:A313),1))","v":""},{"$f":"IF(ISERROR(VLOOKUP($E326,'File 1'!$B:$B,1,FALSE)),\"\",\"ü\")","v":""},{"$f":"IF(ISERROR(VLOOKUP($E326,'File 2'!$B:$B,1,FALSE)),\"\",\"ü\")","v":""},{"$f":"IF(ISERROR(VLOOKUP($E326,'File 3'!$B:$B,1,FALSE)),\"\",\"ü\")","v":""},{"$f":"IF(ISERROR(VLOOKUP($E326,'File 4'!$B:$B,1,FALSE)),\"\",\"ü\")","v":""},{"$f":"IF(ISERROR(VLOOKUP($E326,'File 5'!$B:$B,1,FALSE)),\"\",\"ü\")","v":""}]
[null,null,null,null,{"$f":"IF(INDEX(programmer!$T:$T,ROWS(A$1:A314),1)=\"\",\"\",INDEX(programmer!$T:$T,ROWS(A$1:A314),1))","v":""},{"$f":"IF(ISERROR(VLOOKUP($E327,'File 1'!$B:$B,1,FALSE)),\"\",\"ü\")","v":""},{"$f":"IF(ISERROR(VLOOKUP($E327,'File 2'!$B:$B,1,FALSE)),\"\",\"ü\")","v":""},{"$f":"IF(ISERROR(VLOOKUP($E327,'File 3'!$B:$B,1,FALSE)),\"\",\"ü\")","v":""},{"$f":"IF(ISERROR(VLOOKUP($E327,'File 4'!$B:$B,1,FALSE)),\"\",\"ü\")","v":""},{"$f":"IF(ISERROR(VLOOKUP($E327,'File 5'!$B:$B,1,FALSE)),\"\",\"ü\")","v":""}]
[null,null,null,null,{"$f":"IF(INDEX(programmer!$T:$T,ROWS(A$1:A315),1)=\"\",\"\",INDEX(programmer!$T:$T,ROWS(A$1:A315),1))","v":""},{"$f":"IF(ISERROR(VLOOKUP($E328,'File 1'!$B:$B,1,FALSE)),\"\",\"ü\")","v":""},{"$f":"IF(ISERROR(VLOOKUP($E328,'File 2'!$B:$B,1,FALSE)),\"\",\"ü\")","v":""},{"$f":"IF(ISERROR(VLOOKUP($E328,'File 3'!$B:$B,1,FALSE)),\"\",\"ü\")","v":""},{"$f":"IF(ISERROR(VLOOKUP($E328,'File 4'!$B:$B,1,FALSE)),\"\",\"ü\")","v":""},{"$f":"IF(ISERROR(VLOOKUP($E328,'File 5'!$B:$B,1,FALSE)),\"\",\"ü\")","v":""}]
[null,null,null,null,{"$f":"IF(INDEX(programmer!$T:$T,ROWS(A$1:A316),1)=\"\",\"\",INDEX(programmer!$T:$T,ROWS(A$1:A316),1))","v":""},{"$f":"IF(ISERROR(VLOOKUP($E329,'File 1'!$B:$B,1,FALSE)),\"\",\"ü\")","v":""},{"$f":"IF(ISERROR(VLOOKUP($E329,'File 2'!$B:$B,1,FALSE)),\"\",\"ü\")","v":""},{"$f":"IF(ISERROR(VLOOKUP($E329,'File 3'!$B:$B,1,FALSE)),\"\",\"ü\")","v":""},{"$f":"IF(ISERROR(VLOOKUP($E329,'File 4'!$B:$B,1,FALSE)),\"\",\"ü\")","v":""},{"$f":"IF(ISERROR(VLOOKUP($E329,'File 5'!$B:$B,1,FALSE)),\"\",\"ü\")","v":""}]
[null,null,null,null,{"$f":"IF(INDEX(programmer!$T:$T,ROWS(A$1:A317),1)=\"\",\"\",INDEX(programmer!$T:$T,ROWS(A$1:A317),1))","v":""},{"$f":"IF(ISERROR(VLOOKUP($E330,'File 1'!$B:$B,1,FALSE)),\"\",\"ü\")","v":""},{"$f":"IF(ISERROR(VLOOKUP($E330,'File 2'!$B:$B,1,FALSE)),\"\",\"ü\")","v":""},{"$f":"IF(ISERROR(VLOOKUP($E330,'File 3'!$B:$B,1,FALSE)),\"\",\"ü\")","v":""},{"$f":"IF(ISERROR(VLOOKUP($E330,'File 4'!$B:$B,1,FALSE)),\"\",\"ü\")","v":""},{"$f":"IF(ISERROR(VLOOKUP($E330,'File 5'!$B:$B,1,FALSE)),\"\",\"ü\")","v":""}]
[null,null,null,null,{"$f":"IF(INDEX(programmer!$T:$T,ROWS(A$1:A318),1)=\"\",\"\",INDEX(programmer!$T:$T,ROWS(A$1:A318),1))","v":""},{"$f":"IF(ISERROR(VLOOKUP($E331,'File 1'!$B:$B,1,FALSE)),\"\",\"ü\")","v":""},{"$f":"IF(ISERROR(VLOOKUP($E331,'File 2'!$B:$B,1,FALSE)),\"\",\"ü\")","v":""},{"$f":"IF(ISERROR(VLOOKUP($E331,'File 3'!$B:$B,1,FALSE)),\"\",\"ü\")","v":""},{"$f":"IF(ISERROR(VLOOKUP($E331,'File 4'!$B:$B,1,FALSE)),\"\",\"ü\")","v":""},{"$f":"IF(ISERROR(VLOOKUP($E331,'File 5'!$B:$B,1,FALSE)),\"\",\"ü\")","v":""}]
[null,null,null,null,{"$f":"IF(INDEX(programmer!$T:$T,ROWS(A$1:A319),1)=\"\",\"\",INDEX(programmer!$T:$T,ROWS(A$1:A319),1))","v":""},{"$f":"IF(ISERROR(VLOOKUP($E332,'File 1'!$B:$B,1,FALSE)),\"\",\"ü\")","v":""},{"$f":"IF(ISERROR(VLOOKUP($E332,'File 2'!$B:$B,1,FALSE)),\"\",\"ü\")","v":""},{"$f":"IF(ISERROR(VLOOKUP($E332,'File 3'!$B:$B,1,FALSE)),\"\",\"ü\")","v":""},{"$f":"IF(ISERROR(VLOOKUP($E332,'File 4'!$B:$B,1,FALSE)),\"\",\"ü\")","v":""},{"$f":"IF(ISERROR(VLOOKUP($E332,'File 5'!$B:$B,1,FALSE)),\"\",\"ü\")","v":""}]
[null,null,null,null,{"$f":"IF(INDEX(programmer!$T:$T,ROWS(A$1:A320),1)=\"\",\"\",INDEX(programmer!$T:$T,ROWS(A$1:A320),1))","v":""},{"$f":"IF(ISERROR(VLOOKUP($E333,'File 1'!$B:$B,1,FALSE)),\"\",\"ü\")","v":""},{"$f":"IF(ISERROR(VLOOKUP($E333,'File 2'!$B:$B,1,FALSE)),\"\",\"ü\")","v":""},{"$f":"IF(ISERROR(VLOOKUP($E333,'File 3'!$B:$B,1,FALSE)),\"\",\"ü\")","v":""},{"$f":"IF(ISERROR(VLOOKUP($E333,'File 4'!$B:$B,1,FALSE)),\"\",\"ü\")","v":""},{"$f":"IF(ISERROR(VLOOKUP($E333,'File 5'!$B:$B,1,FALSE)),\"\",\"ü\")","v":""}]
[null,null,null,null,{"$f":"IF(INDEX(programmer!$T:$T,ROWS(A$1:A321),1)=\"\",\"\",INDEX(programmer!$T:$T,ROWS(A$1:A321),1))","v":""},{"$f":"IF(ISERROR(VLOOKUP($E334,'File 1'!$B:$B,1,FALSE)),\"\",\"ü\")","v":""},{"$f":"IF(ISERROR(VLOOKUP($E334,'File 2'!$B:$B,1,FALSE)),\"\",\"ü\")","v":""},{"$f":"IF(ISERROR(VLOOKUP($E334,'File 3'!$B:$B,1,FALSE)),\"\",\"ü\")","v":""},{"$f":"IF(ISERROR(VLOOKUP($E334,'File 4'!$B:$B,1,FALSE)),\"\",\"ü\")","v":""},{"$f":"IF(ISERROR(VLOOKUP($E334,'File 5'!$B:$B,1,FALSE)),\"\",\"ü\")","v":""}]
[null,null,null,null,{"$f":"IF(INDEX(programmer!$T:$T,ROWS(A$1:A322),1)=\"\",\"\",INDEX(programmer!$T:$T,ROWS(A$1:A322),1))","v":""},{"$f":"IF(ISERROR(VLOOKUP($E335,'File 1'!$B:$B,1,FALSE)),\"\",\"ü\")","v":""},{"$f":"IF(ISERROR(VLOOKUP($E335,'File 2'!$B:$B,1,FALSE)),\"\",\"ü\")","v":""},{"$f":"IF(ISERROR(VLOOKUP($E335,'File 3'!$B:$B,1,FALSE)),\"\",\"ü\")","v":""},{"$f":"IF(ISERROR(VLOOKUP($E335,'File 4'!$B:$B,1,FALSE)),\"\",\"ü\")","v":""},{"$f":"IF(ISERROR(VLOOKUP($E335,'File 5'!$B:$B,1,FALSE)),\"\",\"ü\")","v":""}]
[null,null,null,null,{"$f":"IF(INDEX(programmer!$T:$T,ROWS(A$1:A323),1)=\"\",\"\",INDEX(programmer!$T:$T,ROWS(A$1:A323),1))","v":""},{"$f":"IF(ISERROR(VLOOKUP($E336,'File 1'!$B:$B,1,FALSE)),\"\",\"ü\")","v":""},{"$f":"IF(ISERROR(VLOOKUP($E336,'File 2'!$B:$B,1,FALSE)),\"\",\"ü\")","v":""},{"$f":"IF(ISERROR(VLOOKUP($E336,'File 3'!$B:$B,1,FALSE)),\"\",\"ü\")","v":""},{"$f":"IF(ISERROR(VLOOKUP($E336,'File 4'!$B:$B,1,FALSE)),\"\",\"ü\")","v":""},{"$f":"IF(ISERROR(VLOOKUP($E336,'File 5'!$B:$B,1,FALSE)),\"\",\"ü\")","v":""}]
[null,null,null,null,{"$f":"IF(INDEX(programmer!$T:$T,ROWS(A$1:A324),1)=\"\",\"\",INDEX(programmer!$T:$T,ROWS(A$1:A324),1))","v":""},{"$f":"IF(ISERROR(VLOOKUP($E337,'File 1'!$B:$B,1,FALSE)),\"\",\"ü\")","v":""},{"$f":"IF(ISERROR(VLOOKUP($E337,'File 2'!$B:$B,1,FALSE)),\"\",\"ü\")","v":""},{"$f":"IF(ISERROR(VLOOKUP($E337,'File 3'!$B:$B,1,FALSE)),\"\",\"ü\")","v":""},{"$f":"IF(ISERROR(VLOOKUP($E337,'File 4'!$B:$B,1,FALSE)),\"\",\"ü\")","v":""},{"$f":"IF(ISERROR(VLOOKUP($E337,'File 5'!$B:$B,1,FALSE)),\"\",\"ü\")","v":""}]
[null,null,null,null,{"$f":"IF(INDEX(programmer!$T:$T,ROWS(A$1:A325),1)=\"\",\"\",INDEX(programmer!$T:$T,ROWS(A$1:A325),1))","v":""},{"$f":"IF(ISERROR(VLOOKUP($E338,'File 1'!$B:$B,1,FALSE)),\"\",\"ü\")","v":""},{"$f":"IF(ISERROR(VLOOKUP($E338,'File 2'!$B:$B,1,FALSE)),\"\",\"ü\")","v":""},{"$f":"IF(ISERROR(VLOOKUP($E338,'File 3'!$B:$B,1,FALSE)),\"\",\"ü\")","v":""},{"$f":"IF(ISERROR(VLOOKUP($E338,'File 4'!$B:$B,1,FALSE)),\"\",\"ü\")","v":""},{"$f":"IF(ISERROR(VLOOKUP($E338,'File 5'!$B:$B,1,FALSE)),\"\",\"ü\")","v":""}]
[null,null,null,null,{"$f":"IF(INDEX(programmer!$T:$T,ROWS(A$1:A326),1)=\"\",\"\",INDEX(programmer!$T:$T,ROWS(A$1:A326),1))","v":""},{"$f":"IF(ISERROR(VLOOKUP($E339,'File 1'!$B:$B,1,FALSE)),\"\",\"ü\")","v":""},{"$f":"IF(ISERROR(VLOOKUP($E339,'File 2'!$B:$B,1,FALSE)),\"\",\"ü\")","v":""},{"$f":"IF(ISERROR(VLOOKUP($E339,'File 3'!$B:$B,1,FALSE)),\"\",\"ü\")","v":""},{"$f":"IF(ISERROR(VLOOKUP($E339,'File 4'!$B:$B,1,FALSE)),\"\",\"ü\")","v":""},{"$f":"IF(ISERROR(VLOOKUP($E339,'File 5'!$B:$B,1,FALSE)),\"\",\"ü\")","v":""}]
[null,null,null,null,{"$f":"IF(INDEX(programmer!$T:$T,ROWS(A$1:A327),1)=\"\",\"\",INDEX(programmer!$T:$T,ROWS(A$1:A327),1))","v":""},{"$f":"IF(ISERROR(VLOOKUP($E340,'File 1'!$B:$B,1,FALSE)),\"\",\"ü\")","v":""},{"$f":"IF(ISERROR(VLOOKUP($E340,'File 2'!$B:$B,1,FALSE)),\"\",\"ü\")","v":""},{"$f":"IF(ISERROR(VLOOKUP($E340,'File 3'!$B:$B,1,FALSE)),\"\",\"ü\")","v":""},{"$f":"IF(ISERROR(VLOOKUP($E340,'File 4'!$B:$B,1,FALSE)),\"\",\"ü\")","v":""},{"$f":"IF(ISERROR(VLOOKUP($E340,'File 5'!$B:$B,1,FALSE)),\"\",\"ü\")","v":""}]
[null,null,null,null,{"$f":"IF(INDEX(programmer!$T:$T,ROWS(A$1:A328),1)=\"\",\"\",INDEX(programmer!$T:$T,ROWS(A$1:A328),1))","v":""},{"$f":"IF(ISERROR(VLOOKUP($E341,'File 1'!$B:$B,1,FALSE)),\"\",\"ü\")","v":""},{"$f":"IF(ISERROR(VLOOKUP($E341,'File 2'!$B:$B,1,FALSE)),\"\",\"ü\")","v":""},{"$f":"IF(ISERROR(VLOOKUP($E341,'File 3'!$B:$B,1,FALSE)),\"\",\"ü\")","v":""},{"$f":"IF(ISERROR(VLOOKUP($E341,'File 4'!$B:$B,1,FALSE)),\"\",\"ü\")","v":""},{"$f":"IF(ISERROR(VLOOKUP($E341,'File 5'!$B:$B,1,FALSE)),\"\",\"ü\")","v":""}]
[null,null,null,null,{"$f":"IF(INDEX(programmer!$T:$T,ROWS(A$1:A329),1)=\"\",\"\",INDEX(programmer!$T:$T,ROWS(A$1:A329),1))","v":""},{"$f":"IF(ISERROR(VLOOKUP($E342,'File 1'!$B:$B,1,FALSE)),\"\",\"ü\")","v":""},{"$f":"IF(ISERROR(VLOOKUP($E342,'File 2'!$B:$B,1,FALSE)),\"\",\"ü\")","v":""},{"$f":"IF(ISERROR(VLOOKUP($E342,'File 3'!$B:$B,1,FALSE)),\"\",\"ü\")","v":""},{"$f":"IF(ISERROR(VLOOKUP($E342,'File 4'!$B:$B,1,FALSE)),\"\",\"ü\")","v":""},{"$f":"IF(ISERROR(VLOOKUP($E342,'File 5'!$B:$B,1,FALSE)),\"\",\"ü\")","v":""}]
[null,null,null,null,{"$f":"IF(INDEX(programmer!$T:$T,ROWS(A$1:A330),1)=\"\",\"\",INDEX(programmer!$T:$T,ROWS(A$1:A330),1))","v":""},{"$f":"IF(ISERROR(VLOOKUP($E343,'File 1'!$B:$B,1,FALSE)),\"\",\"ü\")","v":""},{"$f":"IF(ISERROR(VLOOKUP($E343,'File 2'!$B:$B,1,FALSE)),\"\",\"ü\")","v":""},{"$f":"IF(ISERROR(VLOOKUP($E343,'File 3'!$B:$B,1,FALSE)),\"\",\"ü\")","v":""},{"$f":"IF(ISERROR(VLOOKUP($E343,'File 4'!$B:$B,1,FALSE)),\"\",\"ü\")","v":""},{"$f":"IF(ISERROR(VLOOKUP($E343,'File 5'!$B:$B,1,FALSE)),\"\",\"ü\")","v":""}]
[null,null,null,null,{"$f":"IF(INDEX(programmer!$T:$T,ROWS(A$1:A331),1)=\"\",\"\",INDEX(programmer!$T:$T,ROWS(A$1:A331),1))","v":""},{"$f":"IF(ISERROR(VLOOKUP($E344,'File 1'!$B:$B,1,FALSE)),\"\",\"ü\")","v":""},{"$f":"IF(ISERROR(VLOOKUP($E344,'File 2'!$B:$B,1,FALSE)),\"\",\"ü\")","v":""},{"$f":"IF(ISERROR(VLOOKUP($E344,'File 3'!$B:$B,1,FALSE)),\"\",\"ü\")","v":""},{"$f":"IF(ISERROR(VLOOKUP($E344,'File 4'!$B:$B,1,FALSE)),\"\",\"ü\")","v":""},{"$f":"IF(ISERROR(VLOOKUP($E344,'File 5'!$B:$B,1,FALSE)),\"\",\"ü\")","v":""}]
[null,null,null,null,{"$f":"IF(INDEX(programmer!$T:$T,ROWS(A$1:A332),1)=\"\",\"\",INDEX(programmer!$T:$T,ROWS(A$1:A332),1))","v":""},{"$f":"IF(ISERROR(VLOOKUP($E345,'File 1'!$B:$B,1,FALSE)),\"\",\"ü\")","v":""},{"$f":"IF(ISERROR(VLOOKUP($E345,'File 2'!$B:$B,1,FALSE)),\"\",\"ü\")","v":""},{"$f":"IF(ISERROR(VLOOKUP($E345,'File 3'!$B:$B,1,FALSE)),\"\",\"ü\")","v":""},{"$f":"IF(ISERROR(VLOOKUP($E345,'File 4'!$B:$B,1,FALSE)),\"\",\"ü\")","v":""},{"$f":"IF(ISERROR(VLOOKUP($E345,'File 5'!$B:$B,1,FALSE)),\"\",\"ü\")","v":""}]
[null,null,null,null,{"$f":"IF(INDEX(programmer!$T:$T,ROWS(A$1:A333),1)=\"\",\"\",INDEX(programmer!$T:$T,ROWS(A$1:A333),1))","v":""},{"$f":"IF(ISERROR(VLOOKUP($E346,'File 1'!$B:$B,1,FALSE)),\"\",\"ü\")","v":""},{"$f":"IF(ISERROR(VLOOKUP($E346,'File 2'!$B:$B,1,FALSE)),\"\",\"ü\")","v":""},{"$f":"IF(ISERROR(VLOOKUP($E346,'File 3'!$B:$B,1,FALSE)),\"\",\"ü\")","v":""},{"$f":"IF(ISERROR(VLOOKUP($E346,'File 4'!$B:$B,1,FALSE)),\"\",\"ü\")","v":""},{"$f":"IF(ISERROR(VLOOKUP($E346,'File 5'!$B:$B,1,FALSE)),\"\",\"ü\")","v":""}]
[null,null,null,null,{"$f":"IF(INDEX(programmer!$T:$T,ROWS(A$1:A334),1)=\"\",\"\",INDEX(programmer!$T:$T,ROWS(A$1:A334),1))","v":""},{"$f":"IF(ISERROR(VLOOKUP($E347,'File 1'!$B:$B,1,FALSE)),\"\",\"ü\")","v":""},{"$f":"IF(ISERROR(VLOOKUP($E347,'File 2'!$B:$B,1,FALSE)),\"\",\"ü\")","v":""},{"$f":"IF(ISERROR(VLOOKUP($E347,'File 3'!$B:$B,1,FALSE)),\"\",\"ü\")","v":""},{"$f":"IF(ISERROR(VLOOKUP($E347,'File 4'!$B:$B,1,FALSE)),\"\",\"ü\")","v":""},{"$f":"IF(ISERROR(VLOOKUP($E347,'File 5'!$B:$B,1,FALSE)),\"\",\"ü\")","v":""}]
[null,null,null,null,{"$f":"IF(INDEX(programmer!$T:$T,ROWS(A$1:A335),1)=\"\",\"\",INDEX(programmer!$T:$T,ROWS(A$1:A335),1))","v":""},{"$f":"IF(ISERROR(VLOOKUP($E348,'File 1'!$B:$B,1,FALSE)),\"\",\"ü\")","v":""},{"$f":"IF(ISERROR(VLOOKUP($E348,'File 2'!$B:$B,1,FALSE)),\"\",\"ü\")","v":""},{"$f":"IF(ISERROR(VLOOKUP($E348,'File 3'!$B:$B,1,FALSE)),\"\",\"ü\")","v":""},{"$f":"IF(ISERROR(VLOOKUP($E348,'File 4'!$B:$B,1,FALSE)),\"\",\"ü\")","v":""},{"$f":"IF(ISERROR(VLOOKUP($E348,'File 5'!$B:$B,1,FALSE)),\"\",\"ü\")","v":""}]
[null,null,null,null,{"$f":"IF(INDEX(programmer!$T:$T,ROWS(A$1:A336),1)=\"\",\"\",INDEX(programmer!$T:$T,ROWS(A$1:A336),1))","v":""},{"$f":"IF(ISERROR(VLOOKUP($E349,'File 1'!$B:$B,1,FALSE)),\"\",\"ü\")","v":""},{"$f":"IF(ISERROR(VLOOKUP($E349,'File 2'!$B:$B,1,FALSE)),\"\",\"ü\")","v":""},{"$f":"IF(ISERROR(VLOOKUP($E349,'File 3'!$B:$B,1,FALSE)),\"\",\"ü\")","v":""},{"$f":"IF(ISERROR(VLOOKUP($E349,'File 4'!$B:$B,1,FALSE)),\"\",\"ü\")","v":""},{"$f":"IF(ISERROR(VLOOKUP($E349,'File 5'!$B:$B,1,FALSE)),\"\",\"ü\")","v":""}]
[null,null,null,null,{"$f":"IF(INDEX(programmer!$T:$T,ROWS(A$1:A337),1)=\"\",\"\",INDEX(programmer!$T:$T,ROWS(A$1:A337),1))","v":""},{"$f":"IF(ISERROR(VLOOKUP($E350,'File 1'!$B:$B,1,FALSE)),\"\",\"ü\")","v":""},{"$f":"IF(ISERROR(VLOOKUP($E350,'File 2'!$B:$B,1,FALSE)),\"\",\"ü\")","v":""},{"$f":"IF(ISERROR(VLOOKUP($E350,'File 3'!$B:$B,1,FALSE)),\"\",\"ü\")","v":""},{"$f":"IF(ISERROR(VLOOKUP($E350,'File 4'!$B:$B,1,FALSE)),\"\",\"ü\")","v":""},{"$f":"IF(ISERROR(VLOOKUP($E350,'File 5'!$B:$B,1,FALSE)),\"\",\"ü\")","v":""}]
[null,null,null,null,{"$f":"IF(INDEX(programmer!$T:$T,ROWS(A$1:A338),1)=\"\",\"\",INDEX(programmer!$T:$T,ROWS(A$1:A338),1))","v":""},{"$f":"IF(ISERROR(VLOOKUP($E351,'File 1'!$B:$B,1,FALSE)),\"\",\"ü\")","v":""},{"$f":"IF(ISERROR(VLOOKUP($E351,'File 2'!$B:$B,1,FALSE)),\"\",\"ü\")","v":""},{"$f":"IF(ISERROR(VLOOKUP($E351,'File 3'!$B:$B,1,FALSE)),\"\",\"ü\")","v":""},{"$f":"IF(ISERROR(VLOOKUP($E351,'File 4'!$B:$B,1,FALSE)),\"\",\"ü\")","v":""},{"$f":"IF(ISERROR(VLOOKUP($E351,'File 5'!$B:$B,1,FALSE)),\"\",\"ü\")","v":""}]
[null,null,null,null,{"$f":"IF(INDEX(programmer!$T:$T,ROWS(A$1:A339),1)=\"\",\"\",INDEX(programmer!$T:$T,ROWS(A$1:A339),1))","v":""},{"$f":"IF(ISERROR(VLOOKUP($E352,'File 1'!$B:$B,1,FALSE)),\"\",\"ü\")","v":""},{"$f":"IF(ISERROR(VLOOKUP($E352,'File 2'!$B:$B,1,FALSE)),\"\",\"ü\")","v":""},{"$f":"IF(ISERROR(VLOOKUP($E352,'File 3'!$B:$B,1,FALSE)),\"\",\"ü\")","v":""},{"$f":"IF(ISERROR(VLOOKUP($E352,'File 4'!$B:$B,1,FALSE)),\"\",\"ü\")","v":""},{"$f":"IF(ISERROR(VLOOKUP($E352,'File 5'!$B:$B,1,FALSE)),\"\",\"ü\")","v":""}]
[null,null,null,null,{"$f":"IF(INDEX(programmer!$T:$T,ROWS(A$1:A340),1)=\"\",\"\",INDEX(programmer!$T:$T,ROWS(A$1:A340),1))","v":""},{"$f":"IF(ISERROR(VLOOKUP($E353,'File 1'!$B:$B,1,FALSE)),\"\",\"ü\")","v":""},{"$f":"IF(ISERROR(VLOOKUP($E353,'File 2'!$B:$B,1,FALSE)),\"\",\"ü\")","v":""},{"$f":"IF(ISERROR(VLOOKUP($E353,'File 3'!$B:$B,1,FALSE)),\"\",\"ü\")","v":""},{"$f":"IF(ISERROR(VLOOKUP($E353,'File 4'!$B:$B,1,FALSE)),\"\",\"ü\")","v":""},{"$f":"IF(ISERROR(VLOOKUP($E353,'File 5'!$B:$B,1,FALSE)),\"\",\"ü\")","v":""}]
[null,null,null,null,{"$f":"IF(INDEX(programmer!$T:$T,ROWS(A$1:A341),1)=\"\",\"\",INDEX(programmer!$T:$T,ROWS(A$1:A341),1))","v":""},{"$f":"IF(ISERROR(VLOOKUP($E354,'File 1'!$B:$B,1,FALSE)),\"\",\"ü\")","v":""},{"$f":"IF(ISERROR(VLOOKUP($E354,'File 2'!$B:$B,1,FALSE)),\"\",\"ü\")","v":""},{"$f":"IF(ISERROR(VLOOKUP($E354,'File 3'!$B:$B,1,FALSE)),\"\",\"ü\")","v":""},{"$f":"IF(ISERROR(VLOOKUP($E354,'File 4'!$B:$B,1,FALSE)),\"\",\"ü\")","v":""},{"$f":"IF(ISERROR(VLOOKUP($E354,'File 5'!$B:$B,1,FALSE)),\"\",\"ü\")","v":""}]
[null,null,null,null,{"$f":"IF(INDEX(programmer!$T:$T,ROWS(A$1:A342),1)=\"\",\"\",INDEX(programmer!$T:$T,ROWS(A$1:A342),1))","v":""},{"$f":"IF(ISERROR(VLOOKUP($E355,'File 1'!$B:$B,1,FALSE)),\"\",\"ü\")","v":""},{"$f":"IF(ISERROR(VLOOKUP($E355,'File 2'!$B:$B,1,FALSE)),\"\",\"ü\")","v":""},{"$f":"IF(ISERROR(VLOOKUP($E355,'File 3'!$B:$B,1,FALSE)),\"\",\"ü\")","v":""},{"$f":"IF(ISERROR(VLOOKUP($E355,'File 4'!$B:$B,1,FALSE)),\"\",\"ü\")","v":""},{"$f":"IF(ISERROR(VLOOKUP($E355,'File 5'!$B:$B,1,FALSE)),\"\",\"ü\")","v":""}]
[null,null,null,null,{"$f":"IF(INDEX(programmer!$T:$T,ROWS(A$1:A343),1)=\"\",\"\",INDEX(programmer!$T:$T,ROWS(A$1:A343),1))","v":""},{"$f":"IF(ISERROR(VLOOKUP($E356,'File 1'!$B:$B,1,FALSE)),\"\",\"ü\")","v":""},{"$f":"IF(ISERROR(VLOOKUP($E356,'File 2'!$B:$B,1,FALSE)),\"\",\"ü\")","v":""},{"$f":"IF(ISERROR(VLOOKUP($E356,'File 3'!$B:$B,1,FALSE)),\"\",\"ü\")","v":""},{"$f":"IF(ISERROR(VLOOKUP($E356,'File 4'!$B:$B,1,FALSE)),\"\",\"ü\")","v":""},{"$f":"IF(ISERROR(VLOOKUP($E356,'File 5'!$B:$B,1,FALSE)),\"\",\"ü\")","v":""}]
[null,null,null,null,{"$f":"IF(INDEX(programmer!$T:$T,ROWS(A$1:A344),1)=\"\",\"\",INDEX(programmer!$T:$T,ROWS(A$1:A344),1))","v":""},{"$f":"IF(ISERROR(VLOOKUP($E357,'File 1'!$B:$B,1,FALSE)),\"\",\"ü\")","v":""},{"$f":"IF(ISERROR(VLOOKUP($E357,'File 2'!$B:$B,1,FALSE)),\"\",\"ü\")","v":""},{"$f":"IF(ISERROR(VLOOKUP($E357,'File 3'!$B:$B,1,FALSE)),\"\",\"ü\")","v":""},{"$f":"IF(ISERROR(VLOOKUP($E357,'File 4'!$B:$B,1,FALSE)),\"\",\"ü\")","v":""},{"$f":"IF(ISERROR(VLOOKUP($E357,'File 5'!$B:$B,1,FALSE)),\"\",\"ü\")","v":""}]
[null,null,null,null,{"$f":"IF(INDEX(programmer!$T:$T,ROWS(A$1:A345),1)=\"\",\"\",INDEX(programmer!$T:$T,ROWS(A$1:A345),1))","v":""},{"$f":"IF(ISERROR(VLOOKUP($E358,'File 1'!$B:$B,1,FALSE)),\"\",\"ü\")","v":""},{"$f":"IF(ISERROR(VLOOKUP($E358,'File 2'!$B:$B,1,FALSE)),\"\",\"ü\")","v":""},{"$f":"IF(ISERROR(VLOOKUP($E358,'File 3'!$B:$B,1,FALSE)),\"\",\"ü\")","v":""},{"$f":"IF(ISERROR(VLOOKUP($E358,'File 4'!$B:$B,1,FALSE)),\"\",\"ü\")","v":""},{"$f":"IF(ISERROR(VLOOKUP($E358,'File 5'!$B:$B,1,FALSE)),\"\",\"ü\")","v":""}]
[null,null,null,null,{"$f":"IF(INDEX(programmer!$T:$T,ROWS(A$1:A346),1)=\"\",\"\",INDEX(programmer!$T:$T,ROWS(A$1:A346),1))","v":""},{"$f":"IF(ISERROR(VLOOKUP($E359,'File 1'!$B:$B,1,FALSE)),\"\",\"ü\")","v":""},{"$f":"IF(ISERROR(VLOOKUP($E359,'File 2'!$B:$B,1,FALSE)),\"\",\"ü\")","v":""},{"$f":"IF(ISERROR(VLOOKUP($E359,'File 3'!$B:$B,1,FALSE)),\"\",\"ü\")","v":""},{"$f":"IF(ISERROR(VLOOKUP($E359,'File 4'!$B:$B,1,FALSE)),\"\",\"ü\")","v":""},{"$f":"IF(ISERROR(VLOOKUP($E359,'File 5'!$B:$B,1,FALSE)),\"\",\"ü\")","v":""}]
[null,null,null,null,{"$f":"IF(INDEX(programmer!$T:$T,ROWS(A$1:A347),1)=\"\",\"\",INDEX(programmer!$T:$T,ROWS(A$1:A347),1))","v":""},{"$f":"IF(ISERROR(VLOOKUP($E360,'File 1'!$B:$B,1,FALSE)),\"\",\"ü\")","v":""},{"$f":"IF(ISERROR(VLOOKUP($E360,'File 2'!$B:$B,1,FALSE)),\"\",\"ü\")","v":""},{"$f":"IF(ISERROR(VLOOKUP($E360,'File 3'!$B:$B,1,FALSE)),\"\",\"ü\")","v":""},{"$f":"IF(ISERROR(VLOOKUP($E360,'File 4'!$B:$B,1,FALSE)),\"\",\"ü\")","v":""},{"$f":"IF(ISERROR(VLOOKUP($E360,'File 5'!$B:$B,1,FALSE)),\"\",\"ü\")","v":""}]
[null,null,null,null,{"$f":"IF(INDEX(programmer!$T:$T,ROWS(A$1:A348),1)=\"\",\"\",INDEX(programmer!$T:$T,ROWS(A$1:A348),1))","v":""},{"$f":"IF(ISERROR(VLOOKUP($E361,'File 1'!$B:$B,1,FALSE)),\"\",\"ü\")","v":""},{"$f":"IF(ISERROR(VLOOKUP($E361,'File 2'!$B:$B,1,FALSE)),\"\",\"ü\")","v":""},{"$f":"IF(ISERROR(VLOOKUP($E361,'File 3'!$B:$B,1,FALSE)),\"\",\"ü\")","v":""},{"$f":"IF(ISERROR(VLOOKUP($E361,'File 4'!$B:$B,1,FALSE)),\"\",\"ü\")","v":""},{"$f":"IF(ISERROR(VLOOKUP($E361,'File 5'!$B:$B,1,FALSE)),\"\",\"ü\")","v":""}]
[null,null,null,null,{"$f":"IF(INDEX(programmer!$T:$T,ROWS(A$1:A349),1)=\"\",\"\",INDEX(programmer!$T:$T,ROWS(A$1:A349),1))","v":""},{"$f":"IF(ISERROR(VLOOKUP($E362,'File 1'!$B:$B,1,FALSE)),\"\",\"ü\")","v":""},{"$f":"IF(ISERROR(VLOOKUP($E362,'File 2'!$B:$B,1,FALSE)),\"\",\"ü\")","v":""},{"$f":"IF(ISERROR(VLOOKUP($E362,'File 3'!$B:$B,1,FALSE)),\"\",\"ü\")","v":""},{"$f":"IF(ISERROR(VLOOKUP($E362,'File 4'!$B:$B,1,FALSE)),\"\",\"ü\")","v":""},{"$f":"IF(ISERROR(VLOOKUP($E362,'File 5'!$B:$B,1,FALSE)),\"\",\"ü\")","v":""}]
[null,null,null,null,{"$f":"IF(INDEX(programmer!$T:$T,ROWS(A$1:A350),1)=\"\",\"\",INDEX(programmer!$T:$T,ROWS(A$1:A350),1))","v":""},{"$f":"IF(ISERROR(VLOOKUP($E363,'File 1'!$B:$B,1,FALSE)),\"\",\"ü\")","v":""},{"$f":"IF(ISERROR(VLOOKUP($E363,'File 2'!$B:$B,1,FALSE)),\"\",\"ü\")","v":""},{"$f":"IF(ISERROR(VLOOKUP($E363,'File 3'!$B:$B,1,FALSE)),\"\",\"ü\")","v":""},{"$f":"IF(ISERROR(VLOOKUP($E363,'File 4'!$B:$B,1,FALSE)),\"\",\"ü\")","v":""},{"$f":"IF(ISERROR(VLOOKUP($E363,'File 5'!$B:$B,1,FALSE)),\"\",\"ü\")","v":""}]
[null,null,null,null,{"$f":"IF(INDEX(programmer!$T:$T,ROWS(A$1:A351),1)=\"\",\"\",INDEX(programmer!$T:$T,ROWS(A$1:A351),1))","v":""},{"$f":"IF(ISERROR(VLOOKUP($E364,'File 1'!$B:$B,1,FALSE)),\"\",\"ü\")","v":""},{"$f":"IF(ISERROR(VLOOKUP($E364,'File 2'!$B:$B,1,FALSE)),\"\",\"ü\")","v":""},{"$f":"IF(ISERROR(VLOOKUP($E364,'File 3'!$B:$B,1,FALSE)),\"\",\"ü\")","v":""},{"$f":"IF(ISERROR(VLOOKUP($E364,'File 4'!$B:$B,1,FALSE)),\"\",\"ü\")","v":""},{"$f":"IF(ISERROR(VLOOKUP($E364,'File 5'!$B:$B,1,FALSE)),\"\",\"ü\")","v":""}]
[null,null,null,null,{"$f":"IF(INDEX(programmer!$T:$T,ROWS(A$1:A352),1)=\"\",\"\",INDEX(programmer!$T:$T,ROWS(A$1:A352),1))","v":""},{"$f":"IF(ISERROR(VLOOKUP($E365,'File 1'!$B:$B,1,FALSE)),\"\",\"ü\")","v":""},{"$f":"IF(ISERROR(VLOOKUP($E365,'File 2'!$B:$B,1,FALSE)),\"\",\"ü\")","v":""},{"$f":"IF(ISERROR(VLOOKUP($E365,'File 3'!$B:$B,1,FALSE)),\"\",\"ü\")","v":""},{"$f":"IF(ISERROR(VLOOKUP($E365,'File 4'!$B:$B,1,FALSE)),\"\",\"ü\")","v":""},{"$f":"IF(ISERROR(VLOOKUP($E365,'File 5'!$B:$B,1,FALSE)),\"\",\"ü\")","v":""}]
[null,null,null,null,{"$f":"IF(INDEX(programmer!$T:$T,ROWS(A$1:A353),1)=\"\",\"\",INDEX(programmer!$T:$T,ROWS(A$1:A353),1))","v":""},{"$f":"IF(ISERROR(VLOOKUP($E366,'File 1'!$B:$B,1,FALSE)),\"\",\"ü\")","v":""},{"$f":"IF(ISERROR(VLOOKUP($E366,'File 2'!$B:$B,1,FALSE)),\"\",\"ü\")","v":""},{"$f":"IF(ISERROR(VLOOKUP($E366,'File 3'!$B:$B,1,FALSE)),\"\",\"ü\")","v":""},{"$f":"IF(ISERROR(VLOOKUP($E366,'File 4'!$B:$B,1,FALSE)),\"\",\"ü\")","v":""},{"$f":"IF(ISERROR(VLOOKUP($E366,'File 5'!$B:$B,1,FALSE)),\"\",\"ü\")","v":""}]
[null,null,null,null,{"$f":"IF(INDEX(programmer!$T:$T,ROWS(A$1:A354),1)=\"\",\"\",INDEX(programmer!$T:$T,ROWS(A$1:A354),1))","v":""},{"$f":"IF(ISERROR(VLOOKUP($E367,'File 1'!$B:$B,1,FALSE)),\"\",\"ü\")","v":""},{"$f":"IF(ISERROR(VLOOKUP($E367,'File 2'!$B:$B,1,FALSE)),\"\",\"ü\")","v":""},{"$f":"IF(ISERROR(VLOOKUP($E367,'File 3'!$B:$B,1,FALSE)),\"\",\"ü\")","v":""},{"$f":"IF(ISERROR(VLOOKUP($E367,'File 4'!$B:$B,1,FALSE)),\"\",\"ü\")","v":""},{"$f":"IF(ISERROR(VLOOKUP($E367,'File 5'!$B:$B,1,FALSE)),\"\",\"ü\")","v":""}]
[null,null,null,null,{"$f":"IF(INDEX(programmer!$T:$T,ROWS(A$1:A355),1)=\"\",\"\",INDEX(programmer!$T:$T,ROWS(A$1:A355),1))","v":""},{"$f":"IF(ISERROR(VLOOKUP($E368,'File 1'!$B:$B,1,FALSE)),\"\",\"ü\")","v":""},{"$f":"IF(ISERROR(VLOOKUP($E368,'File 2'!$B:$B,1,FALSE)),\"\",\"ü\")","v":""},{"$f":"IF(ISERROR(VLOOKUP($E368,'File 3'!$B:$B,1,FALSE)),\"\",\"ü\")","v":""},{"$f":"IF(ISERROR(VLOOKUP($E368,'File 4'!$B:$B,1,FALSE)),\"\",\"ü\")","v":""},{"$f":"IF(ISERROR(VLOOKUP($E368,'File 5'!$B:$B,1,FALSE)),\"\",\"ü\")","v":""}]
[null,null,null,null,{"$f":"IF(INDEX(programmer!$T:$T,ROWS(A$1:A356),1)=\"\",\"\",INDEX(programmer!$T:$T,ROWS(A$1:A356),1))","v":""},{"$f":"IF(ISERROR(VLOOKUP($E369,'File 1'!$B:$B,1,FALSE)),\"\",\"ü\")","v":""},{"$f":"IF(ISERROR(VLOOKUP($E369,'File 2'!$B:$B,1,FALSE)),\"\",\"ü\")","v":""},{"$f":"IF(ISERROR(VLOOKUP($E369,'File 3'!$B:$B,1,FALSE)),\"\",\"ü\")","v":""},{"$f":"IF(ISERROR(VLOOKUP($E369,'File 4'!$B:$B,1,FALSE)),\"\",\"ü\")","v":""},{"$f":"IF(ISERROR(VLOOKUP($E369,'File 5'!$B:$B,1,FALSE)),\"\",\"ü\")","v":""}]
[null,null,null,null,{"$f":"IF(INDEX(programmer!$T:$T,ROWS(A$1:A357),1)=\"\",\"\",INDEX(programmer!$T:$T,ROWS(A$1:A357),1))","v":""},{"$f":"IF(ISERROR(VLOOKUP($E370,'File 1'!$B:$B,1,FALSE)),\"\",\"ü\")","v":""},{"$f":"IF(ISERROR(VLOOKUP($E370,'File 2'!$B:$B,1,FALSE)),\"\",\"ü\")","v":""},{"$f":"IF(ISERROR(VLOOKUP($E370,'File 3'!$B:$B,1,FALSE)),\"\",\"ü\")","v":""},{"$f":"IF(ISERROR(VLOOKUP($E370,'File 4'!$B:$B,1,FALSE)),\"\",\"ü\")","v":""},{"$f":"IF(ISERROR(VLOOKUP($E370,'File 5'!$B:$B,1,FALSE)),\"\",\"ü\")","v":""}]
[null,null,null,null,{"$f":"IF(INDEX(programmer!$T:$T,ROWS(A$1:A358),1)=\"\",\"\",INDEX(programmer!$T:$T,ROWS(A$1:A358),1))","v":""},{"$f":"IF(ISERROR(VLOOKUP($E371,'File 1'!$B:$B,1,FALSE)),\"\",\"ü\")","v":""},{"$f":"IF(ISERROR(VLOOKUP($E371,'File 2'!$B:$B,1,FALSE)),\"\",\"ü\")","v":""},{"$f":"IF(ISERROR(VLOOKUP($E371,'File 3'!$B:$B,1,FALSE)),\"\",\"ü\")","v":""},{"$f":"IF(ISERROR(VLOOKUP($E371,'File 4'!$B:$B,1,FALSE)),\"\",\"ü\")","v":""},{"$f":"IF(ISERROR(VLOOKUP($E371,'File 5'!$B:$B,1,FALSE)),\"\",\"ü\")","v":""}]
[null,null,null,null,{"$f":"IF(INDEX(programmer!$T:$T,ROWS(A$1:A359),1)=\"\",\"\",INDEX(programmer!$T:$T,ROWS(A$1:A359),1))","v":""},{"$f":"IF(ISERROR(VLOOKUP($E372,'File 1'!$B:$B,1,FALSE)),\"\",\"ü\")","v":""},{"$f":"IF(ISERROR(VLOOKUP($E372,'File 2'!$B:$B,1,FALSE)),\"\",\"ü\")","v":""},{"$f":"IF(ISERROR(VLOOKUP($E372,'File 3'!$B:$B,1,FALSE)),\"\",\"ü\")","v":""},{"$f":"IF(ISERROR(VLOOKUP($E372,'File 4'!$B:$B,1,FALSE)),\"\",\"ü\")","v":""},{"$f":"IF(ISERROR(VLOOKUP($E372,'File 5'!$B:$B,1,FALSE)),\"\",\"ü\")","v":""}]
[null,null,null,null,{"$f":"IF(INDEX(programmer!$T:$T,ROWS(A$1:A360),1)=\"\",\"\",INDEX(programmer!$T:$T,ROWS(A$1:A360),1))","v":""},{"$f":"IF(ISERROR(VLOOKUP($E373,'File 1'!$B:$B,1,FALSE)),\"\",\"ü\")","v":""},{"$f":"IF(ISERROR(VLOOKUP($E373,'File 2'!$B:$B,1,FALSE)),\"\",\"ü\")","v":""},{"$f":"IF(ISERROR(VLOOKUP($E373,'File 3'!$B:$B,1,FALSE)),\"\",\"ü\")","v":""},{"$f":"IF(ISERROR(VLOOKUP($E373,'File 4'!$B:$B,1,FALSE)),\"\",\"ü\")","v":""},{"$f":"IF(ISERROR(VLOOKUP($E373,'File 5'!$B:$B,1,FALSE)),\"\",\"ü\")","v":""}]
[null,null,null,null,{"$f":"IF(INDEX(programmer!$T:$T,ROWS(A$1:A361),1)=\"\",\"\",INDEX(programmer!$T:$T,ROWS(A$1:A361),1))","v":""},{"$f":"IF(ISERROR(VLOOKUP($E374,'File 1'!$B:$B,1,FALSE)),\"\",\"ü\")","v":""},{"$f":"IF(ISERROR(VLOOKUP($E374,'File 2'!$B:$B,1,FALSE)),\"\",\"ü\")","v":""},{"$f":"IF(ISERROR(VLOOKUP($E374,'File 3'!$B:$B,1,FALSE)),\"\",\"ü\")","v":""},{"$f":"IF(ISERROR(VLOOKUP($E374,'File 4'!$B:$B,1,FALSE)),\"\",\"ü\")","v":""},{"$f":"IF(ISERROR(VLOOKUP($E374,'File 5'!$B:$B,1,FALSE)),\"\",\"ü\")","v":""}]
[null,null,null,null,{"$f":"IF(INDEX(programmer!$T:$T,ROWS(A$1:A362),1)=\"\",\"\",INDEX(programmer!$T:$T,ROWS(A$1:A362),1))","v":""},{"$f":"IF(ISERROR(VLOOKUP($E375,'File 1'!$B:$B,1,FALSE)),\"\",\"ü\")","v":""},{"$f":"IF(ISERROR(VLOOKUP($E375,'File 2'!$B:$B,1,FALSE)),\"\",\"ü\")","v":""},{"$f":"IF(ISERROR(VLOOKUP($E375,'File 3'!$B:$B,1,FALSE)),\"\",\"ü\")","v":""},{"$f":"IF(ISERROR(VLOOKUP($E375,'File 4'!$B:$B,1,FALSE)),\"\",\"ü\")","v":""},{"$f":"IF(ISERROR(VLOOKUP($E375,'File 5'!$B:$B,1,FALSE)),\"\",\"ü\")","v":""}]
[null,null,null,null,{"$f":"IF(INDEX(programmer!$T:$T,ROWS(A$1:A363),1)=\"\",\"\",INDEX(programmer!$T:$T,ROWS(A$1:A363),1))","v":""},{"$f":"IF(ISERROR(VLOOKUP($E376,'File 1'!$B:$B,1,FALSE)),\"\",\"ü\")","v":""},{"$f":"IF(ISERROR(VLOOKUP($E376,'File 2'!$B:$B,1,FALSE)),\"\",\"ü\")","v":""},{"$f":"IF(ISERROR(VLOOKUP($E376,'File 3'!$B:$B,1,FALSE)),\"\",\"ü\")","v":""},{"$f":"IF(ISERROR(VLOOKUP($E376,'File 4'!$B:$B,1,FALSE)),\"\",\"ü\")","v":""},{"$f":"IF(ISERROR(VLOOKUP($E376,'File 5'!$B:$B,1,FALSE)),\"\",\"ü\")","v":""}]
[null,null,null,null,{"$f":"IF(INDEX(programmer!$T:$T,ROWS(A$1:A364),1)=\"\",\"\",INDEX(programmer!$T:$T,ROWS(A$1:A364),1))","v":""},{"$f":"IF(ISERROR(VLOOKUP($E377,'File 1'!$B:$B,1,FALSE)),\"\",\"ü\")","v":""},{"$f":"IF(ISERROR(VLOOKUP($E377,'File 2'!$B:$B,1,FALSE)),\"\",\"ü\")","v":""},{"$f":"IF(ISERROR(VLOOKUP($E377,'File 3'!$B:$B,1,FALSE)),\"\",\"ü\")","v":""},{"$f":"IF(ISERROR(VLOOKUP($E377,'File 4'!$B:$B,1,FALSE)),\"\",\"ü\")","v":""},{"$f":"IF(ISERROR(VLOOKUP($E377,'File 5'!$B:$B,1,FALSE)),\"\",\"ü\")","v":""}]
[null,null,null,null,{"$f":"IF(INDEX(programmer!$T:$T,ROWS(A$1:A365),1)=\"\",\"\",INDEX(programmer!$T:$T,ROWS(A$1:A365),1))","v":""},{"$f":"IF(ISERROR(VLOOKUP($E378,'File 1'!$B:$B,1,FALSE)),\"\",\"ü\")","v":""},{"$f":"IF(ISERROR(VLOOKUP($E378,'File 2'!$B:$B,1,FALSE)),\"\",\"ü\")","v":""},{"$f":"IF(ISERROR(VLOOKUP($E378,'File 3'!$B:$B,1,FALSE)),\"\",\"ü\")","v":""},{"$f":"IF(ISERROR(VLOOKUP($E378,'File 4'!$B:$B,1,FALSE)),\"\",\"ü\")","v":""},{"$f":"IF(ISERROR(VLOOKUP($E378,'File 5'!$B:$B,1,FALSE)),\"\",\"ü\")","v":""}]
[null,null,null,null,{"$f":"IF(INDEX(programmer!$T:$T,ROWS(A$1:A366),1)=\"\",\"\",INDEX(programmer!$T:$T,ROWS(A$1:A366),1))","v":""},{"$f":"IF(ISERROR(VLOOKUP($E379,'File 1'!$B:$B,1,FALSE)),\"\",\"ü\")","v":""},{"$f":"IF(ISERROR(VLOOKUP($E379,'File 2'!$B:$B,1,FALSE)),\"\",\"ü\")","v":""},{"$f":"IF(ISERROR(VLOOKUP($E379,'File 3'!$B:$B,1,FALSE)),\"\",\"ü\")","v":""},{"$f":"IF(ISERROR(VLOOKUP($E379,'File 4'!$B:$B,1,FALSE)),\"\",\"ü\")","v":""},{"$f":"IF(ISERROR(VLOOKUP($E379,'File 5'!$B:$B,1,FALSE)),\"\",\"ü\")","v":""}]
[null,null,null,null,{"$f":"IF(INDEX(programmer!$T:$T,ROWS(A$1:A367),1)=\"\",\"\",INDEX(programmer!$T:$T,ROWS(A$1:A367),1))","v":""},{"$f":"IF(ISERROR(VLOOKUP($E380,'File 1'!$B:$B,1,FALSE)),\"\",\"ü\")","v":""},{"$f":"IF(ISERROR(VLOOKUP($E380,'File 2'!$B:$B,1,FALSE)),\"\",\"ü\")","v":""},{"$f":"IF(ISERROR(VLOOKUP($E380,'File 3'!$B:$B,1,FALSE)),\"\",\"ü\")","v":""},{"$f":"IF(ISERROR(VLOOKUP($E380,'File 4'!$B:$B,1,FALSE)),\"\",\"ü\")","v":""},{"$f":"IF(ISERROR(VLOOKUP($E380,'File 5'!$B:$B,1,FALSE)),\"\",\"ü\")","v":""}]
[null,null,null,null,{"$f":"IF(INDEX(programmer!$T:$T,ROWS(A$1:A368),1)=\"\",\"\",INDEX(programmer!$T:$T,ROWS(A$1:A368),1))","v":""},{"$f":"IF(ISERROR(VLOOKUP($E381,'File 1'!$B:$B,1,FALSE)),\"\",\"ü\")","v":""},{"$f":"IF(ISERROR(VLOOKUP($E381,'File 2'!$B:$B,1,FALSE)),\"\",\"ü\")","v":""},{"$f":"IF(ISERROR(VLOOKUP($E381,'File 3'!$B:$B,1,FALSE)),\"\",\"ü\")","v":""},{"$f":"IF(ISERROR(VLOOKUP($E381,'File 4'!$B:$B,1,FALSE)),\"\",\"ü\")","v":""},{"$f":"IF(ISERROR(VLOOKUP($E381,'File 5'!$B:$B,1,FALSE)),\"\",\"ü\")","v":""}]
[null,null,null,null,{"$f":"IF(INDEX(programmer!$T:$T,ROWS(A$1:A369),1)=\"\",\"\",INDEX(programmer!$T:$T,ROWS(A$1:A369),1))","v":""},{"$f":"IF(ISERROR(VLOOKUP($E382,'File 1'!$B:$B,1,FALSE)),\"\",\"ü\")","v":""},{"$f":"IF(ISERROR(VLOOKUP($E382,'File 2'!$B:$B,1,FALSE)),\"\",\"ü\")","v":""},{"$f":"IF(ISERROR(VLOOKUP($E382,'File 3'!$B:$B,1,FALSE)),\"\",\"ü\")","v":""},{"$f":"IF(ISERROR(VLOOKUP($E382,'File 4'!$B:$B,1,FALSE)),\"\",\"ü\")","v":""},{"$f":"IF(ISERROR(VLOOKUP($E382,'File 5'!$B:$B,1,FALSE)),\"\",\"ü\")","v":""}]
[null,null,null,null,{"$f":"IF(INDEX(programmer!$T:$T,ROWS(A$1:A370),1)=\"\",\"\",INDEX(programmer!$T:$T,ROWS(A$1:A370),1))","v":""},{"$f":"IF(ISERROR(VLOOKUP($E383,'File 1'!$B:$B,1,FALSE)),\"\",\"ü\")","v":""},{"$f":"IF(ISERROR(VLOOKUP($E383,'File 2'!$B:$B,1,FALSE)),\"\",\"ü\")","v":""},{"$f":"IF(ISERROR(VLOOKUP($E383,'File 3'!$B:$B,1,FALSE)),\"\",\"ü\")","v":""},{"$f":"IF(ISERROR(VLOOKUP($E383,'File 4'!$B:$B,1,FALSE)),\"\",\"ü\")","v":""},{"$f":"IF(ISERROR(VLOOKUP($E383,'File 5'!$B:$B,1,FALSE)),\"\",\"ü\")","v":""}]
[null,null,null,null,{"$f":"IF(INDEX(programmer!$T:$T,ROWS(A$1:A371),1)=\"\",\"\",INDEX(programmer!$T:$T,ROWS(A$1:A371),1))","v":""},{"$f":"IF(ISERROR(VLOOKUP($E384,'File 1'!$B:$B,1,FALSE)),\"\",\"ü\")","v":""},{"$f":"IF(ISERROR(VLOOKUP($E384,'File 2'!$B:$B,1,FALSE)),\"\",\"ü\")","v":""},{"$f":"IF(ISERROR(VLOOKUP($E384,'File 3'!$B:$B,1,FALSE)),\"\",\"ü\")","v":""},{"$f":"IF(ISERROR(VLOOKUP($E384,'File 4'!$B:$B,1,FALSE)),\"\",\"ü\")","v":""},{"$f":"IF(ISERROR(VLOOKUP($E384,'File 5'!$B:$B,1,FALSE)),\"\",\"ü\")","v":""}]
[null,null,null,null,{"$f":"IF(INDEX(programmer!$T:$T,ROWS(A$1:A372),1)=\"\",\"\",INDEX(programmer!$T:$T,ROWS(A$1:A372),1))","v":""},{"$f":"IF(ISERROR(VLOOKUP($E385,'File 1'!$B:$B,1,FALSE)),\"\",\"ü\")","v":""},{"$f":"IF(ISERROR(VLOOKUP($E385,'File 2'!$B:$B,1,FALSE)),\"\",\"ü\")","v":""},{"$f":"IF(ISERROR(VLOOKUP($E385,'File 3'!$B:$B,1,FALSE)),\"\",\"ü\")","v":""},{"$f":"IF(ISERROR(VLOOKUP($E385,'File 4'!$B:$B,1,FALSE)),\"\",\"ü\")","v":""},{"$f":"IF(ISERROR(VLOOKUP($E385,'File 5'!$B:$B,1,FALSE)),\"\",\"ü\")","v":""}]
[null,null,null,null,{"$f":"IF(INDEX(programmer!$T:$T,ROWS(A$1:A373),1)=\"\",\"\",INDEX(programmer!$T:$T,ROWS(A$1:A373),1))","v":""},{"$f":"IF(ISERROR(VLOOKUP($E386,'File 1'!$B:$B,1,FALSE)),\"\",\"ü\")","v":""},{"$f":"IF(ISERROR(VLOOKUP($E386,'File 2'!$B:$B,1,FALSE)),\"\",\"ü\")","v":""},{"$f":"IF(ISERROR(VLOOKUP($E386,'File 3'!$B:$B,1,FALSE)),\"\",\"ü\")","v":""},{"$f":"IF(ISERROR(VLOOKUP($E386,'File 4'!$B:$B,1,FALSE)),\"\",\"ü\")","v":""},{"$f":"IF(ISERROR(VLOOKUP($E386,'File 5'!$B:$B,1,FALSE)),\"\",\"ü\")","v":""}]
[null,null,null,null,{"$f":"IF(INDEX(programmer!$T:$T,ROWS(A$1:A374),1)=\"\",\"\",INDEX(programmer!$T:$T,ROWS(A$1:A374),1))","v":""},{"$f":"IF(ISERROR(VLOOKUP($E387,'File 1'!$B:$B,1,FALSE)),\"\",\"ü\")","v":""},{"$f":"IF(ISERROR(VLOOKUP($E387,'File 2'!$B:$B,1,FALSE)),\"\",\"ü\")","v":""},{"$f":"IF(ISERROR(VLOOKUP($E387,'File 3'!$B:$B,1,FALSE)),\"\",\"ü\")","v":""},{"$f":"IF(ISERROR(VLOOKUP($E387,'File 4'!$B:$B,1,FALSE)),\"\",\"ü\")","v":""},{"$f":"IF(ISERROR(VLOOKUP($E387,'File 5'!$B:$B,1,FALSE)),\"\",\"ü\")","v":""}]
[null,null,null,null,{"$f":"IF(INDEX(programmer!$T:$T,ROWS(A$1:A375),1)=\"\",\"\",INDEX(programmer!$T:$T,ROWS(A$1:A375),1))","v":""},{"$f":"IF(ISERROR(VLOOKUP($E388,'File 1'!$B:$B,1,FALSE)),\"\",\"ü\")","v":""},{"$f":"IF(ISERROR(VLOOKUP($E388,'File 2'!$B:$B,1,FALSE)),\"\",\"ü\")","v":""},{"$f":"IF(ISERROR(VLOOKUP($E388,'File 3'!$B:$B,1,FALSE)),\"\",\"ü\")","v":""},{"$f":"IF(ISERROR(VLOOKUP($E388,'File 4'!$B:$B,1,FALSE)),\"\",\"ü\")","v":""},{"$f":"IF(ISERROR(VLOOKUP($E388,'File 5'!$B:$B,1,FALSE)),\"\",\"ü\")","v":""}]
[null,null,null,null,{"$f":"IF(INDEX(programmer!$T:$T,ROWS(A$1:A376),1)=\"\",\"\",INDEX(programmer!$T:$T,ROWS(A$1:A376),1))","v":""},{"$f":"IF(ISERROR(VLOOKUP($E389,'File 1'!$B:$B,1,FALSE)),\"\",\"ü\")","v":""},{"$f":"IF(ISERROR(VLOOKUP($E389,'File 2'!$B:$B,1,FALSE)),\"\",\"ü\")","v":""},{"$f":"IF(ISERROR(VLOOKUP($E389,'File 3'!$B:$B,1,FALSE)),\"\",\"ü\")","v":""},{"$f":"IF(ISERROR(VLOOKUP($E389,'File 4'!$B:$B,1,FALSE)),\"\",\"ü\")","v":""},{"$f":"IF(ISERROR(VLOOKUP($E389,'File 5'!$B:$B,1,FALSE)),\"\",\"ü\")","v":""}]
[null,null,null,null,{"$f":"IF(INDEX(programmer!$T:$T,ROWS(A$1:A377),1)=\"\",\"\",INDEX(programmer!$T:$T,ROWS(A$1:A377),1))","v":""},{"$f":"IF(ISERROR(VLOOKUP($E390,'File 1'!$B:$B,1,FALSE)),\"\",\"ü\")","v":""},{"$f":"IF(ISERROR(VLOOKUP($E390,'File 2'!$B:$B,1,FALSE)),\"\",\"ü\")","v":""},{"$f":"IF(ISERROR(VLOOKUP($E390,'File 3'!$B:$B,1,FALSE)),\"\",\"ü\")","v":""},{"$f":"IF(ISERROR(VLOOKUP($E390,'File 4'!$B:$B,1,FALSE)),\"\",\"ü\")","v":""},{"$f":"IF(ISERROR(VLOOKUP($E390,'File 5'!$B:$B,1,FALSE)),\"\",\"ü\")","v":""}]
[null,null,null,null,{"$f":"IF(INDEX(programmer!$T:$T,ROWS(A$1:A378),1)=\"\",\"\",INDEX(programmer!$T:$T,ROWS(A$1:A378),1))","v":""},{"$f":"IF(ISERROR(VLOOKUP($E391,'File 1'!$B:$B,1,FALSE)),\"\",\"ü\")","v":""},{"$f":"IF(ISERROR(VLOOKUP($E391,'File 2'!$B:$B,1,FALSE)),\"\",\"ü\")","v":""},{"$f":"IF(ISERROR(VLOOKUP($E391,'File 3'!$B:$B,1,FALSE)),\"\",\"ü\")","v":""},{"$f":"IF(ISERROR(VLOOKUP($E391,'File 4'!$B:$B,1,FALSE)),\"\",\"ü\")","v":""},{"$f":"IF(ISERROR(VLOOKUP($E391,'File 5'!$B:$B,1,FALSE)),\"\",\"ü\")","v":""}]
[null,null,null,null,{"$f":"IF(INDEX(programmer!$T:$T,ROWS(A$1:A379),1)=\"\",\"\",INDEX(programmer!$T:$T,ROWS(A$1:A379),1))","v":""},{"$f":"IF(ISERROR(VLOOKUP($E392,'File 1'!$B:$B,1,FALSE)),\"\",\"ü\")","v":""},{"$f":"IF(ISERROR(VLOOKUP($E392,'File 2'!$B:$B,1,FALSE)),\"\",\"ü\")","v":""},{"$f":"IF(ISERROR(VLOOKUP($E392,'File 3'!$B:$B,1,FALSE)),\"\",\"ü\")","v":""},{"$f":"IF(ISERROR(VLOOKUP($E392,'File 4'!$B:$B,1,FALSE)),\"\",\"ü\")","v":""},{"$f":"IF(ISERROR(VLOOKUP($E392,'File 5'!$B:$B,1,FALSE)),\"\",\"ü\")","v":""}]
[null,null,null,null,{"$f":"IF(INDEX(programmer!$T:$T,ROWS(A$1:A380),1)=\"\",\"\",INDEX(programmer!$T:$T,ROWS(A$1:A380),1))","v":""},{"$f":"IF(ISERROR(VLOOKUP($E393,'File 1'!$B:$B,1,FALSE)),\"\",\"ü\")","v":""},{"$f":"IF(ISERROR(VLOOKUP($E393,'File 2'!$B:$B,1,FALSE)),\"\",\"ü\")","v":""},{"$f":"IF(ISERROR(VLOOKUP($E393,'File 3'!$B:$B,1,FALSE)),\"\",\"ü\")","v":""},{"$f":"IF(ISERROR(VLOOKUP($E393,'File 4'!$B:$B,1,FALSE)),\"\",\"ü\")","v":""},{"$f":"IF(ISERROR(VLOOKUP($E393,'File 5'!$B:$B,1,FALSE)),\"\",\"ü\")","v":""}]
[null,null,null,null,{"$f":"IF(INDEX(programmer!$T:$T,ROWS(A$1:A381),1)=\"\",\"\",INDEX(programmer!$T:$T,ROWS(A$1:A381),1))","v":""},{"$f":"IF(ISERROR(VLOOKUP($E394,'File 1'!$B:$B,1,FALSE)),\"\",\"ü\")","v":""},{"$f":"IF(ISERROR(VLOOKUP($E394,'File 2'!$B:$B,1,FALSE)),\"\",\"ü\")","v":""},{"$f":"IF(ISERROR(VLOOKUP($E394,'File 3'!$B:$B,1,FALSE)),\"\",\"ü\")","v":""},{"$f":"IF(ISERROR(VLOOKUP($E394,'File 4'!$B:$B,1,FALSE)),\"\",\"ü\")","v":""},{"$f":"IF(ISERROR(VLOOKUP($E394,'File 5'!$B:$B,1,FALSE)),\"\",\"ü\")","v":""}]
[null,null,null,null,{"$f":"IF(INDEX(programmer!$T:$T,ROWS(A$1:A382),1)=\"\",\"\",INDEX(programmer!$T:$T,ROWS(A$1:A382),1))","v":""},{"$f":"IF(ISERROR(VLOOKUP($E395,'File 1'!$B:$B,1,FALSE)),\"\",\"ü\")","v":""},{"$f":"IF(ISERROR(VLOOKUP($E395,'File 2'!$B:$B,1,FALSE)),\"\",\"ü\")","v":""},{"$f":"IF(ISERROR(VLOOKUP($E395,'File 3'!$B:$B,1,FALSE)),\"\",\"ü\")","v":""},{"$f":"IF(ISERROR(VLOOKUP($E395,'File 4'!$B:$B,1,FALSE)),\"\",\"ü\")","v":""},{"$f":"IF(ISERROR(VLOOKUP($E395,'File 5'!$B:$B,1,FALSE)),\"\",\"ü\")","v":""}]
[null,null,null,null,{"$f":"IF(INDEX(programmer!$T:$T,ROWS(A$1:A383),1)=\"\",\"\",INDEX(programmer!$T:$T,ROWS(A$1:A383),1))","v":""},{"$f":"IF(ISERROR(VLOOKUP($E396,'File 1'!$B:$B,1,FALSE)),\"\",\"ü\")","v":""},{"$f":"IF(ISERROR(VLOOKUP($E396,'File 2'!$B:$B,1,FALSE)),\"\",\"ü\")","v":""},{"$f":"IF(ISERROR(VLOOKUP($E396,'File 3'!$B:$B,1,FALSE)),\"\",\"ü\")","v":""},{"$f":"IF(ISERROR(VLOOKUP($E396,'File 4'!$B:$B,1,FALSE)),\"\",\"ü\")","v":""},{"$f":"IF(ISERROR(VLOOKUP($E396,'File 5'!$B:$B,1,FALSE)),\"\",\"ü\")","v":""}]
[null,null,null,null,{"$f":"IF(INDEX(programmer!$T:$T,ROWS(A$1:A384),1)=\"\",\"\",INDEX(programmer!$T:$T,ROWS(A$1:A384),1))","v":""},{"$f":"IF(ISERROR(VLOOKUP($E397,'File 1'!$B:$B,1,FALSE)),\"\",\"ü\")","v":""},{"$f":"IF(ISERROR(VLOOKUP($E397,'File 2'!$B:$B,1,FALSE)),\"\",\"ü\")","v":""},{"$f":"IF(ISERROR(VLOOKUP($E397,'File 3'!$B:$B,1,FALSE)),\"\",\"ü\")","v":""},{"$f":"IF(ISERROR(VLOOKUP($E397,'File 4'!$B:$B,1,FALSE)),\"\",\"ü\")","v":""},{"$f":"IF(ISERROR(VLOOKUP($E397,'File 5'!$B:$B,1,FALSE)),\"\",\"ü\")","v":""}]
[null,null,null,null,{"$f":"IF(INDEX(programmer!$T:$T,ROWS(A$1:A385),1)=\"\",\"\",INDEX(programmer!$T:$T,ROWS(A$1:A385),1))","v":""},{"$f":"IF(ISERROR(VLOOKUP($E398,'File 1'!$B:$B,1,FALSE)),\"\",\"ü\")","v":""},{"$f":"IF(ISERROR(VLOOKUP($E398,'File 2'!$B:$B,1,FALSE)),\"\",\"ü\")","v":""},{"$f":"IF(ISERROR(VLOOKUP($E398,'File 3'!$B:$B,1,FALSE)),\"\",\"ü\")","v":""},{"$f":"IF(ISERROR(VLOOKUP($E398,'File 4'!$B:$B,1,FALSE)),\"\",\"ü\")","v":""},{"$f":"IF(ISERROR(VLOOKUP($E398,'File 5'!$B:$B,1,FALSE)),\"\",\"ü\")","v":""}]
[null,null,null,null,{"$f":"IF(INDEX(programmer!$T:$T,ROWS(A$1:A386),1)=\"\",\"\",INDEX(programmer!$T:$T,ROWS(A$1:A386),1))","v":""},{"$f":"IF(ISERROR(VLOOKUP($E399,'File 1'!$B:$B,1,FALSE)),\"\",\"ü\")","v":""},{"$f":"IF(ISERROR(VLOOKUP($E399,'File 2'!$B:$B,1,FALSE)),\"\",\"ü\")","v":""},{"$f":"IF(ISERROR(VLOOKUP($E399,'File 3'!$B:$B,1,FALSE)),\"\",\"ü\")","v":""},{"$f":"IF(ISERROR(VLOOKUP($E399,'File 4'!$B:$B,1,FALSE)),\"\",\"ü\")","v":""},{"$f":"IF(ISERROR(VLOOKUP($E399,'File 5'!$B:$B,1,FALSE)),\"\",\"ü\")","v":""}]
[null,null,null,null,{"$f":"IF(INDEX(programmer!$T:$T,ROWS(A$1:A387),1)=\"\",\"\",INDEX(programmer!$T:$T,ROWS(A$1:A387),1))","v":""},{"$f":"IF(ISERROR(VLOOKUP($E400,'File 1'!$B:$B,1,FALSE)),\"\",\"ü\")","v":""},{"$f":"IF(ISERROR(VLOOKUP($E400,'File 2'!$B:$B,1,FALSE)),\"\",\"ü\")","v":""},{"$f":"IF(ISERROR(VLOOKUP($E400,'File 3'!$B:$B,1,FALSE)),\"\",\"ü\")","v":""},{"$f":"IF(ISERROR(VLOOKUP($E400,'File 4'!$B:$B,1,FALSE)),\"\",\"ü\")","v":""},{"$f":"IF(ISERROR(VLOOKUP($E400,'File 5'!$B:$B,1,FALSE)),\"\",\"ü\")","v":""}]
[null,null,null,null,{"$f":"IF(INDEX(programmer!$T:$T,ROWS(A$1:A388),1)=\"\",\"\",INDEX(programmer!$T:$T,ROWS(A$1:A388),1))","v":""},{"$f":"IF(ISERROR(VLOOKUP($E401,'File 1'!$B:$B,1,FALSE)),\"\",\"ü\")","v":""},{"$f":"IF(ISERROR(VLOOKUP($E401,'File 2'!$B:$B,1,FALSE)),\"\",\"ü\")","v":""},{"$f":"IF(ISERROR(VLOOKUP($E401,'File 3'!$B:$B,1,FALSE)),\"\",\"ü\")","v":""},{"$f":"IF(ISERROR(VLOOKUP($E401,'File 4'!$B:$B,1,FALSE)),\"\",\"ü\")","v":""},{"$f":"IF(ISERROR(VLOOKUP($E401,'File 5'!$B:$B,1,FALSE)),\"\",\"ü\")","v":""}]
[null,null,null,null,{"$f":"IF(INDEX(programmer!$T:$T,ROWS(A$1:A389),1)=\"\",\"\",INDEX(programmer!$T:$T,ROWS(A$1:A389),1))","v":""},{"$f":"IF(ISERROR(VLOOKUP($E402,'File 1'!$B:$B,1,FALSE)),\"\",\"ü\")","v":""},{"$f":"IF(ISERROR(VLOOKUP($E402,'File 2'!$B:$B,1,FALSE)),\"\",\"ü\")","v":""},{"$f":"IF(ISERROR(VLOOKUP($E402,'File 3'!$B:$B,1,FALSE)),\"\",\"ü\")","v":""},{"$f":"IF(ISERROR(VLOOKUP($E402,'File 4'!$B:$B,1,FALSE)),\"\",\"ü\")","v":""},{"$f":"IF(ISERROR(VLOOKUP($E402,'File 5'!$B:$B,1,FALSE)),\"\",\"ü\")","v":""}]
[null,null,null,null,{"$f":"IF(INDEX(programmer!$T:$T,ROWS(A$1:A390),1)=\"\",\"\",INDEX(programmer!$T:$T,ROWS(A$1:A390),1))","v":""},{"$f":"IF(ISERROR(VLOOKUP($E403,'File 1'!$B:$B,1,FALSE)),\"\",\"ü\")","v":""},{"$f":"IF(ISERROR(VLOOKUP($E403,'File 2'!$B:$B,1,FALSE)),\"\",\"ü\")","v":""},{"$f":"IF(ISERROR(VLOOKUP($E403,'File 3'!$B:$B,1,FALSE)),\"\",\"ü\")","v":""},{"$f":"IF(ISERROR(VLOOKUP($E403,'File 4'!$B:$B,1,FALSE)),\"\",\"ü\")","v":""},{"$f":"IF(ISERROR(VLOOKUP($E403,'File 5'!$B:$B,1,FALSE)),\"\",\"ü\")","v":""}]
[null,null,null,null,{"$f":"IF(INDEX(programmer!$T:$T,ROWS(A$1:A391),1)=\"\",\"\",INDEX(programmer!$T:$T,ROWS(A$1:A391),1))","v":""},{"$f":"IF(ISERROR(VLOOKUP($E404,'File 1'!$B:$B,1,FALSE)),\"\",\"ü\")","v":""},{"$f":"IF(ISERROR(VLOOKUP($E404,'File 2'!$B:$B,1,FALSE)),\"\",\"ü\")","v":""},{"$f":"IF(ISERROR(VLOOKUP($E404,'File 3'!$B:$B,1,FALSE)),\"\",\"ü\")","v":""},{"$f":"IF(ISERROR(VLOOKUP($E404,'File 4'!$B:$B,1,FALSE)),\"\",\"ü\")","v":""},{"$f":"IF(ISERROR(VLOOKUP($E404,'File 5'!$B:$B,1,FALSE)),\"\",\"ü\")","v":""}]
[null,null,null,null,{"$f":"IF(INDEX(programmer!$T:$T,ROWS(A$1:A392),1)=\"\",\"\",INDEX(programmer!$T:$T,ROWS(A$1:A392),1))","v":""},{"$f":"IF(ISERROR(VLOOKUP($E405,'File 1'!$B:$B,1,FALSE)),\"\",\"ü\")","v":""},{"$f":"IF(ISERROR(VLOOKUP($E405,'File 2'!$B:$B,1,FALSE)),\"\",\"ü\")","v":""},{"$f":"IF(ISERROR(VLOOKUP($E405,'File 3'!$B:$B,1,FALSE)),\"\",\"ü\")","v":""},{"$f":"IF(ISERROR(VLOOKUP($E405,'File 4'!$B:$B,1,FALSE)),\"\",\"ü\")","v":""},{"$f":"IF(ISERROR(VLOOKUP($E405,'File 5'!$B:$B,1,FALSE)),\"\",\"ü\")","v":""}]
[null,null,null,null,{"$f":"IF(INDEX(programmer!$T:$T,ROWS(A$1:A393),1)=\"\",\"\",INDEX(programmer!$T:$T,ROWS(A$1:A393),1))","v":""},{"$f":"IF(ISERROR(VLOOKUP($E406,'File 1'!$B:$B,1,FALSE)),\"\",\"ü\")","v":""},{"$f":"IF(ISERROR(VLOOKUP($E406,'File 2'!$B:$B,1,FALSE)),\"\",\"ü\")","v":""},{"$f":"IF(ISERROR(VLOOKUP($E406,'File 3'!$B:$B,1,FALSE)),\"\",\"ü\")","v":""},{"$f":"IF(ISERROR(VLOOKUP($E406,'File 4'!$B:$B,1,FALSE)),\"\",\"ü\")","v":""},{"$f":"IF(ISERROR(VLOOKUP($E406,'File 5'!$B:$B,1,FALSE)),\"\",\"ü\")","v":""}]
[null,null,null,null,{"$f":"IF(INDEX(programmer!$T:$T,ROWS(A$1:A394),1)=\"\",\"\",INDEX(programmer!$T:$T,ROWS(A$1:A394),1))","v":""},{"$f":"IF(ISERROR(VLOOKUP($E407,'File 1'!$B:$B,1,FALSE)),\"\",\"ü\")","v":""},{"$f":"IF(ISERROR(VLOOKUP($E407,'File 2'!$B:$B,1,FALSE)),\"\",\"ü\")","v":""},{"$f":"IF(ISERROR(VLOOKUP($E407,'File 3'!$B:$B,1,FALSE)),\"\",\"ü\")","v":""},{"$f":"IF(ISERROR(VLOOKUP($E407,'File 4'!$B:$B,1,FALSE)),\"\",\"ü\")","v":""},{"$f":"IF(ISERROR(VLOOKUP($E407,'File 5'!$B:$B,1,FALSE)),\"\",\"ü\")","v":""}]
[null,null,null,null,{"$f":"IF(INDEX(programmer!$T:$T,ROWS(A$1:A395),1)=\"\",\"\",INDEX(programmer!$T:$T,ROWS(A$1:A395),1))","v":""},{"$f":"IF(ISERROR(VLOOKUP($E408,'File 1'!$B:$B,1,FALSE)),\"\",\"ü\")","v":""},{"$f":"IF(ISERROR(VLOOKUP($E408,'File 2'!$B:$B,1,FALSE)),\"\",\"ü\")","v":""},{"$f":"IF(ISERROR(VLOOKUP($E408,'File 3'!$B:$B,1,FALSE)),\"\",\"ü\")","v":""},{"$f":"IF(ISERROR(VLOOKUP($E408,'File 4'!$B:$B,1,FALSE)),\"\",\"ü\")","v":""},{"$f":"IF(ISERROR(VLOOKUP($E408,'File 5'!$B:$B,1,FALSE)),\"\",\"ü\")","v":""}]
[null,null,null,null,{"$f":"IF(INDEX(programmer!$T:$T,ROWS(A$1:A396),1)=\"\",\"\",INDEX(programmer!$T:$T,ROWS(A$1:A396),1))","v":""},{"$f":"IF(ISERROR(VLOOKUP($E409,'File 1'!$B:$B,1,FALSE)),\"\",\"ü\")","v":""},{"$f":"IF(ISERROR(VLOOKUP($E409,'File 2'!$B:$B,1,FALSE)),\"\",\"ü\")","v":""},{"$f":"IF(ISERROR(VLOOKUP($E409,'File 3'!$B:$B,1,FALSE)),\"\",\"ü\")","v":""},{"$f":"IF(ISERROR(VLOOKUP($E409,'File 4'!$B:$B,1,FALSE)),\"\",\"ü\")","v":""},{"$f":"IF(ISERROR(VLOOKUP($E409,'File 5'!$B:$B,1,FALSE)),\"\",\"ü\")","v":""}]
[null,null,null,null,{"$f":"IF(INDEX(programmer!$T:$T,ROWS(A$1:A397),1)=\"\",\"\",INDEX(programmer!$T:$T,ROWS(A$1:A397),1))","v":""},{"$f":"IF(ISERROR(VLOOKUP($E410,'File 1'!$B:$B,1,FALSE)),\"\",\"ü\")","v":""},{"$f":"IF(ISERROR(VLOOKUP($E410,'File 2'!$B:$B,1,FALSE)),\"\",\"ü\")","v":""},{"$f":"IF(ISERROR(VLOOKUP($E410,'File 3'!$B:$B,1,FALSE)),\"\",\"ü\")","v":""},{"$f":"IF(ISERROR(VLOOKUP($E410,'File 4'!$B:$B,1,FALSE)),\"\",\"ü\")","v":""},{"$f":"IF(ISERROR(VLOOKUP($E410,'File 5'!$B:$B,1,FALSE)),\"\",\"ü\")","v":""}]
[null,null,null,null,{"$f":"IF(INDEX(programmer!$T:$T,ROWS(A$1:A398),1)=\"\",\"\",INDEX(programmer!$T:$T,ROWS(A$1:A398),1))","v":""},{"$f":"IF(ISERROR(VLOOKUP($E411,'File 1'!$B:$B,1,FALSE)),\"\",\"ü\")","v":""},{"$f":"IF(ISERROR(VLOOKUP($E411,'File 2'!$B:$B,1,FALSE)),\"\",\"ü\")","v":""},{"$f":"IF(ISERROR(VLOOKUP($E411,'File 3'!$B:$B,1,FALSE)),\"\",\"ü\")","v":""},{"$f":"IF(ISERROR(VLOOKUP($E411,'File 4'!$B:$B,1,FALSE)),\"\",\"ü\")","v":""},{"$f":"IF(ISERROR(VLOOKUP($E411,'File 5'!$B:$B,1,FALSE)),\"\",\"ü\")","v":""}]
[null,null,null,null,{"$f":"IF(INDEX(programmer!$T:$T,ROWS(A$1:A399),1)=\"\",\"\",INDEX(programmer!$T:$T,ROWS(A$1:A399),1))","v":""},{"$f":"IF(ISERROR(VLOOKUP($E412,'File 1'!$B:$B,1,FALSE)),\"\",\"ü\")","v":""},{"$f":"IF(ISERROR(VLOOKUP($E412,'File 2'!$B:$B,1,FALSE)),\"\",\"ü\")","v":""},{"$f":"IF(ISERROR(VLOOKUP($E412,'File 3'!$B:$B,1,FALSE)),\"\",\"ü\")","v":""},{"$f":"IF(ISERROR(VLOOKUP($E412,'File 4'!$B:$B,1,FALSE)),\"\",\"ü\")","v":""},{"$f":"IF(ISERROR(VLOOKUP($E412,'File 5'!$B:$B,1,FALSE)),\"\",\"ü\")","v":""}]
[null,null,null,null,{"$f":"IF(INDEX(programmer!$T:$T,ROWS(A$1:A400),1)=\"\",\"\",INDEX(programmer!$T:$T,ROWS(A$1:A400),1))","v":""},{"$f":"IF(ISERROR(VLOOKUP($E413,'File 1'!$B:$B,1,FALSE)),\"\",\"ü\")","v":""},{"$f":"IF(ISERROR(VLOOKUP($E413,'File 2'!$B:$B,1,FALSE)),\"\",\"ü\")","v":""},{"$f":"IF(ISERROR(VLOOKUP($E413,'File 3'!$B:$B,1,FALSE)),\"\",\"ü\")","v":""},{"$f":"IF(ISERROR(VLOOKUP($E413,'File 4'!$B:$B,1,FALSE)),\"\",\"ü\")","v":""},{"$f":"IF(ISERROR(VLOOKUP($E413,'File 5'!$B:$B,1,FALSE)),\"\",\"ü\")","v":""}]
[null,null,null,null,{"$f":"IF(INDEX(programmer!$T:$T,ROWS(A$1:A401),1)=\"\",\"\",INDEX(programmer!$T:$T,ROWS(A$1:A401),1))","v":""},{"$f":"IF(ISERROR(VLOOKUP($E414,'File 1'!$B:$B,1,FALSE)),\"\",\"ü\")","v":""},{"$f":"IF(ISERROR(VLOOKUP($E414,'File 2'!$B:$B,1,FALSE)),\"\",\"ü\")","v":""},{"$f":"IF(ISERROR(VLOOKUP($E414,'File 3'!$B:$B,1,FALSE)),\"\",\"ü\")","v":""},{"$f":"IF(ISERROR(VLOOKUP($E414,'File 4'!$B:$B,1,FALSE)),\"\",\"ü\")","v":""},{"$f":"IF(ISERROR(VLOOKUP($E414,'File 5'!$B:$B,1,FALSE)),\"\",\"ü\")","v":""}]
[null,null,null,null,{"$f":"IF(INDEX(programmer!$T:$T,ROWS(A$1:A402),1)=\"\",\"\",INDEX(programmer!$T:$T,ROWS(A$1:A402),1))","v":""},{"$f":"IF(ISERROR(VLOOKUP($E415,'File 1'!$B:$B,1,FALSE)),\"\",\"ü\")","v":""},{"$f":"IF(ISERROR(VLOOKUP($E415,'File 2'!$B:$B,1,FALSE)),\"\",\"ü\")","v":""},{"$f":"IF(ISERROR(VLOOKUP($E415,'File 3'!$B:$B,1,FALSE)),\"\",\"ü\")","v":""},{"$f":"IF(ISERROR(VLOOKUP($E415,'File 4'!$B:$B,1,FALSE)),\"\",\"ü\")","v":""},{"$f":"IF(ISERROR(VLOOKUP($E415,'File 5'!$B:$B,1,FALSE)),\"\",\"ü\")","v":""}]
[null,null,null,null,{"$f":"IF(INDEX(programmer!$T:$T,ROWS(A$1:A403),1)=\"\",\"\",INDEX(programmer!$T:$T,ROWS(A$1:A403),1))","v":""},{"$f":"IF(ISERROR(VLOOKUP($E416,'File 1'!$B:$B,1,FALSE)),\"\",\"ü\")","v":""},{"$f":"IF(ISERROR(VLOOKUP($E416,'File 2'!$B:$B,1,FALSE)),\"\",\"ü\")","v":""},{"$f":"IF(ISERROR(VLOOKUP($E416,'File 3'!$B:$B,1,FALSE)),\"\",\"ü\")","v":""},{"$f":"IF(ISERROR(VLOOKUP($E416,'File 4'!$B:$B,1,FALSE)),\"\",\"ü\")","v":""},{"$f":"IF(ISERROR(VLOOKUP($E416,'File 5'!$B:$B,1,FALSE)),\"\",\"ü\")","v":""}]
[null,null,null,null,{"$f":"IF(INDEX(programmer!$T:$T,ROWS(A$1:A404),1)=\"\",\"\",INDEX(programmer!$T:$T,ROWS(A$1:A404),1))","v":""},{"$f":"IF(ISERROR(VLOOKUP($E417,'File 1'!$B:$B,1,FALSE)),\"\",\"ü\")","v":""},{"$f":"IF(ISERROR(VLOOKUP($E417,'File 2'!$B:$B,1,FALSE)),\"\",\"ü\")","v":""},{"$f":"IF(ISERROR(VLOOKUP($E417,'File 3'!$B:$B,1,FALSE)),\"\",\"ü\")","v":""},{"$f":"IF(ISERROR(VLOOKUP($E417,'File 4'!$B:$B,1,FALSE)),\"\",\"ü\")","v":""},{"$f":"IF(ISERROR(VLOOKUP($E417,'File 5'!$B:$B,1,FALSE)),\"\",\"ü\")","v":""}]
[null,null,null,null,{"$f":"IF(INDEX(programmer!$T:$T,ROWS(A$1:A405),1)=\"\",\"\",INDEX(programmer!$T:$T,ROWS(A$1:A405),1))","v":""},{"$f":"IF(ISERROR(VLOOKUP($E418,'File 1'!$B:$B,1,FALSE)),\"\",\"ü\")","v":""},{"$f":"IF(ISERROR(VLOOKUP($E418,'File 2'!$B:$B,1,FALSE)),\"\",\"ü\")","v":""},{"$f":"IF(ISERROR(VLOOKUP($E418,'File 3'!$B:$B,1,FALSE)),\"\",\"ü\")","v":""},{"$f":"IF(ISERROR(VLOOKUP($E418,'File 4'!$B:$B,1,FALSE)),\"\",\"ü\")","v":""},{"$f":"IF(ISERROR(VLOOKUP($E418,'File 5'!$B:$B,1,FALSE)),\"\",\"ü\")","v":""}]
[null,null,null,null,{"$f":"IF(INDEX(programmer!$T:$T,ROWS(A$1:A406),1)=\"\",\"\",INDEX(programmer!$T:$T,ROWS(A$1:A406),1))","v":""},{"$f":"IF(ISERROR(VLOOKUP($E419,'File 1'!$B:$B,1,FALSE)),\"\",\"ü\")","v":""},{"$f":"IF(ISERROR(VLOOKUP($E419,'File 2'!$B:$B,1,FALSE)),\"\",\"ü\")","v":""},{"$f":"IF(ISERROR(VLOOKUP($E419,'File 3'!$B:$B,1,FALSE)),\"\",\"ü\")","v":""},{"$f":"IF(ISERROR(VLOOKUP($E419,'File 4'!$B:$B,1,FALSE)),\"\",\"ü\")","v":""},{"$f":"IF(ISERROR(VLOOKUP($E419,'File 5'!$B:$B,1,FALSE)),\"\",\"ü\")","v":""}]
[null,null,null,null,{"$f":"IF(INDEX(programmer!$T:$T,ROWS(A$1:A407),1)=\"\",\"\",INDEX(programmer!$T:$T,ROWS(A$1:A407),1))","v":""},{"$f":"IF(ISERROR(VLOOKUP($E420,'File 1'!$B:$B,1,FALSE)),\"\",\"ü\")","v":""},{"$f":"IF(ISERROR(VLOOKUP($E420,'File 2'!$B:$B,1,FALSE)),\"\",\"ü\")","v":""},{"$f":"IF(ISERROR(VLOOKUP($E420,'File 3'!$B:$B,1,FALSE)),\"\",\"ü\")","v":""},{"$f":"IF(ISERROR(VLOOKUP($E420,'File 4'!$B:$B,1,FALSE)),\"\",\"ü\")","v":""},{"$f":"IF(ISERROR(VLOOKUP($E420,'File 5'!$B:$B,1,FALSE)),\"\",\"ü\")","v":""}]
[null,null,null,null,{"$f":"IF(INDEX(programmer!$T:$T,ROWS(A$1:A408),1)=\"\",\"\",INDEX(programmer!$T:$T,ROWS(A$1:A408),1))","v":""},{"$f":"IF(ISERROR(VLOOKUP($E421,'File 1'!$B:$B,1,FALSE)),\"\",\"ü\")","v":""},{"$f":"IF(ISERROR(VLOOKUP($E421,'File 2'!$B:$B,1,FALSE)),\"\",\"ü\")","v":""},{"$f":"IF(ISERROR(VLOOKUP($E421,'File 3'!$B:$B,1,FALSE)),\"\",\"ü\")","v":""},{"$f":"IF(ISERROR(VLOOKUP($E421,'File 4'!$B:$B,1,FALSE)),\"\",\"ü\")","v":""},{"$f":"IF(ISERROR(VLOOKUP($E421,'File 5'!$B:$B,1,FALSE)),\"\",\"ü\")","v":""}]
[null,null,null,null,{"$f":"IF(INDEX(programmer!$T:$T,ROWS(A$1:A409),1)=\"\",\"\",INDEX(programmer!$T:$T,ROWS(A$1:A409),1))","v":""},{"$f":"IF(ISERROR(VLOOKUP($E422,'File 1'!$B:$B,1,FALSE)),\"\",\"ü\")","v":""},{"$f":"IF(ISERROR(VLOOKUP($E422,'File 2'!$B:$B,1,FALSE)),\"\",\"ü\")","v":""},{"$f":"IF(ISERROR(VLOOKUP($E422,'File 3'!$B:$B,1,FALSE)),\"\",\"ü\")","v":""},{"$f":"IF(ISERROR(VLOOKUP($E422,'File 4'!$B:$B,1,FALSE)),\"\",\"ü\")","v":""},{"$f":"IF(ISERROR(VLOOKUP($E422,'File 5'!$B:$B,1,FALSE)),\"\",\"ü\")","v":""}]
[null,null,null,null,{"$f":"IF(INDEX(programmer!$T:$T,ROWS(A$1:A410),1)=\"\",\"\",INDEX(programmer!$T:$T,ROWS(A$1:A410),1))","v":""},{"$f":"IF(ISERROR(VLOOKUP($E423,'File 1'!$B:$B,1,FALSE)),\"\",\"ü\")","v":""},{"$f":"IF(ISERROR(VLOOKUP($E423,'File 2'!$B:$B,1,FALSE)),\"\",\"ü\")","v":""},{"$f":"IF(ISERROR(VLOOKUP($E423,'File 3'!$B:$B,1,FALSE)),\"\",\"ü\")","v":""},{"$f":"IF(ISERROR(VLOOKUP($E423,'File 4'!$B:$B,1,FALSE)),\"\",\"ü\")","v":""},{"$f":"IF(ISERROR(VLOOKUP($E423,'File 5'!$B:$B,1,FALSE)),\"\",\"ü\")","v":""}]
[null,null,null,null,{"$f":"IF(INDEX(programmer!$T:$T,ROWS(A$1:A411),1)=\"\",\"\",INDEX(programmer!$T:$T,ROWS(A$1:A411),1))","v":""},{"$f":"IF(ISERROR(VLOOKUP($E424,'File 1'!$B:$B,1,FALSE)),\"\",\"ü\")","v":""},{"$f":"IF(ISERROR(VLOOKUP($E424,'File 2'!$B:$B,1,FALSE)),\"\",\"ü\")","v":""},{"$f":"IF(ISERROR(VLOOKUP($E424,'File 3'!$B:$B,1,FALSE)),\"\",\"ü\")","v":""},{"$f":"IF(ISERROR(VLOOKUP($E424,'File 4'!$B:$B,1,FALSE)),\"\",\"ü\")","v":""},{"$f":"IF(ISERROR(VLOOKUP($E424,'File 5'!$B:$B,1,FALSE)),\"\",\"ü\")","v":""}]
[null,null,null,null,{"$f":"IF(INDEX(programmer!$T:$T,ROWS(A$1:A412),1)=\"\",\"\",INDEX(programmer!$T:$T,ROWS(A$1:A412),1))","v":""},{"$f":"IF(ISERROR(VLOOKUP($E425,'File 1'!$B:$B,1,FALSE)),\"\",\"ü\")","v":""},{"$f":"IF(ISERROR(VLOOKUP($E425,'File 2'!$B:$B,1,FALSE)),\"\",\"ü\")","v":""},{"$f":"IF(ISERROR(VLOOKUP($E425,'File 3'!$B:$B,1,FALSE)),\"\",\"ü\")","v":""},{"$f":"IF(ISERROR(VLOOKUP($E425,'File 4'!$B:$B,1,FALSE)),\"\",\"ü\")","v":""},{"$f":"IF(ISERROR(VLOOKUP($E425,'File 5'!$B:$B,1,FALSE)),\"\",\"ü\")","v":""}]
[null,null,null,null,{"$f":"IF(INDEX(programmer!$T:$T,ROWS(A$1:A413),1)=\"\",\"\",INDEX(programmer!$T:$T,ROWS(A$1:A413),1))","v":""},{"$f":"IF(ISERROR(VLOOKUP($E426,'File 1'!$B:$B,1,FALSE)),\"\",\"ü\")","v":""},{"$f":"IF(ISERROR(VLOOKUP($E426,'File 2'!$B:$B,1,FALSE)),\"\",\"ü\")","v":""},{"$f":"IF(ISERROR(VLOOKUP($E426,'File 3'!$B:$B,1,FALSE)),\"\",\"ü\")","v":""},{"$f":"IF(ISERROR(VLOOKUP($E426,'File 4'!$B:$B,1,FALSE)),\"\",\"ü\")","v":""},{"$f":"IF(ISERROR(VLOOKUP($E426,'File 5'!$B:$B,1,FALSE)),\"\",\"ü\")","v":""}]
[null,null,null,null,{"$f":"IF(INDEX(programmer!$T:$T,ROWS(A$1:A414),1)=\"\",\"\",INDEX(programmer!$T:$T,ROWS(A$1:A414),1))","v":""},{"$f":"IF(ISERROR(VLOOKUP($E427,'File 1'!$B:$B,1,FALSE)),\"\",\"ü\")","v":""},{"$f":"IF(ISERROR(VLOOKUP($E427,'File 2'!$B:$B,1,FALSE)),\"\",\"ü\")","v":""},{"$f":"IF(ISERROR(VLOOKUP($E427,'File 3'!$B:$B,1,FALSE)),\"\",\"ü\")","v":""},{"$f":"IF(ISERROR(VLOOKUP($E427,'File 4'!$B:$B,1,FALSE)),\"\",\"ü\")","v":""},{"$f":"IF(ISERROR(VLOOKUP($E427,'File 5'!$B:$B,1,FALSE)),\"\",\"ü\")","v":""}]
[null,null,null,null,{"$f":"IF(INDEX(programmer!$T:$T,ROWS(A$1:A415),1)=\"\",\"\",INDEX(programmer!$T:$T,ROWS(A$1:A415),1))","v":""},{"$f":"IF(ISERROR(VLOOKUP($E428,'File 1'!$B:$B,1,FALSE)),\"\",\"ü\")","v":""},{"$f":"IF(ISERROR(VLOOKUP($E428,'File 2'!$B:$B,1,FALSE)),\"\",\"ü\")","v":""},{"$f":"IF(ISERROR(VLOOKUP($E428,'File 3'!$B:$B,1,FALSE)),\"\",\"ü\")","v":""},{"$f":"IF(ISERROR(VLOOKUP($E428,'File 4'!$B:$B,1,FALSE)),\"\",\"ü\")","v":""},{"$f":"IF(ISERROR(VLOOKUP($E428,'File 5'!$B:$B,1,FALSE)),\"\",\"ü\")","v":""}]
[null,null,null,null,{"$f":"IF(INDEX(programmer!$T:$T,ROWS(A$1:A416),1)=\"\",\"\",INDEX(programmer!$T:$T,ROWS(A$1:A416),1))","v":""},{"$f":"IF(ISERROR(VLOOKUP($E429,'File 1'!$B:$B,1,FALSE)),\"\",\"ü\")","v":""},{"$f":"IF(ISERROR(VLOOKUP($E429,'File 2'!$B:$B,1,FALSE)),\"\",\"ü\")","v":""},{"$f":"IF(ISERROR(VLOOKUP($E429,'File 3'!$B:$B,1,FALSE)),\"\",\"ü\")","v":""},{"$f":"IF(ISERROR(VLOOKUP($E429,'File 4'!$B:$B,1,FALSE)),\"\",\"ü\")","v":""},{"$f":"IF(ISERROR(VLOOKUP($E429,'File 5'!$B:$B,1,FALSE)),\"\",\"ü\")","v":""}]
[null,null,null,null,{"$f":"IF(INDEX(programmer!$T:$T,ROWS(A$1:A417),1)=\"\",\"\",INDEX(programmer!$T:$T,ROWS(A$1:A417),1))","v":""},{"$f":"IF(ISERROR(VLOOKUP($E430,'File 1'!$B:$B,1,FALSE)),\"\",\"ü\")","v":""},{"$f":"IF(ISERROR(VLOOKUP($E430,'File 2'!$B:$B,1,FALSE)),\"\",\"ü\")","v":""},{"$f":"IF(ISERROR(VLOOKUP($E430,'File 3'!$B:$B,1,FALSE)),\"\",\"ü\")","v":""},{"$f":"IF(ISERROR(VLOOKUP($E430,'File 4'!$B:$B,1,FALSE)),\"\",\"ü\")","v":""},{"$f":"IF(ISERROR(VLOOKUP($E430,'File 5'!$B:$B,1,FALSE)),\"\",\"ü\")","v":""}]
[null,null,null,null,{"$f":"IF(INDEX(programmer!$T:$T,ROWS(A$1:A418),1)=\"\",\"\",INDEX(programmer!$T:$T,ROWS(A$1:A418),1))","v":""},{"$f":"IF(ISERROR(VLOOKUP($E431,'File 1'!$B:$B,1,FALSE)),\"\",\"ü\")","v":""},{"$f":"IF(ISERROR(VLOOKUP($E431,'File 2'!$B:$B,1,FALSE)),\"\",\"ü\")","v":""},{"$f":"IF(ISERROR(VLOOKUP($E431,'File 3'!$B:$B,1,FALSE)),\"\",\"ü\")","v":""},{"$f":"IF(ISERROR(VLOOKUP($E431,'File 4'!$B:$B,1,FALSE)),\"\",\"ü\")","v":""},{"$f":"IF(ISERROR(VLOOKUP($E431,'File 5'!$B:$B,1,FALSE)),\"\",\"ü\")","v":""}]
[null,null,null,null,{"$f":"IF(INDEX(programmer!$T:$T,ROWS(A$1:A419),1)=\"\",\"\",INDEX(programmer!$T:$T,ROWS(A$1:A419),1))","v":""},{"$f":"IF(ISERROR(VLOOKUP($E432,'File 1'!$B:$B,1,FALSE)),\"\",\"ü\")","v":""},{"$f":"IF(ISERROR(VLOOKUP($E432,'File 2'!$B:$B,1,FALSE)),\"\",\"ü\")","v":""},{"$f":"IF(ISERROR(VLOOKUP($E432,'File 3'!$B:$B,1,FALSE)),\"\",\"ü\")","v":""},{"$f":"IF(ISERROR(VLOOKUP($E432,'File 4'!$B:$B,1,FALSE)),\"\",\"ü\")","v":""},{"$f":"IF(ISERROR(VLOOKUP($E432,'File 5'!$B:$B,1,FALSE)),\"\",\"ü\")","v":""}]
[null,null,null,null,{"$f":"IF(INDEX(programmer!$T:$T,ROWS(A$1:A420),1)=\"\",\"\",INDEX(programmer!$T:$T,ROWS(A$1:A420),1))","v":""},{"$f":"IF(ISERROR(VLOOKUP($E433,'File 1'!$B:$B,1,FALSE)),\"\",\"ü\")","v":""},{"$f":"IF(ISERROR(VLOOKUP($E433,'File 2'!$B:$B,1,FALSE)),\"\",\"ü\")","v":""},{"$f":"IF(ISERROR(VLOOKUP($E433,'File 3'!$B:$B,1,FALSE)),\"\",\"ü\")","v":""},{"$f":"IF(ISERROR(VLOOKUP($E433,'File 4'!$B:$B,1,FALSE)),\"\",\"ü\")","v":""},{"$f":"IF(ISERROR(VLOOKUP($E433,'File 5'!$B:$B,1,FALSE)),\"\",\"ü\")","v":""}]
[null,null,null,null,{"$f":"IF(INDEX(programmer!$T:$T,ROWS(A$1:A421),1)=\"\",\"\",INDEX(programmer!$T:$T,ROWS(A$1:A421),1))","v":""},{"$f":"IF(ISERROR(VLOOKUP($E434,'File 1'!$B:$B,1,FALSE)),\"\",\"ü\")","v":""},{"$f":"IF(ISERROR(VLOOKUP($E434,'File 2'!$B:$B,1,FALSE)),\"\",\"ü\")","v":""},{"$f":"IF(ISERROR(VLOOKUP($E434,'File 3'!$B:$B,1,FALSE)),\"\",\"ü\")","v":""},{"$f":"IF(ISERROR(VLOOKUP($E434,'File 4'!$B:$B,1,FALSE)),\"\",\"ü\")","v":""},{"$f":"IF(ISERROR(VLOOKUP($E434,'File 5'!$B:$B,1,FALSE)),\"\",\"ü\")","v":""}]
[null,null,null,null,{"$f":"IF(INDEX(programmer!$T:$T,ROWS(A$1:A422),1)=\"\",\"\",INDEX(programmer!$T:$T,ROWS(A$1:A422),1))","v":""},{"$f":"IF(ISERROR(VLOOKUP($E435,'File 1'!$B:$B,1,FALSE)),\"\",\"ü\")","v":""},{"$f":"IF(ISERROR(VLOOKUP($E435,'File 2'!$B:$B,1,FALSE)),\"\",\"ü\")","v":""},{"$f":"IF(ISERROR(VLOOKUP($E435,'File 3'!$B:$B,1,FALSE)),\"\",\"ü\")","v":""},{"$f":"IF(ISERROR(VLOOKUP($E435,'File 4'!$B:$B,1,FALSE)),\"\",\"ü\")","v":""},{"$f":"IF(ISERROR(VLOOKUP($E435,'File 5'!$B:$B,1,FALSE)),\"\",\"ü\")","v":""}]
[null,null,null,null,{"$f":"IF(INDEX(programmer!$T:$T,ROWS(A$1:A423),1)=\"\",\"\",INDEX(programmer!$T:$T,ROWS(A$1:A423),1))","v":""},{"$f":"IF(ISERROR(VLOOKUP($E436,'File 1'!$B:$B,1,FALSE)),\"\",\"ü\")","v":""},{"$f":"IF(ISERROR(VLOOKUP($E436,'File 2'!$B:$B,1,FALSE)),\"\",\"ü\")","v":""},{"$f":"IF(ISERROR(VLOOKUP($E436,'File 3'!$B:$B,1,FALSE)),\"\",\"ü\")","v":""},{"$f":"IF(ISERROR(VLOOKUP($E436,'File 4'!$B:$B,1,FALSE)),\"\",\"ü\")","v":""},{"$f":"IF(ISERROR(VLOOKUP($E436,'File 5'!$B:$B,1,FALSE)),\"\",\"ü\")","v":""}]
[null,null,null,null,{"$f":"IF(INDEX(programmer!$T:$T,ROWS(A$1:A424),1)=\"\",\"\",INDEX(programmer!$T:$T,ROWS(A$1:A424),1))","v":""},{"$f":"IF(ISERROR(VLOOKUP($E437,'File 1'!$B:$B,1,FALSE)),\"\",\"ü\")","v":""},{"$f":"IF(ISERROR(VLOOKUP($E437,'File 2'!$B:$B,1,FALSE)),\"\",\"ü\")","v":""},{"$f":"IF(ISERROR(VLOOKUP($E437,'File 3'!$B:$B,1,FALSE)),\"\",\"ü\")","v":""},{"$f":"IF(ISERROR(VLOOKUP($E437,'File 4'!$B:$B,1,FALSE)),\"\",\"ü\")","v":""},{"$f":"IF(ISERROR(VLOOKUP($E437,'File 5'!$B:$B,1,FALSE)),\"\",\"ü\")","v":""}]
[null,null,null,null,{"$f":"IF(INDEX(programmer!$T:$T,ROWS(A$1:A425),1)=\"\",\"\",INDEX(programmer!$T:$T,ROWS(A$1:A425),1))","v":""},{"$f":"IF(ISERROR(VLOOKUP($E438,'File 1'!$B:$B,1,FALSE)),\"\",\"ü\")","v":""},{"$f":"IF(ISERROR(VLOOKUP($E438,'File 2'!$B:$B,1,FALSE)),\"\",\"ü\")","v":""},{"$f":"IF(ISERROR(VLOOKUP($E438,'File 3'!$B:$B,1,FALSE)),\"\",\"ü\")","v":""},{"$f":"IF(ISERROR(VLOOKUP($E438,'File 4'!$B:$B,1,FALSE)),\"\",\"ü\")","v":""},{"$f":"IF(ISERROR(VLOOKUP($E438,'File 5'!$B:$B,1,FALSE)),\"\",\"ü\")","v":""}]
[null,null,null,null,{"$f":"IF(INDEX(programmer!$T:$T,ROWS(A$1:A426),1)=\"\",\"\",INDEX(programmer!$T:$T,ROWS(A$1:A426),1))","v":""},{"$f":"IF(ISERROR(VLOOKUP($E439,'File 1'!$B:$B,1,FALSE)),\"\",\"ü\")","v":""},{"$f":"IF(ISERROR(VLOOKUP($E439,'File 2'!$B:$B,1,FALSE)),\"\",\"ü\")","v":""},{"$f":"IF(ISERROR(VLOOKUP($E439,'File 3'!$B:$B,1,FALSE)),\"\",\"ü\")","v":""},{"$f":"IF(ISERROR(VLOOKUP($E439,'File 4'!$B:$B,1,FALSE)),\"\",\"ü\")","v":""},{"$f":"IF(ISERROR(VLOOKUP($E439,'File 5'!$B:$B,1,FALSE)),\"\",\"ü\")","v":""}]
[null,null,null,null,{"$f":"IF(INDEX(programmer!$T:$T,ROWS(A$1:A427),1)=\"\",\"\",INDEX(programmer!$T:$T,ROWS(A$1:A427),1))","v":""},{"$f":"IF(ISERROR(VLOOKUP($E440,'File 1'!$B:$B,1,FALSE)),\"\",\"ü\")","v":""},{"$f":"IF(ISERROR(VLOOKUP($E440,'File 2'!$B:$B,1,FALSE)),\"\",\"ü\")","v":""},{"$f":"IF(ISERROR(VLOOKUP($E440,'File 3'!$B:$B,1,FALSE)),\"\",\"ü\")","v":""},{"$f":"IF(ISERROR(VLOOKUP($E440,'File 4'!$B:$B,1,FALSE)),\"\",\"ü\")","v":""},{"$f":"IF(ISERROR(VLOOKUP($E440,'File 5'!$B:$B,1,FALSE)),\"\",\"ü\")","v":""}]
[null,null,null,null,{"$f":"IF(INDEX(programmer!$T:$T,ROWS(A$1:A428),1)=\"\",\"\",INDEX(programmer!$T:$T,ROWS(A$1:A428),1))","v":""},{"$f":"IF(ISERROR(VLOOKUP($E441,'File 1'!$B:$B,1,FALSE)),\"\",\"ü\")","v":""},{"$f":"IF(ISERROR(VLOOKUP($E441,'File 2'!$B:$B,1,FALSE)),\"\",\"ü\")","v":""},{"$f":"IF(ISERROR(VLOOKUP($E441,'File 3'!$B:$B,1,FALSE)),\"\",\"ü\")","v":""},{"$f":"IF(ISERROR(VLOOKUP($E441,'File 4'!$B:$B,1,FALSE)),\"\",\"ü\")","v":""},{"$f":"IF(ISERROR(VLOOKUP($E441,'File 5'!$B:$B,1,FALSE)),\"\",\"ü\")","v":""}]
[null,null,null,null,{"$f":"IF(INDEX(programmer!$T:$T,ROWS(A$1:A429),1)=\"\",\"\",INDEX(programmer!$T:$T,ROWS(A$1:A429),1))","v":""},{"$f":"IF(ISERROR(VLOOKUP($E442,'File 1'!$B:$B,1,FALSE)),\"\",\"ü\")","v":""},{"$f":"IF(ISERROR(VLOOKUP($E442,'File 2'!$B:$B,1,FALSE)),\"\",\"ü\")","v":""},{"$f":"IF(ISERROR(VLOOKUP($E442,'File 3'!$B:$B,1,FALSE)),\"\",\"ü\")","v":""},{"$f":"IF(ISERROR(VLOOKUP($E442,'File 4'!$B:$B,1,FALSE)),\"\",\"ü\")","v":""},{"$f":"IF(ISERROR(VLOOKUP($E442,'File 5'!$B:$B,1,FALSE)),\"\",\"ü\")","v":""}]
[null,null,null,null,{"$f":"IF(INDEX(programmer!$T:$T,ROWS(A$1:A430),1)=\"\",\"\",INDEX(programmer!$T:$T,ROWS(A$1:A430),1))","v":""},{"$f":"IF(ISERROR(VLOOKUP($E443,'File 1'!$B:$B,1,FALSE)),\"\",\"ü\")","v":""},{"$f":"IF(ISERROR(VLOOKUP($E443,'File 2'!$B:$B,1,FALSE)),\"\",\"ü\")","v":""},{"$f":"IF(ISERROR(VLOOKUP($E443,'File 3'!$B:$B,1,FALSE)),\"\",\"ü\")","v":""},{"$f":"IF(ISERROR(VLOOKUP($E443,'File 4'!$B:$B,1,FALSE)),\"\",\"ü\")","v":""},{"$f":"IF(ISERROR(VLOOKUP($E443,'File 5'!$B:$B,1,FALSE)),\"\",\"ü\")","v":""}]
[null,null,null,null,{"$f":"IF(INDEX(programmer!$T:$T,ROWS(A$1:A431),1)=\"\",\"\",INDEX(programmer!$T:$T,ROWS(A$1:A431),1))","v":""},{"$f":"IF(ISERROR(VLOOKUP($E444,'File 1'!$B:$B,1,FALSE)),\"\",\"ü\")","v":""},{"$f":"IF(ISERROR(VLOOKUP($E444,'File 2'!$B:$B,1,FALSE)),\"\",\"ü\")","v":""},{"$f":"IF(ISERROR(VLOOKUP($E444,'File 3'!$B:$B,1,FALSE)),\"\",\"ü\")","v":""},{"$f":"IF(ISERROR(VLOOKUP($E444,'File 4'!$B:$B,1,FALSE)),\"\",\"ü\")","v":""},{"$f":"IF(ISERROR(VLOOKUP($E444,'File 5'!$B:$B,1,FALSE)),\"\",\"ü\")","v":""}]
[null,null,null,null,{"$f":"IF(INDEX(programmer!$T:$T,ROWS(A$1:A432),1)=\"\",\"\",INDEX(programmer!$T:$T,ROWS(A$1:A432),1))","v":""},{"$f":"IF(ISERROR(VLOOKUP($E445,'File 1'!$B:$B,1,FALSE)),\"\",\"ü\")","v":""},{"$f":"IF(ISERROR(VLOOKUP($E445,'File 2'!$B:$B,1,FALSE)),\"\",\"ü\")","v":""},{"$f":"IF(ISERROR(VLOOKUP($E445,'File 3'!$B:$B,1,FALSE)),\"\",\"ü\")","v":""},{"$f":"IF(ISERROR(VLOOKUP($E445,'File 4'!$B:$B,1,FALSE)),\"\",\"ü\")","v":""},{"$f":"IF(ISERROR(VLOOKUP($E445,'File 5'!$B:$B,1,FALSE)),\"\",\"ü\")","v":""}]
[null,null,null,null,{"$f":"IF(INDEX(programmer!$T:$T,ROWS(A$1:A433),1)=\"\",\"\",INDEX(programmer!$T:$T,ROWS(A$1:A433),1))","v":""},{"$f":"IF(ISERROR(VLOOKUP($E446,'File 1'!$B:$B,1,FALSE)),\"\",\"ü\")","v":""},{"$f":"IF(ISERROR(VLOOKUP($E446,'File 2'!$B:$B,1,FALSE)),\"\",\"ü\")","v":""},{"$f":"IF(ISERROR(VLOOKUP($E446,'File 3'!$B:$B,1,FALSE)),\"\",\"ü\")","v":""},{"$f":"IF(ISERROR(VLOOKUP($E446,'File 4'!$B:$B,1,FALSE)),\"\",\"ü\")","v":""},{"$f":"IF(ISERROR(VLOOKUP($E446,'File 5'!$B:$B,1,FALSE)),\"\",\"ü\")","v":""}]
[null,null,null,null,{"$f":"IF(INDEX(programmer!$T:$T,ROWS(A$1:A434),1)=\"\",\"\",INDEX(programmer!$T:$T,ROWS(A$1:A434),1))","v":""},{"$f":"IF(ISERROR(VLOOKUP($E447,'File 1'!$B:$B,1,FALSE)),\"\",\"ü\")","v":""},{"$f":"IF(ISERROR(VLOOKUP($E447,'File 2'!$B:$B,1,FALSE)),\"\",\"ü\")","v":""},{"$f":"IF(ISERROR(VLOOKUP($E447,'File 3'!$B:$B,1,FALSE)),\"\",\"ü\")","v":""},{"$f":"IF(ISERROR(VLOOKUP($E447,'File 4'!$B:$B,1,FALSE)),\"\",\"ü\")","v":""},{"$f":"IF(ISERROR(VLOOKUP($E447,'File 5'!$B:$B,1,FALSE)),\"\",\"ü\")","v":""}]
[null,null,null,null,{"$f":"IF(INDEX(programmer!$T:$T,ROWS(A$1:A435),1)=\"\",\"\",INDEX(programmer!$T:$T,ROWS(A$1:A435),1))","v":""},{"$f":"IF(ISERROR(VLOOKUP($E448,'File 1'!$B:$B,1,FALSE)),\"\",\"ü\")","v":""},{"$f":"IF(ISERROR(VLOOKUP($E448,'File 2'!$B:$B,1,FALSE)),\"\",\"ü\")","v":""},{"$f":"IF(ISERROR(VLOOKUP($E448,'File 3'!$B:$B,1,FALSE)),\"\",\"ü\")","v":""},{"$f":"IF(ISERROR(VLOOKUP($E448,'File 4'!$B:$B,1,FALSE)),\"\",\"ü\")","v":""},{"$f":"IF(ISERROR(VLOOKUP($E448,'File 5'!$B:$B,1,FALSE)),\"\",\"ü\")","v":""}]
[null,null,null,null,{"$f":"IF(INDEX(programmer!$T:$T,ROWS(A$1:A436),1)=\"\",\"\",INDEX(programmer!$T:$T,ROWS(A$1:A436),1))","v":""},{"$f":"IF(ISERROR(VLOOKUP($E449,'File 1'!$B:$B,1,FALSE)),\"\",\"ü\")","v":""},{"$f":"IF(ISERROR(VLOOKUP($E449,'File 2'!$B:$B,1,FALSE)),\"\",\"ü\")","v":""},{"$f":"IF(ISERROR(VLOOKUP($E449,'File 3'!$B:$B,1,FALSE)),\"\",\"ü\")","v":""},{"$f":"IF(ISERROR(VLOOKUP($E449,'File 4'!$B:$B,1,FALSE)),\"\",\"ü\")","v":""},{"$f":"IF(ISERROR(VLOOKUP($E449,'File 5'!$B:$B,1,FALSE)),\"\",\"ü\")","v":""}]
[null,null,null,null,{"$f":"IF(INDEX(programmer!$T:$T,ROWS(A$1:A437),1)=\"\",\"\",INDEX(programmer!$T:$T,ROWS(A$1:A437),1))","v":""},{"$f":"IF(ISERROR(VLOOKUP($E450,'File 1'!$B:$B,1,FALSE)),\"\",\"ü\")","v":""},{"$f":"IF(ISERROR(VLOOKUP($E450,'File 2'!$B:$B,1,FALSE)),\"\",\"ü\")","v":""},{"$f":"IF(ISERROR(VLOOKUP($E450,'File 3'!$B:$B,1,FALSE)),\"\",\"ü\")","v":""},{"$f":"IF(ISERROR(VLOOKUP($E450,'File 4'!$B:$B,1,FALSE)),\"\",\"ü\")","v":""},{"$f":"IF(ISERROR(VLOOKUP($E450,'File 5'!$B:$B,1,FALSE)),\"\",\"ü\")","v":""}]
[null,null,null,null,{"$f":"IF(INDEX(programmer!$T:$T,ROWS(A$1:A438),1)=\"\",\"\",INDEX(programmer!$T:$T,ROWS(A$1:A438),1))","v":""},{"$f":"IF(ISERROR(VLOOKUP($E451,'File 1'!$B:$B,1,FALSE)),\"\",\"ü\")","v":""},{"$f":"IF(ISERROR(VLOOKUP($E451,'File 2'!$B:$B,1,FALSE)),\"\",\"ü\")","v":""},{"$f":"IF(ISERROR(VLOOKUP($E451,'File 3'!$B:$B,1,FALSE)),\"\",\"ü\")","v":""},{"$f":"IF(ISERROR(VLOOKUP($E451,'File 4'!$B:$B,1,FALSE)),\"\",\"ü\")","v":""},{"$f":"IF(ISERROR(VLOOKUP($E451,'File 5'!$B:$B,1,FALSE)),\"\",\"ü\")","v":""}]
[null,null,null,null,{"$f":"IF(INDEX(programmer!$T:$T,ROWS(A$1:A439),1)=\"\",\"\",INDEX(programmer!$T:$T,ROWS(A$1:A439),1))","v":""},{"$f":"IF(ISERROR(VLOOKUP($E452,'File 1'!$B:$B,1,FALSE)),\"\",\"ü\")","v":""},{"$f":"IF(ISERROR(VLOOKUP($E452,'File 2'!$B:$B,1,FALSE)),\"\",\"ü\")","v":""},{"$f":"IF(ISERROR(VLOOKUP($E452,'File 3'!$B:$B,1,FALSE)),\"\",\"ü\")","v":""},{"$f":"IF(ISERROR(VLOOKUP($E452,'File 4'!$B:$B,1,FALSE)),\"\",\"ü\")","v":""},{"$f":"IF(ISERROR(VLOOKUP($E452,'File 5'!$B:$B,1,FALSE)),\"\",\"ü\")","v":""}]
[null,null,null,null,{"$f":"IF(INDEX(programmer!$T:$T,ROWS(A$1:A440),1)=\"\",\"\",INDEX(programmer!$T:$T,ROWS(A$1:A440),1))","v":""},{"$f":"IF(ISERROR(VLOOKUP($E453,'File 1'!$B:$B,1,FALSE)),\"\",\"ü\")","v":""},{"$f":"IF(ISERROR(VLOOKUP($E453,'File 2'!$B:$B,1,FALSE)),\"\",\"ü\")","v":""},{"$f":"IF(ISERROR(VLOOKUP($E453,'File 3'!$B:$B,1,FALSE)),\"\",\"ü\")","v":""},{"$f":"IF(ISERROR(VLOOKUP($E453,'File 4'!$B:$B,1,FALSE)),\"\",\"ü\")","v":""},{"$f":"IF(ISERROR(VLOOKUP($E453,'File 5'!$B:$B,1,FALSE)),\"\",\"ü\")","v":""}]
[null,null,null,null,{"$f":"IF(INDEX(programmer!$T:$T,ROWS(A$1:A441),1)=\"\",\"\",INDEX(programmer!$T:$T,ROWS(A$1:A441),1))","v":""},{"$f":"IF(ISERROR(VLOOKUP($E454,'File 1'!$B:$B,1,FALSE)),\"\",\"ü\")","v":""},{"$f":"IF(ISERROR(VLOOKUP($E454,'File 2'!$B:$B,1,FALSE)),\"\",\"ü\")","v":""},{"$f":"IF(ISERROR(VLOOKUP($E454,'File 3'!$B:$B,1,FALSE)),\"\",\"ü\")","v":""},{"$f":"IF(ISERROR(VLOOKUP($E454,'File 4'!$B:$B,1,FALSE)),\"\",\"ü\")","v":""},{"$f":"IF(ISERROR(VLOOKUP($E454,'File 5'!$B:$B,1,FALSE)),\"\",\"ü\")","v":""}]
[null,null,null,null,{"$f":"IF(INDEX(programmer!$T:$T,ROWS(A$1:A442),1)=\"\",\"\",INDEX(programmer!$T:$T,ROWS(A$1:A442),1))","v":""},{"$f":"IF(ISERROR(VLOOKUP($E455,'File 1'!$B:$B,1,FALSE)),\"\",\"ü\")","v":""},{"$f":"IF(ISERROR(VLOOKUP($E455,'File 2'!$B:$B,1,FALSE)),\"\",\"ü\")","v":""},{"$f":"IF(ISERROR(VLOOKUP($E455,'File 3'!$B:$B,1,FALSE)),\"\",\"ü\")","v":""},{"$f":"IF(ISERROR(VLOOKUP($E455,'File 4'!$B:$B,1,FALSE)),\"\",\"ü\")","v":""},{"$f":"IF(ISERROR(VLOOKUP($E455,'File 5'!$B:$B,1,FALSE)),\"\",\"ü\")","v":""}]
[null,null,null,null,{"$f":"IF(INDEX(programmer!$T:$T,ROWS(A$1:A443),1)=\"\",\"\",INDEX(programmer!$T:$T,ROWS(A$1:A443),1))","v":""},{"$f":"IF(ISERROR(VLOOKUP($E456,'File 1'!$B:$B,1,FALSE)),\"\",\"ü\")","v":""},{"$f":"IF(ISERROR(VLOOKUP($E456,'File 2'!$B:$B,1,FALSE)),\"\",\"ü\")","v":""},{"$f":"IF(ISERROR(VLOOKUP($E456,'File 3'!$B:$B,1,FALSE)),\"\",\"ü\")","v":""},{"$f":"IF(ISERROR(VLOOKUP($E456,'File 4'!$B:$B,1,FALSE)),\"\",\"ü\")","v":""},{"$f":"IF(ISERROR(VLOOKUP($E456,'File 5'!$B:$B,1,FALSE)),\"\",\"ü\")","v":""}]
[null,null,null,null,{"$f":"IF(INDEX(programmer!$T:$T,ROWS(A$1:A444),1)=\"\",\"\",INDEX(programmer!$T:$T,ROWS(A$1:A444),1))","v":""},{"$f":"IF(ISERROR(VLOOKUP($E457,'File 1'!$B:$B,1,FALSE)),\"\",\"ü\")","v":""},{"$f":"IF(ISERROR(VLOOKUP($E457,'File 2'!$B:$B,1,FALSE)),\"\",\"ü\")","v":""},{"$f":"IF(ISERROR(VLOOKUP($E457,'File 3'!$B:$B,1,FALSE)),\"\",\"ü\")","v":""},{"$f":"IF(ISERROR(VLOOKUP($E457,'File 4'!$B:$B,1,FALSE)),\"\",\"ü\")","v":""},{"$f":"IF(ISERROR(VLOOKUP($E457,'File 5'!$B:$B,1,FALSE)),\"\",\"ü\")","v":""}]
[null,null,null,null,{"$f":"IF(INDEX(programmer!$T:$T,ROWS(A$1:A445),1)=\"\",\"\",INDEX(programmer!$T:$T,ROWS(A$1:A445),1))","v":""},{"$f":"IF(ISERROR(VLOOKUP($E458,'File 1'!$B:$B,1,FALSE)),\"\",\"ü\")","v":""},{"$f":"IF(ISERROR(VLOOKUP($E458,'File 2'!$B:$B,1,FALSE)),\"\",\"ü\")","v":""},{"$f":"IF(ISERROR(VLOOKUP($E458,'File 3'!$B:$B,1,FALSE)),\"\",\"ü\")","v":""},{"$f":"IF(ISERROR(VLOOKUP($E458,'File 4'!$B:$B,1,FALSE)),\"\",\"ü\")","v":""},{"$f":"IF(ISERROR(VLOOKUP($E458,'File 5'!$B:$B,1,FALSE)),\"\",\"ü\")","v":""}]
[null,null,null,null,{"$f":"IF(INDEX(programmer!$T:$T,ROWS(A$1:A446),1)=\"\",\"\",INDEX(programmer!$T:$T,ROWS(A$1:A446),1))","v":""},{"$f":"IF(ISERROR(VLOOKUP($E459,'File 1'!$B:$B,1,FALSE)),\"\",\"ü\")","v":""},{"$f":"IF(ISERROR(VLOOKUP($E459,'File 2'!$B:$B,1,FALSE)),\"\",\"ü\")","v":""},{"$f":"IF(ISERROR(VLOOKUP($E459,'File 3'!$B:$B,1,FALSE)),\"\",\"ü\")","v":""},{"$f":"IF(ISERROR(VLOOKUP($E459,'File 4'!$B:$B,1,FALSE)),\"\",\"ü\")","v":""},{"$f":"IF(ISERROR(VLOOKUP($E459,'File 5'!$B:$B,1,FALSE)),\"\",\"ü\")","v":""}]
[null,null,null,null,{"$f":"IF(INDEX(programmer!$T:$T,ROWS(A$1:A447),1)=\"\",\"\",INDEX(programmer!$T:$T,ROWS(A$1:A447),1))","v":""},{"$f":"IF(ISERROR(VLOOKUP($E460,'File 1'!$B:$B,1,FALSE)),\"\",\"ü\")","v":""},{"$f":"IF(ISERROR(VLOOKUP($E460,'File 2'!$B:$B,1,FALSE)),\"\",\"ü\")","v":""},{"$f":"IF(ISERROR(VLOOKUP($E460,'File 3'!$B:$B,1,FALSE)),\"\",\"ü\")","v":""},{"$f":"IF(ISERROR(VLOOKUP($E460,'File 4'!$B:$B,1,FALSE)),\"\",\"ü\")","v":""},{"$f":"IF(ISERROR(VLOOKUP($E460,'File 5'!$B:$B,1,FALSE)),\"\",\"ü\")","v":""}]
[null,null,null,null,{"$f":"IF(INDEX(programmer!$T:$T,ROWS(A$1:A448),1)=\"\",\"\",INDEX(programmer!$T:$T,ROWS(A$1:A448),1))","v":""},{"$f":"IF(ISERROR(VLOOKUP($E461,'File 1'!$B:$B,1,FALSE)),\"\",\"ü\")","v":""},{"$f":"IF(ISERROR(VLOOKUP($E461,'File 2'!$B:$B,1,FALSE)),\"\",\"ü\")","v":""},{"$f":"IF(ISERROR(VLOOKUP($E461,'File 3'!$B:$B,1,FALSE)),\"\",\"ü\")","v":""},{"$f":"IF(ISERROR(VLOOKUP($E461,'File 4'!$B:$B,1,FALSE)),\"\",\"ü\")","v":""},{"$f":"IF(ISERROR(VLOOKUP($E461,'File 5'!$B:$B,1,FALSE)),\"\",\"ü\")","v":""}]
[null,null,null,null,{"$f":"IF(INDEX(programmer!$T:$T,ROWS(A$1:A449),1)=\"\",\"\",INDEX(programmer!$T:$T,ROWS(A$1:A449),1))","v":""},{"$f":"IF(ISERROR(VLOOKUP($E462,'File 1'!$B:$B,1,FALSE)),\"\",\"ü\")","v":""},{"$f":"IF(ISERROR(VLOOKUP($E462,'File 2'!$B:$B,1,FALSE)),\"\",\"ü\")","v":""},{"$f":"IF(ISERROR(VLOOKUP($E462,'File 3'!$B:$B,1,FALSE)),\"\",\"ü\")","v":""},{"$f":"IF(ISERROR(VLOOKUP($E462,'File 4'!$B:$B,1,FALSE)),\"\",\"ü\")","v":""},{"$f":"IF(ISERROR(VLOOKUP($E462,'File 5'!$B:$B,1,FALSE)),\"\",\"ü\")","v":""}]
[null,null,null,null,{"$f":"IF(INDEX(programmer!$T:$T,ROWS(A$1:A450),1)=\"\",\"\",INDEX(programmer!$T:$T,ROWS(A$1:A450),1))","v":""},{"$f":"IF(ISERROR(VLOOKUP($E463,'File 1'!$B:$B,1,FALSE)),\"\",\"ü\")","v":""},{"$f":"IF(ISERROR(VLOOKUP($E463,'File 2'!$B:$B,1,FALSE)),\"\",\"ü\")","v":""},{"$f":"IF(ISERROR(VLOOKUP($E463,'File 3'!$B:$B,1,FALSE)),\"\",\"ü\")","v":""},{"$f":"IF(ISERROR(VLOOKUP($E463,'File 4'!$B:$B,1,FALSE)),\"\",\"ü\")","v":""},{"$f":"IF(ISERROR(VLOOKUP($E463,'File 5'!$B:$B,1,FALSE)),\"\",\"ü\")","v":""}]
[null,null,null,null,{"$f":"IF(INDEX(programmer!$T:$T,ROWS(A$1:A451),1)=\"\",\"\",INDEX(programmer!$T:$T,ROWS(A$1:A451),1))","v":""},{"$f":"IF(ISERROR(VLOOKUP($E464,'File 1'!$B:$B,1,FALSE)),\"\",\"ü\")","v":""},{"$f":"IF(ISERROR(VLOOKUP($E464,'File 2'!$B:$B,1,FALSE)),\"\",\"ü\")","v":""},{"$f":"IF(ISERROR(VLOOKUP($E464,'File 3'!$B:$B,1,FALSE)),\"\",\"ü\")","v":""},{"$f":"IF(ISERROR(VLOOKUP($E464,'File 4'!$B:$B,1,FALSE)),\"\",\"ü\")","v":""},{"$f":"IF(ISERROR(VLOOKUP($E464,'File 5'!$B:$B,1,FALSE)),\"\",\"ü\")","v":""}]
[null,null,null,null,{"$f":"IF(INDEX(programmer!$T:$T,ROWS(A$1:A452),1)=\"\",\"\",INDEX(programmer!$T:$T,ROWS(A$1:A452),1))","v":""},{"$f":"IF(ISERROR(VLOOKUP($E465,'File 1'!$B:$B,1,FALSE)),\"\",\"ü\")","v":""},{"$f":"IF(ISERROR(VLOOKUP($E465,'File 2'!$B:$B,1,FALSE)),\"\",\"ü\")","v":""},{"$f":"IF(ISERROR(VLOOKUP($E465,'File 3'!$B:$B,1,FALSE)),\"\",\"ü\")","v":""},{"$f":"IF(ISERROR(VLOOKUP($E465,'File 4'!$B:$B,1,FALSE)),\"\",\"ü\")","v":""},{"$f":"IF(ISERROR(VLOOKUP($E465,'File 5'!$B:$B,1,FALSE)),\"\",\"ü\")","v":""}]
[null,null,null,null,{"$f":"IF(INDEX(programmer!$T:$T,ROWS(A$1:A453),1)=\"\",\"\",INDEX(programmer!$T:$T,ROWS(A$1:A453),1))","v":""},{"$f":"IF(ISERROR(VLOOKUP($E466,'File 1'!$B:$B,1,FALSE)),\"\",\"ü\")","v":""},{"$f":"IF(ISERROR(VLOOKUP($E466,'File 2'!$B:$B,1,FALSE)),\"\",\"ü\")","v":""},{"$f":"IF(ISERROR(VLOOKUP($E466,'File 3'!$B:$B,1,FALSE)),\"\",\"ü\")","v":""},{"$f":"IF(ISERROR(VLOOKUP($E466,'File 4'!$B:$B,1,FALSE)),\"\",\"ü\")","v":""},{"$f":"IF(ISERROR(VLOOKUP($E466,'File 5'!$B:$B,1,FALSE)),\"\",\"ü\")","v":""}]
[null,null,null,null,{"$f":"IF(INDEX(programmer!$T:$T,ROWS(A$1:A454),1)=\"\",\"\",INDEX(programmer!$T:$T,ROWS(A$1:A454),1))","v":""},{"$f":"IF(ISERROR(VLOOKUP($E467,'File 1'!$B:$B,1,FALSE)),\"\",\"ü\")","v":""},{"$f":"IF(ISERROR(VLOOKUP($E467,'File 2'!$B:$B,1,FALSE)),\"\",\"ü\")","v":""},{"$f":"IF(ISERROR(VLOOKUP($E467,'File 3'!$B:$B,1,FALSE)),\"\",\"ü\")","v":""},{"$f":"IF(ISERROR(VLOOKUP($E467,'File 4'!$B:$B,1,FALSE)),\"\",\"ü\")","v":""},{"$f":"IF(ISERROR(VLOOKUP($E467,'File 5'!$B:$B,1,FALSE)),\"\",\"ü\")","v":""}]
[null,null,null,null,{"$f":"IF(INDEX(programmer!$T:$T,ROWS(A$1:A455),1)=\"\",\"\",INDEX(programmer!$T:$T,ROWS(A$1:A455),1))","v":""},{"$f":"IF(ISERROR(VLOOKUP($E468,'File 1'!$B:$B,1,FALSE)),\"\",\"ü\")","v":""},{"$f":"IF(ISERROR(VLOOKUP($E468,'File 2'!$B:$B,1,FALSE)),\"\",\"ü\")","v":""},{"$f":"IF(ISERROR(VLOOKUP($E468,'File 3'!$B:$B,1,FALSE)),\"\",\"ü\")","v":""},{"$f":"IF(ISERROR(VLOOKUP($E468,'File 4'!$B:$B,1,FALSE)),\"\",\"ü\")","v":""},{"$f":"IF(ISERROR(VLOOKUP($E468,'File 5'!$B:$B,1,FALSE)),\"\",\"ü\")","v":""}]
[null,null,null,null,{"$f":"IF(INDEX(programmer!$T:$T,ROWS(A$1:A456),1)=\"\",\"\",INDEX(programmer!$T:$T,ROWS(A$1:A456),1))","v":""},{"$f":"IF(ISERROR(VLOOKUP($E469,'File 1'!$B:$B,1,FALSE)),\"\",\"ü\")","v":""},{"$f":"IF(ISERROR(VLOOKUP($E469,'File 2'!$B:$B,1,FALSE)),\"\",\"ü\")","v":""},{"$f":"IF(ISERROR(VLOOKUP($E469,'File 3'!$B:$B,1,FALSE)),\"\",\"ü\")","v":""},{"$f":"IF(ISERROR(VLOOKUP($E469,'File 4'!$B:$B,1,FALSE)),\"\",\"ü\")","v":""},{"$f":"IF(ISERROR(VLOOKUP($E469,'File 5'!$B:$B,1,FALSE)),\"\",\"ü\")","v":""}]
[null,null,null,null,{"$f":"IF(INDEX(programmer!$T:$T,ROWS(A$1:A457),1)=\"\",\"\",INDEX(programmer!$T:$T,ROWS(A$1:A457),1))","v":""},{"$f":"IF(ISERROR(VLOOKUP($E470,'File 1'!$B:$B,1,FALSE)),\"\",\"ü\")","v":""},{"$f":"IF(ISERROR(VLOOKUP($E470,'File 2'!$B:$B,1,FALSE)),\"\",\"ü\")","v":""},{"$f":"IF(ISERROR(VLOOKUP($E470,'File 3'!$B:$B,1,FALSE)),\"\",\"ü\")","v":""},{"$f":"IF(ISERROR(VLOOKUP($E470,'File 4'!$B:$B,1,FALSE)),\"\",\"ü\")","v":""},{"$f":"IF(ISERROR(VLOOKUP($E470,'File 5'!$B:$B,1,FALSE)),\"\",\"ü\")","v":""}]
[null,null,null,null,{"$f":"IF(INDEX(programmer!$T:$T,ROWS(A$1:A458),1)=\"\",\"\",INDEX(programmer!$T:$T,ROWS(A$1:A458),1))","v":""},{"$f":"IF(ISERROR(VLOOKUP($E471,'File 1'!$B:$B,1,FALSE)),\"\",\"ü\")","v":""},{"$f":"IF(ISERROR(VLOOKUP($E471,'File 2'!$B:$B,1,FALSE)),\"\",\"ü\")","v":""},{"$f":"IF(ISERROR(VLOOKUP($E471,'File 3'!$B:$B,1,FALSE)),\"\",\"ü\")","v":""},{"$f":"IF(ISERROR(VLOOKUP($E471,'File 4'!$B:$B,1,FALSE)),\"\",\"ü\")","v":""},{"$f":"IF(ISERROR(VLOOKUP($E471,'File 5'!$B:$B,1,FALSE)),\"\",\"ü\")","v":""}]
[null,null,null,null,{"$f":"IF(INDEX(programmer!$T:$T,ROWS(A$1:A459),1)=\"\",\"\",INDEX(programmer!$T:$T,ROWS(A$1:A459),1))","v":""},{"$f":"IF(ISERROR(VLOOKUP($E472,'File 1'!$B:$B,1,FALSE)),\"\",\"ü\")","v":""},{"$f":"IF(ISERROR(VLOOKUP($E472,'File 2'!$B:$B,1,FALSE)),\"\",\"ü\")","v":""},{"$f":"IF(ISERROR(VLOOKUP($E472,'File 3'!$B:$B,1,FALSE)),\"\",\"ü\")","v":""},{"$f":"IF(ISERROR(VLOOKUP($E472,'File 4'!$B:$B,1,FALSE)),\"\",\"ü\")","v":""},{"$f":"IF(ISERROR(VLOOKUP($E472,'File 5'!$B:$B,1,FALSE)),\"\",\"ü\")","v":""}]
[null,null,null,null,{"$f":"IF(INDEX(programmer!$T:$T,ROWS(A$1:A460),1)=\"\",\"\",INDEX(programmer!$T:$T,ROWS(A$1:A460),1))","v":""},{"$f":"IF(ISERROR(VLOOKUP($E473,'File 1'!$B:$B,1,FALSE)),\"\",\"ü\")","v":""},{"$f":"IF(ISERROR(VLOOKUP($E473,'File 2'!$B:$B,1,FALSE)),\"\",\"ü\")","v":""},{"$f":"IF(ISERROR(VLOOKUP($E473,'File 3'!$B:$B,1,FALSE)),\"\",\"ü\")","v":""},{"$f":"IF(ISERROR(VLOOKUP($E473,'File 4'!$B:$B,1,FALSE)),\"\",\"ü\")","v":""},{"$f":"IF(ISERROR(VLOOKUP($E473,'File 5'!$B:$B,1,FALSE)),\"\",\"ü\")","v":""}]
[null,null,null,null,{"$f":"IF(INDEX(programmer!$T:$T,ROWS(A$1:A461),1)=\"\",\"\",INDEX(programmer!$T:$T,ROWS(A$1:A461),1))","v":""},{"$f":"IF(ISERROR(VLOOKUP($E474,'File 1'!$B:$B,1,FALSE)),\"\",\"ü\")","v":""},{"$f":"IF(ISERROR(VLOOKUP($E474,'File 2'!$B:$B,1,FALSE)),\"\",\"ü\")","v":""},{"$f":"IF(ISERROR(VLOOKUP($E474,'File 3'!$B:$B,1,FALSE)),\"\",\"ü\")","v":""},{"$f":"IF(ISERROR(VLOOKUP($E474,'File 4'!$B:$B,1,FALSE)),\"\",\"ü\")","v":""},{"$f":"IF(ISERROR(VLOOKUP($E474,'File 5'!$B:$B,1,FALSE)),\"\",\"ü\")","v":""}]
[null,null,null,null,{"$f":"IF(INDEX(programmer!$T:$T,ROWS(A$1:A462),1)=\"\",\"\",INDEX(programmer!$T:$T,ROWS(A$1:A462),1))","v":""},{"$f":"IF(ISERROR(VLOOKUP($E475,'File 1'!$B:$B,1,FALSE)),\"\",\"ü\")","v":""},{"$f":"IF(ISERROR(VLOOKUP($E475,'File 2'!$B:$B,1,FALSE)),\"\",\"ü\")","v":""},{"$f":"IF(ISERROR(VLOOKUP($E475,'File 3'!$B:$B,1,FALSE)),\"\",\"ü\")","v":""},{"$f":"IF(ISERROR(VLOOKUP($E475,'File 4'!$B:$B,1,FALSE)),\"\",\"ü\")","v":""},{"$f":"IF(ISERROR(VLOOKUP($E475,'File 5'!$B:$B,1,FALSE)),\"\",\"ü\")","v":""}]
[null,null,null,null,{"$f":"IF(INDEX(programmer!$T:$T,ROWS(A$1:A463),1)=\"\",\"\",INDEX(programmer!$T:$T,ROWS(A$1:A463),1))","v":""},{"$f":"IF(ISERROR(VLOOKUP($E476,'File 1'!$B:$B,1,FALSE)),\"\",\"ü\")","v":""},{"$f":"IF(ISERROR(VLOOKUP($E476,'File 2'!$B:$B,1,FALSE)),\"\",\"ü\")","v":""},{"$f":"IF(ISERROR(VLOOKUP($E476,'File 3'!$B:$B,1,FALSE)),\"\",\"ü\")","v":""},{"$f":"IF(ISERROR(VLOOKUP($E476,'File 4'!$B:$B,1,FALSE)),\"\",\"ü\")","v":""},{"$f":"IF(ISERROR(VLOOKUP($E476,'File 5'!$B:$B,1,FALSE)),\"\",\"ü\")","v":""}]
[null,null,null,null,{"$f":"IF(INDEX(programmer!$T:$T,ROWS(A$1:A464),1)=\"\",\"\",INDEX(programmer!$T:$T,ROWS(A$1:A464),1))","v":""},{"$f":"IF(ISERROR(VLOOKUP($E477,'File 1'!$B:$B,1,FALSE)),\"\",\"ü\")","v":""},{"$f":"IF(ISERROR(VLOOKUP($E477,'File 2'!$B:$B,1,FALSE)),\"\",\"ü\")","v":""},{"$f":"IF(ISERROR(VLOOKUP($E477,'File 3'!$B:$B,1,FALSE)),\"\",\"ü\")","v":""},{"$f":"IF(ISERROR(VLOOKUP($E477,'File 4'!$B:$B,1,FALSE)),\"\",\"ü\")","v":""},{"$f":"IF(ISERROR(VLOOKUP($E477,'File 5'!$B:$B,1,FALSE)),\"\",\"ü\")","v":""}]
[null,null,null,null,{"$f":"IF(INDEX(programmer!$T:$T,ROWS(A$1:A465),1)=\"\",\"\",INDEX(programmer!$T:$T,ROWS(A$1:A465),1))","v":""},{"$f":"IF(ISERROR(VLOOKUP($E478,'File 1'!$B:$B,1,FALSE)),\"\",\"ü\")","v":""},{"$f":"IF(ISERROR(VLOOKUP($E478,'File 2'!$B:$B,1,FALSE)),\"\",\"ü\")","v":""},{"$f":"IF(ISERROR(VLOOKUP($E478,'File 3'!$B:$B,1,FALSE)),\"\",\"ü\")","v":""},{"$f":"IF(ISERROR(VLOOKUP($E478,'File 4'!$B:$B,1,FALSE)),\"\",\"ü\")","v":""},{"$f":"IF(ISERROR(VLOOKUP($E478,'File 5'!$B:$B,1,FALSE)),\"\",\"ü\")","v":""}]
[null,null,null,null,{"$f":"IF(INDEX(programmer!$T:$T,ROWS(A$1:A466),1)=\"\",\"\",INDEX(programmer!$T:$T,ROWS(A$1:A466),1))","v":""},{"$f":"IF(ISERROR(VLOOKUP($E479,'File 1'!$B:$B,1,FALSE)),\"\",\"ü\")","v":""},{"$f":"IF(ISERROR(VLOOKUP($E479,'File 2'!$B:$B,1,FALSE)),\"\",\"ü\")","v":""},{"$f":"IF(ISERROR(VLOOKUP($E479,'File 3'!$B:$B,1,FALSE)),\"\",\"ü\")","v":""},{"$f":"IF(ISERROR(VLOOKUP($E479,'File 4'!$B:$B,1,FALSE)),\"\",\"ü\")","v":""},{"$f":"IF(ISERROR(VLOOKUP($E479,'File 5'!$B:$B,1,FALSE)),\"\",\"ü\")","v":""}]
[null,null,null,null,{"$f":"IF(INDEX(programmer!$T:$T,ROWS(A$1:A467),1)=\"\",\"\",INDEX(programmer!$T:$T,ROWS(A$1:A467),1))","v":""},{"$f":"IF(ISERROR(VLOOKUP($E480,'File 1'!$B:$B,1,FALSE)),\"\",\"ü\")","v":""},{"$f":"IF(ISERROR(VLOOKUP($E480,'File 2'!$B:$B,1,FALSE)),\"\",\"ü\")","v":""},{"$f":"IF(ISERROR(VLOOKUP($E480,'File 3'!$B:$B,1,FALSE)),\"\",\"ü\")","v":""},{"$f":"IF(ISERROR(VLOOKUP($E480,'File 4'!$B:$B,1,FALSE)),\"\",\"ü\")","v":""},{"$f":"IF(ISERROR(VLOOKUP($E480,'File 5'!$B:$B,1,FALSE)),\"\",\"ü\")","v":""}]
[null,null,null,null,{"$f":"IF(INDEX(programmer!$T:$T,ROWS(A$1:A468),1)=\"\",\"\",INDEX(programmer!$T:$T,ROWS(A$1:A468),1))","v":""},{"$f":"IF(ISERROR(VLOOKUP($E481,'File 1'!$B:$B,1,FALSE)),\"\",\"ü\")","v":""},{"$f":"IF(ISERROR(VLOOKUP($E481,'File 2'!$B:$B,1,FALSE)),\"\",\"ü\")","v":""},{"$f":"IF(ISERROR(VLOOKUP($E481,'File 3'!$B:$B,1,FALSE)),\"\",\"ü\")","v":""},{"$f":"IF(ISERROR(VLOOKUP($E481,'File 4'!$B:$B,1,FALSE)),\"\",\"ü\")","v":""},{"$f":"IF(ISERROR(VLOOKUP($E481,'File 5'!$B:$B,1,FALSE)),\"\",\"ü\")","v":""}]
[null,null,null,null,{"$f":"IF(INDEX(programmer!$T:$T,ROWS(A$1:A469),1)=\"\",\"\",INDEX(programmer!$T:$T,ROWS(A$1:A469),1))","v":""},{"$f":"IF(ISERROR(VLOOKUP($E482,'File 1'!$B:$B,1,FALSE)),\"\",\"ü\")","v":""},{"$f":"IF(ISERROR(VLOOKUP($E482,'File 2'!$B:$B,1,FALSE)),\"\",\"ü\")","v":""},{"$f":"IF(ISERROR(VLOOKUP($E482,'File 3'!$B:$B,1,FALSE)),\"\",\"ü\")","v":""},{"$f":"IF(ISERROR(VLOOKUP($E482,'File 4'!$B:$B,1,FALSE)),\"\",\"ü\")","v":""},{"$f":"IF(ISERROR(VLOOKUP($E482,'File 5'!$B:$B,1,FALSE)),\"\",\"ü\")","v":""}]
[null,null,null,null,{"$f":"IF(INDEX(programmer!$T:$T,ROWS(A$1:A470),1)=\"\",\"\",INDEX(programmer!$T:$T,ROWS(A$1:A470),1))","v":""},{"$f":"IF(ISERROR(VLOOKUP($E483,'File 1'!$B:$B,1,FALSE)),\"\",\"ü\")","v":""},{"$f":"IF(ISERROR(VLOOKUP($E483,'File 2'!$B:$B,1,FALSE)),\"\",\"ü\")","v":""},{"$f":"IF(ISERROR(VLOOKUP($E483,'File 3'!$B:$B,1,FALSE)),\"\",\"ü\")","v":""},{"$f":"IF(ISERROR(VLOOKUP($E483,'File 4'!$B:$B,1,FALSE)),\"\",\"ü\")","v":""},{"$f":"IF(ISERROR(VLOOKUP($E483,'File 5'!$B:$B,1,FALSE)),\"\",\"ü\")","v":""}]
[null,null,null,null,{"$f":"IF(INDEX(programmer!$T:$T,ROWS(A$1:A471),1)=\"\",\"\",INDEX(programmer!$T:$T,ROWS(A$1:A471),1))","v":""},{"$f":"IF(ISERROR(VLOOKUP($E484,'File 1'!$B:$B,1,FALSE)),\"\",\"ü\")","v":""},{"$f":"IF(ISERROR(VLOOKUP($E484,'File 2'!$B:$B,1,FALSE)),\"\",\"ü\")","v":""},{"$f":"IF(ISERROR(VLOOKUP($E484,'File 3'!$B:$B,1,FALSE)),\"\",\"ü\")","v":""},{"$f":"IF(ISERROR(VLOOKUP($E484,'File 4'!$B:$B,1,FALSE)),\"\",\"ü\")","v":""},{"$f":"IF(ISERROR(VLOOKUP($E484,'File 5'!$B:$B,1,FALSE)),\"\",\"ü\")","v":""}]
[null,null,null,null,{"$f":"IF(INDEX(programmer!$T:$T,ROWS(A$1:A472),1)=\"\",\"\",INDEX(programmer!$T:$T,ROWS(A$1:A472),1))","v":""},{"$f":"IF(ISERROR(VLOOKUP($E485,'File 1'!$B:$B,1,FALSE)),\"\",\"ü\")","v":""},{"$f":"IF(ISERROR(VLOOKUP($E485,'File 2'!$B:$B,1,FALSE)),\"\",\"ü\")","v":""},{"$f":"IF(ISERROR(VLOOKUP($E485,'File 3'!$B:$B,1,FALSE)),\"\",\"ü\")","v":""},{"$f":"IF(ISERROR(VLOOKUP($E485,'File 4'!$B:$B,1,FALSE)),\"\",\"ü\")","v":""},{"$f":"IF(ISERROR(VLOOKUP($E485,'File 5'!$B:$B,1,FALSE)),\"\",\"ü\")","v":""}]
[null,null,null,null,{"$f":"IF(INDEX(programmer!$T:$T,ROWS(A$1:A473),1)=\"\",\"\",INDEX(programmer!$T:$T,ROWS(A$1:A473),1))","v":""},{"$f":"IF(ISERROR(VLOOKUP($E486,'File 1'!$B:$B,1,FALSE)),\"\",\"ü\")","v":""},{"$f":"IF(ISERROR(VLOOKUP($E486,'File 2'!$B:$B,1,FALSE)),\"\",\"ü\")","v":""},{"$f":"IF(ISERROR(VLOOKUP($E486,'File 3'!$B:$B,1,FALSE)),\"\",\"ü\")","v":""},{"$f":"IF(ISERROR(VLOOKUP($E486,'File 4'!$B:$B,1,FALSE)),\"\",\"ü\")","v":""},{"$f":"IF(ISERROR(VLOOKUP($E486,'File 5'!$B:$B,1,FALSE)),\"\",\"ü\")","v":""}]
[null,null,null,null,{"$f":"IF(INDEX(programmer!$T:$T,ROWS(A$1:A474),1)=\"\",\"\",INDEX(programmer!$T:$T,ROWS(A$1:A474),1))","v":""},{"$f":"IF(ISERROR(VLOOKUP($E487,'File 1'!$B:$B,1,FALSE)),\"\",\"ü\")","v":""},{"$f":"IF(ISERROR(VLOOKUP($E487,'File 2'!$B:$B,1,FALSE)),\"\",\"ü\")","v":""},{"$f":"IF(ISERROR(VLOOKUP($E487,'File 3'!$B:$B,1,FALSE)),\"\",\"ü\")","v":""},{"$f":"IF(ISERROR(VLOOKUP($E487,'File 4'!$B:$B,1,FALSE)),\"\",\"ü\")","v":""},{"$f":"IF(ISERROR(VLOOKUP($E487,'File 5'!$B:$B,1,FALSE)),\"\",\"ü\")","v":""}]
["end of tab"]

{"sheet":"File 1","index":1,"n_rows":3,"n_cols":37,"rows_kept":3,"cut":false,"hidden":false,"merged":[[1,16,2,16],[1,17,2,18],[1,19,2,20],[1,35,1,36],[1,23,1,24],[1,25,1,26],[1,27,1,28],[1,29,1,30],[1,31,1,32],[1,33,1,34],[1,21,1,22],[0,17,0,20],[0,21,0,36],[1,3,2,3],[1,4,2,4],[1,5,2,5],[1,6,2,6],[1,7,2,7],[1,8,2,8],[1,9,2,9],[0,9,0,16],[1,10,2,10],[1,11,2,11],[1,12,2,12],[1,13,2,13],[1,14,2,14],[1,15,2,15],[0,0,2,0],[0,1,2,1],[0,2,2,2],[0,3,0,6],[0,7,0,8]]}
["Program Number","Local Program Name","Timestamp","Children Served (EI)",null,null,null,"Expenses",null,"Budget by Source",null,null,null,null,null,null,null,"Percent of Children Enrolled",null,null,null,"Receipts by Source"]
[null,null,null,"Referred","Evaluated","Eligible","Served","Infrastructure & Administrative","Direct Services","Local Funds","Family Fees","CHIP","Private Insurance","Federal Part C","State Part C","State General Funds","Medicaid","Private Insurance",null,"Medicaid",null,"Local Funds",null,"Family Fees",null,"CHIP",null,"Private Insurance",null,"Federal Part C",null,"State Part C",null,"State General Funds",null,"Medicaid"]
[null,null,null,null,null,null,null,null,null,null,null,null,null,null,null,null,null,null,null,null,null,"Current","Anticipated","Current","Anticipated","Current","Anticipated","Current","Anticipated","Current","Anticipated","Current","Anticipated","Current","Anticipated","Current","Anticipated"]

{"sheet":"File 2","index":2,"n_rows":3,"n_cols":37,"rows_kept":3,"cut":false,"hidden":false,"merged":[[1,16,2,16],[1,17,2,18],[1,19,2,20],[1,35,1,36],[1,23,1,24],[1,25,1,26],[1,27,1,28],[1,29,1,30],[1,31,1,32],[1,33,1,34],[1,21,1,22],[0,17,0,20],[0,21,0,36],[1,3,2,3],[1,4,2,4],[1,5,2,5],[1,6,2,6],[1,7,2,7],[1,8,2,8],[1,9,2,9],[0,9,0,16],[1,10,2,10],[1,11,2,11],[1,12,2,12],[1,13,2,13],[1,14,2,14],[1,15,2,15],[0,0,2,0],[0,1,2,1],[0,2,2,2],[0,3,0,6],[0,7,0,8]]}
["Program Number","Local Program Name","Timestamp","Children Served (EI)",null,null,null,"Expenses",null,"Budget by Source",null,null,null,null,null,null,null,"Percent of Children Enrolled",null,null,null,"Receipts by Source"]
[null,null,null,"Referred","Evaluated","Eligible","Served","Infrastructure & Administrative","Direct Services","Local Funds","Family Fees","CHIP","Private Insurance","Federal Part C","State Part C","State General Funds","Medicaid","Private Insurance",null,"Medicaid",null,"Local Funds",null,"Family Fees",null,"CHIP",null,"Private Insurance",null,"Federal Part C",null,"State Part C",null,"State General Funds",null,"Medicaid"]
[null,null,null,null,null,null,null,null,null,null,null,null,null,null,null,null,null,null,null,null,null,"Current","Anticipated","Current","Anticipated","Current","Anticipated","Current","Anticipated","Current","Anticipated","Current","Anticipated","Current","Anticipated","Current","Anticipated"]

{"sheet":"File 3","index":3,"n_rows":3,"n_cols":37,"rows_kept":3,"cut":false,"hidden":false,"merged":[[1,16,2,16],[1,17,2,18],[1,19,2,20],[1,35,1,36],[1,23,1,24],[1,25,1,26],[1,27,1,28],[1,29,1,30],[1,31,1,32],[1,33,1,34],[1,21,1,22],[0,17,0,20],[0,21,0,36],[1,3,2,3],[1,4,2,4],[1,5,2,5],[1,6,2,6],[1,7,2,7],[1,8,2,8],[1,9,2,9],[0,9,0,16],[1,10,2,10],[1,11,2,11],[1,12,2,12],[1,13,2,13],[1,14,2,14],[1,15,2,15],[0,0,2,0],[0,1,2,1],[0,2,2,2],[0,3,0,6],[0,7,0,8]]}
["Program Number","Local Program Name","Timestamp","Children Served (EI)",null,null,null,"Expenses",null,"Budget by Source",null,null,null,null,null,null,null,"Percent of Children Enrolled",null,null,null,"Receipts by Source"]
[null,null,null,"Referred","Evaluated","Eligible","Served","Infrastructure & Administrative","Direct Services","Local Funds","Family Fees","CHIP","Private Insurance","Federal Part C","State Part C","State General Funds","Medicaid","Private Insurance",null,"Medicaid",null,"Local Funds",null,"Family Fees",null,"CHIP",null,"Private Insurance",null,"Federal Part C",null,"State Part C",null,"State General Funds",null,"Medicaid"]
[null,null,null,null,null,null,null,null,null,null,null,null,null,null,null,null,null,null,null,null,null,"Current","Anticipated","Current","Anticipated","Current","Anticipated","Current","Anticipated","Current","Anticipated","Current","Anticipated","Current","Anticipated","Current","Anticipated"]

{"sheet":"File 4","index":4,"n_rows":3,"n_cols":37,"rows_kept":3,"cut":false,"hidden":false,"merged":[[1,16,2,16],[1,17,2,18],[1,19,2,20],[1,35,1,36],[1,23,1,24],[1,25,1,26],[1,27,1,28],[1,29,1,30],[1,31,1,32],[1,33,1,34],[1,21,1,22],[0,17,0,20],[0,21,0,36],[1,3,2,3],[1,4,2,4],[1,5,2,5],[1,6,2,6],[1,7,2,7],[1,8,2,8],[1,9,2,9],[0,9,0,16],[1,10,2,10],[1,11,2,11],[1,12,2,12],[1,13,2,13],[1,14,2,14],[1,15,2,15],[0,0,2,0],[0,1,2,1],[0,2,2,2],[0,3,0,6],[0,7,0,8]]}
["Program Number","Local Program Name","Timestamp","Children Served (EI)",null,null,null,"Expenses",null,"Budget by Source",null,null,null,null,null,null,null,"Percent of Children Enrolled",null,null,null,"Receipts by Source"]
[null,null,null,"Referred","Evaluated","Eligible","Served","Infrastructure & Administrative","Direct Services","Local Funds","Family Fees","CHIP","Private Insurance","Federal Part C","State Part C","State General Funds","Medicaid","Private Insurance",null,"Medicaid",null,"Local Funds",null,"Family Fees",null,"CHIP",null,"Private Insurance",null,"Federal Part C",null,"State Part C",null,"State General Funds",null,"Medicaid"]
[null,null,null,null,null,null,null,null,null,null,null,null,null,null,null,null,null,null,null,null,null,"Current","Anticipated","Current","Anticipated","Current","Anticipated","Current","Anticipated","Current","Anticipated","Current","Anticipated","Current","Anticipated","Current","Anticipated"]

{"sheet":"File 5","index":5,"n_rows":3,"n_cols":37,"rows_kept":3,"cut":false,"hidden":false,"merged":[[1,16,2,16],[1,17,2,18],[1,19,2,20],[1,35,1,36],[1,23,1,24],[1,25,1,26],[1,27,1,28],[1,29,1,30],[1,31,1,32],[1,33,1,34],[1,21,1,22],[0,17,0,20],[0,21,0,36],[1,3,2,3],[1,4,2,4],[1,5,2,5],[1,6,2,6],[1,7,2,7],[1,8,2,8],[1,9,2,9],[0,9,0,16],[1,10,2,10],[1,11,2,11],[1,12,2,12],[1,13,2,13],[1,14,2,14],[1,15,2,15],[0,0,2,0],[0,1,2,1],[0,2,2,2],[0,3,0,6],[0,7,0,8]]}
["Program Number","Local Program Name","Timestamp","Children Served (EI)",null,null,null,"Expenses",null,"Budget by Source",null,null,null,null,null,null,null,"Percent of Children Enrolled",null,null,null,"Receipts by Source"]
[null,null,null,"Referred","Evaluated","Eligible","Served","Infrastructure & Administrative","Direct Services","Local Funds","Family Fees","CHIP","Private Insurance","Federal Part C","State Part C","State General Funds","Medicaid","Private Insurance",null,"Medicaid",null,"Local Funds",null,"Family Fees",null,"CHIP",null,"Private Insurance",null,"Federal Part C",null,"State Part C",null,"State General Funds",null,"Medicaid"]
[null,null,null,null,null,null,null,null,null,null,null,null,null,null,null,null,null,null,null,null,null,"Current","Anticipated","Current","Anticipated","Current","Anticipated","Current","Anticipated","Current","Anticipated","Current","Anticipated","Current","Anticipated","Current","Anticipated"]

{"sheet":"Flat","index":6,"n_rows":1,"n_cols":8,"rows_kept":1,"cut":false,"hidden":true,"merged":[]}
["File","ItemCode","Category","Subcategory","Item","Program","Value","Date"]

{"sheet":"programmer","index":7,"n_rows":986,"n_cols":144,"rows_kept":986,"cut":false,"hidden":true,"merged":[[24,94,33,94],[13,22,13,26],[1,28,5,30],[1,15,2,15],[2,94,8,94],[10,94,11,94],[13,94,19,94]]}
[null,"Used in",null,null,null,null,null,null,null,null,null,null,2,201,null,null,null,null,{"$f":"COUNTA(T:T)-1","v":0},"Program",{"$f":"COUNTA(T:T)","v":1},null,null,null,null,null,null,null,null,null,null,"File 1",0,0,0,0,0,0,0,0,0,0,null,"File 2",0,0,0,0,0,0,0,0,0,0,null,"File 3",0,0,0,0,0,0,0,0,0,0,null,"File 4",0,0,0,0,0,0,0,0,0,0,null,"File 5",0,0,0,0,0,0,0,0,0,0]
[null,"flatten macro",null,null,null,null,"Reference",null,null,null,null,null,"Start","End",null,"Count rows with data in Flat tab",{"$f":"COUNTA(Flat!A:A)","v":1},null,"Use Column T:U to create program list",null,null,null,"Should the Flat file be refreshed?",{"$f":"IF(SUM(X3:X12)>0,1,0)","v":0},null,null,null,null,"The values to the right are written via VBA in the \"check for updates\" (when Dashboard is activated) ---->",null,null,null,0,0,0,0,0,0,0,0,0,0,null,null,0,0,0,0,0,0,0,0,0,0,null,null,0,0,0,0,0,0,0,0,0,0,null,null,0,0,0,0,0,0,0,0,0,0,null,null,0,0,0,0,0,0,0,0,0,0,null,null,"Version","Date","Edits/Comments",null,"Version","Date","Edits/Comments"]
[null,null,null,null,null,null,null,null,null,null,null,null,null,null,null,null,null,null,"see macro",null,null,"*","Newly imported or cleared File 1",0,null,null,null,null,null,null,null,null,0,0,0,0,0,0,0,0,0,0,null,null,0,0,0,0,0,0,0,0,0,0,null,null,0,0,0,0,0,0,0,0,0,0,null,null,0,0,0,0,0,0,0,0,0,0,null,null,0,0,0,0,0,0,0,0,0,0,null,null,"v11.1","2021-11-02","1. Changing the fund source header does not change the button label in the dashboard.  Looks like the change of the fund source for the first file does change the legend (which is perfect) but doesn’t update the button text. done.  This took a little more doing than I anticipated… and I should probably test it out in a few more iterations of uploads and updates.  It was working originally when things were done in a certain order (uploading files and changing column titles) but I needed to allow for these actions to happen in ANY order which is a little trickier.",null,"v11.3","2022-04-27","updated formula fixed yesterday in Budget_by_Source B2 and Expenses that allows for blank program selection in Dashboard"]
[null,null,null,null,null,null,null,null,null,null,null,null,4,203,null,null,null,null,"createProgramList",null,null,"*","Newly imported or cleared File 2",0,null,null,null,null,null,null,null,null,0,0,0,0,0,0,0,0,0,0,null,null,0,0,0,0,0,0,0,0,0,0,null,null,0,0,0,0,0,0,0,0,0,0,null,null,0,0,0,0,0,0,0,0,0,0,null,null,0,0,0,0,0,0,0,0,0,0,null,null,null,null,null,null,null,null,"updated sub to call createProgramList whenever Dashboard is updated"]
[null,"Tabs",null,null,null,null,"Category","Subcategory","Item","ItemCode",null,null,"Start","End",null,"Count Programs",{"$f":"COUNTA(T:T)-1","v":0},null,null,null,null,"*","Newly imported or cleared File 3",0,null,null,null,null,null,null,null,null,0,0,0,0,0,0,0,0,0,0,null,null,0,0,0,0,0,0,0,0,0,0,null,null,0,0,0,0,0,0,0,0,0,0,null,null,0,0,0,0,0,0,0,0,0,0,null,null,0,0,0,0,0,0,0,0,0,0,null,null,null,null,null,null,null,null,"fixed shading /conditional formatting in dashboard that was highlighting cells in CurrentRow (Expenses graph table) for blank cells"]
[null,{"$f":"MID(CELL(\"Filename\",'File 1'!A1),FIND(\"]\",CELL(\"Filename\",'File 1'!A1))+1,255)","v":"File 1"},null,null,null,null,"Children Served (EI)","Referred",null,"C_Red_",null,"D","D4","D203",null,null,null,null,null,null,null,"*","Newly imported or cleared File 4",0,null,null,null,null,null,null,null,null,0,0,0,0,0,0,0,0,0,0,null,null,0,0,0,0,0,0,0,0,0,0,null,null,0,0,0,0,0,0,0,0,0,0,null,null,0,0,0,0,0,0,0,0,0,0,null,null,0,0,0,0,0,0,0,0,0,0,null,null,null,null,null,null,null,null,"added link to pdf url in popup info userform"]
[null,{"$f":"MID(CELL(\"Filename\",'File 2'!A1),FIND(\"]\",CELL(\"Filename\",'File 2'!A1))+1,255)","v":"File 2"},null,null,null,null,"Children Served (EI)","Evaluated",null,"C_Evd_",null,"E","E4","E203",null,null,null,null,null,null,null,"*","Newly imported or cleared File 5",0,null,null,null,null,null,null,null,null,0,0,0,0,0,0,0,0,0,0,null,null,0,0,0,0,0,0,0,0,0,0,null,null,0,0,0,0,0,0,0,0,0,0,null,null,0,0,0,0,0,0,0,0,0,0,null,null,0,0,0,0,0,0,0,0,0,0]
[null,{"$f":"MID(CELL(\"Filename\",'File 3'!A1),FIND(\"]\",CELL(\"Filename\",'File 3'!A1))+1,255)","v":"File 3"},null,null,null,null,"Children Served (EI)","Eligible",null,"C_Ele_",null,"F","F4","F203",null,{"$f":"\"_\"&RIGHT(\"0\"&MONTH(TODAY()),2)&\"_\"&RIGHT(\"0\"&DAY(TODAY()),2)&\"_\"&RIGHT(YEAR(TODAY()),2)","v":"_01_21_23"},null,null,null,null,null,null,"Manual change in data in File 1",{"$f":"IF(SUM(AG:AP)=0,0,1)","v":0},null,null,null,null,null,null,null,null,0,0,0,0,0,0,0,0,0,0,null,null,0,0,0,0,0,0,0,0,0,0,null,null,0,0,0,0,0,0,0,0,0,0,null,null,0,0,0,0,0,0,0,0,0,0,null,null,0,0,0,0,0,0,0,0,0,0]
[null,{"$f":"MID(CELL(\"Filename\",'File 4'!A1),FIND(\"]\",CELL(\"Filename\",'File 4'!A1))+1,255)","v":"File 4"},null,null,null,null,"Children Served (EI)","Served",null,"C_Sed_",null,"G","G4","G203",null,null,null,null,null,null,null,null,"Manual change in data in File 2",{"$f":"IF(SUM(AS:BB)=0,0,1)","v":0},null,null,null,null,null,null,null,null,0,0,0,0,0,0,0,0,0,0,null,null,0,0,0,0,0,0,0,0,0,0,null,null,0,0,0,0,0,0,0,0,0,0,null,null,0,0,0,0,0,0,0,0,0,0,null,null,0,0,0,0,0,0,0,0,0,0]
[null,{"$f":"MID(CELL(\"Filename\",'File 5'!A1),FIND(\"]\",CELL(\"Filename\",'File 5'!A1))+1,255)","v":"File 5"},null,null,null,null,"Expenses","Infrastructure & Administrative",null,"E_Ine_",null,"H","H4","H203",null,null,null,null,null,null,null,null,"Manual change in data in File 3",{"$f":"IF(SUM(BE:BN)=0,0,1)","v":0},null,null,null,null,null,null,null,null,0,0,0,0,0,0,0,0,0,0,null,null,0,0,0,0,0,0,0,0,0,0,null,null,0,0,0,0,0,0,0,0,0,0,null,null,0,0,0,0,0,0,0,0,0,0,null,null,0,0,0,0,0,0,0,0,0,0]
[null,null,null,null,null,null,"Expenses","Direct Services",null,"E_Dis_",null,"I","I4","I203",null,null,null,null,null,null,null,null,"Manual change in data in File 4",{"$f":"IF(SUM(BQ:BZ)=0,0,1)","v":0},null,null,null,null,null,null,null,null,0,0,0,0,0,0,0,0,0,0,null,null,0,0,0,0,0,0,0,0,0,0,null,null,0,0,0,0,0,0,0,0,0,0,null,null,0,0,0,0,0,0,0,0,0,0,null,null,0,0,0,0,0,0,0,0,0,0,null,null,null,null,"2. For the second graph, I noticed that the minimum scale on the y-axis isn’t always 0%.  I believe it should always be 0%.] done"]
[null,"Local Funds",null,null,null,null,"Budget by Source",{"$f":"IF('File 1'!$J$2=\"\",\"Source 1\",'File 1'!$J$2)","v":"Local Funds"},null,"B_Los_",null,"J","J4","J203",null,"Date Range","Min","Max",null,null,null,null,"Manual change in data in File 5",{"$f":"IF(SUM(CC:CL)=0,0,1)","v":0},null,null,null,null,null,null,null,null,0,0,0,0,0,0,0,0,0,0,null,null,0,0,0,0,0,0,0,0,0,0,null,null,0,0,0,0,0,0,0,0,0,0,null,null,0,0,0,0,0,0,0,0,0,0,null,null,0,0,0,0,0,0,0,0,0,0]
[null,"Family Fees",null,null,null,null,"Budget by Source",{"$f":"IF('File 1'!$K$2=\"\",\"Source 2\",'File 1'!$K$2)","v":"Family Fees"},null,"B_Fas_",null,"K","K4","K203",null,"File 1",{"$f":"MIN('File 1'!C:C)","v":"00:00:00"},{"$f":"MAX('File 1'!C:C)","v":"00:00:00"},null,null,null,null,null,null,null,null,null,null,null,null,null,null,0,0,0,0,0,0,0,0,0,0,null,null,0,0,0,0,0,0,0,0,0,0,null,null,0,0,0,0,0,0,0,0,0,0,null,null,0,0,0,0,0,0,0,0,0,0,null,null,0,0,0,0,0,0,0,0,0,0]
[null,"CHIP",null,null,null,null,"Budget by Source",{"$f":"IF('File 1'!$L$2=\"\",\"Source 3\",'File 1'!$L$2)","v":"CHIP"},null,"B_CHP_",null,"L","L4","L203",null,"File 2",{"$f":"MIN('File 2'!C:C)","v":"00:00:00"},{"$f":"MAX('File 2'!C:C)","v":"00:00:00"},null,null,null,"*","*These values are written via VBA in the import / clear process",null,null,null,null,null,null,null,null,null,0,0,0,0,0,0,0,0,0,0,null,null,0,0,0,0,0,0,0,0,0,0,null,null,0,0,0,0,0,0,0,0,0,0,null,null,0,0,0,0,0,0,0,0,0,0,null,null,0,0,0,0,0,0,0,0,0,0,null,null,null,null,"3. Also for the second graph and table.  The dollar values should be the statewide average (not the statewide total). ] Since I think we should we specify that the average is per program entered like we did in the original doc… So…..I added some explanatory text at the bottom of each table.  You can read the text by clicking in the chart … it shows you text for the cell you click on. This was my first time building two separate “active cell triggers”… Fun!"]
[null,"Private Insurance",null,null,null,null,"Budget by Source",{"$f":"IF('File 1'!$M$2=\"\",\"Source 4\",'File 1'!$M$2)","v":"Private Insurance"},null,"B_Pre_",null,"M","M4","M203",null,"File 3",{"$f":"MIN('File 3'!C:C)","v":"00:00:00"},{"$f":"MAX('File 3'!C:C)","v":"00:00:00"},null,null,null,null,null,null,null,null,null,null,null,null,null,null,0,0,0,0,0,0,0,0,0,0,null,null,0,0,0,0,0,0,0,0,0,0,null,null,0,0,0,0,0,0,0,0,0,0,null,null,0,0,0,0,0,0,0,0,0,0,null,null,0,0,0,0,0,0,0,0,0,0]
[null,"Federal Part C",null,null,null,null,"Budget by Source",{"$f":"IF('File 1'!$N$2=\"\",\"Source 5\",'File 1'!$N$2)","v":"Federal Part C"},null,"B_FeC_",null,"N","N4","N203",null,"File 4",{"$f":"MIN('File 4'!C:C)","v":"00:00:00"},{"$f":"MAX('File 4'!C:C)","v":"00:00:00"},null,null,null,null,null,null,null,null,null,null,null,null,null,null,0,0,0,0,0,0,0,0,0,0,null,null,0,0,0,0,0,0,0,0,0,0,null,null,0,0,0,0,0,0,0,0,0,0,null,null,0,0,0,0,0,0,0,0,0,0,null,null,0,0,0,0,0,0,0,0,0,0]
[null,"State Part C",null,null,null,null,"Budget by Source",{"$f":"IF('File 1'!$O$2=\"\",\"Source 6\",'File 1'!$O$2)","v":"State Part C"},null,"B_StC_",null,"O","O4","O203",null,"File 5",{"$f":"MIN('File 5'!C:C)","v":"00:00:00"},{"$f":"MAX('File 5'!C:C)","v":"00:00:00"},null,null,null,null,"Do not move these [W18:AF18]",null,null,null,null,null,null,null,null,null,0,0,0,0,0,0,0,0,0,0,null,null,0,0,0,0,0,0,0,0,0,0,null,null,0,0,0,0,0,0,0,0,0,0,null,null,0,0,0,0,0,0,0,0,0,0,null,null,0,0,0,0,0,0,0,0,0,0]
[null,"State General Funds",null,null,null,null,"Budget by Source",{"$f":"IF('File 1'!$P$2=\"\",\"Source 7\",'File 1'!$P$2)","v":"State General Funds"},null,"B_Sts_",null,"P","P4","P203",null,null,null,null,null,null,null,null,"E_Ine_","E_Dis_","B_Los_","B_Fas_","B_CHP_","B_Pre_","B_FeC_","B_StC_","B_Sts_","B_Med_",0,0,0,0,0,0,0,0,0,0,null,null,0,0,0,0,0,0,0,0,0,0,null,null,0,0,0,0,0,0,0,0,0,0,null,null,0,0,0,0,0,0,0,0,0,0,null,null,0,0,0,0,0,0,0,0,0,0]
[null,"Medicaid",null,null,null,null,"Budget by Source",{"$f":"IF('File 1'!$Q$2=\"\",\"Source 8\",'File 1'!$Q$2)","v":"Medicaid"},null,"B_Med_",null,"Q","Q4","Q203",null,"Workbook Range",{"$f":"MIN(Q13:Q17)","v":"00:00:00"},{"$f":"MAX(R13:R17)","v":"00:00:00"},null,null,null,null,null,null,null,null,null,null,null,null,null,null,0,0,0,0,0,0,0,0,0,0,null,null,0,0,0,0,0,0,0,0,0,0,null,null,0,0,0,0,0,0,0,0,0,0,null,null,0,0,0,0,0,0,0,0,0,0,null,null,0,0,0,0,0,0,0,0,0,0]
[null,null,null,null,null,null,"Percent of Children Enrolled","Private Insurance",null,"P_Pre_",null,"R","R4","R203",null,{"$f":"\"The files in this summary workbook span from \"&MONTH(Q19)&\"/\"&DAY(Q19)&\"/\"&RIGHT(YEAR(Q19),2)&\" through \"&MONTH(R19)&\"/\"&DAY(R19)&\"/\"&RIGHT(YEAR(R19),2)&\".\"","v":"The files in this summary workbook span from 1/0/00 through 1/0/00."},null,null,null,null,null,null,null,null,null,null,null,null,null,null,null,null,0,0,0,0,0,0,0,0,0,0,null,null,0,0,0,0,0,0,0,0,0,0,null,null,0,0,0,0,0,0,0,0,0,0,null,null,0,0,0,0,0,0,0,0,0,0,null,null,0,0,0,0,0,0,0,0,0,0]
[null,null,null,null,null,null,"Percent of Children Enrolled","Medicaid",null,"P_Med_",null,"T","T4","T203",null,null,null,null,null,null,null,null,null,null,null,null,null,null,null,null,null,null,0,0,0,0,0,0,0,0,0,0,null,null,0,0,0,0,0,0,0,0,0,0,null,null,0,0,0,0,0,0,0,0,0,0,null,null,0,0,0,0,0,0,0,0,0,0,null,null,0,0,0,0,0,0,0,0,0,0,null,null,null,null,"4. Lastly, could you rename the graphs to:"]
[null,null,null,null,null,null,"Receipts by Source","Local Funds","Current","R_Los_C",null,"V","V4","V203",null,null,null,null,null,null,null,null,null,null,null,null,null,null,null,null,null,null,0,0,0,0,0,0,0,0,0,0,null,null,0,0,0,0,0,0,0,0,0,0,null,null,0,0,0,0,0,0,0,0,0,0,null,null,0,0,0,0,0,0,0,0,0,0,null,null,0,0,0,0,0,0,0,0,0,0,null,null,null,null,"a. Budget by Funding Source Over Time for [LOCAL PROGRAM] done"]
[null,null,null,null,null,null,"Receipts by Source","Local Funds","Anticipated","R_Los_A",null,"W","W4","W203",null,null,null,null,null,null,null,null,null,null,null,null,null,null,null,null,null,null,0,0,0,0,0,0,0,0,0,0,null,null,0,0,0,0,0,0,0,0,0,0,null,null,0,0,0,0,0,0,0,0,0,0,null,null,0,0,0,0,0,0,0,0,0,0,null,null,0,0,0,0,0,0,0,0,0,0,null,null,null,null,"b. Total Expenses Over Time by Type for [LOCAL PROGRAM] vs. Statewide Average done"]
[null,null,null,null,null,null,"Receipts by Source","Family Fees","Current","R_Fas_C",null,"X","X4","X203",null,null,null,null,null,null,null,null,null,null,null,null,null,null,null,null,null,null,0,0,0,0,0,0,0,0,0,0,null,null,0,0,0,0,0,0,0,0,0,0,null,null,0,0,0,0,0,0,0,0,0,0,null,null,0,0,0,0,0,0,0,0,0,0,null,null,0,0,0,0,0,0,0,0,0,0]
[null,null,null,null,null,null,"Receipts by Source","Family Fees","Anticipated","R_Fas_A",null,"Y","Y4","Y203",null,null,null,null,null,null,null,null,null,null,null,null,null,null,null,null,null,null,0,0,0,0,0,0,0,0,0,0,null,null,0,0,0,0,0,0,0,0,0,0,null,null,0,0,0,0,0,0,0,0,0,0,null,null,0,0,0,0,0,0,0,0,0,0,null,null,0,0,0,0,0,0,0,0,0,0,null,null,null,null,"Also – I can include “popup instructions” on a page – basically a button to click that provides a floating window of instructions – if you think that would be helpful. E.g. on the Dashboard tab, it’s not currently clear that clicking in the tables will change the contents of the text box.  In fact, instructions throughout are pretty sparse and should be made more explicit, I think.  But I hate to give up any real estate when already the pages have so much going on – having the floating windows is a decent compromise.  I’ve mocked up one window with fake content in the attached (see Dashboard tab)"]
[null,null,null,null,null,null,"Receipts by Source","CHIP","Current","R_CHP_C",null,"Z","Z4","Z203",null,null,null,null,null,null,null,null,null,null,null,null,null,null,null,null,null,null,0,0,0,0,0,0,0,0,0,0,null,null,0,0,0,0,0,0,0,0,0,0,null,null,0,0,0,0,0,0,0,0,0,0,null,null,0,0,0,0,0,0,0,0,0,0,null,null,0,0,0,0,0,0,0,0,0,0]
[null,null,null,null,null,null,"Receipts by Source","CHIP","Anticipated","R_CHP_A",null,"AA","AA4","AA203",null,null,null,null,null,null,null,null,null,null,null,null,null,null,null,null,null,null,0,0,0,0,0,0,0,0,0,0,null,null,0,0,0,0,0,0,0,0,0,0,null,null,0,0,0,0,0,0,0,0,0,0,null,null,0,0,0,0,0,0,0,0,0,0,null,null,0,0,0,0,0,0,0,0,0,0]
[null,null,null,null,null,null,"Receipts by Source","Private Insurance","Current","R_Pre_C",null,"AB","AB4","AB203",null,null,null,null,null,null,null,null,null,null,null,null,null,null,null,null,null,null,0,0,0,0,0,0,0,0,0,0,null,null,0,0,0,0,0,0,0,0,0,0,null,null,0,0,0,0,0,0,0,0,0,0,null,null,0,0,0,0,0,0,0,0,0,0,null,null,0,0,0,0,0,0,0,0,0,0]
[null,null,null,null,null,null,"Receipts by Source","Private Insurance","Anticipated","R_Pre_A",null,"AC","AC4","AC203",null,null,null,null,null,null,null,null,null,null,null,null,null,null,null,null,null,null,0,0,0,0,0,0,0,0,0,0,null,null,0,0,0,0,0,0,0,0,0,0,null,null,0,0,0,0,0,0,0,0,0,0,null,null,0,0,0,0,0,0,0,0,0,0,null,null,0,0,0,0,0,0,0,0,0,0]
[null,null,null,null,null,null,"Receipts by Source","Federal Part C","Current","R_FeC_C",null,"AD","AD4","AD203",null,null,null,null,null,null,null,null,null,null,null,null,null,null,null,null,null,null,0,0,0,0,0,0,0,0,0,0,null,null,0,0,0,0,0,0,0,0,0,0,null,null,0,0,0,0,0,0,0,0,0,0,null,null,0,0,0,0,0,0,0,0,0,0,null,null,0,0,0,0,0,0,0,0,0,0]
[null,null,null,null,null,null,"Receipts by Source","Federal Part C","Anticipated","R_FeC_A",null,"AE","AE4","AE203",null,null,null,null,null,null,null,null,null,null,null,null,null,null,null,null,null,null,0,0,0,0,0,0,0,0,0,0,null,null,0,0,0,0,0,0,0,0,0,0,null,null,0,0,0,0,0,0,0,0,0,0,null,null,0,0,0,0,0,0,0,0,0,0,null,null,0,0,0,0,0,0,0,0,0,0]
[null,null,null,null,null,null,"Receipts by Source","State Part C","Current","R_StC_C",null,"AF","AF4","AF203",null,null,null,null,null,null,null,null,null,null,null,null,null,null,null,null,null,null,0,0,0,0,0,0,0,0,0,0,null,null,0,0,0,0,0,0,0,0,0,0,null,null,0,0,0,0,0,0,0,0,0,0,null,null,0,0,0,0,0,0,0,0,0,0,null,null,0,0,0,0,0,0,0,0,0,0]
[null,null,null,null,null,null,"Receipts by Source","State Part C","Anticipated","R_StC_A",null,"AG","AG4","AG203",null,null,null,null,null,null,null,null,null,null,null,null,null,null,null,null,null,null,0,0,0,0,0,0,0,0,0,0,null,null,0,0,0,0,0,0,0,0,0,0,null,null,0,0,0,0,0,0,0,0,0,0,null,null,0,0,0,0,0,0,0,0,0,0,null,null,0,0,0,0,0,0,0,0,0,0]
[null,null,null,null,null,null,"Receipts by Source","State General Funds","Current","R_Sts_C",null,"AH","AH4","AH203",null,null,null,null,null,null,null,null,null,null,null,null,null,null,null,null,null,null,0,0,0,0,0,0,0,0,0,0,null,null,0,0,0,0,0,0,0,0,0,0,null,null,0,0,0,0,0,0,0,0,0,0,null,null,0,0,0,0,0,0,0,0,0,0,null,null,0,0,0,0,0,0,0,0,0,0]
[null,null,null,null,null,null,"Receipts by Source","State General Funds","Anticipated","R_Sts_A",null,"AI","AI4","AI203",null,null,null,null,null,null,null,null,null,null,null,null,null,null,null,null,null,null,0,0,0,0,0,0,0,0,0,0,null,null,0,0,0,0,0,0,0,0,0,0,null,null,0,0,0,0,0,0,0,0,0,0,null,null,0,0,0,0,0,0,0,0,0,0,null,null,0,0,0,0,0,0,0,0,0,0,null,null,"v11.2","2022-04-06"]
[null,null,null,null,null,null,"Receipts by Source","Medicaid","Current","R_Med_C",null,"AJ","AJ4","AJ203",null,null,null,null,null,null,null,null,null,null,null,null,null,null,null,null,null,null,0,0,0,0,0,0,0,0,0,0,null,null,0,0,0,0,0,0,0,0,0,0,null,null,0,0,0,0,0,0,0,0,0,0,null,null,0,0,0,0,0,0,0,0,0,0,null,null,0,0,0,0,0,0,0,0,0,0]
[null,null,null,null,null,null,"Receipts by Source","Medicaid","Anticipated","R_Med_A",null,"AK","AK4","AK203",null,null,null,null,null,null,null,null,null,null,null,null,null,null,null,null,null,null,0,0,0,0,0,0,0,0,0,0,null,null,0,0,0,0,0,0,0,0,0,0,null,null,0,0,0,0,0,0,0,0,0,0,null,null,0,0,0,0,0,0,0,0,0,0,null,null,0,0,0,0,0,0,0,0,0,0,null,null,null,null,"1. Can we add a total line that sums each columns dollar amount for both tables:"]
[null,null,null,null,null,null,null,null,null,null,null,null,null,null,null,null,null,null,null,null,null,null,null,null,null,null,null,null,null,null,null,null,0,0,0,0,0,0,0,0,0,0,null,null,0,0,0,0,0,0,0,0,0,0,null,null,0,0,0,0,0,0,0,0,0,0,null,null,0,0,0,0,0,0,0,0,0,0,null,null,0,0,0,0,0,0,0,0,0,0,null,null,null,null,"Budget by Source: Program","FY 2016","FY 2017","FY 2018","FY 2019","FY 2020"]
[null,null,null,null,null,null,null,null,null,null,null,null,null,null,null,null,null,null,null,null,null,null,null,null,null,null,null,null,null,null,null,null,0,0,0,0,0,0,0,0,0,0,null,null,0,0,0,0,0,0,0,0,0,0,null,null,0,0,0,0,0,0,0,0,0,0,null,null,0,0,0,0,0,0,0,0,0,0,null,null,0,0,0,0,0,0,0,0,0,0,null,null,null,null,"DO NOT WRITE BELOW THIS LINE!!!","DO NOT WRITE BELOW THIS LINE!!!","DO NOT WRITE BELOW THIS LINE!!!","DO NOT WRITE BELOW THIS LINE!!!","DO NOT WRITE BELOW THIS LINE!!!","DO NOT WRITE BELOW THIS LINE!!!","DO NOT WRITE BELOW THIS LINE!!!","DO NOT WRITE BELOW THIS LINE!!!","DO NOT WRITE BELOW THIS LINE!!!","DO NOT WRITE BELOW THIS LINE!!!","DO NOT WRITE BELOW THIS LINE!!!","DO NOT WRITE BELOW THIS LINE!!!","DO NOT WRITE BELOW THIS LINE!!!","DO NOT WRITE BELOW THIS LINE!!!","DO NOT WRITE BELOW THIS LINE!!!","DO NOT WRITE BELOW THIS LINE!!!","DO NOT WRITE BELOW THIS LINE!!!","DO NOT WRITE BELOW THIS LINE!!!","DO NOT WRITE BELOW THIS LINE!!!","DO NOT WRITE BELOW THIS LINE!!!","DO NOT WRITE BELOW THIS LINE!!!","DO NOT WRITE BELOW THIS LINE!!!","DO NOT WRITE BELOW THIS LINE!!!","DO NOT WRITE BELOW THIS LINE!!!","DO NOT WRITE BELOW THIS LINE!!!","DO NOT WRITE BELOW THIS LINE!!!","DO NOT WRITE BELOW THIS LINE!!!","DO NOT WRITE BELOW THIS LINE!!!","DO NOT WRITE BELOW THIS LINE!!!","DO NOT WRITE BELOW THIS LINE!!!","DO NOT WRITE BELOW THIS LINE!!!","DO NOT WRITE BELOW THIS LINE!!!","DO NOT WRITE BELOW THIS LINE!!!","DO NOT WRITE BELOW THIS LINE!!!","DO NOT WRITE BELOW THIS LINE!!!","DO NOT WRITE BELOW THIS LINE!!!","DO NOT WRITE BELOW THIS LINE!!!","DO NOT WRITE BELOW THIS LINE!!!","DO NOT WRITE BELOW THIS LINE!!!","DO NOT WRITE BELOW THIS LINE!!!","DO NOT WRITE BELOW THIS LINE!!!","DO NOT WRITE BELOW THIS LINE!!!","DO NOT WRITE BELOW THIS LINE!!!","DO NOT WRITE BELOW THIS LINE!!!","DO NOT WRITE BELOW THIS LINE!!!","DO NOT WRITE BELOW THIS LINE!!!","DO NOT WRITE BELOW THIS LINE!!!","DO NOT WRITE BELOW THIS LINE!!!","DO NOT WRITE BELOW THIS LINE!!!","DO NOT WRITE BELOW THIS LINE!!!"]
[null,null,null,null,null,null,null,null,null,null,null,null,null,null,null,null,null,null,null,null,null,null,null,null,null,null,null,null,null,null,null,null,0,0,0,0,0,0,0,0,0,0,null,null,0,0,0,0,0,0,0,0,0,0,null,null,0,0,0,0,0,0,0,0,0,0,null,null,0,0,0,0,0,0,0,0,0,0,null,null,0,0,0,0,0,0,0,0,0,0]
[null,null,null,null,null,null,null,null,null,null,null,null,null,null,null,null,null,null,null,null,null,null,null,null,null,null,null,null,null,null,null,null,0,0,0,0,0,0,0,0,0,0,null,null,0,0,0,0,0,0,0,0,0,0,null,null,0,0,0,0,0,0,0,0,0,0,null,null,0,0,0,0,0,0,0,0,0,0,null,null,0,0,0,0,0,0,0,0,0,0,null,null,null,null,"xxx"]
[null,null,null,null,null,null,null,null,null,null,null,null,null,null,null,null,null,null,null,null,null,null,null,null,null,null,null,null,null,null,null,null,0,0,0,0,0,0,0,0,0,0,null,null,0,0,0,0,0,0,0,0,0,0,null,null,0,0,0,0,0,0,0,0,0,0,null,null,0,0,0,0,0,0,0,0,0,0,null,null,0,0,0,0,0,0,0,0,0,0,null,null,null,null,"test"]
[null,null,null,null,null,null,null,null,null,null,null,null,null,null,null,null,null,null,null,null,null,null,null,null,null,null,null,null,null,null,null,null,0,0,0,0,0,0,0,0,0,0,null,null,0,0,0,0,0,0,0,0,0,0,null,null,0,0,0,0,0,0,0,0,0,0,null,null,0,0,0,0,0,0,0,0,0,0,null,null,0,0,0,0,0,0,0,0,0,0]
[null,null,null,null,null,null,null,null,null,null,null,null,null,null,null,null,null,null,null,null,null,null,null,null,null,null,null,null,null,null,null,null,0,0,0,0,0,0,0,0,0,0,null,null,0,0,0,0,0,0,0,0,0,0,null,null,0,0,0,0,0,0,0,0,0,0,null,null,0,0,0,0,0,0,0,0,0,0,null,null,0,0,0,0,0,0,0,0,0,0]
[null,null,null,null,null,null,null,null,null,null,null,null,null,null,null,null,null,null,null,null,null,null,null,null,null,null,null,null,null,null,null,null,0,0,0,0,0,0,0,0,0,0,null,null,0,0,0,0,0,0,0,0,0,0,null,null,0,0,0,0,0,0,0,0,0,0,null,null,0,0,0,0,0,0,0,0,0,0,null,null,0,0,0,0,0,0,0,0,0,0]
[null,null,null,null,null,null,null,null,null,null,null,null,null,null,null,null,null,null,null,null,null,null,null,null,null,null,null,null,null,null,null,null,0,0,0,0,0,0,0,0,0,0,null,null,0,0,0,0,0,0,0,0,0,0,null,null,0,0,0,0,0,0,0,0,0,0,null,null,0,0,0,0,0,0,0,0,0,0,null,null,0,0,0,0,0,0,0,0,0,0]
[null,null,null,null,null,null,null,null,null,null,null,null,null,null,null,null,null,null,null,null,null,null,null,null,null,null,null,null,null,null,null,null,0,0,0,0,0,0,0,0,0,0,null,null,0,0,0,0,0,0,0,0,0,0,null,null,0,0,0,0,0,0,0,0,0,0,null,null,0,0,0,0,0,0,0,0,0,0,null,null,0,0,0,0,0,0,0,0,0,0]
[null,null,null,null,null,null,null,null,null,null,null,null,null,null,null,null,null,null,null,null,null,null,null,null,null,null,null,null,null,null,null,null,0,0,0,0,0,0,0,0,0,0,null,null,0,0,0,0,0,0,0,0,0,0,null,null,0,0,0,0,0,0,0,0,0,0,null,null,0,0,0,0,0,0,0,0,0,0,null,null,0,0,0,0,0,0,0,0,0,0]
[null,null,null,null,null,null,null,null,null,null,null,null,null,null,null,null,null,null,null,null,null,null,null,null,null,null,null,null,null,null,null,null,0,0,0,0,0,0,0,0,0,0,null,null,0,0,0,0,0,0,0,0,0,0,null,null,0,0,0,0,0,0,0,0,0,0,null,null,0,0,0,0,0,0,0,0,0,0,null,null,0,0,0,0,0,0,0,0,0,0]
[null,null,null,null,null,null,null,null,null,null,null,null,null,null,null,null,null,null,null,null,null,null,null,null,null,null,null,null,null,null,null,null,0,0,0,0,0,0,0,0,0,0,null,null,0,0,0,0,0,0,0,0,0,0,null,null,0,0,0,0,0,0,0,0,0,0,null,null,0,0,0,0,0,0,0,0,0,0,null,null,0,0,0,0,0,0,0,0,0,0]
[null,null,null,null,null,null,null,null,null,null,null,null,null,null,null,null,null,null,null,null,null,null,null,null,null,null,null,null,null,null,null,null,0,0,0,0,0,0,0,0,0,0,null,null,0,0,0,0,0,0,0,0,0,0,null,null,0,0,0,0,0,0,0,0,0,0,null,null,0,0,0,0,0,0,0,0,0,0,null,null,0,0,0,0,0,0,0,0,0,0]
[null,null,null,null,null,null,null,null,null,null,null,null,null,null,null,null,null,null,null,null,null,null,null,null,null,null,null,null,null,null,null,null,0,0,0,0,0,0,0,0,0,0,null,null,0,0,0,0,0,0,0,0,0,0,null,null,0,0,0,0,0,0,0,0,0,0,null,null,0,0,0,0,0,0,0,0,0,0,null,null,0,0,0,0,0,0,0,0,0,0]
[null,null,null,null,null,null,null,null,null,null,null,null,null,null,null,null,null,null,null,null,null,null,null,null,null,null,null,null,null,null,null,null,0,0,0,0,0,0,0,0,0,0,null,null,0,0,0,0,0,0,0,0,0,0,null,null,0,0,0,0,0,0,0,0,0,0,null,null,0,0,0,0,0,0,0,0,0,0,null,null,0,0,0,0,0,0,0,0,0,0]
[null,null,null,null,null,null,null,null,null,null,null,null,null,null,null,null,null,null,null,null,null,null,null,null,null,null,null,null,null,null,null,null,0,0,0,0,0,0,0,0,0,0,null,null,0,0,0,0,0,0,0,0,0,0,null,null,0,0,0,0,0,0,0,0,0,0,null,null,0,0,0,0,0,0,0,0,0,0,null,null,0,0,0,0,0,0,0,0,0,0]
[null,null,null,null,null,null,null,null,null,null,null,null,null,null,null,null,null,null,null,null,null,null,null,null,null,null,null,null,null,null,null,null,0,0,0,0,0,0,0,0,0,0,null,null,0,0,0,0,0,0,0,0,0,0,null,null,0,0,0,0,0,0,0,0,0,0,null,null,0,0,0,0,0,0,0,0,0,0,null,null,0,0,0,0,0,0,0,0,0,0]
[null,null,null,null,null,null,null,null,null,null,null,null,null,null,null,null,null,null,null,null,null,null,null,null,null,null,null,null,null,null,null,null,0,0,0,0,0,0,0,0,0,0,null,null,0,0,0,0,0,0,0,0,0,0,null,null,0,0,0,0,0,0,0,0,0,0,null,null,0,0,0,0,0,0,0,0,0,0,null,null,0,0,0,0,0,0,0,0,0,0]
[null,null,null,null,null,null,null,null,null,null,null,null,null,null,null,null,null,null,null,null,null,null,null,null,null,null,null,null,null,null,null,null,0,0,0,0,0,0,0,0,0,0,null,null,0,0,0,0,0,0,0,0,0,0,null,null,0,0,0,0,0,0,0,0,0,0,null,null,0,0,0,0,0,0,0,0,0,0,null,null,0,0,0,0,0,0,0,0,0,0]
[null,null,null,null,null,null,null,null,null,null,null,null,null,null,null,null,null,null,null,null,null,null,null,null,null,null,null,null,null,null,null,null,0,0,0,0,0,0,0,0,0,0,null,null,0,0,0,0,0,0,0,0,0,0,null,null,0,0,0,0,0,0,0,0,0,0,null,null,0,0,0,0,0,0,0,0,0,0,null,null,0,0,0,0,0,0,0,0,0,0]
[null,null,null,null,null,null,null,null,null,null,null,null,null,null,null,null,null,null,null,null,null,null,null,null,null,null,null,null,null,null,null,null,0,0,0,0,0,0,0,0,0,0,null,null,0,0,0,0,0,0,0,0,0,0,null,null,0,0,0,0,0,0,0,0,0,0,null,null,0,0,0,0,0,0,0,0,0,0,null,null,0,0,0,0,0,0,0,0,0,0]
[null,null,null,null,null,null,null,null,null,null,null,null,null,null,null,null,null,null,null,null,null,null,null,null,null,null,null,null,null,null,null,null,0,0,0,0,0,0,0,0,0,0,null,null,0,0,0,0,0,0,0,0,0,0,null,null,0,0,0,0,0,0,0,0,0,0,null,null,0,0,0,0,0,0,0,0,0,0,null,null,0,0,0,0,0,0,0,0,0,0]
[null,null,null,null,null,null,null,null,null,null,null,null,null,null,null,null,null,null,null,null,null,null,null,null,null,null,null,null,null,null,null,null,0,0,0,0,0,0,0,0,0,0,null,null,0,0,0,0,0,0,0,0,0,0,null,null,0,0,0,0,0,0,0,0,0,0,null,null,0,0,0,0,0,0,0,0,0,0,null,null,0,0,0,0,0,0,0,0,0,0]
[null,null,null,null,null,null,null,null,null,null,null,null,null,null,null,null,null,null,null,null,null,null,null,null,null,null,null,null,null,null,null,null,0,0,0,0,0,0,0,0,0,0,null,null,0,0,0,0,0,0,0,0,0,0,null,null,0,0,0,0,0,0,0,0,0,0,null,null,0,0,0,0,0,0,0,0,0,0,null,null,0,0,0,0,0,0,0,0,0,0]
[null,null,null,null,null,null,null,null,null,null,null,null,null,null,null,null,null,null,null,null,null,null,null,null,null,null,null,null,null,null,null,null,0,0,0,0,0,0,0,0,0,0,null,null,0,0,0,0,0,0,0,0,0,0,null,null,0,0,0,0,0,0,0,0,0,0,null,null,0,0,0,0,0,0,0,0,0,0,null,null,0,0,0,0,0,0,0,0,0,0]
[null,null,null,null,null,null,null,null,null,null,null,null,null,null,null,null,null,null,null,null,null,null,null,null,null,null,null,null,null,null,null,null,0,0,0,0,0,0,0,0,0,0,null,null,0,0,0,0,0,0,0,0,0,0,null,null,0,0,0,0,0,0,0,0,0,0,null,null,0,0,0,0,0,0,0,0,0,0,null,null,0,0,0,0,0,0,0,0,0,0]
[null,null,null,null,null,null,null,null,null,null,null,null,null,null,null,null,null,null,null,null,null,null,null,null,null,null,null,null,null,null,null,null,0,0,0,0,0,0,0,0,0,0,null,null,0,0,0,0,0,0,0,0,0,0,null,null,0,0,0,0,0,0,0,0,0,0,null,null,0,0,0,0,0,0,0,0,0,0,null,null,0,0,0,0,0,0,0,0,0,0]
[null,null,null,null,null,null,null,null,null,null,null,null,null,null,null,null,null,null,null,null,null,null,null,null,null,null,null,null,null,null,null,null,0,0,0,0,0,0,0,0,0,0,null,null,0,0,0,0,0,0,0,0,0,0,null,null,0,0,0,0,0,0,0,0,0,0,null,null,0,0,0,0,0,0,0,0,0,0,null,null,0,0,0,0,0,0,0,0,0,0]
[null,null,null,null,null,null,null,null,null,null,null,null,null,null,null,null,null,null,null,null,null,null,null,null,null,null,null,null,null,null,null,null,0,0,0,0,0,0,0,0,0,0,null,null,0,0,0,0,0,0,0,0,0,0,null,null,0,0,0,0,0,0,0,0,0,0,null,null,0,0,0,0,0,0,0,0,0,0,null,null,0,0,0,0,0,0,0,0,0,0]
[null,null,null,null,null,null,null,null,null,null,null,null,null,null,null,null,null,null,null,null,null,null,null,null,null,null,null,null,null,null,null,null,0,0,0,0,0,0,0,0,0,0,null,null,0,0,0,0,0,0,0,0,0,0,null,null,0,0,0,0,0,0,0,0,0,0,null,null,0,0,0,0,0,0,0,0,0,0,null,null,0,0,0,0,0,0,0,0,0,0]
[null,null,null,null,null,null,null,null,null,null,null,null,null,null,null,null,null,null,null,null,null,null,null,null,null,null,null,null,null,null,null,null,0,0,0,0,0,0,0,0,0,0,null,null,0,0,0,0,0,0,0,0,0,0,null,null,0,0,0,0,0,0,0,0,0,0,null,null,0,0,0,0,0,0,0,0,0,0,null,null,0,0,0,0,0,0,0,0,0,0]
[null,null,null,null,null,null,null,null,null,null,null,null,null,null,null,null,null,null,null,null,null,null,null,null,null,null,null,null,null,null,null,null,0,0,0,0,0,0,0,0,0,0,null,null,0,0,0,0,0,0,0,0,0,0,null,null,0,0,0,0,0,0,0,0,0,0,null,null,0,0,0,0,0,0,0,0,0,0,null,null,0,0,0,0,0,0,0,0,0,0]
[null,null,null,null,null,null,null,null,null,null,null,null,null,null,null,null,null,null,null,null,null,null,null,null,null,null,null,null,null,null,null,null,0,0,0,0,0,0,0,0,0,0,null,null,0,0,0,0,0,0,0,0,0,0,null,null,0,0,0,0,0,0,0,0,0,0,null,null,0,0,0,0,0,0,0,0,0,0,null,null,0,0,0,0,0,0,0,0,0,0]
[null,null,null,null,null,null,null,null,null,null,null,null,null,null,null,null,null,null,null,null,null,null,null,null,null,null,null,null,null,null,null,null,0,0,0,0,0,0,0,0,0,0,null,null,0,0,0,0,0,0,0,0,0,0,null,null,0,0,0,0,0,0,0,0,0,0,null,null,0,0,0,0,0,0,0,0,0,0,null,null,0,0,0,0,0,0,0,0,0,0]
[null,null,null,null,null,null,null,null,null,null,null,null,null,null,null,null,null,null,null,null,null,null,null,null,null,null,null,null,null,null,null,null,0,0,0,0,0,0,0,0,0,0,null,null,0,0,0,0,0,0,0,0,0,0,null,null,0,0,0,0,0,0,0,0,0,0,null,null,0,0,0,0,0,0,0,0,0,0,null,null,0,0,0,0,0,0,0,0,0,0]
[null,null,null,null,null,null,null,null,null,null,null,null,null,null,null,null,null,null,null,null,null,null,null,null,null,null,null,null,null,null,null,null,0,0,0,0,0,0,0,0,0,0,null,null,0,0,0,0,0,0,0,0,0,0,null,null,0,0,0,0,0,0,0,0,0,0,null,null,0,0,0,0,0,0,0,0,0,0,null,null,0,0,0,0,0,0,0,0,0,0]
[null,null,null,null,null,null,null,null,null,null,null,null,null,null,null,null,null,null,null,null,null,null,null,null,null,null,null,null,null,null,null,null,0,0,0,0,0,0,0,0,0,0,null,null,0,0,0,0,0,0,0,0,0,0,null,null,0,0,0,0,0,0,0,0,0,0,null,null,0,0,0,0,0,0,0,0,0,0,null,null,0,0,0,0,0,0,0,0,0,0]
[null,null,null,null,null,null,null,null,null,null,null,null,null,null,null,null,null,null,null,null,null,null,null,null,null,null,null,null,null,null,null,null,0,0,0,0,0,0,0,0,0,0,null,null,0,0,0,0,0,0,0,0,0,0,null,null,0,0,0,0,0,0,0,0,0,0,null,null,0,0,0,0,0,0,0,0,0,0,null,null,0,0,0,0,0,0,0,0,0,0]
[null,null,null,null,null,null,null,null,null,null,null,null,null,null,null,null,null,null,null,null,null,null,null,null,null,null,null,null,null,null,null,null,0,0,0,0,0,0,0,0,0,0,null,null,0,0,0,0,0,0,0,0,0,0,null,null,0,0,0,0,0,0,0,0,0,0,null,null,0,0,0,0,0,0,0,0,0,0,null,null,0,0,0,0,0,0,0,0,0,0]
[null,null,null,null,null,null,null,null,null,null,null,null,null,null,null,null,null,null,null,null,null,null,null,null,null,null,null,null,null,null,null,null,0,0,0,0,0,0,0,0,0,0,null,null,0,0,0,0,0,0,0,0,0,0,null,null,0,0,0,0,0,0,0,0,0,0,null,null,0,0,0,0,0,0,0,0,0,0,null,null,0,0,0,0,0,0,0,0,0,0]
[null,null,null,null,null,null,null,null,null,null,null,null,null,null,null,null,null,null,null,null,null,null,null,null,null,null,null,null,null,null,null,null,0,0,0,0,0,0,0,0,0,0,null,null,0,0,0,0,0,0,0,0,0,0,null,null,0,0,0,0,0,0,0,0,0,0,null,null,0,0,0,0,0,0,0,0,0,0,null,null,0,0,0,0,0,0,0,0,0,0]
[null,null,null,null,null,null,null,null,null,null,null,null,null,null,null,null,null,null,null,null,null,null,null,null,null,null,null,null,null,null,null,null,0,0,0,0,0,0,0,0,0,0,null,null,0,0,0,0,0,0,0,0,0,0,null,null,0,0,0,0,0,0,0,0,0,0,null,null,0,0,0,0,0,0,0,0,0,0,null,null,0,0,0,0,0,0,0,0,0,0]
[null,null,null,null,null,null,null,null,null,null,null,null,null,null,null,null,null,null,null,null,null,null,null,null,null,null,null,null,null,null,null,null,0,0,0,0,0,0,0,0,0,0,null,null,0,0,0,0,0,0,0,0,0,0,null,null,0,0,0,0,0,0,0,0,0,0,null,null,0,0,0,0,0,0,0,0,0,0,null,null,0,0,0,0,0,0,0,0,0,0]
[null,null,null,null,null,null,null,null,null,null,null,null,null,null,null,null,null,null,null,null,null,null,null,null,null,null,null,null,null,null,null,null,0,0,0,0,0,0,0,0,0,0,null,null,0,0,0,0,0,0,0,0,0,0,null,null,0,0,0,0,0,0,0,0,0,0,null,null,0,0,0,0,0,0,0,0,0,0,null,null,0,0,0,0,0,0,0,0,0,0]
[null,null,null,null,null,null,null,null,null,null,null,null,null,null,null,null,null,null,null,null,null,null,null,null,null,null,null,null,null,null,null,null,0,0,0,0,0,0,0,0,0,0,null,null,0,0,0,0,0,0,0,0,0,0,null,null,0,0,0,0,0,0,0,0,0,0,null,null,0,0,0,0,0,0,0,0,0,0,null,null,0,0,0,0,0,0,0,0,0,0]
[null,null,null,null,null,null,null,null,null,null,null,null,null,null,null,null,null,null,null,null,null,null,null,null,null,null,null,null,null,null,null,null,0,0,0,0,0,0,0,0,0,0,null,null,0,0,0,0,0,0,0,0,0,0,null,null,0,0,0,0,0,0,0,0,0,0,null,null,0,0,0,0,0,0,0,0,0,0,null,null,0,0,0,0,0,0,0,0,0,0]
[null,null,null,null,null,null,null,null,null,null,null,null,null,null,null,null,null,null,null,null,null,null,null,null,null,null,null,null,null,null,null,null,0,0,0,0,0,0,0,0,0,0,null,null,0,0,0,0,0,0,0,0,0,0,null,null,0,0,0,0,0,0,0,0,0,0,null,null,0,0,0,0,0,0,0,0,0,0,null,null,0,0,0,0,0,0,0,0,0,0]
[null,null,null,null,null,null,null,null,null,null,null,null,null,null,null,null,null,null,null,null,null,null,null,null,null,null,null,null,null,null,null,null,0,0,0,0,0,0,0,0,0,0,null,null,0,0,0,0,0,0,0,0,0,0,null,null,0,0,0,0,0,0,0,0,0,0,null,null,0,0,0,0,0,0,0,0,0,0,null,null,0,0,0,0,0,0,0,0,0,0]
[null,null,null,null,null,null,null,null,null,null,null,null,null,null,null,null,null,null,null,null,null,null,null,null,null,null,null,null,null,null,null,null,0,0,0,0,0,0,0,0,0,0,null,null,0,0,0,0,0,0,0,0,0,0,null,null,0,0,0,0,0,0,0,0,0,0,null,null,0,0,0,0,0,0,0,0,0,0,null,null,0,0,0,0,0,0,0,0,0,0]
[null,null,null,null,null,null,null,null,null,null,null,null,null,null,null,null,null,null,null,null,null,null,null,null,null,null,null,null,null,null,null,null,0,0,0,0,0,0,0,0,0,0,null,null,0,0,0,0,0,0,0,0,0,0,null,null,0,0,0,0,0,0,0,0,0,0,null,null,0,0,0,0,0,0,0,0,0,0,null,null,0,0,0,0,0,0,0,0,0,0]
[null,null,null,null,null,null,null,null,null,null,null,null,null,null,null,null,null,null,null,null,null,null,null,null,null,null,null,null,null,null,null,null,0,0,0,0,0,0,0,0,0,0,null,null,0,0,0,0,0,0,0,0,0,0,null,null,0,0,0,0,0,0,0,0,0,0,null,null,0,0,0,0,0,0,0,0,0,0,null,null,0,0,0,0,0,0,0,0,0,0]
[null,null,null,null,null,null,null,null,null,null,null,null,null,null,null,null,null,null,null,null,null,null,null,null,null,null,null,null,null,null,null,null,0,0,0,0,0,0,0,0,0,0,null,null,0,0,0,0,0,0,0,0,0,0,null,null,0,0,0,0,0,0,0,0,0,0,null,null,0,0,0,0,0,0,0,0,0,0,null,null,0,0,0,0,0,0,0,0,0,0]
[null,null,null,null,null,null,null,null,null,null,null,null,null,null,null,null,null,null,null,null,null,null,null,null,null,null,null,null,null,null,null,null,0,0,0,0,0,0,0,0,0,0,null,null,0,0,0,0,0,0,0,0,0,0,null,null,0,0,0,0,0,0,0,0,0,0,null,null,0,0,0,0,0,0,0,0,0,0,null,null,0,0,0,0,0,0,0,0,0,0]
[null,null,null,null,null,null,null,null,null,null,null,null,null,null,null,null,null,null,null,null,null,null,null,null,null,null,null,null,null,null,null,null,0,0,0,0,0,0,0,0,0,0,null,null,0,0,0,0,0,0,0,0,0,0,null,null,0,0,0,0,0,0,0,0,0,0,null,null,0,0,0,0,0,0,0,0,0,0,null,null,0,0,0,0,0,0,0,0,0,0]
[null,null,null,null,null,null,null,null,null,null,null,null,null,null,null,null,null,null,null,null,null,null,null,null,null,null,null,null,null,null,null,null,0,0,0,0,0,0,0,0,0,0,null,null,0,0,0,0,0,0,0,0,0,0,null,null,0,0,0,0,0,0,0,0,0,0,null,null,0,0,0,0,0,0,0,0,0,0,null,null,0,0,0,0,0,0,0,0,0,0]
[null,null,null,null,null,null,null,null,null,null,null,null,null,null,null,null,null,null,null,null,null,null,null,null,null,null,null,null,null,null,null,null,0,0,0,0,0,0,0,0,0,0,null,null,0,0,0,0,0,0,0,0,0,0,null,null,0,0,0,0,0,0,0,0,0,0,null,null,0,0,0,0,0,0,0,0,0,0,null,null,0,0,0,0,0,0,0,0,0,0]
[null,null,null,null,null,null,null,null,null,null,null,null,null,null,null,null,null,null,null,null,null,null,null,null,null,null,null,null,null,null,null,null,0,0,0,0,0,0,0,0,0,0,null,null,0,0,0,0,0,0,0,0,0,0,null,null,0,0,0,0,0,0,0,0,0,0,null,null,0,0,0,0,0,0,0,0,0,0,null,null,0,0,0,0,0,0,0,0,0,0]
[null,null,null,null,null,null,null,null,null,null,null,null,null,null,null,null,null,null,null,null,null,null,null,null,null,null,null,null,null,null,null,null,0,0,0,0,0,0,0,0,0,0,null,null,0,0,0,0,0,0,0,0,0,0,null,null,0,0,0,0,0,0,0,0,0,0,null,null,0,0,0,0,0,0,0,0,0,0,null,null,0,0,0,0,0,0,0,0,0,0]
[null,null,null,null,null,null,null,null,null,null,null,null,null,null,null,null,null,null,null,null,null,null,null,null,null,null,null,null,null,null,null,null,0,0,0,0,0,0,0,0,0,0,null,null,0,0,0,0,0,0,0,0,0,0,null,null,0,0,0,0,0,0,0,0,0,0,null,null,0,0,0,0,0,0,0,0,0,0,null,null,0,0,0,0,0,0,0,0,0,0]
[null,null,null,null,null,null,null,null,null,null,null,null,null,null,null,null,null,null,null,null,null,null,null,null,null,null,null,null,null,null,null,null,0,0,0,0,0,0,0,0,0,0,null,null,0,0,0,0,0,0,0,0,0,0,null,null,0,0,0,0,0,0,0,0,0,0,null,null,0,0,0,0,0,0,0,0,0,0,null,null,0,0,0,0,0,0,0,0,0,0]
[null,null,null,null,null,null,null,null,null,null,null,null,null,null,null,null,null,null,null,null,null,null,null,null,null,null,null,null,null,null,null,null,0,0,0,0,0,0,0,0,0,0,null,null,0,0,0,0,0,0,0,0,0,0,null,null,0,0,0,0,0,0,0,0,0,0,null,null,0,0,0,0,0,0,0,0,0,0,null,null,0,0,0,0,0,0,0,0,0,0]
[null,null,null,null,null,null,null,null,null,null,null,null,null,null,null,null,null,null,null,null,null,null,null,null,null,null,null,null,null,null,null,null,0,0,0,0,0,0,0,0,0,0,null,null,0,0,0,0,0,0,0,0,0,0,null,null,0,0,0,0,0,0,0,0,0,0,null,null,0,0,0,0,0,0,0,0,0,0,null,null,0,0,0,0,0,0,0,0,0,0]
[null,null,null,null,null,null,null,null,null,null,null,null,null,null,null,null,null,null,null,null,null,null,null,null,null,null,null,null,null,null,null,null,0,0,0,0,0,0,0,0,0,0,null,null,0,0,0,0,0,0,0,0,0,0,null,null,0,0,0,0,0,0,0,0,0,0,null,null,0,0,0,0,0,0,0,0,0,0,null,null,0,0,0,0,0,0,0,0,0,0]
[null,null,null,null,null,null,null,null,null,null,null,null,null,null,null,null,null,null,null,null,null,null,null,null,null,null,null,null,null,null,null,null,0,0,0,0,0,0,0,0,0,0,null,null,0,0,0,0,0,0,0,0,0,0,null,null,0,0,0,0,0,0,0,0,0,0,null,null,0,0,0,0,0,0,0,0,0,0,null,null,0,0,0,0,0,0,0,0,0,0]
[null,null,null,null,null,null,null,null,null,null,null,null,null,null,null,null,null,null,null,null,null,null,null,null,null,null,null,null,null,null,null,null,0,0,0,0,0,0,0,0,0,0,null,null,0,0,0,0,0,0,0,0,0,0,null,null,0,0,0,0,0,0,0,0,0,0,null,null,0,0,0,0,0,0,0,0,0,0,null,null,0,0,0,0,0,0,0,0,0,0]
[null,null,null,null,null,null,null,null,null,null,null,null,null,null,null,null,null,null,null,null,null,null,null,null,null,null,null,null,null,null,null,null,0,0,0,0,0,0,0,0,0,0,null,null,0,0,0,0,0,0,0,0,0,0,null,null,0,0,0,0,0,0,0,0,0,0,null,null,0,0,0,0,0,0,0,0,0,0,null,null,0,0,0,0,0,0,0,0,0,0]
[null,null,null,null,null,null,null,null,null,null,null,null,null,null,null,null,null,null,null,null,null,null,null,null,null,null,null,null,null,null,null,null,0,0,0,0,0,0,0,0,0,0,null,null,0,0,0,0,0,0,0,0,0,0,null,null,0,0,0,0,0,0,0,0,0,0,null,null,0,0,0,0,0,0,0,0,0,0,null,null,0,0,0,0,0,0,0,0,0,0]
[null,null,null,null,null,null,null,null,null,null,null,null,null,null,null,null,null,null,null,null,null,null,null,null,null,null,null,null,null,null,null,null,0,0,0,0,0,0,0,0,0,0,null,null,0,0,0,0,0,0,0,0,0,0,null,null,0,0,0,0,0,0,0,0,0,0,null,null,0,0,0,0,0,0,0,0,0,0,null,null,0,0,0,0,0,0,0,0,0,0]
[null,null,null,null,null,null,null,null,null,null,null,null,null,null,null,null,null,null,null,null,null,null,null,null,null,null,null,null,null,null,null,null,0,0,0,0,0,0,0,0,0,0,null,null,0,0,0,0,0,0,0,0,0,0,null,null,0,0,0,0,0,0,0,0,0,0,null,null,0,0,0,0,0,0,0,0,0,0,null,null,0,0,0,0,0,0,0,0,0,0]
[null,null,null,null,null,null,null,null,null,null,null,null,null,null,null,null,null,null,null,null,null,null,null,null,null,null,null,null,null,null,null,null,0,0,0,0,0,0,0,0,0,0,null,null,0,0,0,0,0,0,0,0,0,0,null,null,0,0,0,0,0,0,0,0,0,0,null,null,0,0,0,0,0,0,0,0,0,0,null,null,0,0,0,0,0,0,0,0,0,0]
[null,null,null,null,null,null,null,null,null,null,null,null,null,null,null,null,null,null,null,null,null,null,null,null,null,null,null,null,null,null,null,null,0,0,0,0,0,0,0,0,0,0,null,null,0,0,0,0,0,0,0,0,0,0,null,null,0,0,0,0,0,0,0,0,0,0,null,null,0,0,0,0,0,0,0,0,0,0,null,null,0,0,0,0,0,0,0,0,0,0]
[null,null,null,null,null,null,null,null,null,null,null,null,null,null,null,null,null,null,null,null,null,null,null,null,null,null,null,null,null,null,null,null,0,0,0,0,0,0,0,0,0,0,null,null,0,0,0,0,0,0,0,0,0,0,null,null,0,0,0,0,0,0,0,0,0,0,null,null,0,0,0,0,0,0,0,0,0,0,null,null,0,0,0,0,0,0,0,0,0,0]
[null,null,null,null,null,null,null,null,null,null,null,null,null,null,null,null,null,null,null,null,null,null,null,null,null,null,null,null,null,null,null,null,0,0,0,0,0,0,0,0,0,0,null,null,0,0,0,0,0,0,0,0,0,0,null,null,0,0,0,0,0,0,0,0,0,0,null,null,0,0,0,0,0,0,0,0,0,0,null,null,0,0,0,0,0,0,0,0,0,0]
[null,null,null,null,null,null,null,null,null,null,null,null,null,null,null,null,null,null,null,null,null,null,null,null,null,null,null,null,null,null,null,null,0,0,0,0,0,0,0,0,0,0,null,null,0,0,0,0,0,0,0,0,0,0,null,null,0,0,0,0,0,0,0,0,0,0,null,null,0,0,0,0,0,0,0,0,0,0,null,null,0,0,0,0,0,0,0,0,0,0]
[null,null,null,null,null,null,null,null,null,null,null,null,null,null,null,null,null,null,null,null,null,null,null,null,null,null,null,null,null,null,null,null,0,0,0,0,0,0,0,0,0,0,null,null,0,0,0,0,0,0,0,0,0,0,null,null,0,0,0,0,0,0,0,0,0,0,null,null,0,0,0,0,0,0,0,0,0,0,null,null,0,0,0,0,0,0,0,0,0,0]
[null,null,null,null,null,null,null,null,null,null,null,null,null,null,null,null,null,null,null,null,null,null,null,null,null,null,null,null,null,null,null,null,0,0,0,0,0,0,0,0,0,0,null,null,0,0,0,0,0,0,0,0,0,0,null,null,0,0,0,0,0,0,0,0,0,0,null,null,0,0,0,0,0,0,0,0,0,0,null,null,0,0,0,0,0,0,0,0,0,0]
[null,null,null,null,null,null,null,null,null,null,null,null,null,null,null,null,null,null,null,null,null,null,null,null,null,null,null,null,null,null,null,null,0,0,0,0,0,0,0,0,0,0,null,null,0,0,0,0,0,0,0,0,0,0,null,null,0,0,0,0,0,0,0,0,0,0,null,null,0,0,0,0,0,0,0,0,0,0,null,null,0,0,0,0,0,0,0,0,0,0]
[null,null,null,null,null,null,null,null,null,null,null,null,null,null,null,null,null,null,null,null,null,null,null,null,null,null,null,null,null,null,null,null,0,0,0,0,0,0,0,0,0,0,null,null,0,0,0,0,0,0,0,0,0,0,null,null,0,0,0,0,0,0,0,0,0,0,null,null,0,0,0,0,0,0,0,0,0,0,null,null,0,0,0,0,0,0,0,0,0,0]
[null,null,null,null,null,null,null,null,null,null,null,null,null,null,null,null,null,null,null,null,null,null,null,null,null,null,null,null,null,null,null,null,0,0,0,0,0,0,0,0,0,0,null,null,0,0,0,0,0,0,0,0,0,0,null,null,0,0,0,0,0,0,0,0,0,0,null,null,0,0,0,0,0,0,0,0,0,0,null,null,0,0,0,0,0,0,0,0,0,0]
[null,null,null,null,null,null,null,null,null,null,null,null,null,null,null,null,null,null,null,null,null,null,null,null,null,null,null,null,null,null,null,null,0,0,0,0,0,0,0,0,0,0,null,null,0,0,0,0,0,0,0,0,0,0,null,null,0,0,0,0,0,0,0,0,0,0,null,null,0,0,0,0,0,0,0,0,0,0,null,null,0,0,0,0,0,0,0,0,0,0]
[null,null,null,null,null,null,null,null,null,null,null,null,null,null,null,null,null,null,null,null,null,null,null,null,null,null,null,null,null,null,null,null,0,0,0,0,0,0,0,0,0,0,null,null,0,0,0,0,0,0,0,0,0,0,null,null,0,0,0,0,0,0,0,0,0,0,null,null,0,0,0,0,0,0,0,0,0,0,null,null,0,0,0,0,0,0,0,0,0,0]
[null,null,null,null,null,null,null,null,null,null,null,null,null,null,null,null,null,null,null,null,null,null,null,null,null,null,null,null,null,null,null,null,0,0,0,0,0,0,0,0,0,0,null,null,0,0,0,0,0,0,0,0,0,0,null,null,0,0,0,0,0,0,0,0,0,0,null,null,0,0,0,0,0,0,0,0,0,0,null,null,0,0,0,0,0,0,0,0,0,0]
[null,null,null,null,null,null,null,null,null,null,null,null,null,null,null,null,null,null,null,null,null,null,null,null,null,null,null,null,null,null,null,null,0,0,0,0,0,0,0,0,0,0,null,null,0,0,0,0,0,0,0,0,0,0,null,null,0,0,0,0,0,0,0,0,0,0,null,null,0,0,0,0,0,0,0,0,0,0,null,null,0,0,0,0,0,0,0,0,0,0]
[null,null,null,null,null,null,null,null,null,null,null,null,null,null,null,null,null,null,null,null,null,null,null,null,null,null,null,null,null,null,null,null,0,0,0,0,0,0,0,0,0,0,null,null,0,0,0,0,0,0,0,0,0,0,null,null,0,0,0,0,0,0,0,0,0,0,null,null,0,0,0,0,0,0,0,0,0,0,null,null,0,0,0,0,0,0,0,0,0,0]
[null,null,null,null,null,null,null,null,null,null,null,null,null,null,null,null,null,null,null,null,null,null,null,null,null,null,null,null,null,null,null,null,0,0,0,0,0,0,0,0,0,0,null,null,0,0,0,0,0,0,0,0,0,0,null,null,0,0,0,0,0,0,0,0,0,0,null,null,0,0,0,0,0,0,0,0,0,0,null,null,0,0,0,0,0,0,0,0,0,0]
[null,null,null,null,null,null,null,null,null,null,null,null,null,null,null,null,null,null,null,null,null,null,null,null,null,null,null,null,null,null,null,null,0,0,0,0,0,0,0,0,0,0,null,null,0,0,0,0,0,0,0,0,0,0,null,null,0,0,0,0,0,0,0,0,0,0,null,null,0,0,0,0,0,0,0,0,0,0,null,null,0,0,0,0,0,0,0,0,0,0]
[null,null,null,null,null,null,null,null,null,null,null,null,null,null,null,null,null,null,null,null,null,null,null,null,null,null,null,null,null,null,null,null,0,0,0,0,0,0,0,0,0,0,null,null,0,0,0,0,0,0,0,0,0,0,null,null,0,0,0,0,0,0,0,0,0,0,null,null,0,0,0,0,0,0,0,0,0,0,null,null,0,0,0,0,0,0,0,0,0,0]
[null,null,null,null,null,null,null,null,null,null,null,null,null,null,null,null,null,null,null,null,null,null,null,null,null,null,null,null,null,null,null,null,0,0,0,0,0,0,0,0,0,0,null,null,0,0,0,0,0,0,0,0,0,0,null,null,0,0,0,0,0,0,0,0,0,0,null,null,0,0,0,0,0,0,0,0,0,0,null,null,0,0,0,0,0,0,0,0,0,0]
[null,null,null,null,null,null,null,null,null,null,null,null,null,null,null,null,null,null,null,null,null,null,null,null,null,null,null,null,null,null,null,null,0,0,0,0,0,0,0,0,0,0,null,null,0,0,0,0,0,0,0,0,0,0,null,null,0,0,0,0,0,0,0,0,0,0,null,null,0,0,0,0,0,0,0,0,0,0,null,null,0,0,0,0,0,0,0,0,0,0]
[null,null,null,null,null,null,null,null,null,null,null,null,null,null,null,null,null,null,null,null,null,null,null,null,null,null,null,null,null,null,null,null,0,0,0,0,0,0,0,0,0,0,null,null,0,0,0,0,0,0,0,0,0,0,null,null,0,0,0,0,0,0,0,0,0,0,null,null,0,0,0,0,0,0,0,0,0,0,null,null,0,0,0,0,0,0,0,0,0,0]
[null,null,null,null,null,null,null,null,null,null,null,null,null,null,null,null,null,null,null,null,null,null,null,null,null,null,null,null,null,null,null,null,0,0,0,0,0,0,0,0,0,0,null,null,0,0,0,0,0,0,0,0,0,0,null,null,0,0,0,0,0,0,0,0,0,0,null,null,0,0,0,0,0,0,0,0,0,0,null,null,0,0,0,0,0,0,0,0,0,0]
[null,null,null,null,null,null,null,null,null,null,null,null,null,null,null,null,null,null,null,null,null,null,null,null,null,null,null,null,null,null,null,null,0,0,0,0,0,0,0,0,0,0,null,null,0,0,0,0,0,0,0,0,0,0,null,null,0,0,0,0,0,0,0,0,0,0,null,null,0,0,0,0,0,0,0,0,0,0,null,null,0,0,0,0,0,0,0,0,0,0]
[null,null,null,null,null,null,null,null,null,null,null,null,null,null,null,null,null,null,null,null,null,null,null,null,null,null,null,null,null,null,null,null,0,0,0,0,0,0,0,0,0,0,null,null,0,0,0,0,0,0,0,0,0,0,null,null,0,0,0,0,0,0,0,0,0,0,null,null,0,0,0,0,0,0,0,0,0,0,null,null,0,0,0,0,0,0,0,0,0,0]
[null,null,null,null,null,null,null,null,null,null,null,null,null,null,null,null,null,null,null,null,null,null,null,null,null,null,null,null,null,null,null,null,0,0,0,0,0,0,0,0,0,0,null,null,0,0,0,0,0,0,0,0,0,0,null,null,0,0,0,0,0,0,0,0,0,0,null,null,0,0,0,0,0,0,0,0,0,0,null,null,0,0,0,0,0,0,0,0,0,0]
[null,null,null,null,null,null,null,null,null,null,null,null,null,null,null,null,null,null,null,null,null,null,null,null,null,null,null,null,null,null,null,null,0,0,0,0,0,0,0,0,0,0,null,null,0,0,0,0,0,0,0,0,0,0,null,null,0,0,0,0,0,0,0,0,0,0,null,null,0,0,0,0,0,0,0,0,0,0,null,null,0,0,0,0,0,0,0,0,0,0]
[null,null,null,null,null,null,null,null,null,null,null,null,null,null,null,null,null,null,null,null,null,null,null,null,null,null,null,null,null,null,null,null,0,0,0,0,0,0,0,0,0,0,null,null,0,0,0,0,0,0,0,0,0,0,null,null,0,0,0,0,0,0,0,0,0,0,null,null,0,0,0,0,0,0,0,0,0,0,null,null,0,0,0,0,0,0,0,0,0,0]
[null,null,null,null,null,null,null,null,null,null,null,null,null,null,null,null,null,null,null,null,null,null,null,null,null,null,null,null,null,null,null,null,0,0,0,0,0,0,0,0,0,0,null,null,0,0,0,0,0,0,0,0,0,0,null,null,0,0,0,0,0,0,0,0,0,0,null,null,0,0,0,0,0,0,0,0,0,0,null,null,0,0,0,0,0,0,0,0,0,0]
[null,null,null,null,null,null,null,null,null,null,null,null,null,null,null,null,null,null,null,null,null,null,null,null,null,null,null,null,null,null,null,null,0,0,0,0,0,0,0,0,0,0,null,null,0,0,0,0,0,0,0,0,0,0,null,null,0,0,0,0,0,0,0,0,0,0,null,null,0,0,0,0,0,0,0,0,0,0,null,null,0,0,0,0,0,0,0,0,0,0]
[null,null,null,null,null,null,null,null,null,null,null,null,null,null,null,null,null,null,null,null,null,null,null,null,null,null,null,null,null,null,null,null,0,0,0,0,0,0,0,0,0,0,null,null,0,0,0,0,0,0,0,0,0,0,null,null,0,0,0,0,0,0,0,0,0,0,null,null,0,0,0,0,0,0,0,0,0,0,null,null,0,0,0,0,0,0,0,0,0,0]
[null,null,null,null,null,null,null,null,null,null,null,null,null,null,null,null,null,null,null,null,null,null,null,null,null,null,null,null,null,null,null,null,0,0,0,0,0,0,0,0,0,0,null,null,0,0,0,0,0,0,0,0,0,0,null,null,0,0,0,0,0,0,0,0,0,0,null,null,0,0,0,0,0,0,0,0,0,0,null,null,0,0,0,0,0,0,0,0,0,0]
[null,null,null,null,null,null,null,null,null,null,null,null,null,null,null,null,null,null,null,null,null,null,null,null,null,null,null,null,null,null,null,null,0,0,0,0,0,0,0,0,0,0,null,null,0,0,0,0,0,0,0,0,0,0,null,null,0,0,0,0,0,0,0,0,0,0,null,null,0,0,0,0,0,0,0,0,0,0,null,null,0,0,0,0,0,0,0,0,0,0]
[null,null,null,null,null,null,null,null,null,null,null,null,null,null,null,null,null,null,null,null,null,null,null,null,null,null,null,null,null,null,null,null,0,0,0,0,0,0,0,0,0,0,null,null,0,0,0,0,0,0,0,0,0,0,null,null,0,0,0,0,0,0,0,0,0,0,null,null,0,0,0,0,0,0,0,0,0,0,null,null,0,0,0,0,0,0,0,0,0,0]
[null,null,null,null,null,null,null,null,null,null,null,null,null,null,null,null,null,null,null,null,null,null,null,null,null,null,null,null,null,null,null,null,0,0,0,0,0,0,0,0,0,0,null,null,0,0,0,0,0,0,0,0,0,0,null,null,0,0,0,0,0,0,0,0,0,0,null,null,0,0,0,0,0,0,0,0,0,0,null,null,0,0,0,0,0,0,0,0,0,0]
[null,null,null,null,null,null,null,null,null,null,null,null,null,null,null,null,null,null,null,null,null,null,null,null,null,null,null,null,null,null,null,null,0,0,0,0,0,0,0,0,0,0,null,null,0,0,0,0,0,0,0,0,0,0,null,null,0,0,0,0,0,0,0,0,0,0,null,null,0,0,0,0,0,0,0,0,0,0,null,null,0,0,0,0,0,0,0,0,0,0]
[null,null,null,null,null,null,null,null,null,null,null,null,null,null,null,null,null,null,null,null,null,null,null,null,null,null,null,null,null,null,null,null,0,0,0,0,0,0,0,0,0,0,null,null,0,0,0,0,0,0,0,0,0,0,null,null,0,0,0,0,0,0,0,0,0,0,null,null,0,0,0,0,0,0,0,0,0,0,null,null,0,0,0,0,0,0,0,0,0,0]
[null,null,null,null,null,null,null,null,null,null,null,null,null,null,null,null,null,null,null,null,null,null,null,null,null,null,null,null,null,null,null,null,0,0,0,0,0,0,0,0,0,0,null,null,0,0,0,0,0,0,0,0,0,0,null,null,0,0,0,0,0,0,0,0,0,0,null,null,0,0,0,0,0,0,0,0,0,0,null,null,0,0,0,0,0,0,0,0,0,0]
[null,null,null,null,null,null,null,null,null,null,null,null,null,null,null,null,null,null,null,null,null,null,null,null,null,null,null,null,null,null,null,null,0,0,0,0,0,0,0,0,0,0,null,null,0,0,0,0,0,0,0,0,0,0,null,null,0,0,0,0,0,0,0,0,0,0,null,null,0,0,0,0,0,0,0,0,0,0,null,null,0,0,0,0,0,0,0,0,0,0]
[null,null,null,null,null,null,null,null,null,null,null,null,null,null,null,null,null,null,null,null,null,null,null,null,null,null,null,null,null,null,null,null,0,0,0,0,0,0,0,0,0,0,null,null,0,0,0,0,0,0,0,0,0,0,null,null,0,0,0,0,0,0,0,0,0,0,null,null,0,0,0,0,0,0,0,0,0,0,null,null,0,0,0,0,0,0,0,0,0,0]
[null,null,null,null,null,null,null,null,null,null,null,null,null,null,null,null,null,null,null,null,null,null,null,null,null,null,null,null,null,null,null,null,0,0,0,0,0,0,0,0,0,0,null,null,0,0,0,0,0,0,0,0,0,0,null,null,0,0,0,0,0,0,0,0,0,0,null,null,0,0,0,0,0,0,0,0,0,0,null,null,0,0,0,0,0,0,0,0,0,0]
[null,null,null,null,null,null,null,null,null,null,null,null,null,null,null,null,null,null,null,null,null,null,null,null,null,null,null,null,null,null,null,null,0,0,0,0,0,0,0,0,0,0,null,null,0,0,0,0,0,0,0,0,0,0,null,null,0,0,0,0,0,0,0,0,0,0,null,null,0,0,0,0,0,0,0,0,0,0,null,null,0,0,0,0,0,0,0,0,0,0]
[null,null,null,null,null,null,null,null,null,null,null,null,null,null,null,null,null,null,null,null,null,null,null,null,null,null,null,null,null,null,null,null,0,0,0,0,0,0,0,0,0,0,null,null,0,0,0,0,0,0,0,0,0,0,null,null,0,0,0,0,0,0,0,0,0,0,null,null,0,0,0,0,0,0,0,0,0,0,null,null,0,0,0,0,0,0,0,0,0,0]
[null,null,null,null,null,null,null,null,null,null,null,null,null,null,null,null,null,null,null,null,null,null,null,null,null,null,null,null,null,null,null,null,0,0,0,0,0,0,0,0,0,0,null,null,0,0,0,0,0,0,0,0,0,0,null,null,0,0,0,0,0,0,0,0,0,0,null,null,0,0,0,0,0,0,0,0,0,0,null,null,0,0,0,0,0,0,0,0,0,0]
[null,null,null,null,null,null,null,null,null,null,null,null,null,null,null,null,null,null,null,null,null,null,null,null,null,null,null,null,null,null,null,null,0,0,0,0,0,0,0,0,0,0,null,null,0,0,0,0,0,0,0,0,0,0,null,null,0,0,0,0,0,0,0,0,0,0,null,null,0,0,0,0,0,0,0,0,0,0,null,null,0,0,0,0,0,0,0,0,0,0]
[null,null,null,null,null,null,null,null,null,null,null,null,null,null,null,null,null,null,null,null,null,null,null,null,null,null,null,null,null,null,null,null,0,0,0,0,0,0,0,0,0,0,null,null,0,0,0,0,0,0,0,0,0,0,null,null,0,0,0,0,0,0,0,0,0,0,null,null,0,0,0,0,0,0,0,0,0,0,null,null,0,0,0,0,0,0,0,0,0,0]
[null,null,null,null,null,null,null,null,null,null,null,null,null,null,null,null,null,null,null,null,null,null,null,null,null,null,null,null,null,null,null,null,0,0,0,0,0,0,0,0,0,0,null,null,0,0,0,0,0,0,0,0,0,0,null,null,0,0,0,0,0,0,0,0,0,0,null,null,0,0,0,0,0,0,0,0,0,0,null,null,0,0,0,0,0,0,0,0,0,0]
[null,null,null,null,null,null,null,null,null,null,null,null,null,null,null,null,null,null,null,null,null,null,null,null,null,null,null,null,null,null,null,null,0,0,0,0,0,0,0,0,0,0,null,null,0,0,0,0,0,0,0,0,0,0,null,null,0,0,0,0,0,0,0,0,0,0,null,null,0,0,0,0,0,0,0,0,0,0,null,null,0,0,0,0,0,0,0,0,0,0]
[null,null,null,null,null,null,null,null,null,null,null,null,null,null,null,null,null,null,null,null,null,null,null,null,null,null,null,null,null,null,null,null,0,0,0,0,0,0,0,0,0,0,null,null,0,0,0,0,0,0,0,0,0,0,null,null,0,0,0,0,0,0,0,0,0,0,null,null,0,0,0,0,0,0,0,0,0,0,null,null,0,0,0,0,0,0,0,0,0,0]
[null,null,null,null,null,null,null,null,null,null,null,null,null,null,null,null,null,null,null,null,null,null,null,null,null,null,null,null,null,null,null,null,0,0,0,0,0,0,0,0,0,0,null,null,0,0,0,0,0,0,0,0,0,0,null,null,0,0,0,0,0,0,0,0,0,0,null,null,0,0,0,0,0,0,0,0,0,0,null,null,0,0,0,0,0,0,0,0,0,0]
[null,null,null,null,null,null,null,null,null,null,null,null,null,null,null,null,null,null,null,null,null,null,null,null,null,null,null,null,null,null,null,null,0,0,0,0,0,0,0,0,0,0,null,null,0,0,0,0,0,0,0,0,0,0,null,null,0,0,0,0,0,0,0,0,0,0,null,null,0,0,0,0,0,0,0,0,0,0,null,null,0,0,0,0,0,0,0,0,0,0]
[null,null,null,null,null,null,null,null,null,null,null,null,null,null,null,null,null,null,null,null,null,null,null,null,null,null,null,null,null,null,null,null,0,0,0,0,0,0,0,0,0,0,null,null,0,0,0,0,0,0,0,0,0,0,null,null,0,0,0,0,0,0,0,0,0,0,null,null,0,0,0,0,0,0,0,0,0,0,null,null,0,0,0,0,0,0,0,0,0,0]
[null,null,null,null,null,null,null,null,null,null,null,null,null,null,null,null,null,null,null,null,null,null,null,null,null,null,null,null,null,null,null,null,0,0,0,0,0,0,0,0,0,0,null,null,0,0,0,0,0,0,0,0,0,0,null,null,0,0,0,0,0,0,0,0,0,0,null,null,0,0,0,0,0,0,0,0,0,0,null,null,0,0,0,0,0,0,0,0,0,0]
[null,null,null,null,null,null,null,null,null,null,null,null,null,null,null,null,null,null,null,null,null,null,null,null,null,null,null,null,null,null,null,null,0,0,0,0,0,0,0,0,0,0,null,null,0,0,0,0,0,0,0,0,0,0,null,null,0,0,0,0,0,0,0,0,0,0,null,null,0,0,0,0,0,0,0,0,0,0,null,null,0,0,0,0,0,0,0,0,0,0]
[null,null,null,null,null,null,null,null,null,null,null,null,null,null,null,null,null,null,null,null,null,null,null,null,null,null,null,null,null,null,null,null,0,0,0,0,0,0,0,0,0,0,null,null,0,0,0,0,0,0,0,0,0,0,null,null,0,0,0,0,0,0,0,0,0,0,null,null,0,0,0,0,0,0,0,0,0,0,null,null,0,0,0,0,0,0,0,0,0,0]
[null,null,null,null,null,null,null,null,null,null,null,null,null,null,null,null,null,null,null,null,null,null,null,null,null,null,null,null,null,null,null,null,0,0,0,0,0,0,0,0,0,0,null,null,0,0,0,0,0,0,0,0,0,0,null,null,0,0,0,0,0,0,0,0,0,0,null,null,0,0,0,0,0,0,0,0,0,0,null,null,0,0,0,0,0,0,0,0,0,0]
[null,null,null,null,null,null,null,null,null,null,null,null,null,null,null,null,null,null,null,null,null,null,null,null,null,null,null,null,null,null,null,null,0,0,0,0,0,0,0,0,0,0,null,null,0,0,0,0,0,0,0,0,0,0,null,null,0,0,0,0,0,0,0,0,0,0,null,null,0,0,0,0,0,0,0,0,0,0,null,null,0,0,0,0,0,0,0,0,0,0]
[null,null,null,null,null,null,null,null,null,null,null,null,null,null,null,null,null,null,null,null,null,null,null,null,null,null,null,null,null,null,null,null,0,0,0,0,0,0,0,0,0,0,null,null,0,0,0,0,0,0,0,0,0,0,null,null,0,0,0,0,0,0,0,0,0,0,null,null,0,0,0,0,0,0,0,0,0,0,null,null,0,0,0,0,0,0,0,0,0,0]
[null,null,null,null,null,null,null,null,null,null,null,null,null,null,null,null,null,null,null,null,null,null,null,null,null,null,null,null,null,null,null,null,0,0,0,0,0,0,0,0,0,0,null,null,0,0,0,0,0,0,0,0,0,0,null,null,0,0,0,0,0,0,0,0,0,0,null,null,0,0,0,0,0,0,0,0,0,0,null,null,0,0,0,0,0,0,0,0,0,0]
[null,null,null,null,null,null,null,null,null,null,null,null,null,null,null,null,null,null,null,null,null,null,null,null,null,null,null,null,null,null,null,null,0,0,0,0,0,0,0,0,0,0,null,null,0,0,0,0,0,0,0,0,0,0,null,null,0,0,0,0,0,0,0,0,0,0,null,null,0,0,0,0,0,0,0,0,0,0,null,null,0,0,0,0,0,0,0,0,0,0]
[null,null,null,null,null,null,null,null,null,null,null,null,null,null,null,null,null,null,null,null,null,null,null,null,null,null,null,null,null,null,null,null,0,0,0,0,0,0,0,0,0,0,null,null,0,0,0,0,0,0,0,0,0,0,null,null,0,0,0,0,0,0,0,0,0,0,null,null,0,0,0,0,0,0,0,0,0,0,null,null,0,0,0,0,0,0,0,0,0,0]
[null,null,null,null,null,null,null,null,null,null,null,null,null,null,null,null,null,null,null,null,null,null,null,null,null,null,null,null,null,null,null,null,0,0,0,0,0,0,0,0,0,0,null,null,0,0,0,0,0,0,0,0,0,0,null,null,0,0,0,0,0,0,0,0,0,0,null,null,0,0,0,0,0,0,0,0,0,0,null,null,0,0,0,0,0,0,0,0,0,0]
[null,null,null,null,null,null,null,null,null,null,null,null,null,null,null,null,null,null,null,null,null,null,null,null,null,null,null,null,null,null,null,null,0,0,0,0,0,0,0,0,0,0,null,null,0,0,0,0,0,0,0,0,0,0,null,null,0,0,0,0,0,0,0,0,0,0,null,null,0,0,0,0,0,0,0,0,0,0,null,null,0,0,0,0,0,0,0,0,0,0]
[null,null,null,null,null,null,null,null,null,null,null,null,null,null,null,null,null,null,null,null,null,null,null,null,null,null,null,null,null,null,null,null,0,0,0,0,0,0,0,0,0,0,null,null,0,0,0,0,0,0,0,0,0,0,null,null,0,0,0,0,0,0,0,0,0,0,null,null,0,0,0,0,0,0,0,0,0,0,null,null,0,0,0,0,0,0,0,0,0,0]
[null,null,null,null,null,null,null,null,null,null,null,null,null,null,null,null,null,null,null,null,null,null,null,null,null,null,null,null,null,null,null,null,0,0,0,0,0,0,0,0,0,0,null,null,0,0,0,0,0,0,0,0,0,0,null,null,0,0,0,0,0,0,0,0,0,0,null,null,0,0,0,0,0,0,0,0,0,0,null,null,0,0,0,0,0,0,0,0,0,0]
[null,null,null,null,null,null,null,null,null,null,null,null,null,null,null,null,null,null,null,null,null,null,null,null,null,null,null,null,null,null,null,null,0,0,0,0,0,0,0,0,0,0,null,null,0,0,0,0,0,0,0,0,0,0,null,null,0,0,0,0,0,0,0,0,0,0,null,null,0,0,0,0,0,0,0,0,0,0,null,null,0,0,0,0,0,0,0,0,0,0]
[null,null,null,null,null,null,null,null,null,null,null,null,null,null,null,null,null,null,null,null,null,null,null,null,null,null,null,null,null,null,null,null,0,0,0,0,0,0,0,0,0,0,null,null,0,0,0,0,0,0,0,0,0,0,null,null,0,0,0,0,0,0,0,0,0,0,null,null,0,0,0,0,0,0,0,0,0,0,null,null,0,0,0,0,0,0,0,0,0,0]
[null,null,null,null,null,null,null,null,null,null,null,null,null,null,null,null,null,null,null,null,null,null,null,null,null,null,null,null,null,null,null,null,0,0,0,0,0,0,0,0,0,0,null,null,0,0,0,0,0,0,0,0,0,0,null,null,0,0,0,0,0,0,0,0,0,0,null,null,0,0,0,0,0,0,0,0,0,0,null,null,0,0,0,0,0,0,0,0,0,0]
[null,null,null,null,null,null,null,null,null,null,null,null,null,null,null,null,null,null,null,null,null,null,null,null,null,null,null,null,null,null,null,null,0,0,0,0,0,0,0,0,0,0,null,null,0,0,0,0,0,0,0,0,0,0,null,null,0,0,0,0,0,0,0,0,0,0,null,null,0,0,0,0,0,0,0,0,0,0,null,null,0,0,0,0,0,0,0,0,0,0]
[null,null,null,null,null,null,null,null,null,null,null,null,null,null,null,null,null,null,null,null,null,null,null,null,null,null,null,null,null,null,null,null,0,0,0,0,0,0,0,0,0,0,null,null,0,0,0,0,0,0,0,0,0,0,null,null,0,0,0,0,0,0,0,0,0,0,null,null,0,0,0,0,0,0,0,0,0,0,null,null,0,0,0,0,0,0,0,0,0,0]
[null,null,null,null,null,null,null,null,null,null,null,null,null,null,null,null,null,null,null,null,null,null,null,null,null,null,null,null,null,null,null,null,0,0,0,0,0,0,0,0,0,0,null,null,0,0,0,0,0,0,0,0,0,0,null,null,0,0,0,0,0,0,0,0,0,0,null,null,0,0,0,0,0,0,0,0,0,0,null,null,0,0,0,0,0,0,0,0,0,0]
[null,null,null,null,null,null,null,null,null,null,null,null,null,null,null,null,null,null,null,null,null,null,null,null,null,null,null,null,null,null,null,null,0,0,0,0,0,0,0,0,0,0,null,null,0,0,0,0,0,0,0,0,0,0,null,null,0,0,0,0,0,0,0,0,0,0,null,null,0,0,0,0,0,0,0,0,0,0,null,null,0,0,0,0,0,0,0,0,0,0]
[null,null,null,null,null,null,null,null,null,null,null,null,null,null,null,null,null,null,null,null,null,null,null,null,null,null,null,null,null,null,null,null,0,0,0,0,0,0,0,0,0,0,null,null,0,0,0,0,0,0,0,0,0,0,null,null,0,0,0,0,0,0,0,0,0,0,null,null,0,0,0,0,0,0,0,0,0,0,null,null,0,0,0,0,0,0,0,0,0,0]
[null,null,null,null,null,null,null,null,null,null,null,null,null,null,null,null,null,null,null,null,null,null,null,null,null,null,null,null,null,null,null,null,0,0,0,0,0,0,0,0,0,0,null,null,0,0,0,0,0,0,0,0,0,0,null,null,0,0,0,0,0,0,0,0,0,0,null,null,0,0,0,0,0,0,0,0,0,0,null,null,0,0,0,0,0,0,0,0,0,0]
[null,null,null,null,null,null,null,null,null,null,null,null,null,null,null,null,null,null,null,null,null,null,null,null,null,null,null,null,null,null,null,null,0,0,0,0,0,0,0,0,0,0,null,null,0,0,0,0,0,0,0,0,0,0,null,null,0,0,0,0,0,0,0,0,0,0,null,null,0,0,0,0,0,0,0,0,0,0,null,null,0,0,0,0,0,0,0,0,0,0]
[null,null,null,null,null,null,null,null,null,null,null,null,null,null,null,null,null,null,null,null,null,null,null,null,null,null,null,null,null,null,null,null,0,0,0,0,0,0,0,0,0,0,null,null,0,0,0,0,0,0,0,0,0,0,null,null,0,0,0,0,0,0,0,0,0,0,null,null,0,0,0,0,0,0,0,0,0,0,null,null,0,0,0,0,0,0,0,0,0,0]
[null,null,null,null,null,null,null,null,null,null,null,null,null,null,null,null,null,null,null,null,null,null,null,null,null,null,null,null,null,null,null,null,0,0,0,0,0,0,0,0,0,0,null,null,0,0,0,0,0,0,0,0,0,0,null,null,0,0,0,0,0,0,0,0,0,0,null,null,0,0,0,0,0,0,0,0,0,0,null,null,0,0,0,0,0,0,0,0,0,0]
[null,null,null,null,null,null,null,null,null,null,null,null,null,null,null,null,null,null,null,null,null,null,null,null,null,null,null,null,null,null,null,null,0,0,0,0,0,0,0,0,0,0,null,null,0,0,0,0,0,0,0,0,0,0,null,null,0,0,0,0,0,0,0,0,0,0,null,null,0,0,0,0,0,0,0,0,0,0,null,null,0,0,0,0,0,0,0,0,0,0]
[null,null,null,null,null,null,null,null,null,null,null,null,null,null,null,null,null,null,null,null,null,null,null,null,null,null,null,null,null,null,null,null,0,0,0,0,0,0,0,0,0,0,null,null,0,0,0,0,0,0,0,0,0,0,null,null,0,0,0,0,0,0,0,0,0,0,null,null,0,0,0,0,0,0,0,0,0,0,null,null,0,0,0,0,0,0,0,0,0,0]
[null,null,null,null,null,null,null,null,null,null,null,null,null,null,null,null,null,null,null,null,null,null,null,null,null,null,null,null,null,null,null,null,0,0,0,0,0,0,0,0,0,0,null,null,0,0,0,0,0,0,0,0,0,0,null,null,0,0,0,0,0,0,0,0,0,0,null,null,0,0,0,0,0,0,0,0,0,0,null,null,0,0,0,0,0,0,0,0,0,0]
[null,null,null,null,null,null,null,null,null,null,null,null,null,null,null,null,null,null,null,null,null,null,null,null,null,null,null,null,null,null,null,null,0,0,0,0,0,0,0,0,0,0,null,null,0,0,0,0,0,0,0,0,0,0,null,null,0,0,0,0,0,0,0,0,0,0,null,null,0,0,0,0,0,0,0,0,0,0,null,null,0,0,0,0,0,0,0,0,0,0]
[null,null,null,null,null,null,null,null,null,null,null,null,null,null,null,null,null,null,null,null,null,null,null,null,null,null,null,null,null,null,null,null,0,0,0,0,0,0,0,0,0,0,null,null,0,0,0,0,0,0,0,0,0,0,null,null,0,0,0,0,0,0,0,0,0,0,null,null,0,0,0,0,0,0,0,0,0,0,null,null,0,0,0,0,0,0,0,0,0,0]
[null,null,null,null,null,null,null,null,null,null,null,null,null,null,null,null,null,null,null,null,null,null,null,null,null,null,null,null,null,null,null,null,0,0,0,0,0,0,0,0,0,0,null,null,0,0,0,0,0,0,0,0,0,0,null,null,0,0,0,0,0,0,0,0,0,0,null,null,0,0,0,0,0,0,0,0,0,0,null,null,0,0,0,0,0,0,0,0,0,0]
[null,null,null,null,null,null,null,null,null,null,null,null,null,null,null,null,null,null,null,null,null,null,null,null,null,null,null,null,null,null,null,null,0,0,0,0,0,0,0,0,0,0,null,null,0,0,0,0,0,0,0,0,0,0,null,null,0,0,0,0,0,0,0,0,0,0,null,null,0,0,0,0,0,0,0,0,0,0,null,null,0,0,0,0,0,0,0,0,0,0]
[null,null,null,null,null,null,null,null,null,null,null,null,null,null,null,null,null,null,null,null,null,null,null,null,null,null,null,null,null,null,null,null,0,0,0,0,0,0,0,0,0,0,null,null,0,0,0,0,0,0,0,0,0,0,null,null,0,0,0,0,0,0,0,0,0,0,null,null,0,0,0,0,0,0,0,0,0,0,null,null,0,0,0,0,0,0,0,0,0,0]
[null,null,null,null,null,null,null,null,null,null,null,null,null,null,null,null,null,null,null,null,null,null,null,null,null,null,null,null,null,null,null,null,0,0,0,0,0,0,0,0,0,0,null,null,0,0,0,0,0,0,0,0,0,0,null,null,0,0,0,0,0,0,0,0,0,0,null,null,0,0,0,0,0,0,0,0,0,0,null,null,0,0,0,0,0,0,0,0,0,0]
[null,null,null,null,null,null,null,null,null,null,null,null,null,null,null,null,null,null,null,null,null,null,null,null,null,null,null,null,null,null,null,null,0,0,0,0,0,0,0,0,0,0,null,null,0,0,0,0,0,0,0,0,0,0,null,null,0,0,0,0,0,0,0,0,0,0,null,null,0,0,0,0,0,0,0,0,0,0,null,null,0,0,0,0,0,0,0,0,0,0]
[null,null,null,null,null,null,null,null,null,null,null,null,null,null,null,null,null,null,null,null,null,null,null,null,null,null,null,null,null,null,null,null,0,0,0,0,0,0,0,0,0,0,null,null,0,0,0,0,0,0,0,0,0,0,null,null,0,0,0,0,0,0,0,0,0,0,null,null,0,0,0,0,0,0,0,0,0,0,null,null,0,0,0,0,0,0,0,0,0,0]
[null,null,null,null,null,null,null,null,null,null,null,null,null,null,null,null,null,null,null,null,null,null,null,null,null,null,null,null,null,null,null,null,0,0,0,0,0,0,0,0,0,0,null,null,0,0,0,0,0,0,0,0,0,0,null,null,0,0,0,0,0,0,0,0,0,0,null,null,0,0,0,0,0,0,0,0,0,0,null,null,0,0,0,0,0,0,0,0,0,0]
[null,null,null,null,null,null,null,null,null,null,null,null,null,null,null,null,null,null,null,null,null,null,null,null,null,null,null,null,null,null,null,null,0,0,0,0,0,0,0,0,0,0,null,null,0,0,0,0,0,0,0,0,0,0,null,null,0,0,0,0,0,0,0,0,0,0,null,null,0,0,0,0,0,0,0,0,0,0,null,null,0,0,0,0,0,0,0,0,0,0]
[null,null,null,null,null,null,null,null,null,null,null,null,null,null,null,null,null,null,null,null,null,null,null,null,null,null,null,null,null,null,null,null,0,0,0,0,0,0,0,0,0,0,null,null,0,0,0,0,0,0,0,0,0,0,null,null,0,0,0,0,0,0,0,0,0,0,null,null,0,0,0,0,0,0,0,0,0,0,null,null,0,0,0,0,0,0,0,0,0,0]
[null,null,null,null,null,null,null,null,null,null,null,null,null,null,null,null,null,null,null,null,null,null,null,null,null,null,null,null,null,null,null,null,0,0,0,0,0,0,0,0,0,0,null,null,0,0,0,0,0,0,0,0,0,0,null,null,0,0,0,0,0,0,0,0,0,0,null,null,0,0,0,0,0,0,0,0,0,0,null,null,0,0,0,0,0,0,0,0,0,0]
[null,null,null,null,null,null,null,null,null,null,null,null,null,null,null,null,null,null,null,null,null,null,null,null,null,null,null,null,null,null,null,null,0,0,0,0,0,0,0,0,0,0,null,null,0,0,0,0,0,0,0,0,0,0,null,null,0,0,0,0,0,0,0,0,0,0,null,null,0,0,0,0,0,0,0,0,0,0,null,null,0,0,0,0,0,0,0,0,0,0]
[null,null,null,null,null,null,null,null,null,null,null,null,null,null,null,null,null,null,null,null,null,null,null,null,null,null,null,null,null,null,null,null,0,0,0,0,0,0,0,0,0,0,null,null,0,0,0,0,0,0,0,0,0,0,null,null,0,0,0,0,0,0,0,0,0,0,null,null,0,0,0,0,0,0,0,0,0,0,null,null,0,0,0,0,0,0,0,0,0,0]
[null,null,null,null,null,null,null,null,null,null,null,null,null,null,null,null,null,null,null,null,null,null,null,null,null,null,null,null,null,null,null,null,0,0,0,0,0,0,0,0,0,0,null,null,0,0,0,0,0,0,0,0,0,0,null,null,0,0,0,0,0,0,0,0,0,0,null,null,0,0,0,0,0,0,0,0,0,0,null,null,0,0,0,0,0,0,0,0,0,0]
[null,null,null,null,null,null,null,null,null,null,null,null,null,null,null,null,null,null,null,null,null,null,null,null,null,null,null,null,null,null,null,null,0,0,0,0,0,0,0,0,0,0,null,null,0,0,0,0,0,0,0,0,0,0,null,null,0,0,0,0,0,0,0,0,0,0,null,null,0,0,0,0,0,0,0,0,0,0,null,null,0,0,0,0,0,0,0,0,0,0]
[null,null,null,null,null,null,null,null,null,null,null,null,null,null,null,null,null,null,null,null,null,null,null,null,null,null,null,null,null,null,null,null,0,0,0,0,0,0,0,0,0,0,null,null,0,0,0,0,0,0,0,0,0,0,null,null,0,0,0,0,0,0,0,0,0,0,null,null,0,0,0,0,0,0,0,0,0,0,null,null,0,0,0,0,0,0,0,0,0,0]
[null,null,null,null,null,null,null,null,null,null,null,null,null,null,null,null,null,null,null,null,null,null,null,null,null,null,null,null,null,null,null,null,0,0,0,0,0,0,0,0,0,0,null,null,0,0,0,0,0,0,0,0,0,0,null,null,0,0,0,0,0,0,0,0,0,0,null,null,0,0,0,0,0,0,0,0,0,0,null,null,0,0,0,0,0,0,0,0,0,0]
[null,null,null,null,null,null,null,null,null,null,null,null,null,null,null,null,null,null,null,null,null,null,null,null,null,null,null,null,null,null,null,null,0,0,0,0,0,0,0,0,0,0,null,null,0,0,0,0,0,0,0,0,0,0,null,null,0,0,0,0,0,0,0,0,0,0,null,null,0,0,0,0,0,0,0,0,0,0,null,null,0,0,0,0,0,0,0,0,0,0]
[null,null,null,null,null,null,null,null,null,null,null,null,null,null,null,null,null,null,null,null,null,null,null,null,null,null,null,null,null,null,null,null,0,0,0,0,0,0,0,0,0,0,null,null,0,0,0,0,0,0,0,0,0,0,null,null,0,0,0,0,0,0,0,0,0,0,null,null,0,0,0,0,0,0,0,0,0,0,null,null,0,0,0,0,0,0,0,0,0,0]
[null,null,null,null,null,null,null,null,null,null,null,null,null,null,null,null,null,null,null,null,null,null,null,null,null,null,null,null,null,null,null,null,0,0,0,0,0,0,0,0,0,0,null,null,0,0,0,0,0,0,0,0,0,0,null,null,0,0,0,0,0,0,0,0,0,0,null,null,0,0,0,0,0,0,0,0,0,0,null,null,0,0,0,0,0,0,0,0,0,0]
[null,null,null,null,null,null,null,null,null,null,null,null,null,null,null,null,null,null,null,null,null,null,null,null,null,null,null,null,null,null,null,null,0,0,0,0,0,0,0,0,0,0,null,null,0,0,0,0,0,0,0,0,0,0,null,null,0,0,0,0,0,0,0,0,0,0,null,null,0,0,0,0,0,0,0,0,0,0,null,null,0,0,0,0,0,0,0,0,0,0]
[null,null,null,null,null,null,null,null,null,null,null,null,null,null,null,null,null,null,null,null,null,null,null,null,null,null,null,null,null,null,null,null,0,0,0,0,0,0,0,0,0,0,null,null,0,0,0,0,0,0,0,0,0,0,null,null,0,0,0,0,0,0,0,0,0,0,null,null,0,0,0,0,0,0,0,0,0,0,null,null,0,0,0,0,0,0,0,0,0,0]
[null,null,null,null,null,null,null,null,null,null,null,null,null,null,null,null,null,null,null,null,null,null,null,null,null,null,null,null,null,null,null,null,0,0,0,0,0,0,0,0,0,0,null,null,0,0,0,0,0,0,0,0,0,0,null,null,0,0,0,0,0,0,0,0,0,0,null,null,0,0,0,0,0,0,0,0,0,0,null,null,0,0,0,0,0,0,0,0,0,0]
[null,null,null,null,null,null,null,null,null,null,null,null,null,null,null,null,null,null,null,null,null,null,null,null,null,null,null,null,null,null,null,null,0,0,0,0,0,0,0,0,0,0,null,null,0,0,0,0,0,0,0,0,0,0,null,null,0,0,0,0,0,0,0,0,0,0,null,null,0,0,0,0,0,0,0,0,0,0,null,null,0,0,0,0,0,0,0,0,0,0]
[null,null,null,null,null,null,null,null,null,null,null,null,null,null,null,null,null,null,null,null,null,null,null,null,null,null,null,null,null,null,null,null,0,0,0,0,0,0,0,0,0,0,null,null,0,0,0,0,0,0,0,0,0,0,null,null,0,0,0,0,0,0,0,0,0,0,null,null,0,0,0,0,0,0,0,0,0,0,null,null,0,0,0,0,0,0,0,0,0,0]
[null,null,null,null,null,null,null,null,null,null,null,null,null,null,null,null,null,null,null,null,null,null,null,null,null,null,null,null,null,null,null,null,0,0,0,0,0,0,0,0,0,0,null,null,0,0,0,0,0,0,0,0,0,0,null,null,0,0,0,0,0,0,0,0,0,0,null,null,0,0,0,0,0,0,0,0,0,0,null,null,0,0,0,0,0,0,0,0,0,0]
[null,null,null,null,null,null,null,null,null,null,null,null,null,null,null,null,null,null,null,null,null,null,null,null,null,null,null,null,null,null,null,null,0,0,0,0,0,0,0,0,0,0,null,null,0,0,0,0,0,0,0,0,0,0,null,null,0,0,0,0,0,0,0,0,0,0,null,null,0,0,0,0,0,0,0,0,0,0,null,null,0,0,0,0,0,0,0,0,0,0]
[null,null,null,null,null,null,null,null,null,null,null,null,null,null,null,null,null,null,null,null,null,null,null,null,null,null,null,null,null,null,null,null,0,0,0,0,0,0,0,0,0,0,null,null,0,0,0,0,0,0,0,0,0,0,null,null,0,0,0,0,0,0,0,0,0,0,null,null,0,0,0,0,0,0,0,0,0,0,null,null,0,0,0,0,0,0,0,0,0,0]
[null,null,null,null,null,null,null,null,null,null,null,null,null,null,null,null,null,null,null,null,null,null,null,null,null,null,null,null,null,null,null,null,0,0,0,0,0,0,0,0,0,0,null,null,0,0,0,0,0,0,0,0,0,0,null,null,0,0,0,0,0,0,0,0,0,0,null,null,0,0,0,0,0,0,0,0,0,0,null,null,0,0,0,0,0,0,0,0,0,0]
[null,null,null,null,null,null,null,null,null,null,null,null,null,null,null,null,null,null,null,null,null,null,null,null,null,null,null,null,null,null,null,null,0,0,0,0,0,0,0,0,0,0,null,null,0,0,0,0,0,0,0,0,0,0,null,null,0,0,0,0,0,0,0,0,0,0,null,null,0,0,0,0,0,0,0,0,0,0,null,null,0,0,0,0,0,0,0,0,0,0]
[null,null,null,null,null,null,null,null,null,null,null,null,null,null,null,null,null,null,null,null,null,null,null,null,null,null,null,null,null,null,null,null,0,0,0,0,0,0,0,0,0,0,null,null,0,0,0,0,0,0,0,0,0,0,null,null,0,0,0,0,0,0,0,0,0,0,null,null,0,0,0,0,0,0,0,0,0,0,null,null,0,0,0,0,0,0,0,0,0,0]
[null,null,null,null,null,null,null,null,null,null,null,null,null,null,null,null,null,null,null,null,null,null,null,null,null,null,null,null,null,null,null,null,0,0,0,0,0,0,0,0,0,0,null,null,0,0,0,0,0,0,0,0,0,0,null,null,0,0,0,0,0,0,0,0,0,0,null,null,0,0,0,0,0,0,0,0,0,0,null,null,0,0,0,0,0,0,0,0,0,0]
[null,null,null,null,null,null,null,null,null,null,null,null,null,null,null,null,null,null,null,null,null,null,null,null,null,null,null,null,null,null,null,null,0,0,0,0,0,0,0,0,0,0,null,null,0,0,0,0,0,0,0,0,0,0,null,null,0,0,0,0,0,0,0,0,0,0,null,null,0,0,0,0,0,0,0,0,0,0,null,null,0,0,0,0,0,0,0,0,0,0]
[null,null,null,null,null,null,null,null,null,null,null,null,null,null,null,null,null,null,null,null,null,null,null,null,null,null,null,null,null,null,null,null,0,0,0,0,0,0,0,0,0,0,null,null,0,0,0,0,0,0,0,0,0,0,null,null,0,0,0,0,0,0,0,0,0,0,null,null,0,0,0,0,0,0,0,0,0,0,null,null,0,0,0,0,0,0,0,0,0,0]
[null,null,null,null,null,null,null,null,null,null,null,null,null,null,null,null,null,null,null,null,null,null,null,null,null,null,null,null,null,null,null,null,0,0,0,0,0,0,0,0,0,0,null,null,0,0,0,0,0,0,0,0,0,0,null,null,0,0,0,0,0,0,0,0,0,0,null,null,0,0,0,0,0,0,0,0,0,0,null,null,0,0,0,0,0,0,0,0,0,0]
[null,null,null,null,null,null,null,null,null,null,null,null,null,null,null,null,null,null,null,null,null,null,null,null,null,null,null,null,null,null,null,null,0,0,0,0,0,0,0,0,0,0,null,null,0,0,0,0,0,0,0,0,0,0,null,null,0,0,0,0,0,0,0,0,0,0,null,null,0,0,0,0,0,0,0,0,0,0,null,null,0,0,0,0,0,0,0,0,0,0]
[null,null,null,null,null,null,null,null,null,null,null,null,null,null,null,null,null,null,null,null,null,null,null,null,null,null,null,null,null,null,null,null,0,0,0,0,0,0,0,0,0,0,null,null,0,0,0,0,0,0,0,0,0,0,null,null,0,0,0,0,0,0,0,0,0,0,null,null,0,0,0,0,0,0,0,0,0,0,null,null,0,0,0,0,0,0,0,0,0,0]
[null,null,null,null,null,null,null,null,null,null,null,null,null,null,null,null,null,null,null,null,null,null,null,null,null,null,null,null,null,null,null,null,0,0,0,0,0,0,0,0,0,0,null,null,0,0,0,0,0,0,0,0,0,0,null,null,0,0,0,0,0,0,0,0,0,0,null,null,0,0,0,0,0,0,0,0,0,0,null,null,0,0,0,0,0,0,0,0,0,0]
[null,null,null,null,null,null,null,null,null,null,null,null,null,null,null,null,null,null,null,null,null,null,null,null,null,null,null,null,null,null,null,null,0,0,0,0,0,0,0,0,0,0,null,null,0,0,0,0,0,0,0,0,0,0,null,null,0,0,0,0,0,0,0,0,0,0,null,null,0,0,0,0,0,0,0,0,0,0,null,null,0,0,0,0,0,0,0,0,0,0]
[null,null,null,null,null,null,null,null,null,null,null,null,null,null,null,null,null,null,null,null,null,null,null,null,null,null,null,null,null,null,null,null,0,0,0,0,0,0,0,0,0,0,null,null,0,0,0,0,0,0,0,0,0,0,null,null,0,0,0,0,0,0,0,0,0,0,null,null,0,0,0,0,0,0,0,0,0,0,null,null,0,0,0,0,0,0,0,0,0,0]
[null,null,null,null,null,null,null,null,null,null,null,null,null,null,null,null,null,null,null,null,null,null,null,null,null,null,null,null,null,null,null,null,0,0,0,0,0,0,0,0,0,0,null,null,0,0,0,0,0,0,0,0,0,0,null,null,0,0,0,0,0,0,0,0,0,0,null,null,0,0,0,0,0,0,0,0,0,0,null,null,0,0,0,0,0,0,0,0,0,0]
[null,null,null,null,null,null,null,null,null,null,null,null,null,null,null,null,null,null,null,null,null,null,null,null,null,null,null,null,null,null,null,null,0,0,0,0,0,0,0,0,0,0,null,null,0,0,0,0,0,0,0,0,0,0,null,null,0,0,0,0,0,0,0,0,0,0,null,null,0,0,0,0,0,0,0,0,0,0,null,null,0,0,0,0,0,0,0,0,0,0]
[null,null,null,null,null,null,null,null,null,null,null,null,null,null,null,null,null,null,null,null,null,null,null,null,null,null,null,null,null,null,null,null,0,0,0,0,0,0,0,0,0,0,null,null,0,0,0,0,0,0,0,0,0,0,null,null,0,0,0,0,0,0,0,0,0,0,null,null,0,0,0,0,0,0,0,0,0,0,null,null,0,0,0,0,0,0,0,0,0,0]
[null,null,null,null,null,null,null,null,null,null,null,null,null,null,null,null,null,null,null,null,null,null,null,null,null,null,null,null,null,null,null,null,0,0,0,0,0,0,0,0,0,0,null,null,0,0,0,0,0,0,0,0,0,0,null,null,0,0,0,0,0,0,0,0,0,0,null,null,0,0,0,0,0,0,0,0,0,0,null,null,0,0,0,0,0,0,0,0,0,0]
[null,null,null,null,null,null,null,null,null,null,null,null,null,null,null,null,null,null,null,null,null,null,null,null,null,null,null,null,null,null,null,null,0,0,0,0,0,0,0,0,0,0,null,null,0,0,0,0,0,0,0,0,0,0,null,null,0,0,0,0,0,0,0,0,0,0,null,null,0,0,0,0,0,0,0,0,0,0,null,null,0,0,0,0,0,0,0,0,0,0]
[null,null,null,null,null,null,null,null,null,null,null,null,null,null,null,null,null,null,null,null,null,null,null,null,null,null,null,null,null,null,null,null,0,0,0,0,0,0,0,0,0,0,null,null,0,0,0,0,0,0,0,0,0,0,null,null,0,0,0,0,0,0,0,0,0,0,null,null,0,0,0,0,0,0,0,0,0,0,null,null,0,0,0,0,0,0,0,0,0,0]
[null,null,null,null,null,null,null,null,null,null,null,null,null,null,null,null,null,null,null,null,null,null,null,null,null,null,null,null,null,null,null,null,0,0,0,0,0,0,0,0,0,0,null,null,0,0,0,0,0,0,0,0,0,0,null,null,0,0,0,0,0,0,0,0,0,0,null,null,0,0,0,0,0,0,0,0,0,0,null,null,0,0,0,0,0,0,0,0,0,0]
[null,null,null,null,null,null,null,null,null,null,null,null,null,null,null,null,null,null,null,null,null,null,null,null,null,null,null,null,null,null,null,null,0,0,0,0,0,0,0,0,0,0,null,null,0,0,0,0,0,0,0,0,0,0,null,null,0,0,0,0,0,0,0,0,0,0,null,null,0,0,0,0,0,0,0,0,0,0,null,null,0,0,0,0,0,0,0,0,0,0]
[null,null,null,null,null,null,null,null,null,null,null,null,null,null,null,null,null,null,null,null,null,null,null,null,null,null,null,null,null,null,null,null,0,0,0,0,0,0,0,0,0,0,null,null,0,0,0,0,0,0,0,0,0,0,null,null,0,0,0,0,0,0,0,0,0,0,null,null,0,0,0,0,0,0,0,0,0,0,null,null,0,0,0,0,0,0,0,0,0,0]
[null,null,null,null,null,null,null,null,null,null,null,null,null,null,null,null,null,null,null,null,null,null,null,null,null,null,null,null,null,null,null,null,0,0,0,0,0,0,0,0,0,0,null,null,0,0,0,0,0,0,0,0,0,0,null,null,0,0,0,0,0,0,0,0,0,0,null,null,0,0,0,0,0,0,0,0,0,0,null,null,0,0,0,0,0,0,0,0,0,0]
[null,null,null,null,null,null,null,null,null,null,null,null,null,null,null,null,null,null,null,null,null,null,null,null,null,null,null,null,null,null,null,null,0,0,0,0,0,0,0,0,0,0,null,null,0,0,0,0,0,0,0,0,0,0,null,null,0,0,0,0,0,0,0,0,0,0,null,null,0,0,0,0,0,0,0,0,0,0,null,null,0,0,0,0,0,0,0,0,0,0]
[null,null,null,null,null,null,null,null,null,null,null,null,null,null,null,null,null,null,null,null,null,null,null,null,null,null,null,null,null,null,null,null,0,0,0,0,0,0,0,0,0,0,null,null,0,0,0,0,0,0,0,0,0,0,null,null,0,0,0,0,0,0,0,0,0,0,null,null,0,0,0,0,0,0,0,0,0,0,null,null,0,0,0,0,0,0,0,0,0,0]
[null,null,null,null,null,null,null,null,null,null,null,null,null,null,null,null,null,null,null,null,null,null,null,null,null,null,null,null,null,null,null,null,0,0,0,0,0,0,0,0,0,0,null,null,0,0,0,0,0,0,0,0,0,0,null,null,0,0,0,0,0,0,0,0,0,0,null,null,0,0,0,0,0,0,0,0,0,0,null,null,0,0,0,0,0,0,0,0,0,0]
[null,null,null,null,null,null,null,null,null,null,null,null,null,null,null,null,null,null,null,null,null,null,null,null,null,null,null,null,null,null,null,null,0,0,0,0,0,0,0,0,0,0,null,null,0,0,0,0,0,0,0,0,0,0,null,null,0,0,0,0,0,0,0,0,0,0,null,null,0,0,0,0,0,0,0,0,0,0,null,null,0,0,0,0,0,0,0,0,0,0]
[null,null,null,null,null,null,null,null,null,null,null,null,null,null,null,null,null,null,null,null,null,null,null,null,null,null,null,null,null,null,null,null,0,0,0,0,0,0,0,0,0,0,null,null,0,0,0,0,0,0,0,0,0,0,null,null,0,0,0,0,0,0,0,0,0,0,null,null,0,0,0,0,0,0,0,0,0,0,null,null,0,0,0,0,0,0,0,0,0,0]
[null,null,null,null,null,null,null,null,null,null,null,null,null,null,null,null,null,null,null,null,null,null,null,null,null,null,null,null,null,null,null,null,0,0,0,0,0,0,0,0,0,0,null,null,0,0,0,0,0,0,0,0,0,0,null,null,0,0,0,0,0,0,0,0,0,0,null,null,0,0,0,0,0,0,0,0,0,0,null,null,0,0,0,0,0,0,0,0,0,0]
[null,null,null,null,null,null,null,null,null,null,null,null,null,null,null,null,null,null,null,null,null,null,null,null,null,null,null,null,null,null,null,null,0,0,0,0,0,0,0,0,0,0,null,null,0,0,0,0,0,0,0,0,0,0,null,null,0,0,0,0,0,0,0,0,0,0,null,null,0,0,0,0,0,0,0,0,0,0,null,null,0,0,0,0,0,0,0,0,0,0]
[null,null,null,null,null,null,null,null,null,null,null,null,null,null,null,null,null,null,null,null,null,null,null,null,null,null,null,null,null,null,null,null,0,0,0,0,0,0,0,0,0,0,null,null,0,0,0,0,0,0,0,0,0,0,null,null,0,0,0,0,0,0,0,0,0,0,null,null,0,0,0,0,0,0,0,0,0,0,null,null,0,0,0,0,0,0,0,0,0,0]
[null,null,null,null,null,null,null,null,null,null,null,null,null,null,null,null,null,null,null,null,null,null,null,null,null,null,null,null,null,null,null,null,0,0,0,0,0,0,0,0,0,0,null,null,0,0,0,0,0,0,0,0,0,0,null,null,0,0,0,0,0,0,0,0,0,0,null,null,0,0,0,0,0,0,0,0,0,0,null,null,0,0,0,0,0,0,0,0,0,0]
[null,null,null,null,null,null,null,null,null,null,null,null,null,null,null,null,null,null,null,null,null,null,null,null,null,null,null,null,null,null,null,null,0,0,0,0,0,0,0,0,0,0,null,null,0,0,0,0,0,0,0,0,0,0,null,null,0,0,0,0,0,0,0,0,0,0,null,null,0,0,0,0,0,0,0,0,0,0,null,null,0,0,0,0,0,0,0,0,0,0]
[null,null,null,null,null,null,null,null,null,null,null,null,null,null,null,null,null,null,null,null,null,null,null,null,null,null,null,null,null,null,null,null,0,0,0,0,0,0,0,0,0,0,null,null,0,0,0,0,0,0,0,0,0,0,null,null,0,0,0,0,0,0,0,0,0,0,null,null,0,0,0,0,0,0,0,0,0,0,null,null,0,0,0,0,0,0,0,0,0,0]
[null,null,null,null,null,null,null,null,null,null,null,null,null,null,null,null,null,null,null,null,null,null,null,null,null,null,null,null,null,null,null,null,0,0,0,0,0,0,0,0,0,0,null,null,0,0,0,0,0,0,0,0,0,0,null,null,0,0,0,0,0,0,0,0,0,0,null,null,0,0,0,0,0,0,0,0,0,0,null,null,0,0,0,0,0,0,0,0,0,0]
[null,null,null,null,null,null,null,null,null,null,null,null,null,null,null,null,null,null,null,null,null,null,null,null,null,null,null,null,null,null,null,null,0,0,0,0,0,0,0,0,0,0,null,null,0,0,0,0,0,0,0,0,0,0,null,null,0,0,0,0,0,0,0,0,0,0,null,null,0,0,0,0,0,0,0,0,0,0,null,null,0,0,0,0,0,0,0,0,0,0]
[null,null,null,null,null,null,null,null,null,null,null,null,null,null,null,null,null,null,null,null,null,null,null,null,null,null,null,null,null,null,null,null,0,0,0,0,0,0,0,0,0,0,null,null,0,0,0,0,0,0,0,0,0,0,null,null,0,0,0,0,0,0,0,0,0,0,null,null,0,0,0,0,0,0,0,0,0,0,null,null,0,0,0,0,0,0,0,0,0,0]
[null,null,null,null,null,null,null,null,null,null,null,null,null,null,null,null,null,null,null,null,null,null,null,null,null,null,null,null,null,null,null,null,0,0,0,0,0,0,0,0,0,0,null,null,0,0,0,0,0,0,0,0,0,0,null,null,0,0,0,0,0,0,0,0,0,0,null,null,0,0,0,0,0,0,0,0,0,0,null,null,0,0,0,0,0,0,0,0,0,0]
[null,null,null,null,null,null,null,null,null,null,null,null,null,null,null,null,null,null,null,null,null,null,null,null,null,null,null,null,null,null,null,null,0,0,0,0,0,0,0,0,0,0,null,null,0,0,0,0,0,0,0,0,0,0,null,null,0,0,0,0,0,0,0,0,0,0,null,null,0,0,0,0,0,0,0,0,0,0,null,null,0,0,0,0,0,0,0,0,0,0]
[null,null,null,null,null,null,null,null,null,null,null,null,null,null,null,null,null,null,null,null,null,null,null,null,null,null,null,null,null,null,null,null,0,0,0,0,0,0,0,0,0,0,null,null,0,0,0,0,0,0,0,0,0,0,null,null,0,0,0,0,0,0,0,0,0,0,null,null,0,0,0,0,0,0,0,0,0,0,null,null,0,0,0,0,0,0,0,0,0,0]
[null,null,null,null,null,null,null,null,null,null,null,null,null,null,null,null,null,null,null,null,null,null,null,null,null,null,null,null,null,null,null,null,0,0,0,0,0,0,0,0,0,0,null,null,0,0,0,0,0,0,0,0,0,0,null,null,0,0,0,0,0,0,0,0,0,0,null,null,0,0,0,0,0,0,0,0,0,0,null,null,0,0,0,0,0,0,0,0,0,0]
[null,null,null,null,null,null,null,null,null,null,null,null,null,null,null,null,null,null,null,null,null,null,null,null,null,null,null,null,null,null,null,null,0,0,0,0,0,0,0,0,0,0,null,null,0,0,0,0,0,0,0,0,0,0,null,null,0,0,0,0,0,0,0,0,0,0,null,null,0,0,0,0,0,0,0,0,0,0,null,null,0,0,0,0,0,0,0,0,0,0]
[null,null,null,null,null,null,null,null,null,null,null,null,null,null,null,null,null,null,null,null,null,null,null,null,null,null,null,null,null,null,null,null,0,0,0,0,0,0,0,0,0,0,null,null,0,0,0,0,0,0,0,0,0,0,null,null,0,0,0,0,0,0,0,0,0,0,null,null,0,0,0,0,0,0,0,0,0,0,null,null,0,0,0,0,0,0,0,0,0,0]
[null,null,null,null,null,null,null,null,null,null,null,null,null,null,null,null,null,null,null,null,null,null,null,null,null,null,null,null,null,null,null,null,0,0,0,0,0,0,0,0,0,0,null,null,0,0,0,0,0,0,0,0,0,0,null,null,0,0,0,0,0,0,0,0,0,0,null,null,0,0,0,0,0,0,0,0,0,0,null,null,0,0,0,0,0,0,0,0,0,0]
[null,null,null,null,null,null,null,null,null,null,null,null,null,null,null,null,null,null,null,null,null,null,null,null,null,null,null,null,null,null,null,null,0,0,0,0,0,0,0,0,0,0,null,null,0,0,0,0,0,0,0,0,0,0,null,null,0,0,0,0,0,0,0,0,0,0,null,null,0,0,0,0,0,0,0,0,0,0,null,null,0,0,0,0,0,0,0,0,0,0]
[null,null,null,null,null,null,null,null,null,null,null,null,null,null,null,null,null,null,null,null,null,null,null,null,null,null,null,null,null,null,null,null,0,0,0,0,0,0,0,0,0,0,null,null,0,0,0,0,0,0,0,0,0,0,null,null,0,0,0,0,0,0,0,0,0,0,null,null,0,0,0,0,0,0,0,0,0,0,null,null,0,0,0,0,0,0,0,0,0,0]
[null,null,null,null,null,null,null,null,null,null,null,null,null,null,null,null,null,null,null,null,null,null,null,null,null,null,null,null,null,null,null,null,0,0,0,0,0,0,0,0,0,0,null,null,0,0,0,0,0,0,0,0,0,0,null,null,0,0,0,0,0,0,0,0,0,0,null,null,0,0,0,0,0,0,0,0,0,0,null,null,0,0,0,0,0,0,0,0,0,0]
[null,null,null,null,null,null,null,null,null,null,null,null,null,null,null,null,null,null,null,null,null,null,null,null,null,null,null,null,null,null,null,null,0,0,0,0,0,0,0,0,0,0,null,null,0,0,0,0,0,0,0,0,0,0,null,null,0,0,0,0,0,0,0,0,0,0,null,null,0,0,0,0,0,0,0,0,0,0,null,null,0,0,0,0,0,0,0,0,0,0]
[null,null,null,null,null,null,null,null,null,null,null,null,null,null,null,null,null,null,null,null,null,null,null,null,null,null,null,null,null,null,null,null,0,0,0,0,0,0,0,0,0,0,null,null,0,0,0,0,0,0,0,0,0,0,null,null,0,0,0,0,0,0,0,0,0,0,null,null,0,0,0,0,0,0,0,0,0,0,null,null,0,0,0,0,0,0,0,0,0,0]
[null,null,null,null,null,null,null,null,null,null,null,null,null,null,null,null,null,null,null,null,null,null,null,null,null,null,null,null,null,null,null,null,0,0,0,0,0,0,0,0,0,0,null,null,0,0,0,0,0,0,0,0,0,0,null,null,0,0,0,0,0,0,0,0,0,0,null,null,0,0,0,0,0,0,0,0,0,0,null,null,0,0,0,0,0,0,0,0,0,0]
[null,null,null,null,null,null,null,null,null,null,null,null,null,null,null,null,null,null,null,null,null,null,null,null,null,null,null,null,null,null,null,null,0,0,0,0,0,0,0,0,0,0,null,null,0,0,0,0,0,0,0,0,0,0,null,null,0,0,0,0,0,0,0,0,0,0,null,null,0,0,0,0,0,0,0,0,0,0,null,null,0,0,0,0,0,0,0,0,0,0]
[null,null,null,null,null,null,null,null,null,null,null,null,null,null,null,null,null,null,null,null,null,null,null,null,null,null,null,null,null,null,null,null,0,0,0,0,0,0,0,0,0,0,null,null,0,0,0,0,0,0,0,0,0,0,null,null,0,0,0,0,0,0,0,0,0,0,null,null,0,0,0,0,0,0,0,0,0,0,null,null,0,0,0,0,0,0,0,0,0,0]
[null,null,null,null,null,null,null,null,null,null,null,null,null,null,null,null,null,null,null,null,null,null,null,null,null,null,null,null,null,null,null,null,0,0,0,0,0,0,0,0,0,0,null,null,0,0,0,0,0,0,0,0,0,0,null,null,0,0,0,0,0,0,0,0,0,0,null,null,0,0,0,0,0,0,0,0,0,0,null,null,0,0,0,0,0,0,0,0,0,0]
[null,null,null,null,null,null,null,null,null,null,null,null,null,null,null,null,null,null,null,null,null,null,null,null,null,null,null,null,null,null,null,null,0,0,0,0,0,0,0,0,0,0,null,null,0,0,0,0,0,0,0,0,0,0,null,null,0,0,0,0,0,0,0,0,0,0,null,null,0,0,0,0,0,0,0,0,0,0,null,null,0,0,0,0,0,0,0,0,0,0]
[null,null,null,null,null,null,null,null,null,null,null,null,null,null,null,null,null,null,null,null,null,null,null,null,null,null,null,null,null,null,null,null,0,0,0,0,0,0,0,0,0,0,null,null,0,0,0,0,0,0,0,0,0,0,null,null,0,0,0,0,0,0,0,0,0,0,null,null,0,0,0,0,0,0,0,0,0,0,null,null,0,0,0,0,0,0,0,0,0,0]
[null,null,null,null,null,null,null,null,null,null,null,null,null,null,null,null,null,null,null,null,null,null,null,null,null,null,null,null,null,null,null,null,0,0,0,0,0,0,0,0,0,0,null,null,0,0,0,0,0,0,0,0,0,0,null,null,0,0,0,0,0,0,0,0,0,0,null,null,0,0,0,0,0,0,0,0,0,0,null,null,0,0,0,0,0,0,0,0,0,0]
[null,null,null,null,null,null,null,null,null,null,null,null,null,null,null,null,null,null,null,null,null,null,null,null,null,null,null,null,null,null,null,null,0,0,0,0,0,0,0,0,0,0,null,null,0,0,0,0,0,0,0,0,0,0,null,null,0,0,0,0,0,0,0,0,0,0,null,null,0,0,0,0,0,0,0,0,0,0,null,null,0,0,0,0,0,0,0,0,0,0]
[null,null,null,null,null,null,null,null,null,null,null,null,null,null,null,null,null,null,null,null,null,null,null,null,null,null,null,null,null,null,null,null,0,0,0,0,0,0,0,0,0,0,null,null,0,0,0,0,0,0,0,0,0,0,null,null,0,0,0,0,0,0,0,0,0,0,null,null,0,0,0,0,0,0,0,0,0,0,null,null,0,0,0,0,0,0,0,0,0,0]
[null,null,null,null,null,null,null,null,null,null,null,null,null,null,null,null,null,null,null,null,null,null,null,null,null,null,null,null,null,null,null,null,0,0,0,0,0,0,0,0,0,0,null,null,0,0,0,0,0,0,0,0,0,0,null,null,0,0,0,0,0,0,0,0,0,0,null,null,0,0,0,0,0,0,0,0,0,0,null,null,0,0,0,0,0,0,0,0,0,0]
[null,null,null,null,null,null,null,null,null,null,null,null,null,null,null,null,null,null,null,null,null,null,null,null,null,null,null,null,null,null,null,null,0,0,0,0,0,0,0,0,0,0,null,null,0,0,0,0,0,0,0,0,0,0,null,null,0,0,0,0,0,0,0,0,0,0,null,null,0,0,0,0,0,0,0,0,0,0,null,null,0,0,0,0,0,0,0,0,0,0]
[null,null,null,null,null,null,null,null,null,null,null,null,null,null,null,null,null,null,null,null,null,null,null,null,null,null,null,null,null,null,null,null,0,0,0,0,0,0,0,0,0,0,null,null,0,0,0,0,0,0,0,0,0,0,null,null,0,0,0,0,0,0,0,0,0,0,null,null,0,0,0,0,0,0,0,0,0,0,null,null,0,0,0,0,0,0,0,0,0,0]
[null,null,null,null,null,null,null,null,null,null,null,null,null,null,null,null,null,null,null,null,null,null,null,null,null,null,null,null,null,null,null,null,0,0,0,0,0,0,0,0,0,0,null,null,0,0,0,0,0,0,0,0,0,0,null,null,0,0,0,0,0,0,0,0,0,0,null,null,0,0,0,0,0,0,0,0,0,0,null,null,0,0,0,0,0,0,0,0,0,0]
[null,null,null,null,null,null,null,null,null,null,null,null,null,null,null,null,null,null,null,null,null,null,null,null,null,null,null,null,null,null,null,null,0,0,0,0,0,0,0,0,0,0,null,null,0,0,0,0,0,0,0,0,0,0,null,null,0,0,0,0,0,0,0,0,0,0,null,null,0,0,0,0,0,0,0,0,0,0,null,null,0,0,0,0,0,0,0,0,0,0]
[null,null,null,null,null,null,null,null,null,null,null,null,null,null,null,null,null,null,null,null,null,null,null,null,null,null,null,null,null,null,null,null,0,0,0,0,0,0,0,0,0,0,null,null,0,0,0,0,0,0,0,0,0,0,null,null,0,0,0,0,0,0,0,0,0,0,null,null,0,0,0,0,0,0,0,0,0,0,null,null,0,0,0,0,0,0,0,0,0,0]
[null,null,null,null,null,null,null,null,null,null,null,null,null,null,null,null,null,null,null,null,null,null,null,null,null,null,null,null,null,null,null,null,0,0,0,0,0,0,0,0,0,0,null,null,0,0,0,0,0,0,0,0,0,0,null,null,0,0,0,0,0,0,0,0,0,0,null,null,0,0,0,0,0,0,0,0,0,0,null,null,0,0,0,0,0,0,0,0,0,0]
[null,null,null,null,null,null,null,null,null,null,null,null,null,null,null,null,null,null,null,null,null,null,null,null,null,null,null,null,null,null,null,null,0,0,0,0,0,0,0,0,0,0,null,null,0,0,0,0,0,0,0,0,0,0,null,null,0,0,0,0,0,0,0,0,0,0,null,null,0,0,0,0,0,0,0,0,0,0,null,null,0,0,0,0,0,0,0,0,0,0]
[null,null,null,null,null,null,null,null,null,null,null,null,null,null,null,null,null,null,null,null,null,null,null,null,null,null,null,null,null,null,null,null,0,0,0,0,0,0,0,0,0,0,null,null,0,0,0,0,0,0,0,0,0,0,null,null,0,0,0,0,0,0,0,0,0,0,null,null,0,0,0,0,0,0,0,0,0,0,null,null,0,0,0,0,0,0,0,0,0,0]
[null,null,null,null,null,null,null,null,null,null,null,null,null,null,null,null,null,null,null,null,null,null,null,null,null,null,null,null,null,null,null,null,0,0,0,0,0,0,0,0,0,0,null,null,0,0,0,0,0,0,0,0,0,0,null,null,0,0,0,0,0,0,0,0,0,0,null,null,0,0,0,0,0,0,0,0,0,0,null,null,0,0,0,0,0,0,0,0,0,0]
[null,null,null,null,null,null,null,null,null,null,null,null,null,null,null,null,null,null,null,null,null,null,null,null,null,null,null,null,null,null,null,null,0,0,0,0,0,0,0,0,0,0,null,null,0,0,0,0,0,0,0,0,0,0,null,null,0,0,0,0,0,0,0,0,0,0,null,null,0,0,0,0,0,0,0,0,0,0,null,null,0,0,0,0,0,0,0,0,0,0]
[null,null,null,null,null,null,null,null,null,null,null,null,null,null,null,null,null,null,null,null,null,null,null,null,null,null,null,null,null,null,null,null,0,0,0,0,0,0,0,0,0,0,null,null,0,0,0,0,0,0,0,0,0,0,null,null,0,0,0,0,0,0,0,0,0,0,null,null,0,0,0,0,0,0,0,0,0,0,null,null,0,0,0,0,0,0,0,0,0,0]
[null,null,null,null,null,null,null,null,null,null,null,null,null,null,null,null,null,null,null,null,null,null,null,null,null,null,null,null,null,null,null,null,0,0,0,0,0,0,0,0,0,0,null,null,0,0,0,0,0,0,0,0,0,0,null,null,0,0,0,0,0,0,0,0,0,0,null,null,0,0,0,0,0,0,0,0,0,0,null,null,0,0,0,0,0,0,0,0,0,0]
[null,null,null,null,null,null,null,null,null,null,null,null,null,null,null,null,null,null,null,null,null,null,null,null,null,null,null,null,null,null,null,null,0,0,0,0,0,0,0,0,0,0,null,null,0,0,0,0,0,0,0,0,0,0,null,null,0,0,0,0,0,0,0,0,0,0,null,null,0,0,0,0,0,0,0,0,0,0,null,null,0,0,0,0,0,0,0,0,0,0]
[null,null,null,null,null,null,null,null,null,null,null,null,null,null,null,null,null,null,null,null,null,null,null,null,null,null,null,null,null,null,null,null,0,0,0,0,0,0,0,0,0,0,null,null,0,0,0,0,0,0,0,0,0,0,null,null,0,0,0,0,0,0,0,0,0,0,null,null,0,0,0,0,0,0,0,0,0,0,null,null,0,0,0,0,0,0,0,0,0,0]
[null,null,null,null,null,null,null,null,null,null,null,null,null,null,null,null,null,null,null,null,null,null,null,null,null,null,null,null,null,null,null,null,0,0,0,0,0,0,0,0,0,0,null,null,0,0,0,0,0,0,0,0,0,0,null,null,0,0,0,0,0,0,0,0,0,0,null,null,0,0,0,0,0,0,0,0,0,0,null,null,0,0,0,0,0,0,0,0,0,0]
[null,null,null,null,null,null,null,null,null,null,null,null,null,null,null,null,null,null,null,null,null,null,null,null,null,null,null,null,null,null,null,null,0,0,0,0,0,0,0,0,0,0,null,null,0,0,0,0,0,0,0,0,0,0,null,null,0,0,0,0,0,0,0,0,0,0,null,null,0,0,0,0,0,0,0,0,0,0,null,null,0,0,0,0,0,0,0,0,0,0]
[null,null,null,null,null,null,null,null,null,null,null,null,null,null,null,null,null,null,null,null,null,null,null,null,null,null,null,null,null,null,null,null,0,0,0,0,0,0,0,0,0,0,null,null,0,0,0,0,0,0,0,0,0,0,null,null,0,0,0,0,0,0,0,0,0,0,null,null,0,0,0,0,0,0,0,0,0,0,null,null,0,0,0,0,0,0,0,0,0,0]
[null,null,null,null,null,null,null,null,null,null,null,null,null,null,null,null,null,null,null,null,null,null,null,null,null,null,null,null,null,null,null,null,0,0,0,0,0,0,0,0,0,0,null,null,0,0,0,0,0,0,0,0,0,0,null,null,0,0,0,0,0,0,0,0,0,0,null,null,0,0,0,0,0,0,0,0,0,0,null,null,0,0,0,0,0,0,0,0,0,0]
[null,null,null,null,null,null,null,null,null,null,null,null,null,null,null,null,null,null,null,null,null,null,null,null,null,null,null,null,null,null,null,null,0,0,0,0,0,0,0,0,0,0,null,null,0,0,0,0,0,0,0,0,0,0,null,null,0,0,0,0,0,0,0,0,0,0,null,null,0,0,0,0,0,0,0,0,0,0,null,null,0,0,0,0,0,0,0,0,0,0]
[null,null,null,null,null,null,null,null,null,null,null,null,null,null,null,null,null,null,null,null,null,null,null,null,null,null,null,null,null,null,null,null,0,0,0,0,0,0,0,0,0,0,null,null,0,0,0,0,0,0,0,0,0,0,null,null,0,0,0,0,0,0,0,0,0,0,null,null,0,0,0,0,0,0,0,0,0,0,null,null,0,0,0,0,0,0,0,0,0,0]
[null,null,null,null,null,null,null,null,null,null,null,null,null,null,null,null,null,null,null,null,null,null,null,null,null,null,null,null,null,null,null,null,0,0,0,0,0,0,0,0,0,0,null,null,0,0,0,0,0,0,0,0,0,0,null,null,0,0,0,0,0,0,0,0,0,0,null,null,0,0,0,0,0,0,0,0,0,0,null,null,0,0,0,0,0,0,0,0,0,0]
[null,null,null,null,null,null,null,null,null,null,null,null,null,null,null,null,null,null,null,null,null,null,null,null,null,null,null,null,null,null,null,null,0,0,0,0,0,0,0,0,0,0,null,null,0,0,0,0,0,0,0,0,0,0,null,null,0,0,0,0,0,0,0,0,0,0,null,null,0,0,0,0,0,0,0,0,0,0,null,null,0,0,0,0,0,0,0,0,0,0]
[null,null,null,null,null,null,null,null,null,null,null,null,null,null,null,null,null,null,null,null,null,null,null,null,null,null,null,null,null,null,null,null,0,0,0,0,0,0,0,0,0,0,null,null,0,0,0,0,0,0,0,0,0,0,null,null,0,0,0,0,0,0,0,0,0,0,null,null,0,0,0,0,0,0,0,0,0,0,null,null,0,0,0,0,0,0,0,0,0,0]
[null,null,null,null,null,null,null,null,null,null,null,null,null,null,null,null,null,null,null,null,null,null,null,null,null,null,null,null,null,null,null,null,0,0,0,0,0,0,0,0,0,0,null,null,0,0,0,0,0,0,0,0,0,0,null,null,0,0,0,0,0,0,0,0,0,0,null,null,0,0,0,0,0,0,0,0,0,0,null,null,0,0,0,0,0,0,0,0,0,0]
[null,null,null,null,null,null,null,null,null,null,null,null,null,null,null,null,null,null,null,null,null,null,null,null,null,null,null,null,null,null,null,null,0,0,0,0,0,0,0,0,0,0,null,null,0,0,0,0,0,0,0,0,0,0,null,null,0,0,0,0,0,0,0,0,0,0,null,null,0,0,0,0,0,0,0,0,0,0,null,null,0,0,0,0,0,0,0,0,0,0]
[null,null,null,null,null,null,null,null,null,null,null,null,null,null,null,null,null,null,null,null,null,null,null,null,null,null,null,null,null,null,null,null,0,0,0,0,0,0,0,0,0,0,null,null,0,0,0,0,0,0,0,0,0,0,null,null,0,0,0,0,0,0,0,0,0,0,null,null,0,0,0,0,0,0,0,0,0,0,null,null,0,0,0,0,0,0,0,0,0,0]
[null,null,null,null,null,null,null,null,null,null,null,null,null,null,null,null,null,null,null,null,null,null,null,null,null,null,null,null,null,null,null,null,0,0,0,0,0,0,0,0,0,0,null,null,0,0,0,0,0,0,0,0,0,0,null,null,0,0,0,0,0,0,0,0,0,0,null,null,0,0,0,0,0,0,0,0,0,0,null,null,0,0,0,0,0,0,0,0,0,0]
[null,null,null,null,null,null,null,null,null,null,null,null,null,null,null,null,null,null,null,null,null,null,null,null,null,null,null,null,null,null,null,null,0,0,0,0,0,0,0,0,0,0,null,null,0,0,0,0,0,0,0,0,0,0,null,null,0,0,0,0,0,0,0,0,0,0,null,null,0,0,0,0,0,0,0,0,0,0,null,null,0,0,0,0,0,0,0,0,0,0]
[null,null,null,null,null,null,null,null,null,null,null,null,null,null,null,null,null,null,null,null,null,null,null,null,null,null,null,null,null,null,null,null,0,0,0,0,0,0,0,0,0,0,null,null,0,0,0,0,0,0,0,0,0,0,null,null,0,0,0,0,0,0,0,0,0,0,null,null,0,0,0,0,0,0,0,0,0,0,null,null,0,0,0,0,0,0,0,0,0,0]
[null,null,null,null,null,null,null,null,null,null,null,null,null,null,null,null,null,null,null,null,null,null,null,null,null,null,null,null,null,null,null,null,0,0,0,0,0,0,0,0,0,0,null,null,0,0,0,0,0,0,0,0,0,0,null,null,0,0,0,0,0,0,0,0,0,0,null,null,0,0,0,0,0,0,0,0,0,0,null,null,0,0,0,0,0,0,0,0,0,0]
[null,null,null,null,null,null,null,null,null,null,null,null,null,null,null,null,null,null,null,null,null,null,null,null,null,null,null,null,null,null,null,null,0,0,0,0,0,0,0,0,0,0,null,null,0,0,0,0,0,0,0,0,0,0,null,null,0,0,0,0,0,0,0,0,0,0,null,null,0,0,0,0,0,0,0,0,0,0,null,null,0,0,0,0,0,0,0,0,0,0]
[null,null,null,null,null,null,null,null,null,null,null,null,null,null,null,null,null,null,null,null,null,null,null,null,null,null,null,null,null,null,null,null,0,0,0,0,0,0,0,0,0,0,null,null,0,0,0,0,0,0,0,0,0,0,null,null,0,0,0,0,0,0,0,0,0,0,null,null,0,0,0,0,0,0,0,0,0,0,null,null,0,0,0,0,0,0,0,0,0,0]
[null,null,null,null,null,null,null,null,null,null,null,null,null,null,null,null,null,null,null,null,null,null,null,null,null,null,null,null,null,null,null,null,0,0,0,0,0,0,0,0,0,0,null,null,0,0,0,0,0,0,0,0,0,0,null,null,0,0,0,0,0,0,0,0,0,0,null,null,0,0,0,0,0,0,0,0,0,0,null,null,0,0,0,0,0,0,0,0,0,0]
[null,null,null,null,null,null,null,null,null,null,null,null,null,null,null,null,null,null,null,null,null,null,null,null,null,null,null,null,null,null,null,null,0,0,0,0,0,0,0,0,0,0,null,null,0,0,0,0,0,0,0,0,0,0,null,null,0,0,0,0,0,0,0,0,0,0,null,null,0,0,0,0,0,0,0,0,0,0,null,null,0,0,0,0,0,0,0,0,0,0]
[null,null,null,null,null,null,null,null,null,null,null,null,null,null,null,null,null,null,null,null,null,null,null,null,null,null,null,null,null,null,null,null,0,0,0,0,0,0,0,0,0,0,null,null,0,0,0,0,0,0,0,0,0,0,null,null,0,0,0,0,0,0,0,0,0,0,null,null,0,0,0,0,0,0,0,0,0,0,null,null,0,0,0,0,0,0,0,0,0,0]
[null,null,null,null,null,null,null,null,null,null,null,null,null,null,null,null,null,null,null,null,null,null,null,null,null,null,null,null,null,null,null,null,0,0,0,0,0,0,0,0,0,0,null,null,0,0,0,0,0,0,0,0,0,0,null,null,0,0,0,0,0,0,0,0,0,0,null,null,0,0,0,0,0,0,0,0,0,0,null,null,0,0,0,0,0,0,0,0,0,0]
[null,null,null,null,null,null,null,null,null,null,null,null,null,null,null,null,null,null,null,null,null,null,null,null,null,null,null,null,null,null,null,null,0,0,0,0,0,0,0,0,0,0,null,null,0,0,0,0,0,0,0,0,0,0,null,null,0,0,0,0,0,0,0,0,0,0,null,null,0,0,0,0,0,0,0,0,0,0,null,null,0,0,0,0,0,0,0,0,0,0]
[null,null,null,null,null,null,null,null,null,null,null,null,null,null,null,null,null,null,null,null,null,null,null,null,null,null,null,null,null,null,null,null,0,0,0,0,0,0,0,0,0,0,null,null,0,0,0,0,0,0,0,0,0,0,null,null,0,0,0,0,0,0,0,0,0,0,null,null,0,0,0,0,0,0,0,0,0,0,null,null,0,0,0,0,0,0,0,0,0,0]
[null,null,null,null,null,null,null,null,null,null,null,null,null,null,null,null,null,null,null,null,null,null,null,null,null,null,null,null,null,null,null,null,0,0,0,0,0,0,0,0,0,0,null,null,0,0,0,0,0,0,0,0,0,0,null,null,0,0,0,0,0,0,0,0,0,0,null,null,0,0,0,0,0,0,0,0,0,0,null,null,0,0,0,0,0,0,0,0,0,0]
[null,null,null,null,null,null,null,null,null,null,null,null,null,null,null,null,null,null,null,null,null,null,null,null,null,null,null,null,null,null,null,null,0,0,0,0,0,0,0,0,0,0,null,null,0,0,0,0,0,0,0,0,0,0,null,null,0,0,0,0,0,0,0,0,0,0,null,null,0,0,0,0,0,0,0,0,0,0,null,null,0,0,0,0,0,0,0,0,0,0]
[null,null,null,null,null,null,null,null,null,null,null,null,null,null,null,null,null,null,null,null,null,null,null,null,null,null,null,null,null,null,null,null,0,0,0,0,0,0,0,0,0,0,null,null,0,0,0,0,0,0,0,0,0,0,null,null,0,0,0,0,0,0,0,0,0,0,null,null,0,0,0,0,0,0,0,0,0,0,null,null,0,0,0,0,0,0,0,0,0,0]
[null,null,null,null,null,null,null,null,null,null,null,null,null,null,null,null,null,null,null,null,null,null,null,null,null,null,null,null,null,null,null,null,0,0,0,0,0,0,0,0,0,0,null,null,0,0,0,0,0,0,0,0,0,0,null,null,0,0,0,0,0,0,0,0,0,0,null,null,0,0,0,0,0,0,0,0,0,0,null,null,0,0,0,0,0,0,0,0,0,0]
[null,null,null,null,null,null,null,null,null,null,null,null,null,null,null,null,null,null,null,null,null,null,null,null,null,null,null,null,null,null,null,null,0,0,0,0,0,0,0,0,0,0,null,null,0,0,0,0,0,0,0,0,0,0,null,null,0,0,0,0,0,0,0,0,0,0,null,null,0,0,0,0,0,0,0,0,0,0,null,null,0,0,0,0,0,0,0,0,0,0]
[null,null,null,null,null,null,null,null,null,null,null,null,null,null,null,null,null,null,null,null,null,null,null,null,null,null,null,null,null,null,null,null,0,0,0,0,0,0,0,0,0,0,null,null,0,0,0,0,0,0,0,0,0,0,null,null,0,0,0,0,0,0,0,0,0,0,null,null,0,0,0,0,0,0,0,0,0,0,null,null,0,0,0,0,0,0,0,0,0,0]
[null,null,null,null,null,null,null,null,null,null,null,null,null,null,null,null,null,null,null,null,null,null,null,null,null,null,null,null,null,null,null,null,0,0,0,0,0,0,0,0,0,0,null,null,0,0,0,0,0,0,0,0,0,0,null,null,0,0,0,0,0,0,0,0,0,0,null,null,0,0,0,0,0,0,0,0,0,0,null,null,0,0,0,0,0,0,0,0,0,0]
[null,null,null,null,null,null,null,null,null,null,null,null,null,null,null,null,null,null,null,null,null,null,null,null,null,null,null,null,null,null,null,null,0,0,0,0,0,0,0,0,0,0,null,null,0,0,0,0,0,0,0,0,0,0,null,null,0,0,0,0,0,0,0,0,0,0,null,null,0,0,0,0,0,0,0,0,0,0,null,null,0,0,0,0,0,0,0,0,0,0]
[null,null,null,null,null,null,null,null,null,null,null,null,null,null,null,null,null,null,null,null,null,null,null,null,null,null,null,null,null,null,null,null,0,0,0,0,0,0,0,0,0,0,null,null,0,0,0,0,0,0,0,0,0,0,null,null,0,0,0,0,0,0,0,0,0,0,null,null,0,0,0,0,0,0,0,0,0,0,null,null,0,0,0,0,0,0,0,0,0,0]
[null,null,null,null,null,null,null,null,null,null,null,null,null,null,null,null,null,null,null,null,null,null,null,null,null,null,null,null,null,null,null,null,0,0,0,0,0,0,0,0,0,0,null,null,0,0,0,0,0,0,0,0,0,0,null,null,0,0,0,0,0,0,0,0,0,0,null,null,0,0,0,0,0,0,0,0,0,0,null,null,0,0,0,0,0,0,0,0,0,0]
[null,null,null,null,null,null,null,null,null,null,null,null,null,null,null,null,null,null,null,null,null,null,null,null,null,null,null,null,null,null,null,null,0,0,0,0,0,0,0,0,0,0,null,null,0,0,0,0,0,0,0,0,0,0,null,null,0,0,0,0,0,0,0,0,0,0,null,null,0,0,0,0,0,0,0,0,0,0,null,null,0,0,0,0,0,0,0,0,0,0]
[null,null,null,null,null,null,null,null,null,null,null,null,null,null,null,null,null,null,null,null,null,null,null,null,null,null,null,null,null,null,null,null,0,0,0,0,0,0,0,0,0,0,null,null,0,0,0,0,0,0,0,0,0,0,null,null,0,0,0,0,0,0,0,0,0,0,null,null,0,0,0,0,0,0,0,0,0,0,null,null,0,0,0,0,0,0,0,0,0,0]
[null,null,null,null,null,null,null,null,null,null,null,null,null,null,null,null,null,null,null,null,null,null,null,null,null,null,null,null,null,null,null,null,0,0,0,0,0,0,0,0,0,0,null,null,0,0,0,0,0,0,0,0,0,0,null,null,0,0,0,0,0,0,0,0,0,0,null,null,0,0,0,0,0,0,0,0,0,0,null,null,0,0,0,0,0,0,0,0,0,0]
[null,null,null,null,null,null,null,null,null,null,null,null,null,null,null,null,null,null,null,null,null,null,null,null,null,null,null,null,null,null,null,null,0,0,0,0,0,0,0,0,0,0,null,null,0,0,0,0,0,0,0,0,0,0,null,null,0,0,0,0,0,0,0,0,0,0,null,null,0,0,0,0,0,0,0,0,0,0,null,null,0,0,0,0,0,0,0,0,0,0]
[null,null,null,null,null,null,null,null,null,null,null,null,null,null,null,null,null,null,null,null,null,null,null,null,null,null,null,null,null,null,null,null,0,0,0,0,0,0,0,0,0,0,null,null,0,0,0,0,0,0,0,0,0,0,null,null,0,0,0,0,0,0,0,0,0,0,null,null,0,0,0,0,0,0,0,0,0,0,null,null,0,0,0,0,0,0,0,0,0,0]
[null,null,null,null,null,null,null,null,null,null,null,null,null,null,null,null,null,null,null,null,null,null,null,null,null,null,null,null,null,null,null,null,0,0,0,0,0,0,0,0,0,0,null,null,0,0,0,0,0,0,0,0,0,0,null,null,0,0,0,0,0,0,0,0,0,0,null,null,0,0,0,0,0,0,0,0,0,0,null,null,0,0,0,0,0,0,0,0,0,0]
[null,null,null,null,null,null,null,null,null,null,null,null,null,null,null,null,null,null,null,null,null,null,null,null,null,null,null,null,null,null,null,null,0,0,0,0,0,0,0,0,0,0,null,null,0,0,0,0,0,0,0,0,0,0,null,null,0,0,0,0,0,0,0,0,0,0,null,null,0,0,0,0,0,0,0,0,0,0,null,null,0,0,0,0,0,0,0,0,0,0]
[null,null,null,null,null,null,null,null,null,null,null,null,null,null,null,null,null,null,null,null,null,null,null,null,null,null,null,null,null,null,null,null,0,0,0,0,0,0,0,0,0,0,null,null,0,0,0,0,0,0,0,0,0,0,null,null,0,0,0,0,0,0,0,0,0,0,null,null,0,0,0,0,0,0,0,0,0,0,null,null,0,0,0,0,0,0,0,0,0,0]
[null,null,null,null,null,null,null,null,null,null,null,null,null,null,null,null,null,null,null,null,null,null,null,null,null,null,null,null,null,null,null,null,0,0,0,0,0,0,0,0,0,0,null,null,0,0,0,0,0,0,0,0,0,0,null,null,0,0,0,0,0,0,0,0,0,0,null,null,0,0,0,0,0,0,0,0,0,0,null,null,0,0,0,0,0,0,0,0,0,0]
[null,null,null,null,null,null,null,null,null,null,null,null,null,null,null,null,null,null,null,null,null,null,null,null,null,null,null,null,null,null,null,null,0,0,0,0,0,0,0,0,0,0,null,null,0,0,0,0,0,0,0,0,0,0,null,null,0,0,0,0,0,0,0,0,0,0,null,null,0,0,0,0,0,0,0,0,0,0,null,null,0,0,0,0,0,0,0,0,0,0]
[null,null,null,null,null,null,null,null,null,null,null,null,null,null,null,null,null,null,null,null,null,null,null,null,null,null,null,null,null,null,null,null,0,0,0,0,0,0,0,0,0,0,null,null,0,0,0,0,0,0,0,0,0,0,null,null,0,0,0,0,0,0,0,0,0,0,null,null,0,0,0,0,0,0,0,0,0,0,null,null,0,0,0,0,0,0,0,0,0,0]
[null,null,null,null,null,null,null,null,null,null,null,null,null,null,null,null,null,null,null,null,null,null,null,null,null,null,null,null,null,null,null,null,0,0,0,0,0,0,0,0,0,0,null,null,0,0,0,0,0,0,0,0,0,0,null,null,0,0,0,0,0,0,0,0,0,0,null,null,0,0,0,0,0,0,0,0,0,0,null,null,0,0,0,0,0,0,0,0,0,0]
[null,null,null,null,null,null,null,null,null,null,null,null,null,null,null,null,null,null,null,null,null,null,null,null,null,null,null,null,null,null,null,null,0,0,0,0,0,0,0,0,0,0,null,null,0,0,0,0,0,0,0,0,0,0,null,null,0,0,0,0,0,0,0,0,0,0,null,null,0,0,0,0,0,0,0,0,0,0,null,null,0,0,0,0,0,0,0,0,0,0]
[null,null,null,null,null,null,null,null,null,null,null,null,null,null,null,null,null,null,null,null,null,null,null,null,null,null,null,null,null,null,null,null,0,0,0,0,0,0,0,0,0,0,null,null,0,0,0,0,0,0,0,0,0,0,null,null,0,0,0,0,0,0,0,0,0,0,null,null,0,0,0,0,0,0,0,0,0,0,null,null,0,0,0,0,0,0,0,0,0,0]
[null,null,null,null,null,null,null,null,null,null,null,null,null,null,null,null,null,null,null,null,null,null,null,null,null,null,null,null,null,null,null,null,0,0,0,0,0,0,0,0,0,0,null,null,0,0,0,0,0,0,0,0,0,0,null,null,0,0,0,0,0,0,0,0,0,0,null,null,0,0,0,0,0,0,0,0,0,0,null,null,0,0,0,0,0,0,0,0,0,0]
[null,null,null,null,null,null,null,null,null,null,null,null,null,null,null,null,null,null,null,null,null,null,null,null,null,null,null,null,null,null,null,null,0,0,0,0,0,0,0,0,0,0,null,null,0,0,0,0,0,0,0,0,0,0,null,null,0,0,0,0,0,0,0,0,0,0,null,null,0,0,0,0,0,0,0,0,0,0,null,null,0,0,0,0,0,0,0,0,0,0]
[null,null,null,null,null,null,null,null,null,null,null,null,null,null,null,null,null,null,null,null,null,null,null,null,null,null,null,null,null,null,null,null,0,0,0,0,0,0,0,0,0,0,null,null,0,0,0,0,0,0,0,0,0,0,null,null,0,0,0,0,0,0,0,0,0,0,null,null,0,0,0,0,0,0,0,0,0,0,null,null,0,0,0,0,0,0,0,0,0,0]
[null,null,null,null,null,null,null,null,null,null,null,null,null,null,null,null,null,null,null,null,null,null,null,null,null,null,null,null,null,null,null,null,0,0,0,0,0,0,0,0,0,0,null,null,0,0,0,0,0,0,0,0,0,0,null,null,0,0,0,0,0,0,0,0,0,0,null,null,0,0,0,0,0,0,0,0,0,0,null,null,0,0,0,0,0,0,0,0,0,0]
[null,null,null,null,null,null,null,null,null,null,null,null,null,null,null,null,null,null,null,null,null,null,null,null,null,null,null,null,null,null,null,null,0,0,0,0,0,0,0,0,0,0,null,null,0,0,0,0,0,0,0,0,0,0,null,null,0,0,0,0,0,0,0,0,0,0,null,null,0,0,0,0,0,0,0,0,0,0,null,null,0,0,0,0,0,0,0,0,0,0]
[null,null,null,null,null,null,null,null,null,null,null,null,null,null,null,null,null,null,null,null,null,null,null,null,null,null,null,null,null,null,null,null,0,0,0,0,0,0,0,0,0,0,null,null,0,0,0,0,0,0,0,0,0,0,null,null,0,0,0,0,0,0,0,0,0,0,null,null,0,0,0,0,0,0,0,0,0,0,null,null,0,0,0,0,0,0,0,0,0,0]
[null,null,null,null,null,null,null,null,null,null,null,null,null,null,null,null,null,null,null,null,null,null,null,null,null,null,null,null,null,null,null,null,0,0,0,0,0,0,0,0,0,0,null,null,0,0,0,0,0,0,0,0,0,0,null,null,0,0,0,0,0,0,0,0,0,0,null,null,0,0,0,0,0,0,0,0,0,0,null,null,0,0,0,0,0,0,0,0,0,0]
[null,null,null,null,null,null,null,null,null,null,null,null,null,null,null,null,null,null,null,null,null,null,null,null,null,null,null,null,null,null,null,null,0,0,0,0,0,0,0,0,0,0,null,null,0,0,0,0,0,0,0,0,0,0,null,null,0,0,0,0,0,0,0,0,0,0,null,null,0,0,0,0,0,0,0,0,0,0,null,null,0,0,0,0,0,0,0,0,0,0]
[null,null,null,null,null,null,null,null,null,null,null,null,null,null,null,null,null,null,null,null,null,null,null,null,null,null,null,null,null,null,null,null,0,0,0,0,0,0,0,0,0,0,null,null,0,0,0,0,0,0,0,0,0,0,null,null,0,0,0,0,0,0,0,0,0,0,null,null,0,0,0,0,0,0,0,0,0,0,null,null,0,0,0,0,0,0,0,0,0,0]
[null,null,null,null,null,null,null,null,null,null,null,null,null,null,null,null,null,null,null,null,null,null,null,null,null,null,null,null,null,null,null,null,0,0,0,0,0,0,0,0,0,0,null,null,0,0,0,0,0,0,0,0,0,0,null,null,0,0,0,0,0,0,0,0,0,0,null,null,0,0,0,0,0,0,0,0,0,0,null,null,0,0,0,0,0,0,0,0,0,0]
[null,null,null,null,null,null,null,null,null,null,null,null,null,null,null,null,null,null,null,null,null,null,null,null,null,null,null,null,null,null,null,null,0,0,0,0,0,0,0,0,0,0,null,null,0,0,0,0,0,0,0,0,0,0,null,null,0,0,0,0,0,0,0,0,0,0,null,null,0,0,0,0,0,0,0,0,0,0,null,null,0,0,0,0,0,0,0,0,0,0]
[null,null,null,null,null,null,null,null,null,null,null,null,null,null,null,null,null,null,null,null,null,null,null,null,null,null,null,null,null,null,null,null,0,0,0,0,0,0,0,0,0,0,null,null,0,0,0,0,0,0,0,0,0,0,null,null,0,0,0,0,0,0,0,0,0,0,null,null,0,0,0,0,0,0,0,0,0,0,null,null,0,0,0,0,0,0,0,0,0,0]
[null,null,null,null,null,null,null,null,null,null,null,null,null,null,null,null,null,null,null,null,null,null,null,null,null,null,null,null,null,null,null,null,0,0,0,0,0,0,0,0,0,0,null,null,0,0,0,0,0,0,0,0,0,0,null,null,0,0,0,0,0,0,0,0,0,0,null,null,0,0,0,0,0,0,0,0,0,0,null,null,0,0,0,0,0,0,0,0,0,0]
[null,null,null,null,null,null,null,null,null,null,null,null,null,null,null,null,null,null,null,null,null,null,null,null,null,null,null,null,null,null,null,null,0,0,0,0,0,0,0,0,0,0,null,null,0,0,0,0,0,0,0,0,0,0,null,null,0,0,0,0,0,0,0,0,0,0,null,null,0,0,0,0,0,0,0,0,0,0,null,null,0,0,0,0,0,0,0,0,0,0]
[null,null,null,null,null,null,null,null,null,null,null,null,null,null,null,null,null,null,null,null,null,null,null,null,null,null,null,null,null,null,null,null,0,0,0,0,0,0,0,0,0,0,null,null,0,0,0,0,0,0,0,0,0,0,null,null,0,0,0,0,0,0,0,0,0,0,null,null,0,0,0,0,0,0,0,0,0,0,null,null,0,0,0,0,0,0,0,0,0,0]
[null,null,null,null,null,null,null,null,null,null,null,null,null,null,null,null,null,null,null,null,null,null,null,null,null,null,null,null,null,null,null,null,0,0,0,0,0,0,0,0,0,0,null,null,0,0,0,0,0,0,0,0,0,0,null,null,0,0,0,0,0,0,0,0,0,0,null,null,0,0,0,0,0,0,0,0,0,0,null,null,0,0,0,0,0,0,0,0,0,0]
[null,null,null,null,null,null,null,null,null,null,null,null,null,null,null,null,null,null,null,null,null,null,null,null,null,null,null,null,null,null,null,null,0,0,0,0,0,0,0,0,0,0,null,null,0,0,0,0,0,0,0,0,0,0,null,null,0,0,0,0,0,0,0,0,0,0,null,null,0,0,0,0,0,0,0,0,0,0,null,null,0,0,0,0,0,0,0,0,0,0]
[null,null,null,null,null,null,null,null,null,null,null,null,null,null,null,null,null,null,null,null,null,null,null,null,null,null,null,null,null,null,null,null,0,0,0,0,0,0,0,0,0,0,null,null,0,0,0,0,0,0,0,0,0,0,null,null,0,0,0,0,0,0,0,0,0,0,null,null,0,0,0,0,0,0,0,0,0,0,null,null,0,0,0,0,0,0,0,0,0,0]
[null,null,null,null,null,null,null,null,null,null,null,null,null,null,null,null,null,null,null,null,null,null,null,null,null,null,null,null,null,null,null,null,0,0,0,0,0,0,0,0,0,0,null,null,0,0,0,0,0,0,0,0,0,0,null,null,0,0,0,0,0,0,0,0,0,0,null,null,0,0,0,0,0,0,0,0,0,0,null,null,0,0,0,0,0,0,0,0,0,0]
[null,null,null,null,null,null,null,null,null,null,null,null,null,null,null,null,null,null,null,null,null,null,null,null,null,null,null,null,null,null,null,null,0,0,0,0,0,0,0,0,0,0,null,null,0,0,0,0,0,0,0,0,0,0,null,null,0,0,0,0,0,0,0,0,0,0,null,null,0,0,0,0,0,0,0,0,0,0,null,null,0,0,0,0,0,0,0,0,0,0]
[null,null,null,null,null,null,null,null,null,null,null,null,null,null,null,null,null,null,null,null,null,null,null,null,null,null,null,null,null,null,null,null,0,0,0,0,0,0,0,0,0,0,null,null,0,0,0,0,0,0,0,0,0,0,null,null,0,0,0,0,0,0,0,0,0,0,null,null,0,0,0,0,0,0,0,0,0,0,null,null,0,0,0,0,0,0,0,0,0,0]
[null,null,null,null,null,null,null,null,null,null,null,null,null,null,null,null,null,null,null,null,null,null,null,null,null,null,null,null,null,null,null,null,0,0,0,0,0,0,0,0,0,0,null,null,0,0,0,0,0,0,0,0,0,0,null,null,0,0,0,0,0,0,0,0,0,0,null,null,0,0,0,0,0,0,0,0,0,0,null,null,0,0,0,0,0,0,0,0,0,0]
[null,null,null,null,null,null,null,null,null,null,null,null,null,null,null,null,null,null,null,null,null,null,null,null,null,null,null,null,null,null,null,null,0,0,0,0,0,0,0,0,0,0,null,null,0,0,0,0,0,0,0,0,0,0,null,null,0,0,0,0,0,0,0,0,0,0,null,null,0,0,0,0,0,0,0,0,0,0,null,null,0,0,0,0,0,0,0,0,0,0]
[null,null,null,null,null,null,null,null,null,null,null,null,null,null,null,null,null,null,null,null,null,null,null,null,null,null,null,null,null,null,null,null,0,0,0,0,0,0,0,0,0,0,null,null,0,0,0,0,0,0,0,0,0,0,null,null,0,0,0,0,0,0,0,0,0,0,null,null,0,0,0,0,0,0,0,0,0,0,null,null,0,0,0,0,0,0,0,0,0,0]
[null,null,null,null,null,null,null,null,null,null,null,null,null,null,null,null,null,null,null,null,null,null,null,null,null,null,null,null,null,null,null,null,0,0,0,0,0,0,0,0,0,0,null,null,0,0,0,0,0,0,0,0,0,0,null,null,0,0,0,0,0,0,0,0,0,0,null,null,0,0,0,0,0,0,0,0,0,0,null,null,0,0,0,0,0,0,0,0,0,0]
[null,null,null,null,null,null,null,null,null,null,null,null,null,null,null,null,null,null,null,null,null,null,null,null,null,null,null,null,null,null,null,null,0,0,0,0,0,0,0,0,0,0,null,null,0,0,0,0,0,0,0,0,0,0,null,null,0,0,0,0,0,0,0,0,0,0,null,null,0,0,0,0,0,0,0,0,0,0,null,null,0,0,0,0,0,0,0,0,0,0]
[null,null,null,null,null,null,null,null,null,null,null,null,null,null,null,null,null,null,null,null,null,null,null,null,null,null,null,null,null,null,null,null,0,0,0,0,0,0,0,0,0,0,null,null,0,0,0,0,0,0,0,0,0,0,null,null,0,0,0,0,0,0,0,0,0,0,null,null,0,0,0,0,0,0,0,0,0,0,null,null,0,0,0,0,0,0,0,0,0,0]
[null,null,null,null,null,null,null,null,null,null,null,null,null,null,null,null,null,null,null,null,null,null,null,null,null,null,null,null,null,null,null,null,0,0,0,0,0,0,0,0,0,0,null,null,0,0,0,0,0,0,0,0,0,0,null,null,0,0,0,0,0,0,0,0,0,0,null,null,0,0,0,0,0,0,0,0,0,0,null,null,0,0,0,0,0,0,0,0,0,0]
[null,null,null,null,null,null,null,null,null,null,null,null,null,null,null,null,null,null,null,null,null,null,null,null,null,null,null,null,null,null,null,null,0,0,0,0,0,0,0,0,0,0,null,null,0,0,0,0,0,0,0,0,0,0,null,null,0,0,0,0,0,0,0,0,0,0,null,null,0,0,0,0,0,0,0,0,0,0,null,null,0,0,0,0,0,0,0,0,0,0]
[null,null,null,null,null,null,null,null,null,null,null,null,null,null,null,null,null,null,null,null,null,null,null,null,null,null,null,null,null,null,null,null,0,0,0,0,0,0,0,0,0,0,null,null,0,0,0,0,0,0,0,0,0,0,null,null,0,0,0,0,0,0,0,0,0,0,null,null,0,0,0,0,0,0,0,0,0,0,null,null,0,0,0,0,0,0,0,0,0,0]
[null,null,null,null,null,null,null,null,null,null,null,null,null,null,null,null,null,null,null,null,null,null,null,null,null,null,null,null,null,null,null,null,0,0,0,0,0,0,0,0,0,0,null,null,0,0,0,0,0,0,0,0,0,0,null,null,0,0,0,0,0,0,0,0,0,0,null,null,0,0,0,0,0,0,0,0,0,0,null,null,0,0,0,0,0,0,0,0,0,0]
[null,null,null,null,null,null,null,null,null,null,null,null,null,null,null,null,null,null,null,null,null,null,null,null,null,null,null,null,null,null,null,null,0,0,0,0,0,0,0,0,0,0,null,null,0,0,0,0,0,0,0,0,0,0,null,null,0,0,0,0,0,0,0,0,0,0,null,null,0,0,0,0,0,0,0,0,0,0,null,null,0,0,0,0,0,0,0,0,0,0]
[null,null,null,null,null,null,null,null,null,null,null,null,null,null,null,null,null,null,null,null,null,null,null,null,null,null,null,null,null,null,null,null,0,0,0,0,0,0,0,0,0,0,null,null,0,0,0,0,0,0,0,0,0,0,null,null,0,0,0,0,0,0,0,0,0,0,null,null,0,0,0,0,0,0,0,0,0,0,null,null,0,0,0,0,0,0,0,0,0,0]
[null,null,null,null,null,null,null,null,null,null,null,null,null,null,null,null,null,null,null,null,null,null,null,null,null,null,null,null,null,null,null,null,0,0,0,0,0,0,0,0,0,0,null,null,0,0,0,0,0,0,0,0,0,0,null,null,0,0,0,0,0,0,0,0,0,0,null,null,0,0,0,0,0,0,0,0,0,0,null,null,0,0,0,0,0,0,0,0,0,0]
[null,null,null,null,null,null,null,null,null,null,null,null,null,null,null,null,null,null,null,null,null,null,null,null,null,null,null,null,null,null,null,null,0,0,0,0,0,0,0,0,0,0,null,null,0,0,0,0,0,0,0,0,0,0,null,null,0,0,0,0,0,0,0,0,0,0,null,null,0,0,0,0,0,0,0,0,0,0,null,null,0,0,0,0,0,0,0,0,0,0]
[null,null,null,null,null,null,null,null,null,null,null,null,null,null,null,null,null,null,null,null,null,null,null,null,null,null,null,null,null,null,null,null,0,0,0,0,0,0,0,0,0,0,null,null,0,0,0,0,0,0,0,0,0,0,null,null,0,0,0,0,0,0,0,0,0,0,null,null,0,0,0,0,0,0,0,0,0,0,null,null,0,0,0,0,0,0,0,0,0,0]
[null,null,null,null,null,null,null,null,null,null,null,null,null,null,null,null,null,null,null,null,null,null,null,null,null,null,null,null,null,null,null,null,0,0,0,0,0,0,0,0,0,0,null,null,0,0,0,0,0,0,0,0,0,0,null,null,0,0,0,0,0,0,0,0,0,0,null,null,0,0,0,0,0,0,0,0,0,0,null,null,0,0,0,0,0,0,0,0,0,0]
[null,null,null,null,null,null,null,null,null,null,null,null,null,null,null,null,null,null,null,null,null,null,null,null,null,null,null,null,null,null,null,null,0,0,0,0,0,0,0,0,0,0,null,null,0,0,0,0,0,0,0,0,0,0,null,null,0,0,0,0,0,0,0,0,0,0,null,null,0,0,0,0,0,0,0,0,0,0,null,null,0,0,0,0,0,0,0,0,0,0]
[null,null,null,null,null,null,null,null,null,null,null,null,null,null,null,null,null,null,null,null,null,null,null,null,null,null,null,null,null,null,null,null,0,0,0,0,0,0,0,0,0,0,null,null,0,0,0,0,0,0,0,0,0,0,null,null,0,0,0,0,0,0,0,0,0,0,null,null,0,0,0,0,0,0,0,0,0,0,null,null,0,0,0,0,0,0,0,0,0,0]
[null,null,null,null,null,null,null,null,null,null,null,null,null,null,null,null,null,null,null,null,null,null,null,null,null,null,null,null,null,null,null,null,0,0,0,0,0,0,0,0,0,0,null,null,0,0,0,0,0,0,0,0,0,0,null,null,0,0,0,0,0,0,0,0,0,0,null,null,0,0,0,0,0,0,0,0,0,0,null,null,0,0,0,0,0,0,0,0,0,0]
[null,null,null,null,null,null,null,null,null,null,null,null,null,null,null,null,null,null,null,null,null,null,null,null,null,null,null,null,null,null,null,null,0,0,0,0,0,0,0,0,0,0,null,null,0,0,0,0,0,0,0,0,0,0,null,null,0,0,0,0,0,0,0,0,0,0,null,null,0,0,0,0,0,0,0,0,0,0,null,null,0,0,0,0,0,0,0,0,0,0]
[null,null,null,null,null,null,null,null,null,null,null,null,null,null,null,null,null,null,null,null,null,null,null,null,null,null,null,null,null,null,null,null,0,0,0,0,0,0,0,0,0,0,null,null,0,0,0,0,0,0,0,0,0,0,null,null,0,0,0,0,0,0,0,0,0,0,null,null,0,0,0,0,0,0,0,0,0,0,null,null,0,0,0,0,0,0,0,0,0,0]
[null,null,null,null,null,null,null,null,null,null,null,null,null,null,null,null,null,null,null,null,null,null,null,null,null,null,null,null,null,null,null,null,0,0,0,0,0,0,0,0,0,0,null,null,0,0,0,0,0,0,0,0,0,0,null,null,0,0,0,0,0,0,0,0,0,0,null,null,0,0,0,0,0,0,0,0,0,0,null,null,0,0,0,0,0,0,0,0,0,0]
[null,null,null,null,null,null,null,null,null,null,null,null,null,null,null,null,null,null,null,null,null,null,null,null,null,null,null,null,null,null,null,null,0,0,0,0,0,0,0,0,0,0,null,null,0,0,0,0,0,0,0,0,0,0,null,null,0,0,0,0,0,0,0,0,0,0,null,null,0,0,0,0,0,0,0,0,0,0,null,null,0,0,0,0,0,0,0,0,0,0]
[null,null,null,null,null,null,null,null,null,null,null,null,null,null,null,null,null,null,null,null,null,null,null,null,null,null,null,null,null,null,null,null,0,0,0,0,0,0,0,0,0,0,null,null,0,0,0,0,0,0,0,0,0,0,null,null,0,0,0,0,0,0,0,0,0,0,null,null,0,0,0,0,0,0,0,0,0,0,null,null,0,0,0,0,0,0,0,0,0,0]
[null,null,null,null,null,null,null,null,null,null,null,null,null,null,null,null,null,null,null,null,null,null,null,null,null,null,null,null,null,null,null,null,0,0,0,0,0,0,0,0,0,0,null,null,0,0,0,0,0,0,0,0,0,0,null,null,0,0,0,0,0,0,0,0,0,0,null,null,0,0,0,0,0,0,0,0,0,0,null,null,0,0,0,0,0,0,0,0,0,0]
[null,null,null,null,null,null,null,null,null,null,null,null,null,null,null,null,null,null,null,null,null,null,null,null,null,null,null,null,null,null,null,null,0,0,0,0,0,0,0,0,0,0,null,null,0,0,0,0,0,0,0,0,0,0,null,null,0,0,0,0,0,0,0,0,0,0,null,null,0,0,0,0,0,0,0,0,0,0,null,null,0,0,0,0,0,0,0,0,0,0]
[null,null,null,null,null,null,null,null,null,null,null,null,null,null,null,null,null,null,null,null,null,null,null,null,null,null,null,null,null,null,null,null,0,0,0,0,0,0,0,0,0,0,null,null,0,0,0,0,0,0,0,0,0,0,null,null,0,0,0,0,0,0,0,0,0,0,null,null,0,0,0,0,0,0,0,0,0,0,null,null,0,0,0,0,0,0,0,0,0,0]
[null,null,null,null,null,null,null,null,null,null,null,null,null,null,null,null,null,null,null,null,null,null,null,null,null,null,null,null,null,null,null,null,0,0,0,0,0,0,0,0,0,0,null,null,0,0,0,0,0,0,0,0,0,0,null,null,0,0,0,0,0,0,0,0,0,0,null,null,0,0,0,0,0,0,0,0,0,0,null,null,0,0,0,0,0,0,0,0,0,0]
[null,null,null,null,null,null,null,null,null,null,null,null,null,null,null,null,null,null,null,null,null,null,null,null,null,null,null,null,null,null,null,null,0,0,0,0,0,0,0,0,0,0,null,null,0,0,0,0,0,0,0,0,0,0,null,null,0,0,0,0,0,0,0,0,0,0,null,null,0,0,0,0,0,0,0,0,0,0,null,null,0,0,0,0,0,0,0,0,0,0]
[null,null,null,null,null,null,null,null,null,null,null,null,null,null,null,null,null,null,null,null,null,null,null,null,null,null,null,null,null,null,null,null,0,0,0,0,0,0,0,0,0,0,null,null,0,0,0,0,0,0,0,0,0,0,null,null,0,0,0,0,0,0,0,0,0,0,null,null,0,0,0,0,0,0,0,0,0,0,null,null,0,0,0,0,0,0,0,0,0,0]
[null,null,null,null,null,null,null,null,null,null,null,null,null,null,null,null,null,null,null,null,null,null,null,null,null,null,null,null,null,null,null,null,0,0,0,0,0,0,0,0,0,0,null,null,0,0,0,0,0,0,0,0,0,0,null,null,0,0,0,0,0,0,0,0,0,0,null,null,0,0,0,0,0,0,0,0,0,0,null,null,0,0,0,0,0,0,0,0,0,0]
[null,null,null,null,null,null,null,null,null,null,null,null,null,null,null,null,null,null,null,null,null,null,null,null,null,null,null,null,null,null,null,null,0,0,0,0,0,0,0,0,0,0,null,null,0,0,0,0,0,0,0,0,0,0,null,null,0,0,0,0,0,0,0,0,0,0,null,null,0,0,0,0,0,0,0,0,0,0,null,null,0,0,0,0,0,0,0,0,0,0]
[null,null,null,null,null,null,null,null,null,null,null,null,null,null,null,null,null,null,null,null,null,null,null,null,null,null,null,null,null,null,null,null,0,0,0,0,0,0,0,0,0,0,null,null,0,0,0,0,0,0,0,0,0,0,null,null,0,0,0,0,0,0,0,0,0,0,null,null,0,0,0,0,0,0,0,0,0,0,null,null,0,0,0,0,0,0,0,0,0,0]
[null,null,null,null,null,null,null,null,null,null,null,null,null,null,null,null,null,null,null,null,null,null,null,null,null,null,null,null,null,null,null,null,0,0,0,0,0,0,0,0,0,0,null,null,0,0,0,0,0,0,0,0,0,0,null,null,0,0,0,0,0,0,0,0,0,0,null,null,0,0,0,0,0,0,0,0,0,0,null,null,0,0,0,0,0,0,0,0,0,0]
[null,null,null,null,null,null,null,null,null,null,null,null,null,null,null,null,null,null,null,null,null,null,null,null,null,null,null,null,null,null,null,null,0,0,0,0,0,0,0,0,0,0,null,null,0,0,0,0,0,0,0,0,0,0,null,null,0,0,0,0,0,0,0,0,0,0,null,null,0,0,0,0,0,0,0,0,0,0,null,null,0,0,0,0,0,0,0,0,0,0]
[null,null,null,null,null,null,null,null,null,null,null,null,null,null,null,null,null,null,null,null,null,null,null,null,null,null,null,null,null,null,null,null,0,0,0,0,0,0,0,0,0,0,null,null,0,0,0,0,0,0,0,0,0,0,null,null,0,0,0,0,0,0,0,0,0,0,null,null,0,0,0,0,0,0,0,0,0,0,null,null,0,0,0,0,0,0,0,0,0,0]
[null,null,null,null,null,null,null,null,null,null,null,null,null,null,null,null,null,null,null,null,null,null,null,null,null,null,null,null,null,null,null,null,0,0,0,0,0,0,0,0,0,0,null,null,0,0,0,0,0,0,0,0,0,0,null,null,0,0,0,0,0,0,0,0,0,0,null,null,0,0,0,0,0,0,0,0,0,0,null,null,0,0,0,0,0,0,0,0,0,0]
[null,null,null,null,null,null,null,null,null,null,null,null,null,null,null,null,null,null,null,null,null,null,null,null,null,null,null,null,null,null,null,null,0,0,0,0,0,0,0,0,0,0,null,null,0,0,0,0,0,0,0,0,0,0,null,null,0,0,0,0,0,0,0,0,0,0,null,null,0,0,0,0,0,0,0,0,0,0,null,null,0,0,0,0,0,0,0,0,0,0]
[null,null,null,null,null,null,null,null,null,null,null,null,null,null,null,null,null,null,null,null,null,null,null,null,null,null,null,null,null,null,null,null,0,0,0,0,0,0,0,0,0,0,null,null,0,0,0,0,0,0,0,0,0,0,null,null,0,0,0,0,0,0,0,0,0,0,null,null,0,0,0,0,0,0,0,0,0,0,null,null,0,0,0,0,0,0,0,0,0,0]
[null,null,null,null,null,null,null,null,null,null,null,null,null,null,null,null,null,null,null,null,null,null,null,null,null,null,null,null,null,null,null,null,0,0,0,0,0,0,0,0,0,0,null,null,0,0,0,0,0,0,0,0,0,0,null,null,0,0,0,0,0,0,0,0,0,0,null,null,0,0,0,0,0,0,0,0,0,0,null,null,0,0,0,0,0,0,0,0,0,0]
[null,null,null,null,null,null,null,null,null,null,null,null,null,null,null,null,null,null,null,null,null,null,null,null,null,null,null,null,null,null,null,null,0,0,0,0,0,0,0,0,0,0,null,null,0,0,0,0,0,0,0,0,0,0,null,null,0,0,0,0,0,0,0,0,0,0,null,null,0,0,0,0,0,0,0,0,0,0,null,null,0,0,0,0,0,0,0,0,0,0]
[null,null,null,null,null,null,null,null,null,null,null,null,null,null,null,null,null,null,null,null,null,null,null,null,null,null,null,null,null,null,null,null,0,0,0,0,0,0,0,0,0,0,null,null,0,0,0,0,0,0,0,0,0,0,null,null,0,0,0,0,0,0,0,0,0,0,null,null,0,0,0,0,0,0,0,0,0,0,null,null,0,0,0,0,0,0,0,0,0,0]
[null,null,null,null,null,null,null,null,null,null,null,null,null,null,null,null,null,null,null,null,null,null,null,null,null,null,null,null,null,null,null,null,0,0,0,0,0,0,0,0,0,0,null,null,0,0,0,0,0,0,0,0,0,0,null,null,0,0,0,0,0,0,0,0,0,0,null,null,0,0,0,0,0,0,0,0,0,0,null,null,0,0,0,0,0,0,0,0,0,0]
[null,null,null,null,null,null,null,null,null,null,null,null,null,null,null,null,null,null,null,null,null,null,null,null,null,null,null,null,null,null,null,null,0,0,0,0,0,0,0,0,0,0,null,null,0,0,0,0,0,0,0,0,0,0,null,null,0,0,0,0,0,0,0,0,0,0,null,null,0,0,0,0,0,0,0,0,0,0,null,null,0,0,0,0,0,0,0,0,0,0]
[null,null,null,null,null,null,null,null,null,null,null,null,null,null,null,null,null,null,null,null,null,null,null,null,null,null,null,null,null,null,null,null,0,0,0,0,0,0,0,0,0,0,null,null,0,0,0,0,0,0,0,0,0,0,null,null,0,0,0,0,0,0,0,0,0,0,null,null,0,0,0,0,0,0,0,0,0,0,null,null,0,0,0,0,0,0,0,0,0,0]
[null,null,null,null,null,null,null,null,null,null,null,null,null,null,null,null,null,null,null,null,null,null,null,null,null,null,null,null,null,null,null,null,0,0,0,0,0,0,0,0,0,0,null,null,0,0,0,0,0,0,0,0,0,0,null,null,0,0,0,0,0,0,0,0,0,0,null,null,0,0,0,0,0,0,0,0,0,0,null,null,0,0,0,0,0,0,0,0,0,0]
[null,null,null,null,null,null,null,null,null,null,null,null,null,null,null,null,null,null,null,null,null,null,null,null,null,null,null,null,null,null,null,null,0,0,0,0,0,0,0,0,0,0,null,null,0,0,0,0,0,0,0,0,0,0,null,null,0,0,0,0,0,0,0,0,0,0,null,null,0,0,0,0,0,0,0,0,0,0,null,null,0,0,0,0,0,0,0,0,0,0]
[null,null,null,null,null,null,null,null,null,null,null,null,null,null,null,null,null,null,null,null,null,null,null,null,null,null,null,null,null,null,null,null,0,0,0,0,0,0,0,0,0,0,null,null,0,0,0,0,0,0,0,0,0,0,null,null,0,0,0,0,0,0,0,0,0,0,null,null,0,0,0,0,0,0,0,0,0,0,null,null,0,0,0,0,0,0,0,0,0,0]
[null,null,null,null,null,null,null,null,null,null,null,null,null,null,null,null,null,null,null,null,null,null,null,null,null,null,null,null,null,null,null,null,0,0,0,0,0,0,0,0,0,0,null,null,0,0,0,0,0,0,0,0,0,0,null,null,0,0,0,0,0,0,0,0,0,0,null,null,0,0,0,0,0,0,0,0,0,0,null,null,0,0,0,0,0,0,0,0,0,0]
[null,null,null,null,null,null,null,null,null,null,null,null,null,null,null,null,null,null,null,null,null,null,null,null,null,null,null,null,null,null,null,null,0,0,0,0,0,0,0,0,0,0,null,null,0,0,0,0,0,0,0,0,0,0,null,null,0,0,0,0,0,0,0,0,0,0,null,null,0,0,0,0,0,0,0,0,0,0,null,null,0,0,0,0,0,0,0,0,0,0]
[null,null,null,null,null,null,null,null,null,null,null,null,null,null,null,null,null,null,null,null,null,null,null,null,null,null,null,null,null,null,null,null,0,0,0,0,0,0,0,0,0,0,null,null,0,0,0,0,0,0,0,0,0,0,null,null,0,0,0,0,0,0,0,0,0,0,null,null,0,0,0,0,0,0,0,0,0,0,null,null,0,0,0,0,0,0,0,0,0,0]
[null,null,null,null,null,null,null,null,null,null,null,null,null,null,null,null,null,null,null,null,null,null,null,null,null,null,null,null,null,null,null,null,0,0,0,0,0,0,0,0,0,0,null,null,0,0,0,0,0,0,0,0,0,0,null,null,0,0,0,0,0,0,0,0,0,0,null,null,0,0,0,0,0,0,0,0,0,0,null,null,0,0,0,0,0,0,0,0,0,0]
[null,null,null,null,null,null,null,null,null,null,null,null,null,null,null,null,null,null,null,null,null,null,null,null,null,null,null,null,null,null,null,null,0,0,0,0,0,0,0,0,0,0,null,null,0,0,0,0,0,0,0,0,0,0,null,null,0,0,0,0,0,0,0,0,0,0,null,null,0,0,0,0,0,0,0,0,0,0,null,null,0,0,0,0,0,0,0,0,0,0]
[null,null,null,null,null,null,null,null,null,null,null,null,null,null,null,null,null,null,null,null,null,null,null,null,null,null,null,null,null,null,null,null,0,0,0,0,0,0,0,0,0,0,null,null,0,0,0,0,0,0,0,0,0,0,null,null,0,0,0,0,0,0,0,0,0,0,null,null,0,0,0,0,0,0,0,0,0,0,null,null,0,0,0,0,0,0,0,0,0,0]
[null,null,null,null,null,null,null,null,null,null,null,null,null,null,null,null,null,null,null,null,null,null,null,null,null,null,null,null,null,null,null,null,0,0,0,0,0,0,0,0,0,0,null,null,0,0,0,0,0,0,0,0,0,0,null,null,0,0,0,0,0,0,0,0,0,0,null,null,0,0,0,0,0,0,0,0,0,0,null,null,0,0,0,0,0,0,0,0,0,0]
[null,null,null,null,null,null,null,null,null,null,null,null,null,null,null,null,null,null,null,null,null,null,null,null,null,null,null,null,null,null,null,null,0,0,0,0,0,0,0,0,0,0,null,null,0,0,0,0,0,0,0,0,0,0,null,null,0,0,0,0,0,0,0,0,0,0,null,null,0,0,0,0,0,0,0,0,0,0,null,null,0,0,0,0,0,0,0,0,0,0]
[null,null,null,null,null,null,null,null,null,null,null,null,null,null,null,null,null,null,null,null,null,null,null,null,null,null,null,null,null,null,null,null,0,0,0,0,0,0,0,0,0,0,null,null,0,0,0,0,0,0,0,0,0,0,null,null,0,0,0,0,0,0,0,0,0,0,null,null,0,0,0,0,0,0,0,0,0,0,null,null,0,0,0,0,0,0,0,0,0,0]
[null,null,null,null,null,null,null,null,null,null,null,null,null,null,null,null,null,null,null,null,null,null,null,null,null,null,null,null,null,null,null,null,0,0,0,0,0,0,0,0,0,0,null,null,0,0,0,0,0,0,0,0,0,0,null,null,0,0,0,0,0,0,0,0,0,0,null,null,0,0,0,0,0,0,0,0,0,0,null,null,0,0,0,0,0,0,0,0,0,0]
[null,null,null,null,null,null,null,null,null,null,null,null,null,null,null,null,null,null,null,null,null,null,null,null,null,null,null,null,null,null,null,null,0,0,0,0,0,0,0,0,0,0,null,null,0,0,0,0,0,0,0,0,0,0,null,null,0,0,0,0,0,0,0,0,0,0,null,null,0,0,0,0,0,0,0,0,0,0,null,null,0,0,0,0,0,0,0,0,0,0]
[null,null,null,null,null,null,null,null,null,null,null,null,null,null,null,null,null,null,null,null,null,null,null,null,null,null,null,null,null,null,null,null,0,0,0,0,0,0,0,0,0,0,null,null,0,0,0,0,0,0,0,0,0,0,null,null,0,0,0,0,0,0,0,0,0,0,null,null,0,0,0,0,0,0,0,0,0,0,null,null,0,0,0,0,0,0,0,0,0,0]
[null,null,null,null,null,null,null,null,null,null,null,null,null,null,null,null,null,null,null,null,null,null,null,null,null,null,null,null,null,null,null,null,0,0,0,0,0,0,0,0,0,0,null,null,0,0,0,0,0,0,0,0,0,0,null,null,0,0,0,0,0,0,0,0,0,0,null,null,0,0,0,0,0,0,0,0,0,0,null,null,0,0,0,0,0,0,0,0,0,0]
[null,null,null,null,null,null,null,null,null,null,null,null,null,null,null,null,null,null,null,null,null,null,null,null,null,null,null,null,null,null,null,null,0,0,0,0,0,0,0,0,0,0,null,null,0,0,0,0,0,0,0,0,0,0,null,null,0,0,0,0,0,0,0,0,0,0,null,null,0,0,0,0,0,0,0,0,0,0,null,null,0,0,0,0,0,0,0,0,0,0]
[null,null,null,null,null,null,null,null,null,null,null,null,null,null,null,null,null,null,null,null,null,null,null,null,null,null,null,null,null,null,null,null,0,0,0,0,0,0,0,0,0,0,null,null,0,0,0,0,0,0,0,0,0,0,null,null,0,0,0,0,0,0,0,0,0,0,null,null,0,0,0,0,0,0,0,0,0,0,null,null,0,0,0,0,0,0,0,0,0,0]
[null,null,null,null,null,null,null,null,null,null,null,null,null,null,null,null,null,null,null,null,null,null,null,null,null,null,null,null,null,null,null,null,0,0,0,0,0,0,0,0,0,0,null,null,0,0,0,0,0,0,0,0,0,0,null,null,0,0,0,0,0,0,0,0,0,0,null,null,0,0,0,0,0,0,0,0,0,0,null,null,0,0,0,0,0,0,0,0,0,0]
[null,null,null,null,null,null,null,null,null,null,null,null,null,null,null,null,null,null,null,null,null,null,null,null,null,null,null,null,null,null,null,null,0,0,0,0,0,0,0,0,0,0,null,null,0,0,0,0,0,0,0,0,0,0,null,null,0,0,0,0,0,0,0,0,0,0,null,null,0,0,0,0,0,0,0,0,0,0,null,null,0,0,0,0,0,0,0,0,0,0]
[null,null,null,null,null,null,null,null,null,null,null,null,null,null,null,null,null,null,null,null,null,null,null,null,null,null,null,null,null,null,null,null,0,0,0,0,0,0,0,0,0,0,null,null,0,0,0,0,0,0,0,0,0,0,null,null,0,0,0,0,0,0,0,0,0,0,null,null,0,0,0,0,0,0,0,0,0,0,null,null,0,0,0,0,0,0,0,0,0,0]
[null,null,null,null,null,null,null,null,null,null,null,null,null,null,null,null,null,null,null,null,null,null,null,null,null,null,null,null,null,null,null,null,0,0,0,0,0,0,0,0,0,0,null,null,0,0,0,0,0,0,0,0,0,0,null,null,0,0,0,0,0,0,0,0,0,0,null,null,0,0,0,0,0,0,0,0,0,0,null,null,0,0,0,0,0,0,0,0,0,0]
[null,null,null,null,null,null,null,null,null,null,null,null,null,null,null,null,null,null,null,null,null,null,null,null,null,null,null,null,null,null,null,null,0,0,0,0,0,0,0,0,0,0,null,null,0,0,0,0,0,0,0,0,0,0,null,null,0,0,0,0,0,0,0,0,0,0,null,null,0,0,0,0,0,0,0,0,0,0,null,null,0,0,0,0,0,0,0,0,0,0]
[null,null,null,null,null,null,null,null,null,null,null,null,null,null,null,null,null,null,null,null,null,null,null,null,null,null,null,null,null,null,null,null,0,0,0,0,0,0,0,0,0,0,null,null,0,0,0,0,0,0,0,0,0,0,null,null,0,0,0,0,0,0,0,0,0,0,null,null,0,0,0,0,0,0,0,0,0,0,null,null,0,0,0,0,0,0,0,0,0,0]
[null,null,null,null,null,null,null,null,null,null,null,null,null,null,null,null,null,null,null,null,null,null,null,null,null,null,null,null,null,null,null,null,0,0,0,0,0,0,0,0,0,0,null,null,0,0,0,0,0,0,0,0,0,0,null,null,0,0,0,0,0,0,0,0,0,0,null,null,0,0,0,0,0,0,0,0,0,0,null,null,0,0,0,0,0,0,0,0,0,0]
[null,null,null,null,null,null,null,null,null,null,null,null,null,null,null,null,null,null,null,null,null,null,null,null,null,null,null,null,null,null,null,null,0,0,0,0,0,0,0,0,0,0,null,null,0,0,0,0,0,0,0,0,0,0,null,null,0,0,0,0,0,0,0,0,0,0,null,null,0,0,0,0,0,0,0,0,0,0,null,null,0,0,0,0,0,0,0,0,0,0]
[null,null,null,null,null,null,null,null,null,null,null,null,null,null,null,null,null,null,null,null,null,null,null,null,null,null,null,null,null,null,null,null,0,0,0,0,0,0,0,0,0,0,null,null,0,0,0,0,0,0,0,0,0,0,null,null,0,0,0,0,0,0,0,0,0,0,null,null,0,0,0,0,0,0,0,0,0,0,null,null,0,0,0,0,0,0,0,0,0,0]
[null,null,null,null,null,null,null,null,null,null,null,null,null,null,null,null,null,null,null,null,null,null,null,null,null,null,null,null,null,null,null,null,0,0,0,0,0,0,0,0,0,0,null,null,0,0,0,0,0,0,0,0,0,0,null,null,0,0,0,0,0,0,0,0,0,0,null,null,0,0,0,0,0,0,0,0,0,0,null,null,0,0,0,0,0,0,0,0,0,0]
[null,null,null,null,null,null,null,null,null,null,null,null,null,null,null,null,null,null,null,null,null,null,null,null,null,null,null,null,null,null,null,null,0,0,0,0,0,0,0,0,0,0,null,null,0,0,0,0,0,0,0,0,0,0,null,null,0,0,0,0,0,0,0,0,0,0,null,null,0,0,0,0,0,0,0,0,0,0,null,null,0,0,0,0,0,0,0,0,0,0]
[null,null,null,null,null,null,null,null,null,null,null,null,null,null,null,null,null,null,null,null,null,null,null,null,null,null,null,null,null,null,null,null,0,0,0,0,0,0,0,0,0,0,null,null,0,0,0,0,0,0,0,0,0,0,null,null,0,0,0,0,0,0,0,0,0,0,null,null,0,0,0,0,0,0,0,0,0,0,null,null,0,0,0,0,0,0,0,0,0,0]
[null,null,null,null,null,null,null,null,null,null,null,null,null,null,null,null,null,null,null,null,null,null,null,null,null,null,null,null,null,null,null,null,0,0,0,0,0,0,0,0,0,0,null,null,0,0,0,0,0,0,0,0,0,0,null,null,0,0,0,0,0,0,0,0,0,0,null,null,0,0,0,0,0,0,0,0,0,0,null,null,0,0,0,0,0,0,0,0,0,0]
[null,null,null,null,null,null,null,null,null,null,null,null,null,null,null,null,null,null,null,null,null,null,null,null,null,null,null,null,null,null,null,null,0,0,0,0,0,0,0,0,0,0,null,null,0,0,0,0,0,0,0,0,0,0,null,null,0,0,0,0,0,0,0,0,0,0,null,null,0,0,0,0,0,0,0,0,0,0,null,null,0,0,0,0,0,0,0,0,0,0]
[null,null,null,null,null,null,null,null,null,null,null,null,null,null,null,null,null,null,null,null,null,null,null,null,null,null,null,null,null,null,null,null,0,0,0,0,0,0,0,0,0,0,null,null,0,0,0,0,0,0,0,0,0,0,null,null,0,0,0,0,0,0,0,0,0,0,null,null,0,0,0,0,0,0,0,0,0,0,null,null,0,0,0,0,0,0,0,0,0,0]
[null,null,null,null,null,null,null,null,null,null,null,null,null,null,null,null,null,null,null,null,null,null,null,null,null,null,null,null,null,null,null,null,0,0,0,0,0,0,0,0,0,0,null,null,0,0,0,0,0,0,0,0,0,0,null,null,0,0,0,0,0,0,0,0,0,0,null,null,0,0,0,0,0,0,0,0,0,0,null,null,0,0,0,0,0,0,0,0,0,0]
[null,null,null,null,null,null,null,null,null,null,null,null,null,null,null,null,null,null,null,null,null,null,null,null,null,null,null,null,null,null,null,null,0,0,0,0,0,0,0,0,0,0,null,null,0,0,0,0,0,0,0,0,0,0,null,null,0,0,0,0,0,0,0,0,0,0,null,null,0,0,0,0,0,0,0,0,0,0,null,null,0,0,0,0,0,0,0,0,0,0]
[null,null,null,null,null,null,null,null,null,null,null,null,null,null,null,null,null,null,null,null,null,null,null,null,null,null,null,null,null,null,null,null,0,0,0,0,0,0,0,0,0,0,null,null,0,0,0,0,0,0,0,0,0,0,null,null,0,0,0,0,0,0,0,0,0,0,null,null,0,0,0,0,0,0,0,0,0,0,null,null,0,0,0,0,0,0,0,0,0,0]
[null,null,null,null,null,null,null,null,null,null,null,null,null,null,null,null,null,null,null,null,null,null,null,null,null,null,null,null,null,null,null,null,0,0,0,0,0,0,0,0,0,0,null,null,0,0,0,0,0,0,0,0,0,0,null,null,0,0,0,0,0,0,0,0,0,0,null,null,0,0,0,0,0,0,0,0,0,0,null,null,0,0,0,0,0,0,0,0,0,0]
[null,null,null,null,null,null,null,null,null,null,null,null,null,null,null,null,null,null,null,null,null,null,null,null,null,null,null,null,null,null,null,null,0,0,0,0,0,0,0,0,0,0,null,null,0,0,0,0,0,0,0,0,0,0,null,null,0,0,0,0,0,0,0,0,0,0,null,null,0,0,0,0,0,0,0,0,0,0,null,null,0,0,0,0,0,0,0,0,0,0]
[null,null,null,null,null,null,null,null,null,null,null,null,null,null,null,null,null,null,null,null,null,null,null,null,null,null,null,null,null,null,null,null,0,0,0,0,0,0,0,0,0,0,null,null,0,0,0,0,0,0,0,0,0,0,null,null,0,0,0,0,0,0,0,0,0,0,null,null,0,0,0,0,0,0,0,0,0,0,null,null,0,0,0,0,0,0,0,0,0,0]
[null,null,null,null,null,null,null,null,null,null,null,null,null,null,null,null,null,null,null,null,null,null,null,null,null,null,null,null,null,null,null,null,0,0,0,0,0,0,0,0,0,0,null,null,0,0,0,0,0,0,0,0,0,0,null,null,0,0,0,0,0,0,0,0,0,0,null,null,0,0,0,0,0,0,0,0,0,0,null,null,0,0,0,0,0,0,0,0,0,0]
[null,null,null,null,null,null,null,null,null,null,null,null,null,null,null,null,null,null,null,null,null,null,null,null,null,null,null,null,null,null,null,null,0,0,0,0,0,0,0,0,0,0,null,null,0,0,0,0,0,0,0,0,0,0,null,null,0,0,0,0,0,0,0,0,0,0,null,null,0,0,0,0,0,0,0,0,0,0,null,null,0,0,0,0,0,0,0,0,0,0]
[null,null,null,null,null,null,null,null,null,null,null,null,null,null,null,null,null,null,null,null,null,null,null,null,null,null,null,null,null,null,null,null,0,0,0,0,0,0,0,0,0,0,null,null,0,0,0,0,0,0,0,0,0,0,null,null,0,0,0,0,0,0,0,0,0,0,null,null,0,0,0,0,0,0,0,0,0,0,null,null,0,0,0,0,0,0,0,0,0,0]
[null,null,null,null,null,null,null,null,null,null,null,null,null,null,null,null,null,null,null,null,null,null,null,null,null,null,null,null,null,null,null,null,0,0,0,0,0,0,0,0,0,0,null,null,0,0,0,0,0,0,0,0,0,0,null,null,0,0,0,0,0,0,0,0,0,0,null,null,0,0,0,0,0,0,0,0,0,0,null,null,0,0,0,0,0,0,0,0,0,0]
[null,null,null,null,null,null,null,null,null,null,null,null,null,null,null,null,null,null,null,null,null,null,null,null,null,null,null,null,null,null,null,null,0,0,0,0,0,0,0,0,0,0,null,null,0,0,0,0,0,0,0,0,0,0,null,null,0,0,0,0,0,0,0,0,0,0,null,null,0,0,0,0,0,0,0,0,0,0,null,null,0,0,0,0,0,0,0,0,0,0]
[null,null,null,null,null,null,null,null,null,null,null,null,null,null,null,null,null,null,null,null,null,null,null,null,null,null,null,null,null,null,null,null,0,0,0,0,0,0,0,0,0,0,null,null,0,0,0,0,0,0,0,0,0,0,null,null,0,0,0,0,0,0,0,0,0,0,null,null,0,0,0,0,0,0,0,0,0,0,null,null,0,0,0,0,0,0,0,0,0,0]
[null,null,null,null,null,null,null,null,null,null,null,null,null,null,null,null,null,null,null,null,null,null,null,null,null,null,null,null,null,null,null,null,0,0,0,0,0,0,0,0,0,0,null,null,0,0,0,0,0,0,0,0,0,0,null,null,0,0,0,0,0,0,0,0,0,0,null,null,0,0,0,0,0,0,0,0,0,0,null,null,0,0,0,0,0,0,0,0,0,0]
[null,null,null,null,null,null,null,null,null,null,null,null,null,null,null,null,null,null,null,null,null,null,null,null,null,null,null,null,null,null,null,null,0,0,0,0,0,0,0,0,0,0,null,null,0,0,0,0,0,0,0,0,0,0,null,null,0,0,0,0,0,0,0,0,0,0,null,null,0,0,0,0,0,0,0,0,0,0,null,null,0,0,0,0,0,0,0,0,0,0]
[null,null,null,null,null,null,null,null,null,null,null,null,null,null,null,null,null,null,null,null,null,null,null,null,null,null,null,null,null,null,null,null,0,0,0,0,0,0,0,0,0,0,null,null,0,0,0,0,0,0,0,0,0,0,null,null,0,0,0,0,0,0,0,0,0,0,null,null,0,0,0,0,0,0,0,0,0,0,null,null,0,0,0,0,0,0,0,0,0,0]
[null,null,null,null,null,null,null,null,null,null,null,null,null,null,null,null,null,null,null,null,null,null,null,null,null,null,null,null,null,null,null,null,0,0,0,0,0,0,0,0,0,0,null,null,0,0,0,0,0,0,0,0,0,0,null,null,0,0,0,0,0,0,0,0,0,0,null,null,0,0,0,0,0,0,0,0,0,0,null,null,0,0,0,0,0,0,0,0,0,0]
[null,null,null,null,null,null,null,null,null,null,null,null,null,null,null,null,null,null,null,null,null,null,null,null,null,null,null,null,null,null,null,null,0,0,0,0,0,0,0,0,0,0,null,null,0,0,0,0,0,0,0,0,0,0,null,null,0,0,0,0,0,0,0,0,0,0,null,null,0,0,0,0,0,0,0,0,0,0,null,null,0,0,0,0,0,0,0,0,0,0]
[null,null,null,null,null,null,null,null,null,null,null,null,null,null,null,null,null,null,null,null,null,null,null,null,null,null,null,null,null,null,null,null,0,0,0,0,0,0,0,0,0,0,null,null,0,0,0,0,0,0,0,0,0,0,null,null,0,0,0,0,0,0,0,0,0,0,null,null,0,0,0,0,0,0,0,0,0,0,null,null,0,0,0,0,0,0,0,0,0,0]
[null,null,null,null,null,null,null,null,null,null,null,null,null,null,null,null,null,null,null,null,null,null,null,null,null,null,null,null,null,null,null,null,0,0,0,0,0,0,0,0,0,0,null,null,0,0,0,0,0,0,0,0,0,0,null,null,0,0,0,0,0,0,0,0,0,0,null,null,0,0,0,0,0,0,0,0,0,0,null,null,0,0,0,0,0,0,0,0,0,0]
[null,null,null,null,null,null,null,null,null,null,null,null,null,null,null,null,null,null,null,null,null,null,null,null,null,null,null,null,null,null,null,null,0,0,0,0,0,0,0,0,0,0,null,null,0,0,0,0,0,0,0,0,0,0,null,null,0,0,0,0,0,0,0,0,0,0,null,null,0,0,0,0,0,0,0,0,0,0,null,null,0,0,0,0,0,0,0,0,0,0]
[null,null,null,null,null,null,null,null,null,null,null,null,null,null,null,null,null,null,null,null,null,null,null,null,null,null,null,null,null,null,null,null,0,0,0,0,0,0,0,0,0,0,null,null,0,0,0,0,0,0,0,0,0,0,null,null,0,0,0,0,0,0,0,0,0,0,null,null,0,0,0,0,0,0,0,0,0,0,null,null,0,0,0,0,0,0,0,0,0,0]
[null,null,null,null,null,null,null,null,null,null,null,null,null,null,null,null,null,null,null,null,null,null,null,null,null,null,null,null,null,null,null,null,0,0,0,0,0,0,0,0,0,0,null,null,0,0,0,0,0,0,0,0,0,0,null,null,0,0,0,0,0,0,0,0,0,0,null,null,0,0,0,0,0,0,0,0,0,0,null,null,0,0,0,0,0,0,0,0,0,0]
[null,null,null,null,null,null,null,null,null,null,null,null,null,null,null,null,null,null,null,null,null,null,null,null,null,null,null,null,null,null,null,null,0,0,0,0,0,0,0,0,0,0,null,null,0,0,0,0,0,0,0,0,0,0,null,null,0,0,0,0,0,0,0,0,0,0,null,null,0,0,0,0,0,0,0,0,0,0,null,null,0,0,0,0,0,0,0,0,0,0]
[null,null,null,null,null,null,null,null,null,null,null,null,null,null,null,null,null,null,null,null,null,null,null,null,null,null,null,null,null,null,null,null,0,0,0,0,0,0,0,0,0,0,null,null,0,0,0,0,0,0,0,0,0,0,null,null,0,0,0,0,0,0,0,0,0,0,null,null,0,0,0,0,0,0,0,0,0,0,null,null,0,0,0,0,0,0,0,0,0,0]
[null,null,null,null,null,null,null,null,null,null,null,null,null,null,null,null,null,null,null,null,null,null,null,null,null,null,null,null,null,null,null,null,0,0,0,0,0,0,0,0,0,0,null,null,0,0,0,0,0,0,0,0,0,0,null,null,0,0,0,0,0,0,0,0,0,0,null,null,0,0,0,0,0,0,0,0,0,0,null,null,0,0,0,0,0,0,0,0,0,0]
[null,null,null,null,null,null,null,null,null,null,null,null,null,null,null,null,null,null,null,null,null,null,null,null,null,null,null,null,null,null,null,null,0,0,0,0,0,0,0,0,0,0,null,null,0,0,0,0,0,0,0,0,0,0,null,null,0,0,0,0,0,0,0,0,0,0,null,null,0,0,0,0,0,0,0,0,0,0,null,null,0,0,0,0,0,0,0,0,0,0]
[null,null,null,null,null,null,null,null,null,null,null,null,null,null,null,null,null,null,null,null,null,null,null,null,null,null,null,null,null,null,null,null,0,0,0,0,0,0,0,0,0,0,null,null,0,0,0,0,0,0,0,0,0,0,null,null,0,0,0,0,0,0,0,0,0,0,null,null,0,0,0,0,0,0,0,0,0,0,null,null,0,0,0,0,0,0,0,0,0,0]
[null,null,null,null,null,null,null,null,null,null,null,null,null,null,null,null,null,null,null,null,null,null,null,null,null,null,null,null,null,null,null,null,0,0,0,0,0,0,0,0,0,0,null,null,0,0,0,0,0,0,0,0,0,0,null,null,0,0,0,0,0,0,0,0,0,0,null,null,0,0,0,0,0,0,0,0,0,0,null,null,0,0,0,0,0,0,0,0,0,0]
[null,null,null,null,null,null,null,null,null,null,null,null,null,null,null,null,null,null,null,null,null,null,null,null,null,null,null,null,null,null,null,null,0,0,0,0,0,0,0,0,0,0,null,null,0,0,0,0,0,0,0,0,0,0,null,null,0,0,0,0,0,0,0,0,0,0,null,null,0,0,0,0,0,0,0,0,0,0,null,null,0,0,0,0,0,0,0,0,0,0]
[null,null,null,null,null,null,null,null,null,null,null,null,null,null,null,null,null,null,null,null,null,null,null,null,null,null,null,null,null,null,null,null,0,0,0,0,0,0,0,0,0,0,null,null,0,0,0,0,0,0,0,0,0,0,null,null,0,0,0,0,0,0,0,0,0,0,null,null,0,0,0,0,0,0,0,0,0,0,null,null,0,0,0,0,0,0,0,0,0,0]
[null,null,null,null,null,null,null,null,null,null,null,null,null,null,null,null,null,null,null,null,null,null,null,null,null,null,null,null,null,null,null,null,0,0,0,0,0,0,0,0,0,0,null,null,0,0,0,0,0,0,0,0,0,0,null,null,0,0,0,0,0,0,0,0,0,0,null,null,0,0,0,0,0,0,0,0,0,0,null,null,0,0,0,0,0,0,0,0,0,0]
[null,null,null,null,null,null,null,null,null,null,null,null,null,null,null,null,null,null,null,null,null,null,null,null,null,null,null,null,null,null,null,null,0,0,0,0,0,0,0,0,0,0,null,null,0,0,0,0,0,0,0,0,0,0,null,null,0,0,0,0,0,0,0,0,0,0,null,null,0,0,0,0,0,0,0,0,0,0,null,null,0,0,0,0,0,0,0,0,0,0]
[null,null,null,null,null,null,null,null,null,null,null,null,null,null,null,null,null,null,null,null,null,null,null,null,null,null,null,null,null,null,null,null,0,0,0,0,0,0,0,0,0,0,null,null,0,0,0,0,0,0,0,0,0,0,null,null,0,0,0,0,0,0,0,0,0,0,null,null,0,0,0,0,0,0,0,0,0,0,null,null,0,0,0,0,0,0,0,0,0,0]
[null,null,null,null,null,null,null,null,null,null,null,null,null,null,null,null,null,null,null,null,null,null,null,null,null,null,null,null,null,null,null,null,0,0,0,0,0,0,0,0,0,0,null,null,0,0,0,0,0,0,0,0,0,0,null,null,0,0,0,0,0,0,0,0,0,0,null,null,0,0,0,0,0,0,0,0,0,0,null,null,0,0,0,0,0,0,0,0,0,0]
[null,null,null,null,null,null,null,null,null,null,null,null,null,null,null,null,null,null,null,null,null,null,null,null,null,null,null,null,null,null,null,null,0,0,0,0,0,0,0,0,0,0,null,null,0,0,0,0,0,0,0,0,0,0,null,null,0,0,0,0,0,0,0,0,0,0,null,null,0,0,0,0,0,0,0,0,0,0,null,null,0,0,0,0,0,0,0,0,0,0]
[null,null,null,null,null,null,null,null,null,null,null,null,null,null,null,null,null,null,null,null,null,null,null,null,null,null,null,null,null,null,null,null,0,0,0,0,0,0,0,0,0,0,null,null,0,0,0,0,0,0,0,0,0,0,null,null,0,0,0,0,0,0,0,0,0,0,null,null,0,0,0,0,0,0,0,0,0,0,null,null,0,0,0,0,0,0,0,0,0,0]
[null,null,null,null,null,null,null,null,null,null,null,null,null,null,null,null,null,null,null,null,null,null,null,null,null,null,null,null,null,null,null,null,0,0,0,0,0,0,0,0,0,0,null,null,0,0,0,0,0,0,0,0,0,0,null,null,0,0,0,0,0,0,0,0,0,0,null,null,0,0,0,0,0,0,0,0,0,0,null,null,0,0,0,0,0,0,0,0,0,0]
[null,null,null,null,null,null,null,null,null,null,null,null,null,null,null,null,null,null,null,null,null,null,null,null,null,null,null,null,null,null,null,null,0,0,0,0,0,0,0,0,0,0,null,null,0,0,0,0,0,0,0,0,0,0,null,null,0,0,0,0,0,0,0,0,0,0,null,null,0,0,0,0,0,0,0,0,0,0,null,null,0,0,0,0,0,0,0,0,0,0]
[null,null,null,null,null,null,null,null,null,null,null,null,null,null,null,null,null,null,null,null,null,null,null,null,null,null,null,null,null,null,null,null,0,0,0,0,0,0,0,0,0,0,null,null,0,0,0,0,0,0,0,0,0,0,null,null,0,0,0,0,0,0,0,0,0,0,null,null,0,0,0,0,0,0,0,0,0,0,null,null,0,0,0,0,0,0,0,0,0,0]
[null,null,null,null,null,null,null,null,null,null,null,null,null,null,null,null,null,null,null,null,null,null,null,null,null,null,null,null,null,null,null,null,0,0,0,0,0,0,0,0,0,0,null,null,0,0,0,0,0,0,0,0,0,0,null,null,0,0,0,0,0,0,0,0,0,0,null,null,0,0,0,0,0,0,0,0,0,0,null,null,0,0,0,0,0,0,0,0,0,0]
[null,null,null,null,null,null,null,null,null,null,null,null,null,null,null,null,null,null,null,null,null,null,null,null,null,null,null,null,null,null,null,null,0,0,0,0,0,0,0,0,0,0,null,null,0,0,0,0,0,0,0,0,0,0,null,null,0,0,0,0,0,0,0,0,0,0,null,null,0,0,0,0,0,0,0,0,0,0,null,null,0,0,0,0,0,0,0,0,0,0]
[null,null,null,null,null,null,null,null,null,null,null,null,null,null,null,null,null,null,null,null,null,null,null,null,null,null,null,null,null,null,null,null,0,0,0,0,0,0,0,0,0,0,null,null,0,0,0,0,0,0,0,0,0,0,null,null,0,0,0,0,0,0,0,0,0,0,null,null,0,0,0,0,0,0,0,0,0,0,null,null,0,0,0,0,0,0,0,0,0,0]
[null,null,null,null,null,null,null,null,null,null,null,null,null,null,null,null,null,null,null,null,null,null,null,null,null,null,null,null,null,null,null,null,0,0,0,0,0,0,0,0,0,0,null,null,0,0,0,0,0,0,0,0,0,0,null,null,0,0,0,0,0,0,0,0,0,0,null,null,0,0,0,0,0,0,0,0,0,0,null,null,0,0,0,0,0,0,0,0,0,0]
[null,null,null,null,null,null,null,null,null,null,null,null,null,null,null,null,null,null,null,null,null,null,null,null,null,null,null,null,null,null,null,null,0,0,0,0,0,0,0,0,0,0,null,null,0,0,0,0,0,0,0,0,0,0,null,null,0,0,0,0,0,0,0,0,0,0,null,null,0,0,0,0,0,0,0,0,0,0,null,null,0,0,0,0,0,0,0,0,0,0]
[null,null,null,null,null,null,null,null,null,null,null,null,null,null,null,null,null,null,null,null,null,null,null,null,null,null,null,null,null,null,null,null,0,0,0,0,0,0,0,0,0,0,null,null,0,0,0,0,0,0,0,0,0,0,null,null,0,0,0,0,0,0,0,0,0,0,null,null,0,0,0,0,0,0,0,0,0,0,null,null,0,0,0,0,0,0,0,0,0,0]
[null,null,null,null,null,null,null,null,null,null,null,null,null,null,null,null,null,null,null,null,null,null,null,null,null,null,null,null,null,null,null,null,0,0,0,0,0,0,0,0,0,0,null,null,0,0,0,0,0,0,0,0,0,0,null,null,0,0,0,0,0,0,0,0,0,0,null,null,0,0,0,0,0,0,0,0,0,0,null,null,0,0,0,0,0,0,0,0,0,0]
[null,null,null,null,null,null,null,null,null,null,null,null,null,null,null,null,null,null,null,null,null,null,null,null,null,null,null,null,null,null,null,null,0,0,0,0,0,0,0,0,0,0,null,null,0,0,0,0,0,0,0,0,0,0,null,null,0,0,0,0,0,0,0,0,0,0,null,null,0,0,0,0,0,0,0,0,0,0,null,null,0,0,0,0,0,0,0,0,0,0]
[null,null,null,null,null,null,null,null,null,null,null,null,null,null,null,null,null,null,null,null,null,null,null,null,null,null,null,null,null,null,null,null,0,0,0,0,0,0,0,0,0,0,null,null,0,0,0,0,0,0,0,0,0,0,null,null,0,0,0,0,0,0,0,0,0,0,null,null,0,0,0,0,0,0,0,0,0,0,null,null,0,0,0,0,0,0,0,0,0,0]
[null,null,null,null,null,null,null,null,null,null,null,null,null,null,null,null,null,null,null,null,null,null,null,null,null,null,null,null,null,null,null,null,0,0,0,0,0,0,0,0,0,0,null,null,0,0,0,0,0,0,0,0,0,0,null,null,0,0,0,0,0,0,0,0,0,0,null,null,0,0,0,0,0,0,0,0,0,0,null,null,0,0,0,0,0,0,0,0,0,0]
[null,null,null,null,null,null,null,null,null,null,null,null,null,null,null,null,null,null,null,null,null,null,null,null,null,null,null,null,null,null,null,null,0,0,0,0,0,0,0,0,0,0,null,null,0,0,0,0,0,0,0,0,0,0,null,null,0,0,0,0,0,0,0,0,0,0,null,null,0,0,0,0,0,0,0,0,0,0,null,null,0,0,0,0,0,0,0,0,0,0]
[null,null,null,null,null,null,null,null,null,null,null,null,null,null,null,null,null,null,null,null,null,null,null,null,null,null,null,null,null,null,null,null,0,0,0,0,0,0,0,0,0,0,null,null,0,0,0,0,0,0,0,0,0,0,null,null,0,0,0,0,0,0,0,0,0,0,null,null,0,0,0,0,0,0,0,0,0,0,null,null,0,0,0,0,0,0,0,0,0,0]
[null,null,null,null,null,null,null,null,null,null,null,null,null,null,null,null,null,null,null,null,null,null,null,null,null,null,null,null,null,null,null,null,0,0,0,0,0,0,0,0,0,0,null,null,0,0,0,0,0,0,0,0,0,0,null,null,0,0,0,0,0,0,0,0,0,0,null,null,0,0,0,0,0,0,0,0,0,0,null,null,0,0,0,0,0,0,0,0,0,0]
[null,null,null,null,null,null,null,null,null,null,null,null,null,null,null,null,null,null,null,null,null,null,null,null,null,null,null,null,null,null,null,null,0,0,0,0,0,0,0,0,0,0,null,null,0,0,0,0,0,0,0,0,0,0,null,null,0,0,0,0,0,0,0,0,0,0,null,null,0,0,0,0,0,0,0,0,0,0,null,null,0,0,0,0,0,0,0,0,0,0]
[null,null,null,null,null,null,null,null,null,null,null,null,null,null,null,null,null,null,null,null,null,null,null,null,null,null,null,null,null,null,null,null,0,0,0,0,0,0,0,0,0,0,null,null,0,0,0,0,0,0,0,0,0,0,null,null,0,0,0,0,0,0,0,0,0,0,null,null,0,0,0,0,0,0,0,0,0,0,null,null,0,0,0,0,0,0,0,0,0,0]
[null,null,null,null,null,null,null,null,null,null,null,null,null,null,null,null,null,null,null,null,null,null,null,null,null,null,null,null,null,null,null,null,0,0,0,0,0,0,0,0,0,0,null,null,0,0,0,0,0,0,0,0,0,0,null,null,0,0,0,0,0,0,0,0,0,0,null,null,0,0,0,0,0,0,0,0,0,0,null,null,0,0,0,0,0,0,0,0,0,0]
[null,null,null,null,null,null,null,null,null,null,null,null,null,null,null,null,null,null,null,null,null,null,null,null,null,null,null,null,null,null,null,null,0,0,0,0,0,0,0,0,0,0,null,null,0,0,0,0,0,0,0,0,0,0,null,null,0,0,0,0,0,0,0,0,0,0,null,null,0,0,0,0,0,0,0,0,0,0,null,null,0,0,0,0,0,0,0,0,0,0]
[null,null,null,null,null,null,null,null,null,null,null,null,null,null,null,null,null,null,null,null,null,null,null,null,null,null,null,null,null,null,null,null,0,0,0,0,0,0,0,0,0,0,null,null,0,0,0,0,0,0,0,0,0,0,null,null,0,0,0,0,0,0,0,0,0,0,null,null,0,0,0,0,0,0,0,0,0,0,null,null,0,0,0,0,0,0,0,0,0,0]
[null,null,null,null,null,null,null,null,null,null,null,null,null,null,null,null,null,null,null,null,null,null,null,null,null,null,null,null,null,null,null,null,0,0,0,0,0,0,0,0,0,0,null,null,0,0,0,0,0,0,0,0,0,0,null,null,0,0,0,0,0,0,0,0,0,0,null,null,0,0,0,0,0,0,0,0,0,0,null,null,0,0,0,0,0,0,0,0,0,0]
[null,null,null,null,null,null,null,null,null,null,null,null,null,null,null,null,null,null,null,null,null,null,null,null,null,null,null,null,null,null,null,null,0,0,0,0,0,0,0,0,0,0,null,null,0,0,0,0,0,0,0,0,0,0,null,null,0,0,0,0,0,0,0,0,0,0,null,null,0,0,0,0,0,0,0,0,0,0,null,null,0,0,0,0,0,0,0,0,0,0]
[null,null,null,null,null,null,null,null,null,null,null,null,null,null,null,null,null,null,null,null,null,null,null,null,null,null,null,null,null,null,null,null,0,0,0,0,0,0,0,0,0,0,null,null,0,0,0,0,0,0,0,0,0,0,null,null,0,0,0,0,0,0,0,0,0,0,null,null,0,0,0,0,0,0,0,0,0,0,null,null,0,0,0,0,0,0,0,0,0,0]
[null,null,null,null,null,null,null,null,null,null,null,null,null,null,null,null,null,null,null,null,null,null,null,null,null,null,null,null,null,null,null,null,0,0,0,0,0,0,0,0,0,0,null,null,0,0,0,0,0,0,0,0,0,0,null,null,0,0,0,0,0,0,0,0,0,0,null,null,0,0,0,0,0,0,0,0,0,0,null,null,0,0,0,0,0,0,0,0,0,0]
[null,null,null,null,null,null,null,null,null,null,null,null,null,null,null,null,null,null,null,null,null,null,null,null,null,null,null,null,null,null,null,null,0,0,0,0,0,0,0,0,0,0,null,null,0,0,0,0,0,0,0,0,0,0,null,null,0,0,0,0,0,0,0,0,0,0,null,null,0,0,0,0,0,0,0,0,0,0,null,null,0,0,0,0,0,0,0,0,0,0]
[null,null,null,null,null,null,null,null,null,null,null,null,null,null,null,null,null,null,null,null,null,null,null,null,null,null,null,null,null,null,null,null,0,0,0,0,0,0,0,0,0,0,null,null,0,0,0,0,0,0,0,0,0,0,null,null,0,0,0,0,0,0,0,0,0,0,null,null,0,0,0,0,0,0,0,0,0,0,null,null,0,0,0,0,0,0,0,0,0,0]
[null,null,null,null,null,null,null,null,null,null,null,null,null,null,null,null,null,null,null,null,null,null,null,null,null,null,null,null,null,null,null,null,0,0,0,0,0,0,0,0,0,0,null,null,0,0,0,0,0,0,0,0,0,0,null,null,0,0,0,0,0,0,0,0,0,0,null,null,0,0,0,0,0,0,0,0,0,0,null,null,0,0,0,0,0,0,0,0,0,0]
[null,null,null,null,null,null,null,null,null,null,null,null,null,null,null,null,null,null,null,null,null,null,null,null,null,null,null,null,null,null,null,null,0,0,0,0,0,0,0,0,0,0,null,null,0,0,0,0,0,0,0,0,0,0,null,null,0,0,0,0,0,0,0,0,0,0,null,null,0,0,0,0,0,0,0,0,0,0,null,null,0,0,0,0,0,0,0,0,0,0]
[null,null,null,null,null,null,null,null,null,null,null,null,null,null,null,null,null,null,null,null,null,null,null,null,null,null,null,null,null,null,null,null,0,0,0,0,0,0,0,0,0,0,null,null,0,0,0,0,0,0,0,0,0,0,null,null,0,0,0,0,0,0,0,0,0,0,null,null,0,0,0,0,0,0,0,0,0,0,null,null,0,0,0,0,0,0,0,0,0,0]
[null,null,null,null,null,null,null,null,null,null,null,null,null,null,null,null,null,null,null,null,null,null,null,null,null,null,null,null,null,null,null,null,0,0,0,0,0,0,0,0,0,0,null,null,0,0,0,0,0,0,0,0,0,0,null,null,0,0,0,0,0,0,0,0,0,0,null,null,0,0,0,0,0,0,0,0,0,0,null,null,0,0,0,0,0,0,0,0,0,0]
[null,null,null,null,null,null,null,null,null,null,null,null,null,null,null,null,null,null,null,null,null,null,null,null,null,null,null,null,null,null,null,null,0,0,0,0,0,0,0,0,0,0,null,null,0,0,0,0,0,0,0,0,0,0,null,null,0,0,0,0,0,0,0,0,0,0,null,null,0,0,0,0,0,0,0,0,0,0,null,null,0,0,0,0,0,0,0,0,0,0]
[null,null,null,null,null,null,null,null,null,null,null,null,null,null,null,null,null,null,null,null,null,null,null,null,null,null,null,null,null,null,null,null,0,0,0,0,0,0,0,0,0,0,null,null,0,0,0,0,0,0,0,0,0,0,null,null,0,0,0,0,0,0,0,0,0,0,null,null,0,0,0,0,0,0,0,0,0,0,null,null,0,0,0,0,0,0,0,0,0,0]
[null,null,null,null,null,null,null,null,null,null,null,null,null,null,null,null,null,null,null,null,null,null,null,null,null,null,null,null,null,null,null,null,0,0,0,0,0,0,0,0,0,0,null,null,0,0,0,0,0,0,0,0,0,0,null,null,0,0,0,0,0,0,0,0,0,0,null,null,0,0,0,0,0,0,0,0,0,0,null,null,0,0,0,0,0,0,0,0,0,0]
[null,null,null,null,null,null,null,null,null,null,null,null,null,null,null,null,null,null,null,null,null,null,null,null,null,null,null,null,null,null,null,null,0,0,0,0,0,0,0,0,0,0,null,null,0,0,0,0,0,0,0,0,0,0,null,null,0,0,0,0,0,0,0,0,0,0,null,null,0,0,0,0,0,0,0,0,0,0,null,null,0,0,0,0,0,0,0,0,0,0]
[null,null,null,null,null,null,null,null,null,null,null,null,null,null,null,null,null,null,null,null,null,null,null,null,null,null,null,null,null,null,null,null,0,0,0,0,0,0,0,0,0,0,null,null,0,0,0,0,0,0,0,0,0,0,null,null,0,0,0,0,0,0,0,0,0,0,null,null,0,0,0,0,0,0,0,0,0,0,null,null,0,0,0,0,0,0,0,0,0,0]
[null,null,null,null,null,null,null,null,null,null,null,null,null,null,null,null,null,null,null,null,null,null,null,null,null,null,null,null,null,null,null,null,0,0,0,0,0,0,0,0,0,0,null,null,0,0,0,0,0,0,0,0,0,0,null,null,0,0,0,0,0,0,0,0,0,0,null,null,0,0,0,0,0,0,0,0,0,0,null,null,0,0,0,0,0,0,0,0,0,0]
[null,null,null,null,null,null,null,null,null,null,null,null,null,null,null,null,null,null,null,null,null,null,null,null,null,null,null,null,null,null,null,null,0,0,0,0,0,0,0,0,0,0,null,null,0,0,0,0,0,0,0,0,0,0,null,null,0,0,0,0,0,0,0,0,0,0,null,null,0,0,0,0,0,0,0,0,0,0,null,null,0,0,0,0,0,0,0,0,0,0]
[null,null,null,null,null,null,null,null,null,null,null,null,null,null,null,null,null,null,null,null,null,null,null,null,null,null,null,null,null,null,null,null,0,0,0,0,0,0,0,0,0,0,null,null,0,0,0,0,0,0,0,0,0,0,null,null,0,0,0,0,0,0,0,0,0,0,null,null,0,0,0,0,0,0,0,0,0,0,null,null,0,0,0,0,0,0,0,0,0,0]
[null,null,null,null,null,null,null,null,null,null,null,null,null,null,null,null,null,null,null,null,null,null,null,null,null,null,null,null,null,null,null,null,0,0,0,0,0,0,0,0,0,0,null,null,0,0,0,0,0,0,0,0,0,0,null,null,0,0,0,0,0,0,0,0,0,0,null,null,0,0,0,0,0,0,0,0,0,0,null,null,0,0,0,0,0,0,0,0,0,0]
[null,null,null,null,null,null,null,null,null,null,null,null,null,null,null,null,null,null,null,null,null,null,null,null,null,null,null,null,null,null,null,null,0,0,0,0,0,0,0,0,0,0,null,null,0,0,0,0,0,0,0,0,0,0,null,null,0,0,0,0,0,0,0,0,0,0,null,null,0,0,0,0,0,0,0,0,0,0,null,null,0,0,0,0,0,0,0,0,0,0]
[null,null,null,null,null,null,null,null,null,null,null,null,null,null,null,null,null,null,null,null,null,null,null,null,null,null,null,null,null,null,null,null,0,0,0,0,0,0,0,0,0,0,null,null,0,0,0,0,0,0,0,0,0,0,null,null,0,0,0,0,0,0,0,0,0,0,null,null,0,0,0,0,0,0,0,0,0,0,null,null,0,0,0,0,0,0,0,0,0,0]
[null,null,null,null,null,null,null,null,null,null,null,null,null,null,null,null,null,null,null,null,null,null,null,null,null,null,null,null,null,null,null,null,0,0,0,0,0,0,0,0,0,0,null,null,0,0,0,0,0,0,0,0,0,0,null,null,0,0,0,0,0,0,0,0,0,0,null,null,0,0,0,0,0,0,0,0,0,0,null,null,0,0,0,0,0,0,0,0,0,0]
[null,null,null,null,null,null,null,null,null,null,null,null,null,null,null,null,null,null,null,null,null,null,null,null,null,null,null,null,null,null,null,null,0,0,0,0,0,0,0,0,0,0,null,null,0,0,0,0,0,0,0,0,0,0,null,null,0,0,0,0,0,0,0,0,0,0,null,null,0,0,0,0,0,0,0,0,0,0,null,null,0,0,0,0,0,0,0,0,0,0]
[null,null,null,null,null,null,null,null,null,null,null,null,null,null,null,null,null,null,null,null,null,null,null,null,null,null,null,null,null,null,null,null,0,0,0,0,0,0,0,0,0,0,null,null,0,0,0,0,0,0,0,0,0,0,null,null,0,0,0,0,0,0,0,0,0,0,null,null,0,0,0,0,0,0,0,0,0,0,null,null,0,0,0,0,0,0,0,0,0,0]
[null,null,null,null,null,null,null,null,null,null,null,null,null,null,null,null,null,null,null,null,null,null,null,null,null,null,null,null,null,null,null,null,0,0,0,0,0,0,0,0,0,0,null,null,0,0,0,0,0,0,0,0,0,0,null,null,0,0,0,0,0,0,0,0,0,0,null,null,0,0,0,0,0,0,0,0,0,0,null,null,0,0,0,0,0,0,0,0,0,0]
[null,null,null,null,null,null,null,null,null,null,null,null,null,null,null,null,null,null,null,null,null,null,null,null,null,null,null,null,null,null,null,null,0,0,0,0,0,0,0,0,0,0,null,null,0,0,0,0,0,0,0,0,0,0,null,null,0,0,0,0,0,0,0,0,0,0,null,null,0,0,0,0,0,0,0,0,0,0,null,null,0,0,0,0,0,0,0,0,0,0]
[null,null,null,null,null,null,null,null,null,null,null,null,null,null,null,null,null,null,null,null,null,null,null,null,null,null,null,null,null,null,null,null,0,0,0,0,0,0,0,0,0,0,null,null,0,0,0,0,0,0,0,0,0,0,null,null,0,0,0,0,0,0,0,0,0,0,null,null,0,0,0,0,0,0,0,0,0,0,null,null,0,0,0,0,0,0,0,0,0,0]
[null,null,null,null,null,null,null,null,null,null,null,null,null,null,null,null,null,null,null,null,null,null,null,null,null,null,null,null,null,null,null,null,0,0,0,0,0,0,0,0,0,0,null,null,0,0,0,0,0,0,0,0,0,0,null,null,0,0,0,0,0,0,0,0,0,0,null,null,0,0,0,0,0,0,0,0,0,0,null,null,0,0,0,0,0,0,0,0,0,0]
[null,null,null,null,null,null,null,null,null,null,null,null,null,null,null,null,null,null,null,null,null,null,null,null,null,null,null,null,null,null,null,null,0,0,0,0,0,0,0,0,0,0,null,null,0,0,0,0,0,0,0,0,0,0,null,null,0,0,0,0,0,0,0,0,0,0,null,null,0,0,0,0,0,0,0,0,0,0,null,null,0,0,0,0,0,0,0,0,0,0]
[null,null,null,null,null,null,null,null,null,null,null,null,null,null,null,null,null,null,null,null,null,null,null,null,null,null,null,null,null,null,null,null,0,0,0,0,0,0,0,0,0,0,null,null,0,0,0,0,0,0,0,0,0,0,null,null,0,0,0,0,0,0,0,0,0,0,null,null,0,0,0,0,0,0,0,0,0,0,null,null,0,0,0,0,0,0,0,0,0,0]
[null,null,null,null,null,null,null,null,null,null,null,null,null,null,null,null,null,null,null,null,null,null,null,null,null,null,null,null,null,null,null,null,0,0,0,0,0,0,0,0,0,0,null,null,0,0,0,0,0,0,0,0,0,0,null,null,0,0,0,0,0,0,0,0,0,0,null,null,0,0,0,0,0,0,0,0,0,0,null,null,0,0,0,0,0,0,0,0,0,0]
[null,null,null,null,null,null,null,null,null,null,null,null,null,null,null,null,null,null,null,null,null,null,null,null,null,null,null,null,null,null,null,null,0,0,0,0,0,0,0,0,0,0,null,null,0,0,0,0,0,0,0,0,0,0,null,null,0,0,0,0,0,0,0,0,0,0,null,null,0,0,0,0,0,0,0,0,0,0,null,null,0,0,0,0,0,0,0,0,0,0]
[null,null,null,null,null,null,null,null,null,null,null,null,null,null,null,null,null,null,null,null,null,null,null,null,null,null,null,null,null,null,null,null,0,0,0,0,0,0,0,0,0,0,null,null,0,0,0,0,0,0,0,0,0,0,null,null,0,0,0,0,0,0,0,0,0,0,null,null,0,0,0,0,0,0,0,0,0,0,null,null,0,0,0,0,0,0,0,0,0,0]
[null,null,null,null,null,null,null,null,null,null,null,null,null,null,null,null,null,null,null,null,null,null,null,null,null,null,null,null,null,null,null,null,0,0,0,0,0,0,0,0,0,0,null,null,0,0,0,0,0,0,0,0,0,0,null,null,0,0,0,0,0,0,0,0,0,0,null,null,0,0,0,0,0,0,0,0,0,0,null,null,0,0,0,0,0,0,0,0,0,0]
[null,null,null,null,null,null,null,null,null,null,null,null,null,null,null,null,null,null,null,null,null,null,null,null,null,null,null,null,null,null,null,null,0,0,0,0,0,0,0,0,0,0,null,null,0,0,0,0,0,0,0,0,0,0,null,null,0,0,0,0,0,0,0,0,0,0,null,null,0,0,0,0,0,0,0,0,0,0,null,null,0,0,0,0,0,0,0,0,0,0]
[null,null,null,null,null,null,null,null,null,null,null,null,null,null,null,null,null,null,null,null,null,null,null,null,null,null,null,null,null,null,null,null,0,0,0,0,0,0,0,0,0,0,null,null,0,0,0,0,0,0,0,0,0,0,null,null,0,0,0,0,0,0,0,0,0,0,null,null,0,0,0,0,0,0,0,0,0,0,null,null,0,0,0,0,0,0,0,0,0,0]
[null,null,null,null,null,null,null,null,null,null,null,null,null,null,null,null,null,null,null,null,null,null,null,null,null,null,null,null,null,null,null,null,0,0,0,0,0,0,0,0,0,0,null,null,0,0,0,0,0,0,0,0,0,0,null,null,0,0,0,0,0,0,0,0,0,0,null,null,0,0,0,0,0,0,0,0,0,0,null,null,0,0,0,0,0,0,0,0,0,0]
[null,null,null,null,null,null,null,null,null,null,null,null,null,null,null,null,null,null,null,null,null,null,null,null,null,null,null,null,null,null,null,null,0,0,0,0,0,0,0,0,0,0,null,null,0,0,0,0,0,0,0,0,0,0,null,null,0,0,0,0,0,0,0,0,0,0,null,null,0,0,0,0,0,0,0,0,0,0,null,null,0,0,0,0,0,0,0,0,0,0]
[null,null,null,null,null,null,null,null,null,null,null,null,null,null,null,null,null,null,null,null,null,null,null,null,null,null,null,null,null,null,null,null,0,0,0,0,0,0,0,0,0,0,null,null,0,0,0,0,0,0,0,0,0,0,null,null,0,0,0,0,0,0,0,0,0,0,null,null,0,0,0,0,0,0,0,0,0,0,null,null,0,0,0,0,0,0,0,0,0,0]
[null,null,null,null,null,null,null,null,null,null,null,null,null,null,null,null,null,null,null,null,null,null,null,null,null,null,null,null,null,null,null,null,0,0,0,0,0,0,0,0,0,0,null,null,0,0,0,0,0,0,0,0,0,0,null,null,0,0,0,0,0,0,0,0,0,0,null,null,0,0,0,0,0,0,0,0,0,0,null,null,0,0,0,0,0,0,0,0,0,0]
[null,null,null,null,null,null,null,null,null,null,null,null,null,null,null,null,null,null,null,null,null,null,null,null,null,null,null,null,null,null,null,null,0,0,0,0,0,0,0,0,0,0,null,null,0,0,0,0,0,0,0,0,0,0,null,null,0,0,0,0,0,0,0,0,0,0,null,null,0,0,0,0,0,0,0,0,0,0,null,null,0,0,0,0,0,0,0,0,0,0]
[null,null,null,null,null,null,null,null,null,null,null,null,null,null,null,null,null,null,null,null,null,null,null,null,null,null,null,null,null,null,null,null,0,0,0,0,0,0,0,0,0,0,null,null,0,0,0,0,0,0,0,0,0,0,null,null,0,0,0,0,0,0,0,0,0,0,null,null,0,0,0,0,0,0,0,0,0,0,null,null,0,0,0,0,0,0,0,0,0,0]
[null,null,null,null,null,null,null,null,null,null,null,null,null,null,null,null,null,null,null,null,null,null,null,null,null,null,null,null,null,null,null,null,0,0,0,0,0,0,0,0,0,0,null,null,0,0,0,0,0,0,0,0,0,0,null,null,0,0,0,0,0,0,0,0,0,0,null,null,0,0,0,0,0,0,0,0,0,0,null,null,0,0,0,0,0,0,0,0,0,0]
[null,null,null,null,null,null,null,null,null,null,null,null,null,null,null,null,null,null,null,null,null,null,null,null,null,null,null,null,null,null,null,null,0,0,0,0,0,0,0,0,0,0,null,null,0,0,0,0,0,0,0,0,0,0,null,null,0,0,0,0,0,0,0,0,0,0,null,null,0,0,0,0,0,0,0,0,0,0,null,null,0,0,0,0,0,0,0,0,0,0]
[null,null,null,null,null,null,null,null,null,null,null,null,null,null,null,null,null,null,null,null,null,null,null,null,null,null,null,null,null,null,null,null,0,0,0,0,0,0,0,0,0,0,null,null,0,0,0,0,0,0,0,0,0,0,null,null,0,0,0,0,0,0,0,0,0,0,null,null,0,0,0,0,0,0,0,0,0,0,null,null,0,0,0,0,0,0,0,0,0,0]
[null,null,null,null,null,null,null,null,null,null,null,null,null,null,null,null,null,null,null,null,null,null,null,null,null,null,null,null,null,null,null,null,0,0,0,0,0,0,0,0,0,0,null,null,0,0,0,0,0,0,0,0,0,0,null,null,0,0,0,0,0,0,0,0,0,0,null,null,0,0,0,0,0,0,0,0,0,0,null,null,0,0,0,0,0,0,0,0,0,0]
[null,null,null,null,null,null,null,null,null,null,null,null,null,null,null,null,null,null,null,null,null,null,null,null,null,null,null,null,null,null,null,null,0,0,0,0,0,0,0,0,0,0,null,null,0,0,0,0,0,0,0,0,0,0,null,null,0,0,0,0,0,0,0,0,0,0,null,null,0,0,0,0,0,0,0,0,0,0,null,null,0,0,0,0,0,0,0,0,0,0]
[null,null,null,null,null,null,null,null,null,null,null,null,null,null,null,null,null,null,null,null,null,null,null,null,null,null,null,null,null,null,null,null,0,0,0,0,0,0,0,0,0,0,null,null,0,0,0,0,0,0,0,0,0,0,null,null,0,0,0,0,0,0,0,0,0,0,null,null,0,0,0,0,0,0,0,0,0,0,null,null,0,0,0,0,0,0,0,0,0,0]
[null,null,null,null,null,null,null,null,null,null,null,null,null,null,null,null,null,null,null,null,null,null,null,null,null,null,null,null,null,null,null,null,0,0,0,0,0,0,0,0,0,0,null,null,0,0,0,0,0,0,0,0,0,0,null,null,0,0,0,0,0,0,0,0,0,0,null,null,0,0,0,0,0,0,0,0,0,0,null,null,0,0,0,0,0,0,0,0,0,0]
[null,null,null,null,null,null,null,null,null,null,null,null,null,null,null,null,null,null,null,null,null,null,null,null,null,null,null,null,null,null,null,null,0,0,0,0,0,0,0,0,0,0,null,null,0,0,0,0,0,0,0,0,0,0,null,null,0,0,0,0,0,0,0,0,0,0,null,null,0,0,0,0,0,0,0,0,0,0,null,null,0,0,0,0,0,0,0,0,0,0]
[null,null,null,null,null,null,null,null,null,null,null,null,null,null,null,null,null,null,null,null,null,null,null,null,null,null,null,null,null,null,null,null,0,0,0,0,0,0,0,0,0,0,null,null,0,0,0,0,0,0,0,0,0,0,null,null,0,0,0,0,0,0,0,0,0,0,null,null,0,0,0,0,0,0,0,0,0,0,null,null,0,0,0,0,0,0,0,0,0,0]
[null,null,null,null,null,null,null,null,null,null,null,null,null,null,null,null,null,null,null,null,null,null,null,null,null,null,null,null,null,null,null,null,0,0,0,0,0,0,0,0,0,0,null,null,0,0,0,0,0,0,0,0,0,0,null,null,0,0,0,0,0,0,0,0,0,0,null,null,0,0,0,0,0,0,0,0,0,0,null,null,0,0,0,0,0,0,0,0,0,0]
[null,null,null,null,null,null,null,null,null,null,null,null,null,null,null,null,null,null,null,null,null,null,null,null,null,null,null,null,null,null,null,null,0,0,0,0,0,0,0,0,0,0,null,null,0,0,0,0,0,0,0,0,0,0,null,null,0,0,0,0,0,0,0,0,0,0,null,null,0,0,0,0,0,0,0,0,0,0,null,null,0,0,0,0,0,0,0,0,0,0]
[null,null,null,null,null,null,null,null,null,null,null,null,null,null,null,null,null,null,null,null,null,null,null,null,null,null,null,null,null,null,null,null,0,0,0,0,0,0,0,0,0,0,null,null,0,0,0,0,0,0,0,0,0,0,null,null,0,0,0,0,0,0,0,0,0,0,null,null,0,0,0,0,0,0,0,0,0,0,null,null,0,0,0,0,0,0,0,0,0,0]
[null,null,null,null,null,null,null,null,null,null,null,null,null,null,null,null,null,null,null,null,null,null,null,null,null,null,null,null,null,null,null,null,0,0,0,0,0,0,0,0,0,0,null,null,0,0,0,0,0,0,0,0,0,0,null,null,0,0,0,0,0,0,0,0,0,0,null,null,0,0,0,0,0,0,0,0,0,0,null,null,0,0,0,0,0,0,0,0,0,0]
[null,null,null,null,null,null,null,null,null,null,null,null,null,null,null,null,null,null,null,null,null,null,null,null,null,null,null,null,null,null,null,null,0,0,0,0,0,0,0,0,0,0,null,null,0,0,0,0,0,0,0,0,0,0,null,null,0,0,0,0,0,0,0,0,0,0,null,null,0,0,0,0,0,0,0,0,0,0,null,null,0,0,0,0,0,0,0,0,0,0]
[null,null,null,null,null,null,null,null,null,null,null,null,null,null,null,null,null,null,null,null,null,null,null,null,null,null,null,null,null,null,null,null,0,0,0,0,0,0,0,0,0,0,null,null,0,0,0,0,0,0,0,0,0,0,null,null,0,0,0,0,0,0,0,0,0,0,null,null,0,0,0,0,0,0,0,0,0,0,null,null,0,0,0,0,0,0,0,0,0,0]
[null,null,null,null,null,null,null,null,null,null,null,null,null,null,null,null,null,null,null,null,null,null,null,null,null,null,null,null,null,null,null,null,0,0,0,0,0,0,0,0,0,0,null,null,0,0,0,0,0,0,0,0,0,0,null,null,0,0,0,0,0,0,0,0,0,0,null,null,0,0,0,0,0,0,0,0,0,0,null,null,0,0,0,0,0,0,0,0,0,0]
[null,null,null,null,null,null,null,null,null,null,null,null,null,null,null,null,null,null,null,null,null,null,null,null,null,null,null,null,null,null,null,null,0,0,0,0,0,0,0,0,0,0,null,null,0,0,0,0,0,0,0,0,0,0,null,null,0,0,0,0,0,0,0,0,0,0,null,null,0,0,0,0,0,0,0,0,0,0,null,null,0,0,0,0,0,0,0,0,0,0]
[null,null,null,null,null,null,null,null,null,null,null,null,null,null,null,null,null,null,null,null,null,null,null,null,null,null,null,null,null,null,null,null,0,0,0,0,0,0,0,0,0,0,null,null,0,0,0,0,0,0,0,0,0,0,null,null,0,0,0,0,0,0,0,0,0,0,null,null,0,0,0,0,0,0,0,0,0,0,null,null,0,0,0,0,0,0,0,0,0,0]
[null,null,null,null,null,null,null,null,null,null,null,null,null,null,null,null,null,null,null,null,null,null,null,null,null,null,null,null,null,null,null,null,0,0,0,0,0,0,0,0,0,0,null,null,0,0,0,0,0,0,0,0,0,0,null,null,0,0,0,0,0,0,0,0,0,0,null,null,0,0,0,0,0,0,0,0,0,0,null,null,0,0,0,0,0,0,0,0,0,0]
[null,null,null,null,null,null,null,null,null,null,null,null,null,null,null,null,null,null,null,null,null,null,null,null,null,null,null,null,null,null,null,null,0,0,0,0,0,0,0,0,0,0,null,null,0,0,0,0,0,0,0,0,0,0,null,null,0,0,0,0,0,0,0,0,0,0,null,null,0,0,0,0,0,0,0,0,0,0,null,null,0,0,0,0,0,0,0,0,0,0]
[null,null,null,null,null,null,null,null,null,null,null,null,null,null,null,null,null,null,null,null,null,null,null,null,null,null,null,null,null,null,null,null,0,0,0,0,0,0,0,0,0,0,null,null,0,0,0,0,0,0,0,0,0,0,null,null,0,0,0,0,0,0,0,0,0,0,null,null,0,0,0,0,0,0,0,0,0,0,null,null,0,0,0,0,0,0,0,0,0,0]
[null,null,null,null,null,null,null,null,null,null,null,null,null,null,null,null,null,null,null,null,null,null,null,null,null,null,null,null,null,null,null,null,0,0,0,0,0,0,0,0,0,0,null,null,0,0,0,0,0,0,0,0,0,0,null,null,0,0,0,0,0,0,0,0,0,0,null,null,0,0,0,0,0,0,0,0,0,0,null,null,0,0,0,0,0,0,0,0,0,0]
[null,null,null,null,null,null,null,null,null,null,null,null,null,null,null,null,null,null,null,null,null,null,null,null,null,null,null,null,null,null,null,null,0,0,0,0,0,0,0,0,0,0,null,null,0,0,0,0,0,0,0,0,0,0,null,null,0,0,0,0,0,0,0,0,0,0,null,null,0,0,0,0,0,0,0,0,0,0,null,null,0,0,0,0,0,0,0,0,0,0]
[null,null,null,null,null,null,null,null,null,null,null,null,null,null,null,null,null,null,null,null,null,null,null,null,null,null,null,null,null,null,null,null,0,0,0,0,0,0,0,0,0,0,null,null,0,0,0,0,0,0,0,0,0,0,null,null,0,0,0,0,0,0,0,0,0,0,null,null,0,0,0,0,0,0,0,0,0,0,null,null,0,0,0,0,0,0,0,0,0,0]
[null,null,null,null,null,null,null,null,null,null,null,null,null,null,null,null,null,null,null,null,null,null,null,null,null,null,null,null,null,null,null,null,0,0,0,0,0,0,0,0,0,0,null,null,0,0,0,0,0,0,0,0,0,0,null,null,0,0,0,0,0,0,0,0,0,0,null,null,0,0,0,0,0,0,0,0,0,0,null,null,0,0,0,0,0,0,0,0,0,0]
[null,null,null,null,null,null,null,null,null,null,null,null,null,null,null,null,null,null,null,null,null,null,null,null,null,null,null,null,null,null,null,null,0,0,0,0,0,0,0,0,0,0,null,null,0,0,0,0,0,0,0,0,0,0,null,null,0,0,0,0,0,0,0,0,0,0,null,null,0,0,0,0,0,0,0,0,0,0,null,null,0,0,0,0,0,0,0,0,0,0]
[null,null,null,null,null,null,null,null,null,null,null,null,null,null,null,null,null,null,null,null,null,null,null,null,null,null,null,null,null,null,null,null,0,0,0,0,0,0,0,0,0,0,null,null,0,0,0,0,0,0,0,0,0,0,null,null,0,0,0,0,0,0,0,0,0,0,null,null,0,0,0,0,0,0,0,0,0,0,null,null,0,0,0,0,0,0,0,0,0,0]
[null,null,null,null,null,null,null,null,null,null,null,null,null,null,null,null,null,null,null,null,null,null,null,null,null,null,null,null,null,null,null,null,0,0,0,0,0,0,0,0,0,0,null,null,0,0,0,0,0,0,0,0,0,0,null,null,0,0,0,0,0,0,0,0,0,0,null,null,0,0,0,0,0,0,0,0,0,0,null,null,0,0,0,0,0,0,0,0,0,0]
[null,null,null,null,null,null,null,null,null,null,null,null,null,null,null,null,null,null,null,null,null,null,null,null,null,null,null,null,null,null,null,null,0,0,0,0,0,0,0,0,0,0,null,null,0,0,0,0,0,0,0,0,0,0,null,null,0,0,0,0,0,0,0,0,0,0,null,null,0,0,0,0,0,0,0,0,0,0,null,null,0,0,0,0,0,0,0,0,0,0]
[null,null,null,null,null,null,null,null,null,null,null,null,null,null,null,null,null,null,null,null,null,null,null,null,null,null,null,null,null,null,null,null,0,0,0,0,0,0,0,0,0,0,null,null,0,0,0,0,0,0,0,0,0,0,null,null,0,0,0,0,0,0,0,0,0,0,null,null,0,0,0,0,0,0,0,0,0,0,null,null,0,0,0,0,0,0,0,0,0,0]
[null,null,null,null,null,null,null,null,null,null,null,null,null,null,null,null,null,null,null,null,null,null,null,null,null,null,null,null,null,null,null,null,0,0,0,0,0,0,0,0,0,0,null,null,0,0,0,0,0,0,0,0,0,0,null,null,0,0,0,0,0,0,0,0,0,0,null,null,0,0,0,0,0,0,0,0,0,0,null,null,0,0,0,0,0,0,0,0,0,0]
[null,null,null,null,null,null,null,null,null,null,null,null,null,null,null,null,null,null,null,null,null,null,null,null,null,null,null,null,null,null,null,null,0,0,0,0,0,0,0,0,0,0,null,null,0,0,0,0,0,0,0,0,0,0,null,null,0,0,0,0,0,0,0,0,0,0,null,null,0,0,0,0,0,0,0,0,0,0,null,null,0,0,0,0,0,0,0,0,0,0]
[null,null,null,null,null,null,null,null,null,null,null,null,null,null,null,null,null,null,null,null,null,null,null,null,null,null,null,null,null,null,null,null,0,0,0,0,0,0,0,0,0,0,null,null,0,0,0,0,0,0,0,0,0,0,null,null,0,0,0,0,0,0,0,0,0,0,null,null,0,0,0,0,0,0,0,0,0,0,null,null,0,0,0,0,0,0,0,0,0,0]
[null,null,null,null,null,null,null,null,null,null,null,null,null,null,null,null,null,null,null,null,null,null,null,null,null,null,null,null,null,null,null,null,0,0,0,0,0,0,0,0,0,0,null,null,0,0,0,0,0,0,0,0,0,0,null,null,0,0,0,0,0,0,0,0,0,0,null,null,0,0,0,0,0,0,0,0,0,0,null,null,0,0,0,0,0,0,0,0,0,0]
[null,null,null,null,null,null,null,null,null,null,null,null,null,null,null,null,null,null,null,null,null,null,null,null,null,null,null,null,null,null,null,null,0,0,0,0,0,0,0,0,0,0,null,null,0,0,0,0,0,0,0,0,0,0,null,null,0,0,0,0,0,0,0,0,0,0,null,null,0,0,0,0,0,0,0,0,0,0,null,null,0,0,0,0,0,0,0,0,0,0]
[null,null,null,null,null,null,null,null,null,null,null,null,null,null,null,null,null,null,null,null,null,null,null,null,null,null,null,null,null,null,null,null,0,0,0,0,0,0,0,0,0,0,null,null,0,0,0,0,0,0,0,0,0,0,null,null,0,0,0,0,0,0,0,0,0,0,null,null,0,0,0,0,0,0,0,0,0,0,null,null,0,0,0,0,0,0,0,0,0,0]
[null,null,null,null,null,null,null,null,null,null,null,null,null,null,null,null,null,null,null,null,null,null,null,null,null,null,null,null,null,null,null,null,0,0,0,0,0,0,0,0,0,0,null,null,0,0,0,0,0,0,0,0,0,0,null,null,0,0,0,0,0,0,0,0,0,0,null,null,0,0,0,0,0,0,0,0,0,0,null,null,0,0,0,0,0,0,0,0,0,0]
[null,null,null,null,null,null,null,null,null,null,null,null,null,null,null,null,null,null,null,null,null,null,null,null,null,null,null,null,null,null,null,null,0,0,0,0,0,0,0,0,0,0,null,null,0,0,0,0,0,0,0,0,0,0,null,null,0,0,0,0,0,0,0,0,0,0,null,null,0,0,0,0,0,0,0,0,0,0,null,null,0,0,0,0,0,0,0,0,0,0]
[null,null,null,null,null,null,null,null,null,null,null,null,null,null,null,null,null,null,null,null,null,null,null,null,null,null,null,null,null,null,null,null,0,0,0,0,0,0,0,0,0,0,null,null,0,0,0,0,0,0,0,0,0,0,null,null,0,0,0,0,0,0,0,0,0,0,null,null,0,0,0,0,0,0,0,0,0,0,null,null,0,0,0,0,0,0,0,0,0,0]
[null,null,null,null,null,null,null,null,null,null,null,null,null,null,null,null,null,null,null,null,null,null,null,null,null,null,null,null,null,null,null,null,0,0,0,0,0,0,0,0,0,0,null,null,0,0,0,0,0,0,0,0,0,0,null,null,0,0,0,0,0,0,0,0,0,0,null,null,0,0,0,0,0,0,0,0,0,0,null,null,0,0,0,0,0,0,0,0,0,0]
[null,null,null,null,null,null,null,null,null,null,null,null,null,null,null,null,null,null,null,null,null,null,null,null,null,null,null,null,null,null,null,null,0,0,0,0,0,0,0,0,0,0,null,null,0,0,0,0,0,0,0,0,0,0,null,null,0,0,0,0,0,0,0,0,0,0,null,null,0,0,0,0,0,0,0,0,0,0,null,null,0,0,0,0,0,0,0,0,0,0]
[null,null,null,null,null,null,null,null,null,null,null,null,null,null,null,null,null,null,null,null,null,null,null,null,null,null,null,null,null,null,null,null,0,0,0,0,0,0,0,0,0,0,null,null,0,0,0,0,0,0,0,0,0,0,null,null,0,0,0,0,0,0,0,0,0,0,null,null,0,0,0,0,0,0,0,0,0,0,null,null,0,0,0,0,0,0,0,0,0,0]
[null,null,null,null,null,null,null,null,null,null,null,null,null,null,null,null,null,null,null,null,null,null,null,null,null,null,null,null,null,null,null,null,0,0,0,0,0,0,0,0,0,0,null,null,0,0,0,0,0,0,0,0,0,0,null,null,0,0,0,0,0,0,0,0,0,0,null,null,0,0,0,0,0,0,0,0,0,0,null,null,0,0,0,0,0,0,0,0,0,0]
[null,null,null,null,null,null,null,null,null,null,null,null,null,null,null,null,null,null,null,null,null,null,null,null,null,null,null,null,null,null,null,null,0,0,0,0,0,0,0,0,0,0,null,null,0,0,0,0,0,0,0,0,0,0,null,null,0,0,0,0,0,0,0,0,0,0,null,null,0,0,0,0,0,0,0,0,0,0,null,null,0,0,0,0,0,0,0,0,0,0]
[null,null,null,null,null,null,null,null,null,null,null,null,null,null,null,null,null,null,null,null,null,null,null,null,null,null,null,null,null,null,null,null,0,0,0,0,0,0,0,0,0,0,null,null,0,0,0,0,0,0,0,0,0,0,null,null,0,0,0,0,0,0,0,0,0,0,null,null,0,0,0,0,0,0,0,0,0,0,null,null,0,0,0,0,0,0,0,0,0,0]
[null,null,null,null,null,null,null,null,null,null,null,null,null,null,null,null,null,null,null,null,null,null,null,null,null,null,null,null,null,null,null,null,0,0,0,0,0,0,0,0,0,0,null,null,0,0,0,0,0,0,0,0,0,0,null,null,0,0,0,0,0,0,0,0,0,0,null,null,0,0,0,0,0,0,0,0,0,0,null,null,0,0,0,0,0,0,0,0,0,0]
[null,null,null,null,null,null,null,null,null,null,null,null,null,null,null,null,null,null,null,null,null,null,null,null,null,null,null,null,null,null,null,null,0,0,0,0,0,0,0,0,0,0,null,null,0,0,0,0,0,0,0,0,0,0,null,null,0,0,0,0,0,0,0,0,0,0,null,null,0,0,0,0,0,0,0,0,0,0,null,null,0,0,0,0,0,0,0,0,0,0]
[null,null,null,null,null,null,null,null,null,null,null,null,null,null,null,null,null,null,null,null,null,null,null,null,null,null,null,null,null,null,null,null,0,0,0,0,0,0,0,0,0,0,null,null,0,0,0,0,0,0,0,0,0,0,null,null,0,0,0,0,0,0,0,0,0,0,null,null,0,0,0,0,0,0,0,0,0,0,null,null,0,0,0,0,0,0,0,0,0,0]
[null,null,null,null,null,null,null,null,null,null,null,null,null,null,null,null,null,null,null,null,null,null,null,null,null,null,null,null,null,null,null,null,0,0,0,0,0,0,0,0,0,0,null,null,0,0,0,0,0,0,0,0,0,0,null,null,0,0,0,0,0,0,0,0,0,0,null,null,0,0,0,0,0,0,0,0,0,0,null,null,0,0,0,0,0,0,0,0,0,0]
[null,null,null,null,null,null,null,null,null,null,null,null,null,null,null,null,null,null,null,null,null,null,null,null,null,null,null,null,null,null,null,null,0,0,0,0,0,0,0,0,0,0,null,null,0,0,0,0,0,0,0,0,0,0,null,null,0,0,0,0,0,0,0,0,0,0,null,null,0,0,0,0,0,0,0,0,0,0,null,null,0,0,0,0,0,0,0,0,0,0]
[null,null,null,null,null,null,null,null,null,null,null,null,null,null,null,null,null,null,null,null,null,null,null,null,null,null,null,null,null,null,null,null,0,0,0,0,0,0,0,0,0,0,null,null,0,0,0,0,0,0,0,0,0,0,null,null,0,0,0,0,0,0,0,0,0,0,null,null,0,0,0,0,0,0,0,0,0,0,null,null,0,0,0,0,0,0,0,0,0,0]
[null,null,null,null,null,null,null,null,null,null,null,null,null,null,null,null,null,null,null,null,null,null,null,null,null,null,null,null,null,null,null,null,0,0,0,0,0,0,0,0,0,0,null,null,0,0,0,0,0,0,0,0,0,0,null,null,0,0,0,0,0,0,0,0,0,0,null,null,0,0,0,0,0,0,0,0,0,0,null,null,0,0,0,0,0,0,0,0,0,0]
[null,null,null,null,null,null,null,null,null,null,null,null,null,null,null,null,null,null,null,null,null,null,null,null,null,null,null,null,null,null,null,null,0,0,0,0,0,0,0,0,0,0,null,null,0,0,0,0,0,0,0,0,0,0,null,null,0,0,0,0,0,0,0,0,0,0,null,null,0,0,0,0,0,0,0,0,0,0,null,null,0,0,0,0,0,0,0,0,0,0]
[null,null,null,null,null,null,null,null,null,null,null,null,null,null,null,null,null,null,null,null,null,null,null,null,null,null,null,null,null,null,null,null,0,0,0,0,0,0,0,0,0,0,null,null,0,0,0,0,0,0,0,0,0,0,null,null,0,0,0,0,0,0,0,0,0,0,null,null,0,0,0,0,0,0,0,0,0,0,null,null,0,0,0,0,0,0,0,0,0,0]
[null,null,null,null,null,null,null,null,null,null,null,null,null,null,null,null,null,null,null,null,null,null,null,null,null,null,null,null,null,null,null,null,0,0,0,0,0,0,0,0,0,0,null,null,0,0,0,0,0,0,0,0,0,0,null,null,0,0,0,0,0,0,0,0,0,0,null,null,0,0,0,0,0,0,0,0,0,0,null,null,0,0,0,0,0,0,0,0,0,0]
[null,null,null,null,null,null,null,null,null,null,null,null,null,null,null,null,null,null,null,null,null,null,null,null,null,null,null,null,null,null,null,null,0,0,0,0,0,0,0,0,0,0,null,null,0,0,0,0,0,0,0,0,0,0,null,null,0,0,0,0,0,0,0,0,0,0,null,null,0,0,0,0,0,0,0,0,0,0,null,null,0,0,0,0,0,0,0,0,0,0]
[null,null,null,null,null,null,null,null,null,null,null,null,null,null,null,null,null,null,null,null,null,null,null,null,null,null,null,null,null,null,null,null,0,0,0,0,0,0,0,0,0,0,null,null,0,0,0,0,0,0,0,0,0,0,null,null,0,0,0,0,0,0,0,0,0,0,null,null,0,0,0,0,0,0,0,0,0,0,null,null,0,0,0,0,0,0,0,0,0,0]
[null,null,null,null,null,null,null,null,null,null,null,null,null,null,null,null,null,null,null,null,null,null,null,null,null,null,null,null,null,null,null,null,0,0,0,0,0,0,0,0,0,0,null,null,0,0,0,0,0,0,0,0,0,0,null,null,0,0,0,0,0,0,0,0,0,0,null,null,0,0,0,0,0,0,0,0,0,0,null,null,0,0,0,0,0,0,0,0,0,0]
[null,null,null,null,null,null,null,null,null,null,null,null,null,null,null,null,null,null,null,null,null,null,null,null,null,null,null,null,null,null,null,null,0,0,0,0,0,0,0,0,0,0,null,null,0,0,0,0,0,0,0,0,0,0,null,null,0,0,0,0,0,0,0,0,0,0,null,null,0,0,0,0,0,0,0,0,0,0,null,null,0,0,0,0,0,0,0,0,0,0]
[null,null,null,null,null,null,null,null,null,null,null,null,null,null,null,null,null,null,null,null,null,null,null,null,null,null,null,null,null,null,null,null,0,0,0,0,0,0,0,0,0,0,null,null,0,0,0,0,0,0,0,0,0,0,null,null,0,0,0,0,0,0,0,0,0,0,null,null,0,0,0,0,0,0,0,0,0,0,null,null,0,0,0,0,0,0,0,0,0,0]
[null,null,null,null,null,null,null,null,null,null,null,null,null,null,null,null,null,null,null,null,null,null,null,null,null,null,null,null,null,null,null,null,0,0,0,0,0,0,0,0,0,0,null,null,0,0,0,0,0,0,0,0,0,0,null,null,0,0,0,0,0,0,0,0,0,0,null,null,0,0,0,0,0,0,0,0,0,0,null,null,0,0,0,0,0,0,0,0,0,0]
[null,null,null,null,null,null,null,null,null,null,null,null,null,null,null,null,null,null,null,null,null,null,null,null,null,null,null,null,null,null,null,null,0,0,0,0,0,0,0,0,0,0,null,null,0,0,0,0,0,0,0,0,0,0,null,null,0,0,0,0,0,0,0,0,0,0,null,null,0,0,0,0,0,0,0,0,0,0,null,null,0,0,0,0,0,0,0,0,0,0]
[null,null,null,null,null,null,null,null,null,null,null,null,null,null,null,null,null,null,null,null,null,null,null,null,null,null,null,null,null,null,null,null,0,0,0,0,0,0,0,0,0,0,null,null,0,0,0,0,0,0,0,0,0,0,null,null,0,0,0,0,0,0,0,0,0,0,null,null,0,0,0,0,0,0,0,0,0,0,null,null,0,0,0,0,0,0,0,0,0,0]
[null,null,null,null,null,null,null,null,null,null,null,null,null,null,null,null,null,null,null,null,null,null,null,null,null,null,null,null,null,null,null,null,0,0,0,0,0,0,0,0,0,0,null,null,0,0,0,0,0,0,0,0,0,0,null,null,0,0,0,0,0,0,0,0,0,0,null,null,0,0,0,0,0,0,0,0,0,0,null,null,0,0,0,0,0,0,0,0,0,0]
[null,null,null,null,null,null,null,null,null,null,null,null,null,null,null,null,null,null,null,null,null,null,null,null,null,null,null,null,null,null,null,null,0,0,0,0,0,0,0,0,0,0,null,null,0,0,0,0,0,0,0,0,0,0,null,null,0,0,0,0,0,0,0,0,0,0,null,null,0,0,0,0,0,0,0,0,0,0,null,null,0,0,0,0,0,0,0,0,0,0]
[null,null,null,null,null,null,null,null,null,null,null,null,null,null,null,null,null,null,null,null,null,null,null,null,null,null,null,null,null,null,null,null,0,0,0,0,0,0,0,0,0,0,null,null,0,0,0,0,0,0,0,0,0,0,null,null,0,0,0,0,0,0,0,0,0,0,null,null,0,0,0,0,0,0,0,0,0,0,null,null,0,0,0,0,0,0,0,0,0,0]
[null,null,null,null,null,null,null,null,null,null,null,null,null,null,null,null,null,null,null,null,null,null,null,null,null,null,null,null,null,null,null,null,0,0,0,0,0,0,0,0,0,0,null,null,0,0,0,0,0,0,0,0,0,0,null,null,0,0,0,0,0,0,0,0,0,0,null,null,0,0,0,0,0,0,0,0,0,0,null,null,0,0,0,0,0,0,0,0,0,0]
[null,null,null,null,null,null,null,null,null,null,null,null,null,null,null,null,null,null,null,null,null,null,null,null,null,null,null,null,null,null,null,null,0,0,0,0,0,0,0,0,0,0,null,null,0,0,0,0,0,0,0,0,0,0,null,null,0,0,0,0,0,0,0,0,0,0,null,null,0,0,0,0,0,0,0,0,0,0,null,null,0,0,0,0,0,0,0,0,0,0]
[null,null,null,null,null,null,null,null,null,null,null,null,null,null,null,null,null,null,null,null,null,null,null,null,null,null,null,null,null,null,null,null,0,0,0,0,0,0,0,0,0,0,null,null,0,0,0,0,0,0,0,0,0,0,null,null,0,0,0,0,0,0,0,0,0,0,null,null,0,0,0,0,0,0,0,0,0,0,null,null,0,0,0,0,0,0,0,0,0,0]
[null,null,null,null,null,null,null,null,null,null,null,null,null,null,null,null,null,null,null,null,null,null,null,null,null,null,null,null,null,null,null,null,0,0,0,0,0,0,0,0,0,0,null,null,0,0,0,0,0,0,0,0,0,0,null,null,0,0,0,0,0,0,0,0,0,0,null,null,0,0,0,0,0,0,0,0,0,0,null,null,0,0,0,0,0,0,0,0,0,0]
[null,null,null,null,null,null,null,null,null,null,null,null,null,null,null,null,null,null,null,null,null,null,null,null,null,null,null,null,null,null,null,null,0,0,0,0,0,0,0,0,0,0,null,null,0,0,0,0,0,0,0,0,0,0,null,null,0,0,0,0,0,0,0,0,0,0,null,null,0,0,0,0,0,0,0,0,0,0,null,null,0,0,0,0,0,0,0,0,0,0]
[null,null,null,null,null,null,null,null,null,null,null,null,null,null,null,null,null,null,null,null,null,null,null,null,null,null,null,null,null,null,null,null,0,0,0,0,0,0,0,0,0,0,null,null,0,0,0,0,0,0,0,0,0,0,null,null,0,0,0,0,0,0,0,0,0,0,null,null,0,0,0,0,0,0,0,0,0,0,null,null,0,0,0,0,0,0,0,0,0,0]
[null,null,null,null,null,null,null,null,null,null,null,null,null,null,null,null,null,null,null,null,null,null,null,null,null,null,null,null,null,null,null,null,0,0,0,0,0,0,0,0,0,0,null,null,0,0,0,0,0,0,0,0,0,0,null,null,0,0,0,0,0,0,0,0,0,0,null,null,0,0,0,0,0,0,0,0,0,0,null,null,0,0,0,0,0,0,0,0,0,0]
[null,null,null,null,null,null,null,null,null,null,null,null,null,null,null,null,null,null,null,null,null,null,null,null,null,null,null,null,null,null,null,null,0,0,0,0,0,0,0,0,0,0,null,null,0,0,0,0,0,0,0,0,0,0,null,null,0,0,0,0,0,0,0,0,0,0,null,null,0,0,0,0,0,0,0,0,0,0,null,null,0,0,0,0,0,0,0,0,0,0]
[null,null,null,null,null,null,null,null,null,null,null,null,null,null,null,null,null,null,null,null,null,null,null,null,null,null,null,null,null,null,null,null,0,0,0,0,0,0,0,0,0,0,null,null,0,0,0,0,0,0,0,0,0,0,null,null,0,0,0,0,0,0,0,0,0,0,null,null,0,0,0,0,0,0,0,0,0,0,null,null,0,0,0,0,0,0,0,0,0,0]
[null,null,null,null,null,null,null,null,null,null,null,null,null,null,null,null,null,null,null,null,null,null,null,null,null,null,null,null,null,null,null,null,0,0,0,0,0,0,0,0,0,0,null,null,0,0,0,0,0,0,0,0,0,0,null,null,0,0,0,0,0,0,0,0,0,0,null,null,0,0,0,0,0,0,0,0,0,0,null,null,0,0,0,0,0,0,0,0,0,0]
[null,null,null,null,null,null,null,null,null,null,null,null,null,null,null,null,null,null,null,null,null,null,null,null,null,null,null,null,null,null,null,null,0,0,0,0,0,0,0,0,0,0,null,null,0,0,0,0,0,0,0,0,0,0,null,null,0,0,0,0,0,0,0,0,0,0,null,null,0,0,0,0,0,0,0,0,0,0,null,null,0,0,0,0,0,0,0,0,0,0]
[null,null,null,null,null,null,null,null,null,null,null,null,null,null,null,null,null,null,null,null,null,null,null,null,null,null,null,null,null,null,null,null,0,0,0,0,0,0,0,0,0,0,null,null,0,0,0,0,0,0,0,0,0,0,null,null,0,0,0,0,0,0,0,0,0,0,null,null,0,0,0,0,0,0,0,0,0,0,null,null,0,0,0,0,0,0,0,0,0,0]
[null,null,null,null,null,null,null,null,null,null,null,null,null,null,null,null,null,null,null,null,null,null,null,null,null,null,null,null,null,null,null,null,0,0,0,0,0,0,0,0,0,0,null,null,0,0,0,0,0,0,0,0,0,0,null,null,0,0,0,0,0,0,0,0,0,0,null,null,0,0,0,0,0,0,0,0,0,0,null,null,0,0,0,0,0,0,0,0,0,0]
[null,null,null,null,null,null,null,null,null,null,null,null,null,null,null,null,null,null,null,null,null,null,null,null,null,null,null,null,null,null,null,null,0,0,0,0,0,0,0,0,0,0,null,null,0,0,0,0,0,0,0,0,0,0,null,null,0,0,0,0,0,0,0,0,0,0,null,null,0,0,0,0,0,0,0,0,0,0,null,null,0,0,0,0,0,0,0,0,0,0]
[null,null,null,null,null,null,null,null,null,null,null,null,null,null,null,null,null,null,null,null,null,null,null,null,null,null,null,null,null,null,null,null,0,0,0,0,0,0,0,0,0,0,null,null,0,0,0,0,0,0,0,0,0,0,null,null,0,0,0,0,0,0,0,0,0,0,null,null,0,0,0,0,0,0,0,0,0,0,null,null,0,0,0,0,0,0,0,0,0,0]
[null,null,null,null,null,null,null,null,null,null,null,null,null,null,null,null,null,null,null,null,null,null,null,null,null,null,null,null,null,null,null,null,0,0,0,0,0,0,0,0,0,0,null,null,0,0,0,0,0,0,0,0,0,0,null,null,0,0,0,0,0,0,0,0,0,0,null,null,0,0,0,0,0,0,0,0,0,0,null,null,0,0,0,0,0,0,0,0,0,0]
[null,null,null,null,null,null,null,null,null,null,null,null,null,null,null,null,null,null,null,null,null,null,null,null,null,null,null,null,null,null,null,null,0,0,0,0,0,0,0,0,0,0,null,null,0,0,0,0,0,0,0,0,0,0,null,null,0,0,0,0,0,0,0,0,0,0,null,null,0,0,0,0,0,0,0,0,0,0,null,null,0,0,0,0,0,0,0,0,0,0]
[null,null,null,null,null,null,null,null,null,null,null,null,null,null,null,null,null,null,null,null,null,null,null,null,null,null,null,null,null,null,null,null,0,0,0,0,0,0,0,0,0,0,null,null,0,0,0,0,0,0,0,0,0,0,null,null,0,0,0,0,0,0,0,0,0,0,null,null,0,0,0,0,0,0,0,0,0,0,null,null,0,0,0,0,0,0,0,0,0,0]
[null,null,null,null,null,null,null,null,null,null,null,null,null,null,null,null,null,null,null,null,null,null,null,null,null,null,null,null,null,null,null,null,0,0,0,0,0,0,0,0,0,0,null,null,0,0,0,0,0,0,0,0,0,0,null,null,0,0,0,0,0,0,0,0,0,0,null,null,0,0,0,0,0,0,0,0,0,0,null,null,0,0,0,0,0,0,0,0,0,0]
[null,null,null,null,null,null,null,null,null,null,null,null,null,null,null,null,null,null,null,null,null,null,null,null,null,null,null,null,null,null,null,null,0,0,0,0,0,0,0,0,0,0,null,null,0,0,0,0,0,0,0,0,0,0,null,null,0,0,0,0,0,0,0,0,0,0,null,null,0,0,0,0,0,0,0,0,0,0,null,null,0,0,0,0,0,0,0,0,0,0]
[null,null,null,null,null,null,null,null,null,null,null,null,null,null,null,null,null,null,null,null,null,null,null,null,null,null,null,null,null,null,null,null,0,0,0,0,0,0,0,0,0,0,null,null,0,0,0,0,0,0,0,0,0,0,null,null,0,0,0,0,0,0,0,0,0,0,null,null,0,0,0,0,0,0,0,0,0,0,null,null,0,0,0,0,0,0,0,0,0,0]
[null,null,null,null,null,null,null,null,null,null,null,null,null,null,null,null,null,null,null,null,null,null,null,null,null,null,null,null,null,null,null,null,0,0,0,0,0,0,0,0,0,0,null,null,0,0,0,0,0,0,0,0,0,0,null,null,0,0,0,0,0,0,0,0,0,0,null,null,0,0,0,0,0,0,0,0,0,0,null,null,0,0,0,0,0,0,0,0,0,0]
[null,null,null,null,null,null,null,null,null,null,null,null,null,null,null,null,null,null,null,null,null,null,null,null,null,null,null,null,null,null,null,null,0,0,0,0,0,0,0,0,0,0,null,null,0,0,0,0,0,0,0,0,0,0,null,null,0,0,0,0,0,0,0,0,0,0,null,null,0,0,0,0,0,0,0,0,0,0,null,null,0,0,0,0,0,0,0,0,0,0]
[null,null,null,null,null,null,null,null,null,null,null,null,null,null,null,null,null,null,null,null,null,null,null,null,null,null,null,null,null,null,null,null,0,0,0,0,0,0,0,0,0,0,null,null,0,0,0,0,0,0,0,0,0,0,null,null,0,0,0,0,0,0,0,0,0,0,null,null,0,0,0,0,0,0,0,0,0,0,null,null,0,0,0,0,0,0,0,0,0,0]
[null,null,null,null,null,null,null,null,null,null,null,null,null,null,null,null,null,null,null,null,null,null,null,null,null,null,null,null,null,null,null,null,0,0,0,0,0,0,0,0,0,0,null,null,0,0,0,0,0,0,0,0,0,0,null,null,0,0,0,0,0,0,0,0,0,0,null,null,0,0,0,0,0,0,0,0,0,0,null,null,0,0,0,0,0,0,0,0,0,0]
[null,null,null,null,null,null,null,null,null,null,null,null,null,null,null,null,null,null,null,null,null,null,null,null,null,null,null,null,null,null,null,null,0,0,0,0,0,0,0,0,0,0,null,null,0,0,0,0,0,0,0,0,0,0,null,null,0,0,0,0,0,0,0,0,0,0,null,null,0,0,0,0,0,0,0,0,0,0,null,null,0,0,0,0,0,0,0,0,0,0]
[null,null,null,null,null,null,null,null,null,null,null,null,null,null,null,null,null,null,null,null,null,null,null,null,null,null,null,null,null,null,null,null,0,0,0,0,0,0,0,0,0,0,null,null,0,0,0,0,0,0,0,0,0,0,null,null,0,0,0,0,0,0,0,0,0,0,null,null,0,0,0,0,0,0,0,0,0,0,null,null,0,0,0,0,0,0,0,0,0,0]
[null,null,null,null,null,null,null,null,null,null,null,null,null,null,null,null,null,null,null,null,null,null,null,null,null,null,null,null,null,null,null,null,0,0,0,0,0,0,0,0,0,0,null,null,0,0,0,0,0,0,0,0,0,0,null,null,0,0,0,0,0,0,0,0,0,0,null,null,0,0,0,0,0,0,0,0,0,0,null,null,0,0,0,0,0,0,0,0,0,0]
[null,null,null,null,null,null,null,null,null,null,null,null,null,null,null,null,null,null,null,null,null,null,null,null,null,null,null,null,null,null,null,null,0,0,0,0,0,0,0,0,0,0,null,null,0,0,0,0,0,0,0,0,0,0,null,null,0,0,0,0,0,0,0,0,0,0,null,null,0,0,0,0,0,0,0,0,0,0,null,null,0,0,0,0,0,0,0,0,0,0]
[null,null,null,null,null,null,null,null,null,null,null,null,null,null,null,null,null,null,null,null,null,null,null,null,null,null,null,null,null,null,null,null,0,0,0,0,0,0,0,0,0,0,null,null,0,0,0,0,0,0,0,0,0,0,null,null,0,0,0,0,0,0,0,0,0,0,null,null,0,0,0,0,0,0,0,0,0,0,null,null,0,0,0,0,0,0,0,0,0,0]
[null,null,null,null,null,null,null,null,null,null,null,null,null,null,null,null,null,null,null,null,null,null,null,null,null,null,null,null,null,null,null,null,0,0,0,0,0,0,0,0,0,0,null,null,0,0,0,0,0,0,0,0,0,0,null,null,0,0,0,0,0,0,0,0,0,0,null,null,0,0,0,0,0,0,0,0,0,0,null,null,0,0,0,0,0,0,0,0,0,0]
[null,null,null,null,null,null,null,null,null,null,null,null,null,null,null,null,null,null,null,null,null,null,null,null,null,null,null,null,null,null,null,null,0,0,0,0,0,0,0,0,0,0,null,null,0,0,0,0,0,0,0,0,0,0,null,null,0,0,0,0,0,0,0,0,0,0,null,null,0,0,0,0,0,0,0,0,0,0,null,null,0,0,0,0,0,0,0,0,0,0]
[null,null,null,null,null,null,null,null,null,null,null,null,null,null,null,null,null,null,null,null,null,null,null,null,null,null,null,null,null,null,null,null,0,0,0,0,0,0,0,0,0,0,null,null,0,0,0,0,0,0,0,0,0,0,null,null,0,0,0,0,0,0,0,0,0,0,null,null,0,0,0,0,0,0,0,0,0,0,null,null,0,0,0,0,0,0,0,0,0,0]
[null,null,null,null,null,null,null,null,null,null,null,null,null,null,null,null,null,null,null,null,null,null,null,null,null,null,null,null,null,null,null,null,0,0,0,0,0,0,0,0,0,0,null,null,0,0,0,0,0,0,0,0,0,0,null,null,0,0,0,0,0,0,0,0,0,0,null,null,0,0,0,0,0,0,0,0,0,0,null,null,0,0,0,0,0,0,0,0,0,0]
[null,null,null,null,null,null,null,null,null,null,null,null,null,null,null,null,null,null,null,null,null,null,null,null,null,null,null,null,null,null,null,null,0,0,0,0,0,0,0,0,0,0,null,null,0,0,0,0,0,0,0,0,0,0,null,null,0,0,0,0,0,0,0,0,0,0,null,null,0,0,0,0,0,0,0,0,0,0,null,null,0,0,0,0,0,0,0,0,0,0]
[null,null,null,null,null,null,null,null,null,null,null,null,null,null,null,null,null,null,null,null,null,null,null,null,null,null,null,null,null,null,null,null,0,0,0,0,0,0,0,0,0,0,null,null,0,0,0,0,0,0,0,0,0,0,null,null,0,0,0,0,0,0,0,0,0,0,null,null,0,0,0,0,0,0,0,0,0,0,null,null,0,0,0,0,0,0,0,0,0,0]
[null,null,null,null,null,null,null,null,null,null,null,null,null,null,null,null,null,null,null,null,null,null,null,null,null,null,null,null,null,null,null,null,0,0,0,0,0,0,0,0,0,0,null,null,0,0,0,0,0,0,0,0,0,0,null,null,0,0,0,0,0,0,0,0,0,0,null,null,0,0,0,0,0,0,0,0,0,0,null,null,0,0,0,0,0,0,0,0,0,0]
[null,null,null,null,null,null,null,null,null,null,null,null,null,null,null,null,null,null,null,null,null,null,null,null,null,null,null,null,null,null,null,null,0,0,0,0,0,0,0,0,0,0,null,null,0,0,0,0,0,0,0,0,0,0,null,null,0,0,0,0,0,0,0,0,0,0,null,null,0,0,0,0,0,0,0,0,0,0,null,null,0,0,0,0,0,0,0,0,0,0]
[null,null,null,null,null,null,null,null,null,null,null,null,null,null,null,null,null,null,null,null,null,null,null,null,null,null,null,null,null,null,null,null,0,0,0,0,0,0,0,0,0,0,null,null,0,0,0,0,0,0,0,0,0,0,null,null,0,0,0,0,0,0,0,0,0,0,null,null,0,0,0,0,0,0,0,0,0,0,null,null,0,0,0,0,0,0,0,0,0,0]
[null,null,null,null,null,null,null,null,null,null,null,null,null,null,null,null,null,null,null,null,null,null,null,null,null,null,null,null,null,null,null,null,0,0,0,0,0,0,0,0,0,0,null,null,0,0,0,0,0,0,0,0,0,0,null,null,0,0,0,0,0,0,0,0,0,0,null,null,0,0,0,0,0,0,0,0,0,0,null,null,0,0,0,0,0,0,0,0,0,0]
[null,null,null,null,null,null,null,null,null,null,null,null,null,null,null,null,null,null,null,null,null,null,null,null,null,null,null,null,null,null,null,null,0,0,0,0,0,0,0,0,0,0,null,null,0,0,0,0,0,0,0,0,0,0,null,null,0,0,0,0,0,0,0,0,0,0,null,null,0,0,0,0,0,0,0,0,0,0,null,null,0,0,0,0,0,0,0,0,0,0]
[null,null,null,null,null,null,null,null,null,null,null,null,null,null,null,null,null,null,null,null,null,null,null,null,null,null,null,null,null,null,null,null,0,0,0,0,0,0,0,0,0,0,null,null,0,0,0,0,0,0,0,0,0,0,null,null,0,0,0,0,0,0,0,0,0,0,null,null,0,0,0,0,0,0,0,0,0,0,null,null,0,0,0,0,0,0,0,0,0,0]
[null,null,null,null,null,null,null,null,null,null,null,null,null,null,null,null,null,null,null,null,null,null,null,null,null,null,null,null,null,null,null,null,0,0,0,0,0,0,0,0,0,0,null,null,0,0,0,0,0,0,0,0,0,0,null,null,0,0,0,0,0,0,0,0,0,0,null,null,0,0,0,0,0,0,0,0,0,0,null,null,0,0,0,0,0,0,0,0,0,0]
[null,null,null,null,null,null,null,null,null,null,null,null,null,null,null,null,null,null,null,null,null,null,null,null,null,null,null,null,null,null,null,null,0,0,0,0,0,0,0,0,0,0,null,null,0,0,0,0,0,0,0,0,0,0,null,null,0,0,0,0,0,0,0,0,0,0,null,null,0,0,0,0,0,0,0,0,0,0,null,null,0,0,0,0,0,0,0,0,0,0]
[null,null,null,null,null,null,null,null,null,null,null,null,null,null,null,null,null,null,null,null,null,null,null,null,null,null,null,null,null,null,null,null,0,0,0,0,0,0,0,0,0,0,null,null,0,0,0,0,0,0,0,0,0,0,null,null,0,0,0,0,0,0,0,0,0,0,null,null,0,0,0,0,0,0,0,0,0,0,null,null,0,0,0,0,0,0,0,0,0,0]
[null,null,null,null,null,null,null,null,null,null,null,null,null,null,null,null,null,null,null,null,null,null,null,null,null,null,null,null,null,null,null,null,0,0,0,0,0,0,0,0,0,0,null,null,0,0,0,0,0,0,0,0,0,0,null,null,0,0,0,0,0,0,0,0,0,0,null,null,0,0,0,0,0,0,0,0,0,0,null,null,0,0,0,0,0,0,0,0,0,0]
[null,null,null,null,null,null,null,null,null,null,null,null,null,null,null,null,null,null,null,null,null,null,null,null,null,null,null,null,null,null,null,null,0,0,0,0,0,0,0,0,0,0,null,null,0,0,0,0,0,0,0,0,0,0,null,null,0,0,0,0,0,0,0,0,0,0,null,null,0,0,0,0,0,0,0,0,0,0,null,null,0,0,0,0,0,0,0,0,0,0]
[null,null,null,null,null,null,null,null,null,null,null,null,null,null,null,null,null,null,null,null,null,null,null,null,null,null,null,null,null,null,null,null,0,0,0,0,0,0,0,0,0,0,null,null,0,0,0,0,0,0,0,0,0,0,null,null,0,0,0,0,0,0,0,0,0,0,null,null,0,0,0,0,0,0,0,0,0,0,null,null,0,0,0,0,0,0,0,0,0,0]
[null,null,null,null,null,null,null,null,null,null,null,null,null,null,null,null,null,null,null,null,null,null,null,null,null,null,null,null,null,null,null,null,0,0,0,0,0,0,0,0,0,0,null,null,0,0,0,0,0,0,0,0,0,0,null,null,0,0,0,0,0,0,0,0,0,0,null,null,0,0,0,0,0,0,0,0,0,0,null,null,0,0,0,0,0,0,0,0,0,0]
[null,null,null,null,null,null,null,null,null,null,null,null,null,null,null,null,null,null,null,null,null,null,null,null,null,null,null,null,null,null,null,null,0,0,0,0,0,0,0,0,0,0,null,null,0,0,0,0,0,0,0,0,0,0,null,null,0,0,0,0,0,0,0,0,0,0,null,null,0,0,0,0,0,0,0,0,0,0,null,null,0,0,0,0,0,0,0,0,0,0]
[null,null,null,null,null,null,null,null,null,null,null,null,null,null,null,null,null,null,null,null,null,null,null,null,null,null,null,null,null,null,null,null,0,0,0,0,0,0,0,0,0,0,null,null,0,0,0,0,0,0,0,0,0,0,null,null,0,0,0,0,0,0,0,0,0,0,null,null,0,0,0,0,0,0,0,0,0,0,null,null,0,0,0,0,0,0,0,0,0,0]
[null,null,null,null,null,null,null,null,null,null,null,null,null,null,null,null,null,null,null,null,null,null,null,null,null,null,null,null,null,null,null,null,0,0,0,0,0,0,0,0,0,0,null,null,0,0,0,0,0,0,0,0,0,0,null,null,0,0,0,0,0,0,0,0,0,0,null,null,0,0,0,0,0,0,0,0,0,0,null,null,0,0,0,0,0,0,0,0,0,0]
[null,null,null,null,null,null,null,null,null,null,null,null,null,null,null,null,null,null,null,null,null,null,null,null,null,null,null,null,null,null,null,null,0,0,0,0,0,0,0,0,0,0,null,null,0,0,0,0,0,0,0,0,0,0,null,null,0,0,0,0,0,0,0,0,0,0,null,null,0,0,0,0,0,0,0,0,0,0,null,null,0,0,0,0,0,0,0,0,0,0]
[null,null,null,null,null,null,null,null,null,null,null,null,null,null,null,null,null,null,null,null,null,null,null,null,null,null,null,null,null,null,null,null,0,0,0,0,0,0,0,0,0,0,null,null,0,0,0,0,0,0,0,0,0,0,null,null,0,0,0,0,0,0,0,0,0,0,null,null,0,0,0,0,0,0,0,0,0,0,null,null,0,0,0,0,0,0,0,0,0,0]
[null,null,null,null,null,null,null,null,null,null,null,null,null,null,null,null,null,null,null,null,null,null,null,null,null,null,null,null,null,null,null,null,0,0,0,0,0,0,0,0,0,0,null,null,0,0,0,0,0,0,0,0,0,0,null,null,0,0,0,0,0,0,0,0,0,0,null,null,0,0,0,0,0,0,0,0,0,0,null,null,0,0,0,0,0,0,0,0,0,0]
[null,null,null,null,null,null,null,null,null,null,null,null,null,null,null,null,null,null,null,null,null,null,null,null,null,null,null,null,null,null,null,null,0,0,0,0,0,0,0,0,0,0,null,null,0,0,0,0,0,0,0,0,0,0,null,null,0,0,0,0,0,0,0,0,0,0,null,null,0,0,0,0,0,0,0,0,0,0,null,null,0,0,0,0,0,0,0,0,0,0]
[null,null,null,null,null,null,null,null,null,null,null,null,null,null,null,null,null,null,null,null,null,null,null,null,null,null,null,null,null,null,null,null,0,0,0,0,0,0,0,0,0,0,null,null,0,0,0,0,0,0,0,0,0,0,null,null,0,0,0,0,0,0,0,0,0,0,null,null,0,0,0,0,0,0,0,0,0,0,null,null,0,0,0,0,0,0,0,0,0,0]
[null,null,null,null,null,null,null,null,null,null,null,null,null,null,null,null,null,null,null,null,null,null,null,null,null,null,null,null,null,null,null,null,0,0,0,0,0,0,0,0,0,0,null,null,0,0,0,0,0,0,0,0,0,0,null,null,0,0,0,0,0,0,0,0,0,0,null,null,0,0,0,0,0,0,0,0,0,0,null,null,0,0,0,0,0,0,0,0,0,0]
[null,null,null,null,null,null,null,null,null,null,null,null,null,null,null,null,null,null,null,null,null,null,null,null,null,null,null,null,null,null,null,null,0,0,0,0,0,0,0,0,0,0,null,null,0,0,0,0,0,0,0,0,0,0,null,null,0,0,0,0,0,0,0,0,0,0,null,null,0,0,0,0,0,0,0,0,0,0,null,null,0,0,0,0,0,0,0,0,0,0]
[null,null,null,null,null,null,null,null,null,null,null,null,null,null,null,null,null,null,null,null,null,null,null,null,null,null,null,null,null,null,null,null,0,0,0,0,0,0,0,0,0,0,null,null,0,0,0,0,0,0,0,0,0,0,null,null,0,0,0,0,0,0,0,0,0,0,null,null,0,0,0,0,0,0,0,0,0,0,null,null,0,0,0,0,0,0,0,0,0,0]
[null,null,null,null,null,null,null,null,null,null,null,null,null,null,null,null,null,null,null,null,null,null,null,null,null,null,null,null,null,null,null,null,0,0,0,0,0,0,0,0,0,0,null,null,0,0,0,0,0,0,0,0,0,0,null,null,0,0,0,0,0,0,0,0,0,0,null,null,0,0,0,0,0,0,0,0,0,0,null,null,0,0,0,0,0,0,0,0,0,0]
[null,null,null,null,null,null,null,null,null,null,null,null,null,null,null,null,null,null,null,null,null,null,null,null,null,null,null,null,null,null,null,null,0,0,0,0,0,0,0,0,0,0,null,null,0,0,0,0,0,0,0,0,0,0,null,null,0,0,0,0,0,0,0,0,0,0,null,null,0,0,0,0,0,0,0,0,0,0,null,null,0,0,0,0,0,0,0,0,0,0]
[null,null,null,null,null,null,null,null,null,null,null,null,null,null,null,null,null,null,null,null,null,null,null,null,null,null,null,null,null,null,null,null,0,0,0,0,0,0,0,0,0,0,null,null,0,0,0,0,0,0,0,0,0,0,null,null,0,0,0,0,0,0,0,0,0,0,null,null,0,0,0,0,0,0,0,0,0,0,null,null,0,0,0,0,0,0,0,0,0,0]
[null,null,null,null,null,null,null,null,null,null,null,null,null,null,null,null,null,null,null,null,null,null,null,null,null,null,null,null,null,null,null,null,0,0,0,0,0,0,0,0,0,0,null,null,0,0,0,0,0,0,0,0,0,0,null,null,0,0,0,0,0,0,0,0,0,0,null,null,0,0,0,0,0,0,0,0,0,0,null,null,0,0,0,0,0,0,0,0,0,0]
[null,null,null,null,null,null,null,null,null,null,null,null,null,null,null,null,null,null,null,null,null,null,null,null,null,null,null,null,null,null,null,null,0,0,0,0,0,0,0,0,0,0,null,null,0,0,0,0,0,0,0,0,0,0,null,null,0,0,0,0,0,0,0,0,0,0,null,null,0,0,0,0,0,0,0,0,0,0,null,null,0,0,0,0,0,0,0,0,0,0]
[null,null,null,null,null,null,null,null,null,null,null,null,null,null,null,null,null,null,null,null,null,null,null,null,null,null,null,null,null,null,null,null,0,0,0,0,0,0,0,0,0,0,null,null,0,0,0,0,0,0,0,0,0,0,null,null,0,0,0,0,0,0,0,0,0,0,null,null,0,0,0,0,0,0,0,0,0,0,null,null,0,0,0,0,0,0,0,0,0,0]
[null,null,null,null,null,null,null,null,null,null,null,null,null,null,null,null,null,null,null,null,null,null,null,null,null,null,null,null,null,null,null,null,0,0,0,0,0,0,0,0,0,0,null,null,0,0,0,0,0,0,0,0,0,0,null,null,0,0,0,0,0,0,0,0,0,0,null,null,0,0,0,0,0,0,0,0,0,0,null,null,0,0,0,0,0,0,0,0,0,0]
[null,null,null,null,null,null,null,null,null,null,null,null,null,null,null,null,null,null,null,null,null,null,null,null,null,null,null,null,null,null,null,null,0,0,0,0,0,0,0,0,0,0,null,null,0,0,0,0,0,0,0,0,0,0,null,null,0,0,0,0,0,0,0,0,0,0,null,null,0,0,0,0,0,0,0,0,0,0,null,null,0,0,0,0,0,0,0,0,0,0]
[null,null,null,null,null,null,null,null,null,null,null,null,null,null,null,null,null,null,null,null,null,null,null,null,null,null,null,null,null,null,null,null,0,0,0,0,0,0,0,0,0,0,null,null,0,0,0,0,0,0,0,0,0,0,null,null,0,0,0,0,0,0,0,0,0,0,null,null,0,0,0,0,0,0,0,0,0,0,null,null,0,0,0,0,0,0,0,0,0,0]
[null,null,null,null,null,null,null,null,null,null,null,null,null,null,null,null,null,null,null,null,null,null,null,null,null,null,null,null,null,null,null,null,0,0,0,0,0,0,0,0,0,0,null,null,0,0,0,0,0,0,0,0,0,0,null,null,0,0,0,0,0,0,0,0,0,0,null,null,0,0,0,0,0,0,0,0,0,0,null,null,0,0,0,0,0,0,0,0,0,0]
[null,null,null,null,null,null,null,null,null,null,null,null,null,null,null,null,null,null,null,null,null,null,null,null,null,null,null,null,null,null,null,null,0,0,0,0,0,0,0,0,0,0,null,null,0,0,0,0,0,0,0,0,0,0,null,null,0,0,0,0,0,0,0,0,0,0,null,null,0,0,0,0,0,0,0,0,0,0,null,null,0,0,0,0,0,0,0,0,0,0]
[null,null,null,null,null,null,null,null,null,null,null,null,null,null,null,null,null,null,null,null,null,null,null,null,null,null,null,null,null,null,null,null,0,0,0,0,0,0,0,0,0,0,null,null,0,0,0,0,0,0,0,0,0,0,null,null,0,0,0,0,0,0,0,0,0,0,null,null,0,0,0,0,0,0,0,0,0,0,null,null,0,0,0,0,0,0,0,0,0,0]
[null,null,null,null,null,null,null,null,null,null,null,null,null,null,null,null,null,null,null,null,null,null,null,null,null,null,null,null,null,null,null,null,0,0,0,0,0,0,0,0,0,0,null,null,0,0,0,0,0,0,0,0,0,0,null,null,0,0,0,0,0,0,0,0,0,0,null,null,0,0,0,0,0,0,0,0,0,0,null,null,0,0,0,0,0,0,0,0,0,0]
[null,null,null,null,null,null,null,null,null,null,null,null,null,null,null,null,null,null,null,null,null,null,null,null,null,null,null,null,null,null,null,null,0,0,0,0,0,0,0,0,0,0,null,null,0,0,0,0,0,0,0,0,0,0,null,null,0,0,0,0,0,0,0,0,0,0,null,null,0,0,0,0,0,0,0,0,0,0,null,null,0,0,0,0,0,0,0,0,0,0]
[null,null,null,null,null,null,null,null,null,null,null,null,null,null,null,null,null,null,null,null,null,null,null,null,null,null,null,null,null,null,null,null,0,0,0,0,0,0,0,0,0,0,null,null,0,0,0,0,0,0,0,0,0,0,null,null,0,0,0,0,0,0,0,0,0,0,null,null,0,0,0,0,0,0,0,0,0,0,null,null,0,0,0,0,0,0,0,0,0,0]
[null,null,null,null,null,null,null,null,null,null,null,null,null,null,null,null,null,null,null,null,null,null,null,null,null,null,null,null,null,null,null,null,0,0,0,0,0,0,0,0,0,0,null,null,0,0,0,0,0,0,0,0,0,0,null,null,0,0,0,0,0,0,0,0,0,0,null,null,0,0,0,0,0,0,0,0,0,0,null,null,0,0,0,0,0,0,0,0,0,0]
[null,null,null,null,null,null,null,null,null,null,null,null,null,null,null,null,null,null,null,null,null,null,null,null,null,null,null,null,null,null,null,null,0,0,0,0,0,0,0,0,0,0,null,null,0,0,0,0,0,0,0,0,0,0,null,null,0,0,0,0,0,0,0,0,0,0,null,null,0,0,0,0,0,0,0,0,0,0,null,null,0,0,0,0,0,0,0,0,0,0]
[null,null,null,null,null,null,null,null,null,null,null,null,null,null,null,null,null,null,null,null,null,null,null,null,null,null,null,null,null,null,null,null,0,0,0,0,0,0,0,0,0,0,null,null,0,0,0,0,0,0,0,0,0,0,null,null,0,0,0,0,0,0,0,0,0,0,null,null,0,0,0,0,0,0,0,0,0,0,null,null,0,0,0,0,0,0,0,0,0,0]
[null,null,null,null,null,null,null,null,null,null,null,null,null,null,null,null,null,null,null,null,null,null,null,null,null,null,null,null,null,null,null,null,0,0,0,0,0,0,0,0,0,0,null,null,0,0,0,0,0,0,0,0,0,0,null,null,0,0,0,0,0,0,0,0,0,0,null,null,0,0,0,0,0,0,0,0,0,0,null,null,0,0,0,0,0,0,0,0,0,0]
[null,null,null,null,null,null,null,null,null,null,null,null,null,null,null,null,null,null,null,null,null,null,null,null,null,null,null,null,null,null,null,null,0,0,0,0,0,0,0,0,0,0,null,null,0,0,0,0,0,0,0,0,0,0,null,null,0,0,0,0,0,0,0,0,0,0,null,null,0,0,0,0,0,0,0,0,0,0,null,null,0,0,0,0,0,0,0,0,0,0]
[null,null,null,null,null,null,null,null,null,null,null,null,null,null,null,null,null,null,null,null,null,null,null,null,null,null,null,null,null,null,null,null,0,0,0,0,0,0,0,0,0,0,null,null,0,0,0,0,0,0,0,0,0,0,null,null,0,0,0,0,0,0,0,0,0,0,null,null,0,0,0,0,0,0,0,0,0,0,null,null,0,0,0,0,0,0,0,0,0,0]
[null,null,null,null,null,null,null,null,null,null,null,null,null,null,null,null,null,null,null,null,null,null,null,null,null,null,null,null,null,null,null,null,0,0,0,0,0,0,0,0,0,0,null,null,0,0,0,0,0,0,0,0,0,0,null,null,0,0,0,0,0,0,0,0,0,0,null,null,0,0,0,0,0,0,0,0,0,0,null,null,0,0,0,0,0,0,0,0,0,0]
[null,null,null,null,null,null,null,null,null,null,null,null,null,null,null,null,null,null,null,null,null,null,null,null,null,null,null,null,null,null,null,null,0,0,0,0,0,0,0,0,0,0,null,null,0,0,0,0,0,0,0,0,0,0,null,null,0,0,0,0,0,0,0,0,0,0,null,null,0,0,0,0,0,0,0,0,0,0,null,null,0,0,0,0,0,0,0,0,0,0]
[null,null,null,null,null,null,null,null,null,null,null,null,null,null,null,null,null,null,null,null,null,null,null,null,null,null,null,null,null,null,null,null,0,0,0,0,0,0,0,0,0,0,null,null,0,0,0,0,0,0,0,0,0,0,null,null,0,0,0,0,0,0,0,0,0,0,null,null,0,0,0,0,0,0,0,0,0,0,null,null,0,0,0,0,0,0,0,0,0,0]
[null,null,null,null,null,null,null,null,null,null,null,null,null,null,null,null,null,null,null,null,null,null,null,null,null,null,null,null,null,null,null,null,0,0,0,0,0,0,0,0,0,0,null,null,0,0,0,0,0,0,0,0,0,0,null,null,0,0,0,0,0,0,0,0,0,0,null,null,0,0,0,0,0,0,0,0,0,0,null,null,0,0,0,0,0,0,0,0,0,0]
[null,null,null,null,null,null,null,null,null,null,null,null,null,null,null,null,null,null,null,null,null,null,null,null,null,null,null,null,null,null,null,null,0,0,0,0,0,0,0,0,0,0,null,null,0,0,0,0,0,0,0,0,0,0,null,null,0,0,0,0,0,0,0,0,0,0,null,null,0,0,0,0,0,0,0,0,0,0,null,null,0,0,0,0,0,0,0,0,0,0]
[null,null,null,null,null,null,null,null,null,null,null,null,null,null,null,null,null,null,null,null,null,null,null,null,null,null,null,null,null,null,null,null,0,0,0,0,0,0,0,0,0,0,null,null,0,0,0,0,0,0,0,0,0,0,null,null,0,0,0,0,0,0,0,0,0,0,null,null,0,0,0,0,0,0,0,0,0,0,null,null,0,0,0,0,0,0,0,0,0,0]
[null,null,null,null,null,null,null,null,null,null,null,null,null,null,null,null,null,null,null,null,null,null,null,null,null,null,null,null,null,null,null,null,0,0,0,0,0,0,0,0,0,0,null,null,0,0,0,0,0,0,0,0,0,0,null,null,0,0,0,0,0,0,0,0,0,0,null,null,0,0,0,0,0,0,0,0,0,0,null,null,0,0,0,0,0,0,0,0,0,0]
[null,null,null,null,null,null,null,null,null,null,null,null,null,null,null,null,null,null,null,null,null,null,null,null,null,null,null,null,null,null,null,null,0,0,0,0,0,0,0,0,0,0,null,null,0,0,0,0,0,0,0,0,0,0,null,null,0,0,0,0,0,0,0,0,0,0,null,null,0,0,0,0,0,0,0,0,0,0,null,null,0,0,0,0,0,0,0,0,0,0]
[null,null,null,null,null,null,null,null,null,null,null,null,null,null,null,null,null,null,null,null,null,null,null,null,null,null,null,null,null,null,null,null,0,0,0,0,0,0,0,0,0,0,null,null,0,0,0,0,0,0,0,0,0,0,null,null,0,0,0,0,0,0,0,0,0,0,null,null,0,0,0,0,0,0,0,0,0,0,null,null,0,0,0,0,0,0,0,0,0,0]
[null,null,null,null,null,null,null,null,null,null,null,null,null,null,null,null,null,null,null,null,null,null,null,null,null,null,null,null,null,null,null,null,0,0,0,0,0,0,0,0,0,0,null,null,0,0,0,0,0,0,0,0,0,0,null,null,0,0,0,0,0,0,0,0,0,0,null,null,0,0,0,0,0,0,0,0,0,0,null,null,0,0,0,0,0,0,0,0,0,0]
[null,null,null,null,null,null,null,null,null,null,null,null,null,null,null,null,null,null,null,null,null,null,null,null,null,null,null,null,null,null,null,null,0,0,0,0,0,0,0,0,0,0,null,null,0,0,0,0,0,0,0,0,0,0,null,null,0,0,0,0,0,0,0,0,0,0,null,null,0,0,0,0,0,0,0,0,0,0,null,null,0,0,0,0,0,0,0,0,0,0]
[null,null,null,null,null,null,null,null,null,null,null,null,null,null,null,null,null,null,null,null,null,null,null,null,null,null,null,null,null,null,null,null,0,0,0,0,0,0,0,0,0,0,null,null,0,0,0,0,0,0,0,0,0,0,null,null,0,0,0,0,0,0,0,0,0,0,null,null,0,0,0,0,0,0,0,0,0,0,null,null,0,0,0,0,0,0,0,0,0,0]
[null,null,null,null,null,null,null,null,null,null,null,null,null,null,null,null,null,null,null,null,null,null,null,null,null,null,null,null,null,null,null,null,0,0,0,0,0,0,0,0,0,0,null,null,0,0,0,0,0,0,0,0,0,0,null,null,0,0,0,0,0,0,0,0,0,0,null,null,0,0,0,0,0,0,0,0,0,0,null,null,0,0,0,0,0,0,0,0,0,0]
[null,null,null,null,null,null,null,null,null,null,null,null,null,null,null,null,null,null,null,null,null,null,null,null,null,null,null,null,null,null,null,null,0,0,0,0,0,0,0,0,0,0,null,null,0,0,0,0,0,0,0,0,0,0,null,null,0,0,0,0,0,0,0,0,0,0,null,null,0,0,0,0,0,0,0,0,0,0,null,null,0,0,0,0,0,0,0,0,0,0]
[null,null,null,null,null,null,null,null,null,null,null,null,null,null,null,null,null,null,null,null,null,null,null,null,null,null,null,null,null,null,null,null,0,0,0,0,0,0,0,0,0,0,null,null,0,0,0,0,0,0,0,0,0,0,null,null,0,0,0,0,0,0,0,0,0,0,null,null,0,0,0,0,0,0,0,0,0,0,null,null,0,0,0,0,0,0,0,0,0,0]
[null,null,null,null,null,null,null,null,null,null,null,null,null,null,null,null,null,null,null,null,null,null,null,null,null,null,null,null,null,null,null,null,0,0,0,0,0,0,0,0,0,0,null,null,0,0,0,0,0,0,0,0,0,0,null,null,0,0,0,0,0,0,0,0,0,0,null,null,0,0,0,0,0,0,0,0,0,0,null,null,0,0,0,0,0,0,0,0,0,0]
[null,null,null,null,null,null,null,null,null,null,null,null,null,null,null,null,null,null,null,null,null,null,null,null,null,null,null,null,null,null,null,null,0,0,0,0,0,0,0,0,0,0,null,null,0,0,0,0,0,0,0,0,0,0,null,null,0,0,0,0,0,0,0,0,0,0,null,null,0,0,0,0,0,0,0,0,0,0,null,null,0,0,0,0,0,0,0,0,0,0]
[null,null,null,null,null,null,null,null,null,null,null,null,null,null,null,null,null,null,null,null,null,null,null,null,null,null,null,null,null,null,null,null,0,0,0,0,0,0,0,0,0,0,null,null,0,0,0,0,0,0,0,0,0,0,null,null,0,0,0,0,0,0,0,0,0,0,null,null,0,0,0,0,0,0,0,0,0,0,null,null,0,0,0,0,0,0,0,0,0,0]
[null,null,null,null,null,null,null,null,null,null,null,null,null,null,null,null,null,null,null,null,null,null,null,null,null,null,null,null,null,null,null,null,0,0,0,0,0,0,0,0,0,0,null,null,0,0,0,0,0,0,0,0,0,0,null,null,0,0,0,0,0,0,0,0,0,0,null,null,0,0,0,0,0,0,0,0,0,0,null,null,0,0,0,0,0,0,0,0,0,0]
[null,null,null,null,null,null,null,null,null,null,null,null,null,null,null,null,null,null,null,null,null,null,null,null,null,null,null,null,null,null,null,null,0,0,0,0,0,0,0,0,0,0,null,null,0,0,0,0,0,0,0,0,0,0,null,null,0,0,0,0,0,0,0,0,0,0,null,null,0,0,0,0,0,0,0,0,0,0,null,null,0,0,0,0,0,0,0,0,0,0]
[null,null,null,null,null,null,null,null,null,null,null,null,null,null,null,null,null,null,null,null,null,null,null,null,null,null,null,null,null,null,null,null,0,0,0,0,0,0,0,0,0,0,null,null,0,0,0,0,0,0,0,0,0,0,null,null,0,0,0,0,0,0,0,0,0,0,null,null,0,0,0,0,0,0,0,0,0,0,null,null,0,0,0,0,0,0,0,0,0,0]
[null,null,null,null,null,null,null,null,null,null,null,null,null,null,null,null,null,null,null,null,null,null,null,null,null,null,null,null,null,null,null,null,0,0,0,0,0,0,0,0,0,0,null,null,0,0,0,0,0,0,0,0,0,0,null,null,0,0,0,0,0,0,0,0,0,0,null,null,0,0,0,0,0,0,0,0,0,0,null,null,0,0,0,0,0,0,0,0,0,0]
[null,null,null,null,null,null,null,null,null,null,null,null,null,null,null,null,null,null,null,null,null,null,null,null,null,null,null,null,null,null,null,null,0,0,0,0,0,0,0,0,0,0,null,null,0,0,0,0,0,0,0,0,0,0,null,null,0,0,0,0,0,0,0,0,0,0,null,null,0,0,0,0,0,0,0,0,0,0,null,null,0,0,0,0,0,0,0,0,0,0]
[null,null,null,null,null,null,null,null,null,null,null,null,null,null,null,null,null,null,null,null,null,null,null,null,null,null,null,null,null,null,null,null,0,0,0,0,0,0,0,0,0,0,null,null,0,0,0,0,0,0,0,0,0,0,null,null,0,0,0,0,0,0,0,0,0,0,null,null,0,0,0,0,0,0,0,0,0,0,null,null,0,0,0,0,0,0,0,0,0,0]
[null,null,null,null,null,null,null,null,null,null,null,null,null,null,null,null,null,null,null,null,null,null,null,null,null,null,null,null,null,null,null,null,0,0,0,0,0,0,0,0,0,0,null,null,0,0,0,0,0,0,0,0,0,0,null,null,0,0,0,0,0,0,0,0,0,0,null,null,0,0,0,0,0,0,0,0,0,0,null,null,0,0,0,0,0,0,0,0,0,0]
[null,null,null,null,null,null,null,null,null,null,null,null,null,null,null,null,null,null,null,null,null,null,null,null,null,null,null,null,null,null,null,null,0,0,0,0,0,0,0,0,0,0,null,null,0,0,0,0,0,0,0,0,0,0,null,null,0,0,0,0,0,0,0,0,0,0,null,null,0,0,0,0,0,0,0,0,0,0,null,null,0,0,0,0,0,0,0,0,0,0]
[null,null,null,null,null,null,null,null,null,null,null,null,null,null,null,null,null,null,null,null,null,null,null,null,null,null,null,null,null,null,null,null,0,0,0,0,0,0,0,0,0,0,null,null,0,0,0,0,0,0,0,0,0,0,null,null,0,0,0,0,0,0,0,0,0,0,null,null,0,0,0,0,0,0,0,0,0,0,null,null,0,0,0,0,0,0,0,0,0,0]
[null,null,null,null,null,null,null,null,null,null,null,null,null,null,null,null,null,null,null,null,null,null,null,null,null,null,null,null,null,null,null,null,0,0,0,0,0,0,0,0,0,0,null,null,0,0,0,0,0,0,0,0,0,0,null,null,0,0,0,0,0,0,0,0,0,0,null,null,0,0,0,0,0,0,0,0,0,0,null,null,0,0,0,0,0,0,0,0,0,0]
[null,null,null,null,null,null,null,null,null,null,null,null,null,null,null,null,null,null,null,null,null,null,null,null,null,null,null,null,null,null,null,null,0,0,0,0,0,0,0,0,0,0,null,null,0,0,0,0,0,0,0,0,0,0,null,null,0,0,0,0,0,0,0,0,0,0,null,null,0,0,0,0,0,0,0,0,0,0,null,null,0,0,0,0,0,0,0,0,0,0]
[null,null,null,null,null,null,null,null,null,null,null,null,null,null,null,null,null,null,null,null,null,null,null,null,null,null,null,null,null,null,null,null,0,0,0,0,0,0,0,0,0,0,null,null,0,0,0,0,0,0,0,0,0,0,null,null,0,0,0,0,0,0,0,0,0,0,null,null,0,0,0,0,0,0,0,0,0,0,null,null,0,0,0,0,0,0,0,0,0,0]
[null,null,null,null,null,null,null,null,null,null,null,null,null,null,null,null,null,null,null,null,null,null,null,null,null,null,null,null,null,null,null,null,0,0,0,0,0,0,0,0,0,0,null,null,0,0,0,0,0,0,0,0,0,0,null,null,0,0,0,0,0,0,0,0,0,0,null,null,0,0,0,0,0,0,0,0,0,0,null,null,0,0,0,0,0,0,0,0,0,0]
[null,null,null,null,null,null,null,null,null,null,null,null,null,null,null,null,null,null,null,null,null,null,null,null,null,null,null,null,null,null,null,null,0,0,0,0,0,0,0,0,0,0,null,null,0,0,0,0,0,0,0,0,0,0,null,null,0,0,0,0,0,0,0,0,0,0,null,null,0,0,0,0,0,0,0,0,0,0,null,null,0,0,0,0,0,0,0,0,0,0]
[null,null,null,null,null,null,null,null,null,null,null,null,null,null,null,null,null,null,null,null,null,null,null,null,null,null,null,null,null,null,null,null,0,0,0,0,0,0,0,0,0,0,null,null,0,0,0,0,0,0,0,0,0,0,null,null,0,0,0,0,0,0,0,0,0,0,null,null,0,0,0,0,0,0,0,0,0,0,null,null,0,0,0,0,0,0,0,0,0,0]
[null,null,null,null,null,null,null,null,null,null,null,null,null,null,null,null,null,null,null,null,null,null,null,null,null,null,null,null,null,null,null,null,0,0,0,0,0,0,0,0,0,0,null,null,0,0,0,0,0,0,0,0,0,0,null,null,0,0,0,0,0,0,0,0,0,0,null,null,0,0,0,0,0,0,0,0,0,0,null,null,0,0,0,0,0,0,0,0,0,0]
[null,null,null,null,null,null,null,null,null,null,null,null,null,null,null,null,null,null,null,null,null,null,null,null,null,null,null,null,null,null,null,null,0,0,0,0,0,0,0,0,0,0,null,null,0,0,0,0,0,0,0,0,0,0,null,null,0,0,0,0,0,0,0,0,0,0,null,null,0,0,0,0,0,0,0,0,0,0,null,null,0,0,0,0,0,0,0,0,0,0]
[null,null,null,null,null,null,null,null,null,null,null,null,null,null,null,null,null,null,null,null,null,null,null,null,null,null,null,null,null,null,null,null,0,0,0,0,0,0,0,0,0,0,null,null,0,0,0,0,0,0,0,0,0,0,null,null,0,0,0,0,0,0,0,0,0,0,null,null,0,0,0,0,0,0,0,0,0,0,null,null,0,0,0,0,0,0,0,0,0,0]
[null,null,null,null,null,null,null,null,null,null,null,null,null,null,null,null,null,null,null,null,null,null,null,null,null,null,null,null,null,null,null,null,0,0,0,0,0,0,0,0,0,0,null,null,0,0,0,0,0,0,0,0,0,0,null,null,0,0,0,0,0,0,0,0,0,0,null,null,0,0,0,0,0,0,0,0,0,0,null,null,0,0,0,0,0,0,0,0,0,0]
[null,null,null,null,null,null,null,null,null,null,null,null,null,null,null,null,null,null,null,null,null,null,null,null,null,null,null,null,null,null,null,null,0,0,0,0,0,0,0,0,0,0,null,null,0,0,0,0,0,0,0,0,0,0,null,null,0,0,0,0,0,0,0,0,0,0,null,null,0,0,0,0,0,0,0,0,0,0,null,null,0,0,0,0,0,0,0,0,0,0]
[null,null,null,null,null,null,null,null,null,null,null,null,null,null,null,null,null,null,null,null,null,null,null,null,null,null,null,null,null,null,null,null,0,0,0,0,0,0,0,0,0,0,null,null,0,0,0,0,0,0,0,0,0,0,null,null,0,0,0,0,0,0,0,0,0,0,null,null,0,0,0,0,0,0,0,0,0,0,null,null,0,0,0,0,0,0,0,0,0,0]
[null,null,null,null,null,null,null,null,null,null,null,null,null,null,null,null,null,null,null,null,null,null,null,null,null,null,null,null,null,null,null,null,0,0,0,0,0,0,0,0,0,0,null,null,0,0,0,0,0,0,0,0,0,0,null,null,0,0,0,0,0,0,0,0,0,0,null,null,0,0,0,0,0,0,0,0,0,0,null,null,0,0,0,0,0,0,0,0,0,0]
[null,null,null,null,null,null,null,null,null,null,null,null,null,null,null,null,null,null,null,null,null,null,null,null,null,null,null,null,null,null,null,null,0,0,0,0,0,0,0,0,0,0,null,null,0,0,0,0,0,0,0,0,0,0,null,null,0,0,0,0,0,0,0,0,0,0,null,null,0,0,0,0,0,0,0,0,0,0,null,null,0,0,0,0,0,0,0,0,0,0]
[null,null,null,null,null,null,null,null,null,null,null,null,null,null,null,null,null,null,null,null,null,null,null,null,null,null,null,null,null,null,null,null,0,0,0,0,0,0,0,0,0,0,null,null,0,0,0,0,0,0,0,0,0,0,null,null,0,0,0,0,0,0,0,0,0,0,null,null,0,0,0,0,0,0,0,0,0,0,null,null,0,0,0,0,0,0,0,0,0,0]
[null,null,null,null,null,null,null,null,null,null,null,null,null,null,null,null,null,null,null,null,null,null,null,null,null,null,null,null,null,null,null,null,0,0,0,0,0,0,0,0,0,0,null,null,0,0,0,0,0,0,0,0,0,0,null,null,0,0,0,0,0,0,0,0,0,0,null,null,0,0,0,0,0,0,0,0,0,0,null,null,0,0,0,0,0,0,0,0,0,0]
[null,null,null,null,null,null,null,null,null,null,null,null,null,null,null,null,null,null,null,null,null,null,null,null,null,null,null,null,null,null,null,null,0,0,0,0,0,0,0,0,0,0,null,null,0,0,0,0,0,0,0,0,0,0,null,null,0,0,0,0,0,0,0,0,0,0,null,null,0,0,0,0,0,0,0,0,0,0,null,null,0,0,0,0,0,0,0,0,0,0]
[null,null,null,null,null,null,null,null,null,null,null,null,null,null,null,null,null,null,null,null,null,null,null,null,null,null,null,null,null,null,null,null,0,0,0,0,0,0,0,0,0,0,null,null,0,0,0,0,0,0,0,0,0,0,null,null,0,0,0,0,0,0,0,0,0,0,null,null,0,0,0,0,0,0,0,0,0,0,null,null,0,0,0,0,0,0,0,0,0,0]
[null,null,null,null,null,null,null,null,null,null,null,null,null,null,null,null,null,null,null,null,null,null,null,null,null,null,null,null,null,null,null,null,0,0,0,0,0,0,0,0,0,0,null,null,0,0,0,0,0,0,0,0,0,0,null,null,0,0,0,0,0,0,0,0,0,0,null,null,0,0,0,0,0,0,0,0,0,0,null,null,0,0,0,0,0,0,0,0,0,0]
[null,null,null,null,null,null,null,null,null,null,null,null,null,null,null,null,null,null,null,null,null,null,null,null,null,null,null,null,null,null,null,null,0,0,0,0,0,0,0,0,0,0,null,null,0,0,0,0,0,0,0,0,0,0,null,null,0,0,0,0,0,0,0,0,0,0,null,null,0,0,0,0,0,0,0,0,0,0,null,null,0,0,0,0,0,0,0,0,0,0]
[null,null,null,null,null,null,null,null,null,null,null,null,null,null,null,null,null,null,null,null,null,null,null,null,null,null,null,null,null,null,null,null,0,0,0,0,0,0,0,0,0,0,null,null,0,0,0,0,0,0,0,0,0,0,null,null,0,0,0,0,0,0,0,0,0,0,null,null,0,0,0,0,0,0,0,0,0,0,null,null,0,0,0,0,0,0,0,0,0,0]
[null,null,null,null,null,null,null,null,null,null,null,null,null,null,null,null,null,null,null,null,null,null,null,null,null,null,null,null,null,null,null,null,0,0,0,0,0,0,0,0,0,0,null,null,0,0,0,0,0,0,0,0,0,0,null,null,0,0,0,0,0,0,0,0,0,0,null,null,0,0,0,0,0,0,0,0,0,0,null,null,0,0,0,0,0,0,0,0,0,0]
[null,null,null,null,null,null,null,null,null,null,null,null,null,null,null,null,null,null,null,null,null,null,null,null,null,null,null,null,null,null,null,null,0,0,0,0,0,0,0,0,0,0,null,null,0,0,0,0,0,0,0,0,0,0,null,null,0,0,0,0,0,0,0,0,0,0,null,null,0,0,0,0,0,0,0,0,0,0,null,null,0,0,0,0,0,0,0,0,0,0]
[null,null,null,null,null,null,null,null,null,null,null,null,null,null,null,null,null,null,null,null,null,null,null,null,null,null,null,null,null,null,null,null,0,0,0,0,0,0,0,0,0,0,null,null,0,0,0,0,0,0,0,0,0,0,null,null,0,0,0,0,0,0,0,0,0,0,null,null,0,0,0,0,0,0,0,0,0,0,null,null,0,0,0,0,0,0,0,0,0,0]
[null,null,null,null,null,null,null,null,null,null,null,null,null,null,null,null,null,null,null,null,null,null,null,null,null,null,null,null,null,null,null,null,0,0,0,0,0,0,0,0,0,0,null,null,0,0,0,0,0,0,0,0,0,0,null,null,0,0,0,0,0,0,0,0,0,0,null,null,0,0,0,0,0,0,0,0,0,0,null,null,0,0,0,0,0,0,0,0,0,0]
[null,null,null,null,null,null,null,null,null,null,null,null,null,null,null,null,null,null,null,null,null,null,null,null,null,null,null,null,null,null,null,null,0,0,0,0,0,0,0,0,0,0,null,null,0,0,0,0,0,0,0,0,0,0,null,null,0,0,0,0,0,0,0,0,0,0,null,null,0,0,0,0,0,0,0,0,0,0,null,null,0,0,0,0,0,0,0,0,0,0]
[null,null,null,null,null,null,null,null,null,null,null,null,null,null,null,null,null,null,null,null,null,null,null,null,null,null,null,null,null,null,null,null,0,0,0,0,0,0,0,0,0,0,null,null,0,0,0,0,0,0,0,0,0,0,null,null,0,0,0,0,0,0,0,0,0,0,null,null,0,0,0,0,0,0,0,0,0,0,null,null,0,0,0,0,0,0,0,0,0,0]
[null,null,null,null,null,null,null,null,null,null,null,null,null,null,null,null,null,null,null,null,null,null,null,null,null,null,null,null,null,null,null,null,0,0,0,0,0,0,0,0,0,0,null,null,0,0,0,0,0,0,0,0,0,0,null,null,0,0,0,0,0,0,0,0,0,0,null,null,0,0,0,0,0,0,0,0,0,0,null,null,0,0,0,0,0,0,0,0,0,0]
[null,null,null,null,null,null,null,null,null,null,null,null,null,null,null,null,null,null,null,null,null,null,null,null,null,null,null,null,null,null,null,null,0,0,0,0,0,0,0,0,0,0,null,null,0,0,0,0,0,0,0,0,0,0,null,null,0,0,0,0,0,0,0,0,0,0,null,null,0,0,0,0,0,0,0,0,0,0,null,null,0,0,0,0,0,0,0,0,0,0]
[null,null,null,null,null,null,null,null,null,null,null,null,null,null,null,null,null,null,null,null,null,null,null,null,null,null,null,null,null,null,null,null,0,0,0,0,0,0,0,0,0,0,null,null,0,0,0,0,0,0,0,0,0,0,null,null,0,0,0,0,0,0,0,0,0,0,null,null,0,0,0,0,0,0,0,0,0,0,null,null,0,0,0,0,0,0,0,0,0,0]
[null,null,null,null,null,null,null,null,null,null,null,null,null,null,null,null,null,null,null,null,null,null,null,null,null,null,null,null,null,null,null,null,0,0,0,0,0,0,0,0,0,0,null,null,0,0,0,0,0,0,0,0,0,0,null,null,0,0,0,0,0,0,0,0,0,0,null,null,0,0,0,0,0,0,0,0,0,0,null,null,0,0,0,0,0,0,0,0,0,0]
[null,null,null,null,null,null,null,null,null,null,null,null,null,null,null,null,null,null,null,null,null,null,null,null,null,null,null,null,null,null,null,null,0,0,0,0,0,0,0,0,0,0,null,null,0,0,0,0,0,0,0,0,0,0,null,null,0,0,0,0,0,0,0,0,0,0,null,null,0,0,0,0,0,0,0,0,0,0,null,null,0,0,0,0,0,0,0,0,0,0]
[null,null,null,null,null,null,null,null,null,null,null,null,null,null,null,null,null,null,null,null,null,null,null,null,null,null,null,null,null,null,null,null,0,0,0,0,0,0,0,0,0,0,null,null,0,0,0,0,0,0,0,0,0,0,null,null,0,0,0,0,0,0,0,0,0,0,null,null,0,0,0,0,0,0,0,0,0,0,null,null,0,0,0,0,0,0,0,0,0,0]
[null,null,null,null,null,null,null,null,null,null,null,null,null,null,null,null,null,null,null,null,null,null,null,null,null,null,null,null,null,null,null,null,0,0,0,0,0,0,0,0,0,0,null,null,0,0,0,0,0,0,0,0,0,0,null,null,0,0,0,0,0,0,0,0,0,0,null,null,0,0,0,0,0,0,0,0,0,0,null,null,0,0,0,0,0,0,0,0,0,0]
[null,null,null,null,null,null,null,null,null,null,null,null,null,null,null,null,null,null,null,null,null,null,null,null,null,null,null,null,null,null,null,null,0,0,0,0,0,0,0,0,0,0,null,null,0,0,0,0,0,0,0,0,0,0,null,null,0,0,0,0,0,0,0,0,0,0,null,null,0,0,0,0,0,0,0,0,0,0,null,null,0,0,0,0,0,0,0,0,0,0]
[null,null,null,null,null,null,null,null,null,null,null,null,null,null,null,null,null,null,null,null,null,null,null,null,null,null,null,null,null,null,null,null,0,0,0,0,0,0,0,0,0,0,null,null,0,0,0,0,0,0,0,0,0,0,null,null,0,0,0,0,0,0,0,0,0,0,null,null,0,0,0,0,0,0,0,0,0,0,null,null,0,0,0,0,0,0,0,0,0,0]
[null,null,null,null,null,null,null,null,null,null,null,null,null,null,null,null,null,null,null,null,null,null,null,null,null,null,null,null,null,null,null,null,0,0,0,0,0,0,0,0,0,0,null,null,0,0,0,0,0,0,0,0,0,0,null,null,0,0,0,0,0,0,0,0,0,0,null,null,0,0,0,0,0,0,0,0,0,0,null,null,0,0,0,0,0,0,0,0,0,0]
[null,null,null,null,null,null,null,null,null,null,null,null,null,null,null,null,null,null,null,null,null,null,null,null,null,null,null,null,null,null,null,null,0,0,0,0,0,0,0,0,0,0,null,null,0,0,0,0,0,0,0,0,0,0,null,null,0,0,0,0,0,0,0,0,0,0,null,null,0,0,0,0,0,0,0,0,0,0,null,null,0,0,0,0,0,0,0,0,0,0]
[null,null,null,null,null,null,null,null,null,null,null,null,null,null,null,null,null,null,null,null,null,null,null,null,null,null,null,null,null,null,null,null,0,0,0,0,0,0,0,0,0,0,null,null,0,0,0,0,0,0,0,0,0,0,null,null,0,0,0,0,0,0,0,0,0,0,null,null,0,0,0,0,0,0,0,0,0,0,null,null,0,0,0,0,0,0,0,0,0,0]
[null,null,null,null,null,null,null,null,null,null,null,null,null,null,null,null,null,null,null,null,null,null,null,null,null,null,null,null,null,null,null,null,0,0,0,0,0,0,0,0,0,0,null,null,0,0,0,0,0,0,0,0,0,0,null,null,0,0,0,0,0,0,0,0,0,0,null,null,0,0,0,0,0,0,0,0,0,0,null,null,0,0,0,0,0,0,0,0,0,0]
[null,null,null,null,null,null,null,null,null,null,null,null,null,null,null,null,null,null,null,null,null,null,null,null,null,null,null,null,null,null,null,null,0,0,0,0,0,0,0,0,0,0,null,null,0,0,0,0,0,0,0,0,0,0,null,null,0,0,0,0,0,0,0,0,0,0,null,null,0,0,0,0,0,0,0,0,0,0,null,null,0,0,0,0,0,0,0,0,0,0]
[null,null,null,null,null,null,null,null,null,null,null,null,null,null,null,null,null,null,null,null,null,null,null,null,null,null,null,null,null,null,null,null,0,0,0,0,0,0,0,0,0,0,null,null,0,0,0,0,0,0,0,0,0,0,null,null,0,0,0,0,0,0,0,0,0,0,null,null,0,0,0,0,0,0,0,0,0,0,null,null,0,0,0,0,0,0,0,0,0,0]
[null,null,null,null,null,null,null,null,null,null,null,null,null,null,null,null,null,null,null,null,null,null,null,null,null,null,null,null,null,null,null,null,0,0,0,0,0,0,0,0,0,0,null,null,0,0,0,0,0,0,0,0,0,0,null,null,0,0,0,0,0,0,0,0,0,0,null,null,0,0,0,0,0,0,0,0,0,0,null,null,0,0,0,0,0,0,0,0,0,0]
[null,null,null,null,null,null,null,null,null,null,null,null,null,null,null,null,null,null,null,null,null,null,null,null,null,null,null,null,null,null,null,null,0,0,0,0,0,0,0,0,0,0,null,null,0,0,0,0,0,0,0,0,0,0,null,null,0,0,0,0,0,0,0,0,0,0,null,null,0,0,0,0,0,0,0,0,0,0,null,null,0,0,0,0,0,0,0,0,0,0]
[null,null,null,null,null,null,null,null,null,null,null,null,null,null,null,null,null,null,null,null,null,null,null,null,null,null,null,null,null,null,null,null,0,0,0,0,0,0,0,0,0,0,null,null,0,0,0,0,0,0,0,0,0,0,null,null,0,0,0,0,0,0,0,0,0,0,null,null,0,0,0,0,0,0,0,0,0,0,null,null,0,0,0,0,0,0,0,0,0,0]
[null,null,null,null,null,null,null,null,null,null,null,null,null,null,null,null,null,null,null,null,null,null,null,null,null,null,null,null,null,null,null,null,0,0,0,0,0,0,0,0,0,0,null,null,0,0,0,0,0,0,0,0,0,0,null,null,0,0,0,0,0,0,0,0,0,0,null,null,0,0,0,0,0,0,0,0,0,0,null,null,0,0,0,0,0,0,0,0,0,0]
[null,null,null,null,null,null,null,null,null,null,null,null,null,null,null,null,null,null,null,null,null,null,null,null,null,null,null,null,null,null,null,null,0,0,0,0,0,0,0,0,0,0,null,null,0,0,0,0,0,0,0,0,0,0,null,null,0,0,0,0,0,0,0,0,0,0,null,null,0,0,0,0,0,0,0,0,0,0,null,null,0,0,0,0,0,0,0,0,0,0]
[null,null,null,null,null,null,null,null,null,null,null,null,null,null,null,null,null,null,null,null,null,null,null,null,null,null,null,null,null,null,null,null,0,0,0,0,0,0,0,0,0,0,null,null,0,0,0,0,0,0,0,0,0,0,null,null,0,0,0,0,0,0,0,0,0,0,null,null,0,0,0,0,0,0,0,0,0,0,null,null,0,0,0,0,0,0,0,0,0,0]
[null,null,null,null,null,null,null,null,null,null,null,null,null,null,null,null,null,null,null,null,null,null,null,null,null,null,null,null,null,null,null,null,0,0,0,0,0,0,0,0,0,0,null,null,0,0,0,0,0,0,0,0,0,0,null,null,0,0,0,0,0,0,0,0,0,0,null,null,0,0,0,0,0,0,0,0,0,0,null,null,0,0,0,0,0,0,0,0,0,0]
[null,null,null,null,null,null,null,null,null,null,null,null,null,null,null,null,null,null,null,null,null,null,null,null,null,null,null,null,null,null,null,null,0,0,0,0,0,0,0,0,0,0,null,null,0,0,0,0,0,0,0,0,0,0,null,null,0,0,0,0,0,0,0,0,0,0,null,null,0,0,0,0,0,0,0,0,0,0,null,null,0,0,0,0,0,0,0,0,0,0]
[null,null,null,null,null,null,null,null,null,null,null,null,null,null,null,null,null,null,null,null,null,null,null,null,null,null,null,null,null,null,null,null,0,0,0,0,0,0,0,0,0,0,null,null,0,0,0,0,0,0,0,0,0,0,null,null,0,0,0,0,0,0,0,0,0,0,null,null,0,0,0,0,0,0,0,0,0,0,null,null,0,0,0,0,0,0,0,0,0,0]
[null,null,null,null,null,null,null,null,null,null,null,null,null,null,null,null,null,null,null,null,null,null,null,null,null,null,null,null,null,null,null,null,0,0,0,0,0,0,0,0,0,0,null,null,0,0,0,0,0,0,0,0,0,0,null,null,0,0,0,0,0,0,0,0,0,0,null,null,0,0,0,0,0,0,0,0,0,0,null,null,0,0,0,0,0,0,0,0,0,0]
[null,null,null,null,null,null,null,null,null,null,null,null,null,null,null,null,null,null,null,null,null,null,null,null,null,null,null,null,null,null,null,null,0,0,0,0,0,0,0,0,0,0,null,null,0,0,0,0,0,0,0,0,0,0,null,null,0,0,0,0,0,0,0,0,0,0,null,null,0,0,0,0,0,0,0,0,0,0,null,null,0,0,0,0,0,0,0,0,0,0]
[null,null,null,null,null,null,null,null,null,null,null,null,null,null,null,null,null,null,null,null,null,null,null,null,null,null,null,null,null,null,null,null,0,0,0,0,0,0,0,0,0,0,null,null,0,0,0,0,0,0,0,0,0,0,null,null,0,0,0,0,0,0,0,0,0,0,null,null,0,0,0,0,0,0,0,0,0,0,null,null,0,0,0,0,0,0,0,0,0,0]
[null,null,null,null,null,null,null,null,null,null,null,null,null,null,null,null,null,null,null,null,null,null,null,null,null,null,null,null,null,null,null,null,0,0,0,0,0,0,0,0,0,0,null,null,0,0,0,0,0,0,0,0,0,0,null,null,0,0,0,0,0,0,0,0,0,0,null,null,0,0,0,0,0,0,0,0,0,0,null,null,0,0,0,0,0,0,0,0,0,0]
[null,null,null,null,null,null,null,null,null,null,null,null,null,null,null,null,null,null,null,null,null,null,null,null,null,null,null,null,null,null,null,null,0,0,0,0,0,0,0,0,0,0,null,null,0,0,0,0,0,0,0,0,0,0,null,null,0,0,0,0,0,0,0,0,0,0,null,null,0,0,0,0,0,0,0,0,0,0,null,null,0,0,0,0,0,0,0,0,0,0]
[null,null,null,null,null,null,null,null,null,null,null,null,null,null,null,null,null,null,null,null,null,null,null,null,null,null,null,null,null,null,null,null,0,0,0,0,0,0,0,0,0,0,null,null,0,0,0,0,0,0,0,0,0,0,null,null,0,0,0,0,0,0,0,0,0,0,null,null,0,0,0,0,0,0,0,0,0,0,null,null,0,0,0,0,0,0,0,0,0,0]
[null,null,null,null,null,null,null,null,null,null,null,null,null,null,null,null,null,null,null,null,null,null,null,null,null,null,null,null,null,null,null,null,0,0,0,0,0,0,0,0,0,0,null,null,0,0,0,0,0,0,0,0,0,0,null,null,0,0,0,0,0,0,0,0,0,0,null,null,0,0,0,0,0,0,0,0,0,0,null,null,0,0,0,0,0,0,0,0,0,0]
[null,null,null,null,null,null,null,null,null,null,null,null,null,null,null,null,null,null,null,null,null,null,null,null,null,null,null,null,null,null,null,null,0,0,0,0,0,0,0,0,0,0,null,null,0,0,0,0,0,0,0,0,0,0,null,null,0,0,0,0,0,0,0,0,0,0,null,null,0,0,0,0,0,0,0,0,0,0,null,null,0,0,0,0,0,0,0,0,0,0]
[null,null,null,null,null,null,null,null,null,null,null,null,null,null,null,null,null,null,null,null,null,null,null,null,null,null,null,null,null,null,null,null,0,0,0,0,0,0,0,0,0,0,null,null,0,0,0,0,0,0,0,0,0,0,null,null,0,0,0,0,0,0,0,0,0,0,null,null,0,0,0,0,0,0,0,0,0,0,null,null,0,0,0,0,0,0,0,0,0,0]
[null,null,null,null,null,null,null,null,null,null,null,null,null,null,null,null,null,null,null,null,null,null,null,null,null,null,null,null,null,null,null,null,0,0,0,0,0,0,0,0,0,0,null,null,0,0,0,0,0,0,0,0,0,0,null,null,0,0,0,0,0,0,0,0,0,0,null,null,0,0,0,0,0,0,0,0,0,0,null,null,0,0,0,0,0,0,0,0,0,0]
[null,null,null,null,null,null,null,null,null,null,null,null,null,null,null,null,null,null,null,null,null,null,null,null,null,null,null,null,null,null,null,null,0,0,0,0,0,0,0,0,0,0,null,null,0,0,0,0,0,0,0,0,0,0,null,null,0,0,0,0,0,0,0,0,0,0,null,null,0,0,0,0,0,0,0,0,0,0,null,null,0,0,0,0,0,0,0,0,0,0]
[null,null,null,null,null,null,null,null,null,null,null,null,null,null,null,null,null,null,null,null,null,null,null,null,null,null,null,null,null,null,null,null,0,0,0,0,0,0,0,0,0,0,null,null,0,0,0,0,0,0,0,0,0,0,null,null,0,0,0,0,0,0,0,0,0,0,null,null,0,0,0,0,0,0,0,0,0,0,null,null,0,0,0,0,0,0,0,0,0,0]
[null,null,null,null,null,null,null,null,null,null,null,null,null,null,null,null,null,null,null,null,null,null,null,null,null,null,null,null,null,null,null,null,0,0,0,0,0,0,0,0,0,0,null,null,0,0,0,0,0,0,0,0,0,0,null,null,0,0,0,0,0,0,0,0,0,0,null,null,0,0,0,0,0,0,0,0,0,0,null,null,0,0,0,0,0,0,0,0,0,0]
[null,null,null,null,null,null,null,null,null,null,null,null,null,null,null,null,null,null,null,null,null,null,null,null,null,null,null,null,null,null,null,null,0,0,0,0,0,0,0,0,0,0,null,null,0,0,0,0,0,0,0,0,0,0,null,null,0,0,0,0,0,0,0,0,0,0,null,null,0,0,0,0,0,0,0,0,0,0,null,null,0,0,0,0,0,0,0,0,0,0]
[null,null,null,null,null,null,null,null,null,null,null,null,null,null,null,null,null,null,null,null,null,null,null,null,null,null,null,null,null,null,null,null,0,0,0,0,0,0,0,0,0,0,null,null,0,0,0,0,0,0,0,0,0,0,null,null,0,0,0,0,0,0,0,0,0,0,null,null,0,0,0,0,0,0,0,0,0,0,null,null,0,0,0,0,0,0,0,0,0,0]
[null,null,null,null,null,null,null,null,null,null,null,null,null,null,null,null,null,null,null,null,null,null,null,null,null,null,null,null,null,null,null,null,0,0,0,0,0,0,0,0,0,0,null,null,0,0,0,0,0,0,0,0,0,0,null,null,0,0,0,0,0,0,0,0,0,0,null,null,0,0,0,0,0,0,0,0,0,0,null,null,0,0,0,0,0,0,0,0,0,0]
[null,null,null,null,null,null,null,null,null,null,null,null,null,null,null,null,null,null,null,null,null,null,null,null,null,null,null,null,null,null,null,null,0,0,0,0,0,0,0,0,0,0,null,null,0,0,0,0,0,0,0,0,0,0,null,null,0,0,0,0,0,0,0,0,0,0,null,null,0,0,0,0,0,0,0,0,0,0,null,null,0,0,0,0,0,0,0,0,0,0]
[null,null,null,null,null,null,null,null,null,null,null,null,null,null,null,null,null,null,null,null,null,null,null,null,null,null,null,null,null,null,null,null,0,0,0,0,0,0,0,0,0,0,null,null,0,0,0,0,0,0,0,0,0,0,null,null,0,0,0,0,0,0,0,0,0,0,null,null,0,0,0,0,0,0,0,0,0,0,null,null,0,0,0,0,0,0,0,0,0,0]
[null,null,null,null,null,null,null,null,null,null,null,null,null,null,null,null,null,null,null,null,null,null,null,null,null,null,null,null,null,null,null,null,0,0,0,0,0,0,0,0,0,0,null,null,0,0,0,0,0,0,0,0,0,0,null,null,0,0,0,0,0,0,0,0,0,0,null,null,0,0,0,0,0,0,0,0,0,0,null,null,0,0,0,0,0,0,0,0,0,0]
[null,null,null,null,null,null,null,null,null,null,null,null,null,null,null,null,null,null,null,null,null,null,null,null,null,null,null,null,null,null,null,null,0,0,0,0,0,0,0,0,0,0,null,null,0,0,0,0,0,0,0,0,0,0,null,null,0,0,0,0,0,0,0,0,0,0,null,null,0,0,0,0,0,0,0,0,0,0,null,null,0,0,0,0,0,0,0,0,0,0]
[null,null,null,null,null,null,null,null,null,null,null,null,null,null,null,null,null,null,null,null,null,null,null,null,null,null,null,null,null,null,null,null,0,0,0,0,0,0,0,0,0,0,null,null,0,0,0,0,0,0,0,0,0,0,null,null,0,0,0,0,0,0,0,0,0,0,null,null,0,0,0,0,0,0,0,0,0,0,null,null,0,0,0,0,0,0,0,0,0,0]
[null,null,null,null,null,null,null,null,null,null,null,null,null,null,null,null,null,null,null,null,null,null,null,null,null,null,null,null,null,null,null,null,0,0,0,0,0,0,0,0,0,0,null,null,0,0,0,0,0,0,0,0,0,0,null,null,0,0,0,0,0,0,0,0,0,0,null,null,0,0,0,0,0,0,0,0,0,0,null,null,0,0,0,0,0,0,0,0,0,0]
[null,null,null,null,null,null,null,null,null,null,null,null,null,null,null,null,null,null,null,null,null,null,null,null,null,null,null,null,null,null,null,null,0,0,0,0,0,0,0,0,0,0,null,null,0,0,0,0,0,0,0,0,0,0,null,null,0,0,0,0,0,0,0,0,0,0,null,null,0,0,0,0,0,0,0,0,0,0,null,null,0,0,0,0,0,0,0,0,0,0]
[null,null,null,null,null,null,null,null,null,null,null,null,null,null,null,null,null,null,null,null,null,null,null,null,null,null,null,null,null,null,null,null,0,0,0,0,0,0,0,0,0,0,null,null,0,0,0,0,0,0,0,0,0,0,null,null,0,0,0,0,0,0,0,0,0,0,null,null,0,0,0,0,0,0,0,0,0,0,null,null,0,0,0,0,0,0,0,0,0,0]
[null,null,null,null,null,null,null,null,null,null,null,null,null,null,null,null,null,null,null,null,null,null,null,null,null,null,null,null,null,null,null,null,0,0,0,0,0,0,0,0,0,0,null,null,0,0,0,0,0,0,0,0,0,0,null,null,0,0,0,0,0,0,0,0,0,0,null,null,0,0,0,0,0,0,0,0,0,0,null,null,0,0,0,0,0,0,0,0,0,0]
[null,null,null,null,null,null,null,null,null,null,null,null,null,null,null,null,null,null,null,null,null,null,null,null,null,null,null,null,null,null,null,null,0,0,0,0,0,0,0,0,0,0,null,null,0,0,0,0,0,0,0,0,0,0,null,null,0,0,0,0,0,0,0,0,0,0,null,null,0,0,0,0,0,0,0,0,0,0,null,null,0,0,0,0,0,0,0,0,0,0]
[null,null,null,null,null,null,null,null,null,null,null,null,null,null,null,null,null,null,null,null,null,null,null,null,null,null,null,null,null,null,null,null,0,0,0,0,0,0,0,0,0,0,null,null,0,0,0,0,0,0,0,0,0,0,null,null,0,0,0,0,0,0,0,0,0,0,null,null,0,0,0,0,0,0,0,0,0,0,null,null,0,0,0,0,0,0,0,0,0,0]
[null,null,null,null,null,null,null,null,null,null,null,null,null,null,null,null,null,null,null,null,null,null,null,null,null,null,null,null,null,null,null,null,0,0,0,0,0,0,0,0,0,0,null,null,0,0,0,0,0,0,0,0,0,0,null,null,0,0,0,0,0,0,0,0,0,0,null,null,0,0,0,0,0,0,0,0,0,0,null,null,0,0,0,0,0,0,0,0,0,0]
[null,null,null,null,null,null,null,null,null,null,null,null,null,null,null,null,null,null,null,null,null,null,null,null,null,null,null,null,null,null,null,null,0,0,0,0,0,0,0,0,0,0,null,null,0,0,0,0,0,0,0,0,0,0,null,null,0,0,0,0,0,0,0,0,0,0,null,null,0,0,0,0,0,0,0,0,0,0,null,null,0,0,0,0,0,0,0,0,0,0]
[null,null,null,null,null,null,null,null,null,null,null,null,null,null,null,null,null,null,null,null,null,null,null,null,null,null,null,null,null,null,null,null,0,0,0,0,0,0,0,0,0,0,null,null,0,0,0,0,0,0,0,0,0,0,null,null,0,0,0,0,0,0,0,0,0,0,null,null,0,0,0,0,0,0,0,0,0,0,null,null,0,0,0,0,0,0,0,0,0,0]
[null,null,null,null,null,null,null,null,null,null,null,null,null,null,null,null,null,null,null,null,null,null,null,null,null,null,null,null,null,null,null,null,0,0,0,0,0,0,0,0,0,0,null,null,0,0,0,0,0,0,0,0,0,0,null,null,0,0,0,0,0,0,0,0,0,0,null,null,0,0,0,0,0,0,0,0,0,0,null,null,0,0,0,0,0,0,0,0,0,0]
[null,null,null,null,null,null,null,null,null,null,null,null,null,null,null,null,null,null,null,null,null,null,null,null,null,null,null,null,null,null,null,null,0,0,0,0,0,0,0,0,0,0,null,null,0,0,0,0,0,0,0,0,0,0,null,null,0,0,0,0,0,0,0,0,0,0,null,null,0,0,0,0,0,0,0,0,0,0,null,null,0,0,0,0,0,0,0,0,0,0]
[null,null,null,null,null,null,null,null,null,null,null,null,null,null,null,null,null,null,null,null,null,null,null,null,null,null,null,null,null,null,null,null,0,0,0,0,0,0,0,0,0,0,null,null,0,0,0,0,0,0,0,0,0,0,null,null,0,0,0,0,0,0,0,0,0,0,null,null,0,0,0,0,0,0,0,0,0,0,null,null,0,0,0,0,0,0,0,0,0,0]
[null,null,null,null,null,null,null,null,null,null,null,null,null,null,null,null,null,null,null,null,null,null,null,null,null,null,null,null,null,null,null,null,0,0,0,0,0,0,0,0,0,0,null,null,0,0,0,0,0,0,0,0,0,0,null,null,0,0,0,0,0,0,0,0,0,0,null,null,0,0,0,0,0,0,0,0,0,0,null,null,0,0,0,0,0,0,0,0,0,0]
[null,null,null,null,null,null,null,null,null,null,null,null,null,null,null,null,null,null,null,null,null,null,null,null,null,null,null,null,null,null,null,null,0,0,0,0,0,0,0,0,0,0,null,null,0,0,0,0,0,0,0,0,0,0,null,null,0,0,0,0,0,0,0,0,0,0,null,null,0,0,0,0,0,0,0,0,0,0,null,null,0,0,0,0,0,0,0,0,0,0]
[null,null,null,null,null,null,null,null,null,null,null,null,null,null,null,null,null,null,null,null,null,null,null,null,null,null,null,null,null,null,null,null,0,0,0,0,0,0,0,0,0,0,null,null,0,0,0,0,0,0,0,0,0,0,null,null,0,0,0,0,0,0,0,0,0,0,null,null,0,0,0,0,0,0,0,0,0,0,null,null,0,0,0,0,0,0,0,0,0,0]
[null,null,null,null,null,null,null,null,null,null,null,null,null,null,null,null,null,null,null,null,null,null,null,null,null,null,null,null,null,null,null,null,0,0,0,0,0,0,0,0,0,0,null,null,0,0,0,0,0,0,0,0,0,0,null,null,0,0,0,0,0,0,0,0,0,0,null,null,0,0,0,0,0,0,0,0,0,0,null,null,0,0,0,0,0,0,0,0,0,0]
[null,null,null,null,null,null,null,null,null,null,null,null,null,null,null,null,null,null,null,null,null,null,null,null,null,null,null,null,null,null,null,null,0,0,0,0,0,0,0,0,0,0,null,null,0,0,0,0,0,0,0,0,0,0,null,null,0,0,0,0,0,0,0,0,0,0,null,null,0,0,0,0,0,0,0,0,0,0,null,null,0,0,0,0,0,0,0,0,0,0]
[null,null,null,null,null,null,null,null,null,null,null,null,null,null,null,null,null,null,null,null,null,null,null,null,null,null,null,null,null,null,null,null,0,0,0,0,0,0,0,0,0,0,null,null,0,0,0,0,0,0,0,0,0,0,null,null,0,0,0,0,0,0,0,0,0,0,null,null,0,0,0,0,0,0,0,0,0,0,null,null,0,0,0,0,0,0,0,0,0,0]
[null,null,null,null,null,null,null,null,null,null,null,null,null,null,null,null,null,null,null,null,null,null,null,null,null,null,null,null,null,null,null,null,0,0,0,0,0,0,0,0,0,0,null,null,0,0,0,0,0,0,0,0,0,0,null,null,0,0,0,0,0,0,0,0,0,0,null,null,0,0,0,0,0,0,0,0,0,0,null,null,0,0,0,0,0,0,0,0,0,0]
[null,null,null,null,null,null,null,null,null,null,null,null,null,null,null,null,null,null,null,null,null,null,null,null,null,null,null,null,null,null,null,null,0,0,0,0,0,0,0,0,0,0,null,null,0,0,0,0,0,0,0,0,0,0,null,null,0,0,0,0,0,0,0,0,0,0,null,null,0,0,0,0,0,0,0,0,0,0,null,null,0,0,0,0,0,0,0,0,0,0]
[null,null,null,null,null,null,null,null,null,null,null,null,null,null,null,null,null,null,null,null,null,null,null,null,null,null,null,null,null,null,null,null,0,0,0,0,0,0,0,0,0,0,null,null,0,0,0,0,0,0,0,0,0,0,null,null,0,0,0,0,0,0,0,0,0,0,null,null,0,0,0,0,0,0,0,0,0,0,null,null,0,0,0,0,0,0,0,0,0,0]
[null,null,null,null,null,null,null,null,null,null,null,null,null,null,null,null,null,null,null,null,null,null,null,null,null,null,null,null,null,null,null,null,0,0,0,0,0,0,0,0,0,0,null,null,0,0,0,0,0,0,0,0,0,0,null,null,0,0,0,0,0,0,0,0,0,0,null,null,0,0,0,0,0,0,0,0,0,0,null,null,0,0,0,0,0,0,0,0,0,0]
[null,null,null,null,null,null,null,null,null,null,null,null,null,null,null,null,null,null,null,null,null,null,null,null,null,null,null,null,null,null,null,null,0,0,0,0,0,0,0,0,0,0,null,null,0,0,0,0,0,0,0,0,0,0,null,null,0,0,0,0,0,0,0,0,0,0,null,null,0,0,0,0,0,0,0,0,0,0,null,null,0,0,0,0,0,0,0,0,0,0]
[null,null,null,null,null,null,null,null,null,null,null,null,null,null,null,null,null,null,null,null,null,null,null,null,null,null,null,null,null,null,null,null,0,0,0,0,0,0,0,0,0,0,null,null,0,0,0,0,0,0,0,0,0,0,null,null,0,0,0,0,0,0,0,0,0,0,null,null,0,0,0,0,0,0,0,0,0,0,null,null,0,0,0,0,0,0,0,0,0,0]
[null,null,null,null,null,null,null,null,null,null,null,null,null,null,null,null,null,null,null,null,null,null,null,null,null,null,null,null,null,null,null,null,0,0,0,0,0,0,0,0,0,0,null,null,0,0,0,0,0,0,0,0,0,0,null,null,0,0,0,0,0,0,0,0,0,0,null,null,0,0,0,0,0,0,0,0,0,0,null,null,0,0,0,0,0,0,0,0,0,0]
[null,null,null,null,null,null,null,null,null,null,null,null,null,null,null,null,null,null,null,null,null,null,null,null,null,null,null,null,null,null,null,null,0,0,0,0,0,0,0,0,0,0,null,null,0,0,0,0,0,0,0,0,0,0,null,null,0,0,0,0,0,0,0,0,0,0,null,null,0,0,0,0,0,0,0,0,0,0,null,null,0,0,0,0,0,0,0,0,0,0]
[null,null,null,null,null,null,null,null,null,null,null,null,null,null,null,null,null,null,null,null,null,null,null,null,null,null,null,null,null,null,null,null,0,0,0,0,0,0,0,0,0,0,null,null,0,0,0,0,0,0,0,0,0,0,null,null,0,0,0,0,0,0,0,0,0,0,null,null,0,0,0,0,0,0,0,0,0,0,null,null,0,0,0,0,0,0,0,0,0,0]
[null,null,null,null,null,null,null,null,null,null,null,null,null,null,null,null,null,null,null,null,null,null,null,null,null,null,null,null,null,null,null,null,0,0,0,0,0,0,0,0,0,0,null,null,0,0,0,0,0,0,0,0,0,0,null,null,0,0,0,0,0,0,0,0,0,0,null,null,0,0,0,0,0,0,0,0,0,0,null,null,0,0,0,0,0,0,0,0,0,0]
[null,null,null,null,null,null,null,null,null,null,null,null,null,null,null,null,null,null,null,null,null,null,null,null,null,null,null,null,null,null,null,null,0,0,0,0,0,0,0,0,0,0,null,null,0,0,0,0,0,0,0,0,0,0,null,null,0,0,0,0,0,0,0,0,0,0,null,null,0,0,0,0,0,0,0,0,0,0,null,null,0,0,0,0,0,0,0,0,0,0]
[null,null,null,null,null,null,null,null,null,null,null,null,null,null,null,null,null,null,null,null,null,null,null,null,null,null,null,null,null,null,null,null,0,0,0,0,0,0,0,0,0,0,null,null,0,0,0,0,0,0,0,0,0,0,null,null,0,0,0,0,0,0,0,0,0,0,null,null,0,0,0,0,0,0,0,0,0,0,null,null,0,0,0,0,0,0,0,0,0,0]
[null,null,null,null,null,null,null,null,null,null,null,null,null,null,null,null,null,null,null,null,null,null,null,null,null,null,null,null,null,null,null,null,0,0,0,0,0,0,0,0,0,0,null,null,0,0,0,0,0,0,0,0,0,0,null,null,0,0,0,0,0,0,0,0,0,0,null,null,0,0,0,0,0,0,0,0,0,0,null,null,0,0,0,0,0,0,0,0,0,0]
[null,null,null,null,null,null,null,null,null,null,null,null,null,null,null,null,null,null,null,null,null,null,null,null,null,null,null,null,null,null,null,null,0,0,0,0,0,0,0,0,0,0,null,null,0,0,0,0,0,0,0,0,0,0,null,null,0,0,0,0,0,0,0,0,0,0,null,null,0,0,0,0,0,0,0,0,0,0,null,null,0,0,0,0,0,0,0,0,0,0]
[null,null,null,null,null,null,null,null,null,null,null,null,null,null,null,null,null,null,null,null,null,null,null,null,null,null,null,null,null,null,null,null,0,0,0,0,0,0,0,0,0,0,null,null,0,0,0,0,0,0,0,0,0,0,null,null,0,0,0,0,0,0,0,0,0,0,null,null,0,0,0,0,0,0,0,0,0,0,null,null,0,0,0,0,0,0,0,0,0,0]
[null,null,null,null,null,null,null,null,null,null,null,null,null,null,null,null,null,null,null,null,null,null,null,null,null,null,null,null,null,null,null,null,0,0,0,0,0,0,0,0,0,0,null,null,0,0,0,0,0,0,0,0,0,0,null,null,0,0,0,0,0,0,0,0,0,0,null,null,0,0,0,0,0,0,0,0,0,0,null,null,0,0,0,0,0,0,0,0,0,0]
[null,null,null,null,null,null,null,null,null,null,null,null,null,null,null,null,null,null,null,null,null,null,null,null,null,null,null,null,null,null,null,null,0,0,0,0,0,0,0,0,0,0,null,null,0,0,0,0,0,0,0,0,0,0,null,null,0,0,0,0,0,0,0,0,0,0,null,null,0,0,0,0,0,0,0,0,0,0,null,null,0,0,0,0,0,0,0,0,0,0]
[null,null,null,null,null,null,null,null,null,null,null,null,null,null,null,null,null,null,null,null,null,null,null,null,null,null,null,null,null,null,null,null,0,0,0,0,0,0,0,0,0,0,null,null,0,0,0,0,0,0,0,0,0,0,null,null,0,0,0,0,0,0,0,0,0,0,null,null,0,0,0,0,0,0,0,0,0,0,null,null,0,0,0,0,0,0,0,0,0,0]
[null,null,null,null,null,null,null,null,null,null,null,null,null,null,null,null,null,null,null,null,null,null,null,null,null,null,null,null,null,null,null,null,0,0,0,0,0,0,0,0,0,0,null,null,0,0,0,0,0,0,0,0,0,0,null,null,0,0,0,0,0,0,0,0,0,0,null,null,0,0,0,0,0,0,0,0,0,0,null,null,0,0,0,0,0,0,0,0,0,0]
[null,null,null,null,null,null,null,null,null,null,null,null,null,null,null,null,null,null,null,null,null,null,null,null,null,null,null,null,null,null,null,null,0,0,0,0,0,0,0,0,0,0,null,null,0,0,0,0,0,0,0,0,0,0,null,null,0,0,0,0,0,0,0,0,0,0,null,null,0,0,0,0,0,0,0,0,0,0,null,null,0,0,0,0,0,0,0,0,0,0]
[null,null,null,null,null,null,null,null,null,null,null,null,null,null,null,null,null,null,null,null,null,null,null,null,null,null,null,null,null,null,null,null,0,0,0,0,0,0,0,0,0,0,null,null,0,0,0,0,0,0,0,0,0,0,null,null,0,0,0,0,0,0,0,0,0,0,null,null,0,0,0,0,0,0,0,0,0,0,null,null,0,0,0,0,0,0,0,0,0,0]
[null,null,null,null,null,null,null,null,null,null,null,null,null,null,null,null,null,null,null,null,null,null,null,null,null,null,null,null,null,null,null,null,0,0,0,0,0,0,0,0,0,0,null,null,0,0,0,0,0,0,0,0,0,0,null,null,0,0,0,0,0,0,0,0,0,0,null,null,0,0,0,0,0,0,0,0,0,0,null,null,0,0,0,0,0,0,0,0,0,0]
[null,null,null,null,null,null,null,null,null,null,null,null,null,null,null,null,null,null,null,null,null,null,null,null,null,null,null,null,null,null,null,null,0,0,0,0,0,0,0,0,0,0,null,null,0,0,0,0,0,0,0,0,0,0,null,null,0,0,0,0,0,0,0,0,0,0,null,null,0,0,0,0,0,0,0,0,0,0,null,null,0,0,0,0,0,0,0,0,0,0]
[null,null,null,null,null,null,null,null,null,null,null,null,null,null,null,null,null,null,null,null,null,null,null,null,null,null,null,null,null,null,null,null,0,0,0,0,0,0,0,0,0,0,null,null,0,0,0,0,0,0,0,0,0,0,null,null,0,0,0,0,0,0,0,0,0,0,null,null,0,0,0,0,0,0,0,0,0,0,null,null,0,0,0,0,0,0,0,0,0,0]
[null,null,null,null,null,null,null,null,null,null,null,null,null,null,null,null,null,null,null,null,null,null,null,null,null,null,null,null,null,null,null,null,0,0,0,0,0,0,0,0,0,0,null,null,0,0,0,0,0,0,0,0,0,0,null,null,0,0,0,0,0,0,0,0,0,0,null,null,0,0,0,0,0,0,0,0,0,0,null,null,0,0,0,0,0,0,0,0,0,0]
[null,null,null,null,null,null,null,null,null,null,null,null,null,null,null,null,null,null,null,null,null,null,null,null,null,null,null,null,null,null,null,null,0,0,0,0,0,0,0,0,0,0,null,null,0,0,0,0,0,0,0,0,0,0,null,null,0,0,0,0,0,0,0,0,0,0,null,null,0,0,0,0,0,0,0,0,0,0,null,null,0,0,0,0,0,0,0,0,0,0]
[null,null,null,null,null,null,null,null,null,null,null,null,null,null,null,null,null,null,null,null,null,null,null,null,null,null,null,null,null,null,null,null,0,0,0,0,0,0,0,0,0,0,null,null,0,0,0,0,0,0,0,0,0,0,null,null,0,0,0,0,0,0,0,0,0,0,null,null,0,0,0,0,0,0,0,0,0,0,null,null,0,0,0,0,0,0,0,0,0,0]
[null,null,null,null,null,null,null,null,null,null,null,null,null,null,null,null,null,null,null,null,null,null,null,null,null,null,null,null,null,null,null,null,0,0,0,0,0,0,0,0,0,0,null,null,0,0,0,0,0,0,0,0,0,0,null,null,0,0,0,0,0,0,0,0,0,0,null,null,0,0,0,0,0,0,0,0,0,0,null,null,0,0,0,0,0,0,0,0,0,0]
[null,null,null,null,null,null,null,null,null,null,null,null,null,null,null,null,null,null,null,null,null,null,null,null,null,null,null,null,null,null,null,null,0,0,0,0,0,0,0,0,0,0,null,null,0,0,0,0,0,0,0,0,0,0,null,null,0,0,0,0,0,0,0,0,0,0,null,null,0,0,0,0,0,0,0,0,0,0,null,null,0,0,0,0,0,0,0,0,0,0]
[null,null,null,null,null,null,null,null,null,null,null,null,null,null,null,null,null,null,null,null,null,null,null,null,null,null,null,null,null,null,null,null,0,0,0,0,0,0,0,0,0,0,null,null,0,0,0,0,0,0,0,0,0,0,null,null,0,0,0,0,0,0,0,0,0,0,null,null,0,0,0,0,0,0,0,0,0,0,null,null,0,0,0,0,0,0,0,0,0,0]
[null,null,null,null,null,null,null,null,null,null,null,null,null,null,null,null,null,null,null,null,null,null,null,null,null,null,null,null,null,null,null,null,0,0,0,0,0,0,0,0,0,0,null,null,0,0,0,0,0,0,0,0,0,0,null,null,0,0,0,0,0,0,0,0,0,0,null,null,0,0,0,0,0,0,0,0,0,0,null,null,0,0,0,0,0,0,0,0,0,0]
[null,null,null,null,null,null,null,null,null,null,null,null,null,null,null,null,null,null,null,null,null,null,null,null,null,null,null,null,null,null,null,null,0,0,0,0,0,0,0,0,0,0,null,null,0,0,0,0,0,0,0,0,0,0,null,null,0,0,0,0,0,0,0,0,0,0,null,null,0,0,0,0,0,0,0,0,0,0,null,null,0,0,0,0,0,0,0,0,0,0]
[null,null,null,null,null,null,null,null,null,null,null,null,null,null,null,null,null,null,null,null,null,null,null,null,null,null,null,null,null,null,null,null,0,0,0,0,0,0,0,0,0,0,null,null,0,0,0,0,0,0,0,0,0,0,null,null,0,0,0,0,0,0,0,0,0,0,null,null,0,0,0,0,0,0,0,0,0,0,null,null,0,0,0,0,0,0,0,0,0,0]
[null,null,null,null,null,null,null,null,null,null,null,null,null,null,null,null,null,null,null,null,null,null,null,null,null,null,null,null,null,null,null,null,0,0,0,0,0,0,0,0,0,0,null,null,0,0,0,0,0,0,0,0,0,0,null,null,0,0,0,0,0,0,0,0,0,0,null,null,0,0,0,0,0,0,0,0,0,0,null,null,0,0,0,0,0,0,0,0,0,0]
[null,null,null,null,null,null,null,null,null,null,null,null,null,null,null,null,null,null,null,null,null,null,null,null,null,null,null,null,null,null,null,null,0,0,0,0,0,0,0,0,0,0,null,null,0,0,0,0,0,0,0,0,0,0,null,null,0,0,0,0,0,0,0,0,0,0,null,null,0,0,0,0,0,0,0,0,0,0,null,null,0,0,0,0,0,0,0,0,0,0]
[null,null,null,null,null,null,null,null,null,null,null,null,null,null,null,null,null,null,null,null,null,null,null,null,null,null,null,null,null,null,null,null,0,0,0,0,0,0,0,0,0,0,null,null,0,0,0,0,0,0,0,0,0,0,null,null,0,0,0,0,0,0,0,0,0,0,null,null,0,0,0,0,0,0,0,0,0,0,null,null,0,0,0,0,0,0,0,0,0,0]
[null,null,null,null,null,null,null,null,null,null,null,null,null,null,null,null,null,null,null,null,null,null,null,null,null,null,null,null,null,null,null,null,0,0,0,0,0,0,0,0,0,0,null,null,0,0,0,0,0,0,0,0,0,0,null,null,0,0,0,0,0,0,0,0,0,0,null,null,0,0,0,0,0,0,0,0,0,0,null,null,0,0,0,0,0,0,0,0,0,0]
[null,null,null,null,null,null,null,null,null,null,null,null,null,null,null,null,null,null,null,null,null,null,null,null,null,null,null,null,null,null,null,null,0,0,0,0,0,0,0,0,0,0,null,null,0,0,0,0,0,0,0,0,0,0,null,null,0,0,0,0,0,0,0,0,0,0,null,null,0,0,0,0,0,0,0,0,0,0,null,null,0,0,0,0,0,0,0,0,0,0]
[null,null,null,null,null,null,null,null,null,null,null,null,null,null,null,null,null,null,null,null,null,null,null,null,null,null,null,null,null,null,null,null,0,0,0,0,0,0,0,0,0,0,null,null,0,0,0,0,0,0,0,0,0,0,null,null,0,0,0,0,0,0,0,0,0,0,null,null,0,0,0,0,0,0,0,0,0,0,null,null,0,0,0,0,0,0,0,0,0,0]
[null,null,null,null,null,null,null,null,null,null,null,null,null,null,null,null,null,null,null,null,null,null,null,null,null,null,null,null,null,null,null,null,0,0,0,0,0,0,0,0,0,0,null,null,0,0,0,0,0,0,0,0,0,0,null,null,0,0,0,0,0,0,0,0,0,0,null,null,0,0,0,0,0,0,0,0,0,0,null,null,0,0,0,0,0,0,0,0,0,0]
[null,null,null,null,null,null,null,null,null,null,null,null,null,null,null,null,null,null,null,null,null,null,null,null,null,null,null,null,null,null,null,null,0,0,0,0,0,0,0,0,0,0,null,null,0,0,0,0,0,0,0,0,0,0,null,null,0,0,0,0,0,0,0,0,0,0,null,null,0,0,0,0,0,0,0,0,0,0,null,null,0,0,0,0,0,0,0,0,0,0]
[null,null,null,null,null,null,null,null,null,null,null,null,null,null,null,null,null,null,null,null,null,null,null,null,null,null,null,null,null,null,null,null,0,0,0,0,0,0,0,0,0,0,null,null,0,0,0,0,0,0,0,0,0,0,null,null,0,0,0,0,0,0,0,0,0,0,null,null,0,0,0,0,0,0,0,0,0,0,null,null,0,0,0,0,0,0,0,0,0,0]
[null,null,null,null,null,null,null,null,null,null,null,null,null,null,null,null,null,null,null,null,null,null,null,null,null,null,null,null,null,null,null,null,0,0,0,0,0,0,0,0,0,0,null,null,0,0,0,0,0,0,0,0,0,0,null,null,0,0,0,0,0,0,0,0,0,0,null,null,0,0,0,0,0,0,0,0,0,0,null,null,0,0,0,0,0,0,0,0,0,0]
[null,null,null,null,null,null,null,null,null,null,null,null,null,null,null,null,null,null,null,null,null,null,null,null,null,null,null,null,null,null,null,null,0,0,0,0,0,0,0,0,0,0,null,null,0,0,0,0,0,0,0,0,0,0,null,null,0,0,0,0,0,0,0,0,0,0,null,null,0,0,0,0,0,0,0,0,0,0,null,null,0,0,0,0,0,0,0,0,0,0]
[null,null,null,null,null,null,null,null,null,null,null,null,null,null,null,null,null,null,null,null,null,null,null,null,null,null,null,null,null,null,null,null,0,0,0,0,0,0,0,0,0,0,null,null,0,0,0,0,0,0,0,0,0,0,null,null,0,0,0,0,0,0,0,0,0,0,null,null,0,0,0,0,0,0,0,0,0,0,null,null,0,0,0,0,0,0,0,0,0,0]
[null,null,null,null,null,null,null,null,null,null,null,null,null,null,null,null,null,null,null,null,null,null,null,null,null,null,null,null,null,null,null,null,0,0,0,0,0,0,0,0,0,0,null,null,0,0,0,0,0,0,0,0,0,0,null,null,0,0,0,0,0,0,0,0,0,0,null,null,0,0,0,0,0,0,0,0,0,0,null,null,0,0,0,0,0,0,0,0,0,0]
[null,null,null,null,null,null,null,null,null,null,null,null,null,null,null,null,null,null,null,null,null,null,null,null,null,null,null,null,null,null,null,null,0,0,0,0,0,0,0,0,0,0,null,null,0,0,0,0,0,0,0,0,0,0,null,null,0,0,0,0,0,0,0,0,0,0,null,null,0,0,0,0,0,0,0,0,0,0,null,null,0,0,0,0,0,0,0,0,0,0]
[null,null,null,null,null,null,null,null,null,null,null,null,null,null,null,null,null,null,null,null,null,null,null,null,null,null,null,null,null,null,null,null,0,0,0,0,0,0,0,0,0,0,null,null,0,0,0,0,0,0,0,0,0,0,null,null,0,0,0,0,0,0,0,0,0,0,null,null,0,0,0,0,0,0,0,0,0,0,null,null,0,0,0,0,0,0,0,0,0,0]
[null,null,null,null,null,null,null,null,null,null,null,null,null,null,null,null,null,null,null,null,null,null,null,null,null,null,null,null,null,null,null,null,0,0,0,0,0,0,0,0,0,0,null,null,0,0,0,0,0,0,0,0,0,0,null,null,0,0,0,0,0,0,0,0,0,0,null,null,0,0,0,0,0,0,0,0,0,0,null,null,0,0,0,0,0,0,0,0,0,0]
[null,null,null,null,null,null,null,null,null,null,null,null,null,null,null,null,null,null,null,null,null,null,null,null,null,null,null,null,null,null,null,null,0,0,0,0,0,0,0,0,0,0,null,null,0,0,0,0,0,0,0,0,0,0,null,null,0,0,0,0,0,0,0,0,0,0,null,null,0,0,0,0,0,0,0,0,0,0,null,null,0,0,0,0,0,0,0,0,0,0]
[null,null,null,null,null,null,null,null,null,null,null,null,null,null,null,null,null,null,null,null,null,null,null,null,null,null,null,null,null,null,null,null,0,0,0,0,0,0,0,0,0,0,null,null,0,0,0,0,0,0,0,0,0,0,null,null,0,0,0,0,0,0,0,0,0,0,null,null,0,0,0,0,0,0,0,0,0,0,null,null,0,0,0,0,0,0,0,0,0,0]
[null,null,null,null,null,null,null,null,null,null,null,null,null,null,null,null,null,null,null,null,null,null,null,null,null,null,null,null,null,null,null,null,0,0,0,0,0,0,0,0,0,0,null,null,0,0,0,0,0,0,0,0,0,0,null,null,0,0,0,0,0,0,0,0,0,0,null,null,0,0,0,0,0,0,0,0,0,0,null,null,0,0,0,0,0,0,0,0,0,0]
[null,null,null,null,null,null,null,null,null,null,null,null,null,null,null,null,null,null,null,null,null,null,null,null,null,null,null,null,null,null,null,null,0,0,0,0,0,0,0,0,0,0,null,null,0,0,0,0,0,0,0,0,0,0,null,null,0,0,0,0,0,0,0,0,0,0,null,null,0,0,0,0,0,0,0,0,0,0,null,null,0,0,0,0,0,0,0,0,0,0]
[null,null,null,null,null,null,null,null,null,null,null,null,null,null,null,null,null,null,null,null,null,null,null,null,null,null,null,null,null,null,null,null,0,0,0,0,0,0,0,0,0,0,null,null,0,0,0,0,0,0,0,0,0,0,null,null,0,0,0,0,0,0,0,0,0,0,null,null,0,0,0,0,0,0,0,0,0,0,null,null,0,0,0,0,0,0,0,0,0,0]
[null,null,null,null,null,null,null,null,null,null,null,null,null,null,null,null,null,null,null,null,null,null,null,null,null,null,null,null,null,null,null,null,0,0,0,0,0,0,0,0,0,0,null,null,0,0,0,0,0,0,0,0,0,0,null,null,0,0,0,0,0,0,0,0,0,0,null,null,0,0,0,0,0,0,0,0,0,0,null,null,0,0,0,0,0,0,0,0,0,0]
[null,null,null,null,null,null,null,null,null,null,null,null,null,null,null,null,null,null,null,null,null,null,null,null,null,null,null,null,null,null,null,null,0,0,0,0,0,0,0,0,0,0,null,null,0,0,0,0,0,0,0,0,0,0,null,null,0,0,0,0,0,0,0,0,0,0,null,null,0,0,0,0,0,0,0,0,0,0,null,null,0,0,0,0,0,0,0,0,0,0]
[null,null,null,null,null,null,null,null,null,null,null,null,null,null,null,null,null,null,null,null,null,null,null,null,null,null,null,null,null,null,null,null,0,0,0,0,0,0,0,0,0,0,null,null,0,0,0,0,0,0,0,0,0,0,null,null,0,0,0,0,0,0,0,0,0,0,null,null,0,0,0,0,0,0,0,0,0,0,null,null,0,0,0,0,0,0,0,0,0,0]
[null,null,null,null,null,null,null,null,null,null,null,null,null,null,null,null,null,null,null,null,null,null,null,null,null,null,null,null,null,null,null,null,0,0,0,0,0,0,0,0,0,0,null,null,0,0,0,0,0,0,0,0,0,0,null,null,0,0,0,0,0,0,0,0,0,0,null,null,0,0,0,0,0,0,0,0,0,0,null,null,0,0,0,0,0,0,0,0,0,0]
[null,null,null,null,null,null,null,null,null,null,null,null,null,null,null,null,null,null,null,null,null,null,null,null,null,null,null,null,null,null,null,null,0,0,0,0,0,0,0,0,0,0,null,null,0,0,0,0,0,0,0,0,0,0,null,null,0,0,0,0,0,0,0,0,0,0,null,null,0,0,0,0,0,0,0,0,0,0,null,null,0,0,0,0,0,0,0,0,0,0]
[null,null,null,null,null,null,null,null,null,null,null,null,null,null,null,null,null,null,null,null,null,null,null,null,null,null,null,null,null,null,null,null,0,0,0,0,0,0,0,0,0,0,null,null,0,0,0,0,0,0,0,0,0,0,null,null,0,0,0,0,0,0,0,0,0,0,null,null,0,0,0,0,0,0,0,0,0,0,null,null,0,0,0,0,0,0,0,0,0,0]
[null,null,null,null,null,null,null,null,null,null,null,null,null,null,null,null,null,null,null,null,null,null,null,null,null,null,null,null,null,null,null,null,0,0,0,0,0,0,0,0,0,0,null,null,0,0,0,0,0,0,0,0,0,0,null,null,0,0,0,0,0,0,0,0,0,0,null,null,0,0,0,0,0,0,0,0,0,0,null,null,0,0,0,0,0,0,0,0,0,0]
[null,null,null,null,null,null,null,null,null,null,null,null,null,null,null,null,null,null,null,null,null,null,null,null,null,null,null,null,null,null,null,null,0,0,0,0,0,0,0,0,0,0,null,null,0,0,0,0,0,0,0,0,0,0,null,null,0,0,0,0,0,0,0,0,0,0,null,null,0,0,0,0,0,0,0,0,0,0,null,null,0,0,0,0,0,0,0,0,0,0]
[null,null,null,null,null,null,null,null,null,null,null,null,null,null,null,null,null,null,null,null,null,null,null,null,null,null,null,null,null,null,null,null,0,0,0,0,0,0,0,0,0,0,null,null,0,0,0,0,0,0,0,0,0,0,null,null,0,0,0,0,0,0,0,0,0,0,null,null,0,0,0,0,0,0,0,0,0,0,null,null,0,0,0,0,0,0,0,0,0,0]
[null,null,null,null,null,null,null,null,null,null,null,null,null,null,null,null,null,null,null,null,null,null,null,null,null,null,null,null,null,null,null,null,0,0,0,0,0,0,0,0,0,0,null,null,0,0,0,0,0,0,0,0,0,0,null,null,0,0,0,0,0,0,0,0,0,0,null,null,0,0,0,0,0,0,0,0,0,0,null,null,0,0,0,0,0,0,0,0,0,0]
[null,null,null,null,null,null,null,null,null,null,null,null,null,null,null,null,null,null,null,null,null,null,null,null,null,null,null,null,null,null,null,null,0,0,0,0,0,0,0,0,0,0,null,null,0,0,0,0,0,0,0,0,0,0,null,null,0,0,0,0,0,0,0,0,0,0,null,null,0,0,0,0,0,0,0,0,0,0,null,null,0,0,0,0,0,0,0,0,0,0]
[null,null,null,null,null,null,null,null,null,null,null,null,null,null,null,null,null,null,null,null,null,null,null,null,null,null,null,null,null,null,null,null,0,0,0,0,0,0,0,0,0,0,null,null,0,0,0,0,0,0,0,0,0,0,null,null,0,0,0,0,0,0,0,0,0,0,null,null,0,0,0,0,0,0,0,0,0,0,null,null,0,0,0,0,0,0,0,0,0,0]
[null,null,null,null,null,null,null,null,null,null,null,null,null,null,null,null,null,null,null,null,null,null,null,null,null,null,null,null,null,null,null,null,0,0,0,0,0,0,0,0,0,0,null,null,0,0,0,0,0,0,0,0,0,0,null,null,0,0,0,0,0,0,0,0,0,0,null,null,0,0,0,0,0,0,0,0,0,0,null,null,0,0,0,0,0,0,0,0,0,0]
[null,null,null,null,null,null,null,null,null,null,null,null,null,null,null,null,null,null,null,null,null,null,null,null,null,null,null,null,null,null,null,null,0,0,0,0,0,0,0,0,0,0,null,null,0,0,0,0,0,0,0,0,0,0,null,null,0,0,0,0,0,0,0,0,0,0,null,null,0,0,0,0,0,0,0,0,0,0,null,null,0,0,0,0,0,0,0,0,0,0]
[null,null,null,null,null,null,null,null,null,null,null,null,null,null,null,null,null,null,null,null,null,null,null,null,null,null,null,null,null,null,null,null,0,0,0,0,0,0,0,0,0,0,null,null,0,0,0,0,0,0,0,0,0,0,null,null,0,0,0,0,0,0,0,0,0,0,null,null,0,0,0,0,0,0,0,0,0,0,null,null,0,0,0,0,0,0,0,0,0,0]
[null,null,null,null,null,null,null,null,null,null,null,null,null,null,null,null,null,null,null,null,null,null,null,null,null,null,null,null,null,null,null,null,0,0,0,0,0,0,0,0,0,0,null,null,0,0,0,0,0,0,0,0,0,0,null,null,0,0,0,0,0,0,0,0,0,0,null,null,0,0,0,0,0,0,0,0,0,0,null,null,0,0,0,0,0,0,0,0,0,0]
[null,null,null,null,null,null,null,null,null,null,null,null,null,null,null,null,null,null,null,null,null,null,null,null,null,null,null,null,null,null,null,null,0,0,0,0,0,0,0,0,0,0,null,null,0,0,0,0,0,0,0,0,0,0,null,null,0,0,0,0,0,0,0,0,0,0,null,null,0,0,0,0,0,0,0,0,0,0,null,null,0,0,0,0,0,0,0,0,0,0]
[null,null,null,null,null,null,null,null,null,null,null,null,null,null,null,null,null,null,null,null,null,null,null,null,null,null,null,null,null,null,null,null,0,0,0,0,0,0,0,0,0,0,null,null,0,0,0,0,0,0,0,0,0,0,null,null,0,0,0,0,0,0,0,0,0,0,null,null,0,0,0,0,0,0,0,0,0,0,null,null,0,0,0,0,0,0,0,0,0,0]
[null,null,null,null,null,null,null,null,null,null,null,null,null,null,null,null,null,null,null,null,null,null,null,null,null,null,null,null,null,null,null,null,0,0,0,0,0,0,0,0,0,0,null,null,0,0,0,0,0,0,0,0,0,0,null,null,0,0,0,0,0,0,0,0,0,0,null,null,0,0,0,0,0,0,0,0,0,0,null,null,0,0,0,0,0,0,0,0,0,0]
[null,null,null,null,null,null,null,null,null,null,null,null,null,null,null,null,null,null,null,null,null,null,null,null,null,null,null,null,null,null,null,null,0,0,0,0,0,0,0,0,0,0,null,null,0,0,0,0,0,0,0,0,0,0,null,null,0,0,0,0,0,0,0,0,0,0,null,null,0,0,0,0,0,0,0,0,0,0,null,null,0,0,0,0,0,0,0,0,0,0]
[null,null,null,null,null,null,null,null,null,null,null,null,null,null,null,null,null,null,null,null,null,null,null,null,null,null,null,null,null,null,null,null,0,0,0,0,0,0,0,0,0,0,null,null,0,0,0,0,0,0,0,0,0,0,null,null,0,0,0,0,0,0,0,0,0,0,null,null,0,0,0,0,0,0,0,0,0,0,null,null,0,0,0,0,0,0,0,0,0,0]
[null,null,null,null,null,null,null,null,null,null,null,null,null,null,null,null,null,null,null,null,null,null,null,null,null,null,null,null,null,null,null,null,0,0,0,0,0,0,0,0,0,0,null,null,0,0,0,0,0,0,0,0,0,0,null,null,0,0,0,0,0,0,0,0,0,0,null,null,0,0,0,0,0,0,0,0,0,0,null,null,0,0,0,0,0,0,0,0,0,0]
[null,null,null,null,null,null,null,null,null,null,null,null,null,null,null,null,null,null,null,null,null,null,null,null,null,null,null,null,null,null,null,null,0,0,0,0,0,0,0,0,0,0,null,null,0,0,0,0,0,0,0,0,0,0,null,null,0,0,0,0,0,0,0,0,0,0,null,null,0,0,0,0,0,0,0,0,0,0,null,null,0,0,0,0,0,0,0,0,0,0]
[null,null,null,null,null,null,null,null,null,null,null,null,null,null,null,null,null,null,null,null,null,null,null,null,null,null,null,null,null,null,null,null,0,0,0,0,0,0,0,0,0,0,null,null,0,0,0,0,0,0,0,0,0,0,null,null,0,0,0,0,0,0,0,0,0,0,null,null,0,0,0,0,0,0,0,0,0,0,null,null,0,0,0,0,0,0,0,0,0,0]
[null,null,null,null,null,null,null,null,null,null,null,null,null,null,null,null,null,null,null,null,null,null,null,null,null,null,null,null,null,null,null,null,0,0,0,0,0,0,0,0,0,0,null,null,0,0,0,0,0,0,0,0,0,0,null,null,0,0,0,0,0,0,0,0,0,0,null,null,0,0,0,0,0,0,0,0,0,0,null,null,0,0,0,0,0,0,0,0,0,0]
[null,null,null,null,null,null,null,null,null,null,null,null,null,null,null,null,null,null,null,null,null,null,null,null,null,null,null,null,null,null,null,null,0,0,0,0,0,0,0,0,0,0,null,null,0,0,0,0,0,0,0,0,0,0,null,null,0,0,0,0,0,0,0,0,0,0,null,null,0,0,0,0,0,0,0,0,0,0,null,null,0,0,0,0,0,0,0,0,0,0]
[null,null,null,null,null,null,null,null,null,null,null,null,null,null,null,null,null,null,null,null,null,null,null,null,null,null,null,null,null,null,null,null,0,0,0,0,0,0,0,0,0,0,null,null,0,0,0,0,0,0,0,0,0,0,null,null,0,0,0,0,0,0,0,0,0,0,null,null,0,0,0,0,0,0,0,0,0,0,null,null,0,0,0,0,0,0,0,0,0,0]
[null,null,null,null,null,null,null,null,null,null,null,null,null,null,null,null,null,null,null,null,null,null,null,null,null,null,null,null,null,null,null,null,0,0,0,0,0,0,0,0,0,0,null,null,0,0,0,0,0,0,0,0,0,0,null,null,0,0,0,0,0,0,0,0,0,0,null,null,0,0,0,0,0,0,0,0,0,0,null,null,0,0,0,0,0,0,0,0,0,0]
[null,null,null,null,null,null,null,null,null,null,null,null,null,null,null,null,null,null,null,null,null,null,null,null,null,null,null,null,null,null,null,null,0,0,0,0,0,0,0,0,0,0,null,null,0,0,0,0,0,0,0,0,0,0,null,null,0,0,0,0,0,0,0,0,0,0,null,null,0,0,0,0,0,0,0,0,0,0,null,null,0,0,0,0,0,0,0,0,0,0]
[null,null,null,null,null,null,null,null,null,null,null,null,null,null,null,null,null,null,null,null,null,null,null,null,null,null,null,null,null,null,null,null,0,0,0,0,0,0,0,0,0,0,null,null,0,0,0,0,0,0,0,0,0,0,null,null,0,0,0,0,0,0,0,0,0,0,null,null,0,0,0,0,0,0,0,0,0,0,null,null,0,0,0,0,0,0,0,0,0,0]
[null,null,null,null,null,null,null,null,null,null,null,null,null,null,null,null,null,null,null,null,null,null,null,null,null,null,null,null,null,null,null,null,0,0,0,0,0,0,0,0,0,0,null,null,0,0,0,0,0,0,0,0,0,0,null,null,0,0,0,0,0,0,0,0,0,0,null,null,0,0,0,0,0,0,0,0,0,0,null,null,0,0,0,0,0,0,0,0,0,0]
[null,null,null,null,null,null,null,null,null,null,null,null,null,null,null,null,null,null,null,null,null,null,null,null,null,null,null,null,null,null,null,null,0,0,0,0,0,0,0,0,0,0,null,null,0,0,0,0,0,0,0,0,0,0,null,null,0,0,0,0,0,0,0,0,0,0,null,null,0,0,0,0,0,0,0,0,0,0,null,null,0,0,0,0,0,0,0,0,0,0]
[null,null,null,null,null,null,null,null,null,null,null,null,null,null,null,null,null,null,null,null,null,null,null,null,null,null,null,null,null,null,null,null,0,0,0,0,0,0,0,0,0,0,null,null,0,0,0,0,0,0,0,0,0,0,null,null,0,0,0,0,0,0,0,0,0,0,null,null,0,0,0,0,0,0,0,0,0,0,null,null,0,0,0,0,0,0,0,0,0,0]
[null,null,null,null,null,null,null,null,null,null,null,null,null,null,null,null,null,null,null,null,null,null,null,null,null,null,null,null,null,null,null,null,0,0,0,0,0,0,0,0,0,0,null,null,0,0,0,0,0,0,0,0,0,0,null,null,0,0,0,0,0,0,0,0,0,0,null,null,0,0,0,0,0,0,0,0,0,0,null,null,0,0,0,0,0,0,0,0,0,0]
[null,null,null,null,null,null,null,null,null,null,null,null,null,null,null,null,null,null,null,null,null,null,null,null,null,null,null,null,null,null,null,null,0,0,0,0,0,0,0,0,0,0,null,null,0,0,0,0,0,0,0,0,0,0,null,null,0,0,0,0,0,0,0,0,0,0,null,null,0,0,0,0,0,0,0,0,0,0,null,null,0,0,0,0,0,0,0,0,0,0]
[null,null,null,null,null,null,null,null,null,null,null,null,null,null,null,null,null,null,null,null,null,null,null,null,null,null,null,null,null,null,null,null,0,0,0,0,0,0,0,0,0,0,null,null,0,0,0,0,0,0,0,0,0,0,null,null,0,0,0,0,0,0,0,0,0,0,null,null,0,0,0,0,0,0,0,0,0,0,null,null,0,0,0,0,0,0,0,0,0,0]
[null,null,null,null,null,null,null,null,null,null,null,null,null,null,null,null,null,null,null,null,null,null,null,null,null,null,null,null,null,null,null,null,0,0,0,0,0,0,0,0,0,0,null,null,0,0,0,0,0,0,0,0,0,0,null,null,0,0,0,0,0,0,0,0,0,0,null,null,0,0,0,0,0,0,0,0,0,0,null,null,0,0,0,0,0,0,0,0,0,0]
[null,null,null,null,null,null,null,null,null,null,null,null,null,null,null,null,null,null,null,null,null,null,null,null,null,null,null,null,null,null,null,null,0,0,0,0,0,0,0,0,0,0,null,null,0,0,0,0,0,0,0,0,0,0,null,null,0,0,0,0,0,0,0,0,0,0,null,null,0,0,0,0,0,0,0,0,0,0,null,null,0,0,0,0,0,0,0,0,0,0]
[null,null,null,null,null,null,null,null,null,null,null,null,null,null,null,null,null,null,null,null,null,null,null,null,null,null,null,null,null,null,null,null,0,0,0,0,0,0,0,0,0,0,null,null,0,0,0,0,0,0,0,0,0,0,null,null,0,0,0,0,0,0,0,0,0,0,null,null,0,0,0,0,0,0,0,0,0,0,null,null,0,0,0,0,0,0,0,0,0,0]
[null,null,null,null,null,null,null,null,null,null,null,null,null,null,null,null,null,null,null,null,null,null,null,null,null,null,null,null,null,null,null,null,0,0,0,0,0,0,0,0,0,0,null,null,0,0,0,0,0,0,0,0,0,0,null,null,0,0,0,0,0,0,0,0,0,0,null,null,0,0,0,0,0,0,0,0,0,0,null,null,0,0,0,0,0,0,0,0,0,0]
[null,null,null,null,null,null,null,null,null,null,null,null,null,null,null,null,null,null,null,null,null,null,null,null,null,null,null,null,null,null,null,null,0,0,0,0,0,0,0,0,0,0,null,null,0,0,0,0,0,0,0,0,0,0,null,null,0,0,0,0,0,0,0,0,0,0,null,null,0,0,0,0,0,0,0,0,0,0,null,null,0,0,0,0,0,0,0,0,0,0]
[null,null,null,null,null,null,null,null,null,null,null,null,null,null,null,null,null,null,null,null,null,null,null,null,null,null,null,null,null,null,null,null,0,0,0,0,0,0,0,0,0,0,null,null,0,0,0,0,0,0,0,0,0,0,null,null,0,0,0,0,0,0,0,0,0,0,null,null,0,0,0,0,0,0,0,0,0,0,null,null,0,0,0,0,0,0,0,0,0,0]
[null,null,null,null,null,null,null,null,null,null,null,null,null,null,null,null,null,null,null,null,null,null,null,null,null,null,null,null,null,null,null,null,0,0,0,0,0,0,0,0,0,0,null,null,0,0,0,0,0,0,0,0,0,0,null,null,0,0,0,0,0,0,0,0,0,0,null,null,0,0,0,0,0,0,0,0,0,0,null,null,0,0,0,0,0,0,0,0,0,0]
[null,null,null,null,null,null,null,null,null,null,null,null,null,null,null,null,null,null,null,null,null,null,null,null,null,null,null,null,null,null,null,null,0,0,0,0,0,0,0,0,0,0,null,null,0,0,0,0,0,0,0,0,0,0,null,null,0,0,0,0,0,0,0,0,0,0,null,null,0,0,0,0,0,0,0,0,0,0,null,null,0,0,0,0,0,0,0,0,0,0]
[null,null,null,null,null,null,null,null,null,null,null,null,null,null,null,null,null,null,null,null,null,null,null,null,null,null,null,null,null,null,null,null,0,0,0,0,0,0,0,0,0,0,null,null,0,0,0,0,0,0,0,0,0,0,null,null,0,0,0,0,0,0,0,0,0,0,null,null,0,0,0,0,0,0,0,0,0,0,null,null,0,0,0,0,0,0,0,0,0,0]
[null,null,null,null,null,null,null,null,null,null,null,null,null,null,null,null,null,null,null,null,null,null,null,null,null,null,null,null,null,null,null,null,0,0,0,0,0,0,0,0,0,0,null,null,0,0,0,0,0,0,0,0,0,0,null,null,0,0,0,0,0,0,0,0,0,0,null,null,0,0,0,0,0,0,0,0,0,0,null,null,0,0,0,0,0,0,0,0,0,0]
[null,null,null,null,null,null,null,null,null,null,null,null,null,null,null,null,null,null,null,null,null,null,null,null,null,null,null,null,null,null,null,null,0,0,0,0,0,0,0,0,0,0,null,null,0,0,0,0,0,0,0,0,0,0,null,null,0,0,0,0,0,0,0,0,0,0,null,null,0,0,0,0,0,0,0,0,0,0,null,null,0,0,0,0,0,0,0,0,0,0]
[null,null,null,null,null,null,null,null,null,null,null,null,null,null,null,null,null,null,null,null,null,null,null,null,null,null,null,null,null,null,null,null,0,0,0,0,0,0,0,0,0,0,null,null,0,0,0,0,0,0,0,0,0,0,null,null,0,0,0,0,0,0,0,0,0,0,null,null,0,0,0,0,0,0,0,0,0,0,null,null,0,0,0,0,0,0,0,0,0,0]
[null,null,null,null,null,null,null,null,null,null,null,null,null,null,null,null,null,null,null,null,null,null,null,null,null,null,null,null,null,null,null,null,0,0,0,0,0,0,0,0,0,0,null,null,0,0,0,0,0,0,0,0,0,0,null,null,0,0,0,0,0,0,0,0,0,0,null,null,0,0,0,0,0,0,0,0,0,0,null,null,0,0,0,0,0,0,0,0,0,0]
[null,null,null,null,null,null,null,null,null,null,null,null,null,null,null,null,null,null,null,null,null,null,null,null,null,null,null,null,null,null,null,null,0,0,0,0,0,0,0,0,0,0,null,null,0,0,0,0,0,0,0,0,0,0,null,null,0,0,0,0,0,0,0,0,0,0,null,null,0,0,0,0,0,0,0,0,0,0,null,null,0,0,0,0,0,0,0,0,0,0]
[null,null,null,null,null,null,null,null,null,null,null,null,null,null,null,null,null,null,null,null,null,null,null,null,null,null,null,null,null,null,null,null,0,0,0,0,0,0,0,0,0,0,null,null,0,0,0,0,0,0,0,0,0,0,null,null,0,0,0,0,0,0,0,0,0,0,null,null,0,0,0,0,0,0,0,0,0,0,null,null,0,0,0,0,0,0,0,0,0,0]
[null,null,null,null,null,null,null,null,null,null,null,null,null,null,null,null,null,null,null,null,null,null,null,null,null,null,null,null,null,null,null,null,0,0,0,0,0,0,0,0,0,0,null,null,0,0,0,0,0,0,0,0,0,0,null,null,0,0,0,0,0,0,0,0,0,0,null,null,0,0,0,0,0,0,0,0,0,0,null,null,0,0,0,0,0,0,0,0,0,0]
[null,null,null,null,null,null,null,null,null,null,null,null,null,null,null,null,null,null,null,null,null,null,null,null,null,null,null,null,null,null,null,null,0,0,0,0,0,0,0,0,0,0,null,null,0,0,0,0,0,0,0,0,0,0,null,null,0,0,0,0,0,0,0,0,0,0,null,null,0,0,0,0,0,0,0,0,0,0,null,null,0,0,0,0,0,0,0,0,0,0]
[null,null,null,null,null,null,null,null,null,null,null,null,null,null,null,null,null,null,null,null,null,null,null,null,null,null,null,null,null,null,null,null,0,0,0,0,0,0,0,0,0,0,null,null,0,0,0,0,0,0,0,0,0,0,null,null,0,0,0,0,0,0,0,0,0,0,null,null,0,0,0,0,0,0,0,0,0,0,null,null,0,0,0,0,0,0,0,0,0,0]
[null,null,null,null,null,null,null,null,null,null,null,null,null,null,null,null,null,null,null,null,null,null,null,null,null,null,null,null,null,null,null,null,0,0,0,0,0,0,0,0,0,0,null,null,0,0,0,0,0,0,0,0,0,0,null,null,0,0,0,0,0,0,0,0,0,0,null,null,0,0,0,0,0,0,0,0,0,0,null,null,0,0,0,0,0,0,0,0,0,0]
[null,null,null,null,null,null,null,null,null,null,null,null,null,null,null,null,null,null,null,null,null,null,null,null,null,null,null,null,null,null,null,null,0,0,0,0,0,0,0,0,0,0,null,null,0,0,0,0,0,0,0,0,0,0,null,null,0,0,0,0,0,0,0,0,0,0,null,null,0,0,0,0,0,0,0,0,0,0,null,null,0,0,0,0,0,0,0,0,0,0]
[null,null,null,null,null,null,null,null,null,null,null,null,null,null,null,null,null,null,null,null,null,null,null,null,null,null,null,null,null,null,null,null,0,0,0,0,0,0,0,0,0,0,null,null,0,0,0,0,0,0,0,0,0,0,null,null,0,0,0,0,0,0,0,0,0,0,null,null,0,0,0,0,0,0,0,0,0,0,null,null,0,0,0,0,0,0,0,0,0,0]
[null,null,null,null,null,null,null,null,null,null,null,null,null,null,null,null,null,null,null,null,null,null,null,null,null,null,null,null,null,null,null,null,0,0,0,0,0,0,0,0,0,0,null,null,0,0,0,0,0,0,0,0,0,0,null,null,0,0,0,0,0,0,0,0,0,0,null,null,0,0,0,0,0,0,0,0,0,0,null,null,0,0,0,0,0,0,0,0,0,0]
[null,null,null,null,null,null,null,null,null,null,null,null,null,null,null,null,null,null,null,null,null,null,null,null,null,null,null,null,null,null,null,null,0,0,0,0,0,0,0,0,0,0,null,null,0,0,0,0,0,0,0,0,0,0,null,null,0,0,0,0,0,0,0,0,0,0,null,null,0,0,0,0,0,0,0,0,0,0,null,null,0,0,0,0,0,0,0,0,0,0]
[null,null,null,null,null,null,null,null,null,null,null,null,null,null,null,null,null,null,null,null,null,null,null,null,null,null,null,null,null,null,null,null,0,0,0,0,0,0,0,0,0,0,null,null,0,0,0,0,0,0,0,0,0,0,null,null,0,0,0,0,0,0,0,0,0,0,null,null,0,0,0,0,0,0,0,0,0,0,null,null,0,0,0,0,0,0,0,0,0,0]
[null,null,null,null,null,null,null,null,null,null,null,null,null,null,null,null,null,null,null,null,null,null,null,null,null,null,null,null,null,null,null,null,0,0,0,0,0,0,0,0,0,0,null,null,0,0,0,0,0,0,0,0,0,0,null,null,0,0,0,0,0,0,0,0,0,0,null,null,0,0,0,0,0,0,0,0,0,0,null,null,0,0,0,0,0,0,0,0,0,0]
[null,null,null,null,null,null,null,null,null,null,null,null,null,null,null,null,null,null,null,null,null,null,null,null,null,null,null,null,null,null,null,null,0,0,0,0,0,0,0,0,0,0,null,null,0,0,0,0,0,0,0,0,0,0,null,null,0,0,0,0,0,0,0,0,0,0,null,null,0,0,0,0,0,0,0,0,0,0,null,null,0,0,0,0,0,0,0,0,0,0]
[null,null,null,null,null,null,null,null,null,null,null,null,null,null,null,null,null,null,null,null,null,null,null,null,null,null,null,null,null,null,null,null,0,0,0,0,0,0,0,0,0,0,null,null,0,0,0,0,0,0,0,0,0,0,null,null,0,0,0,0,0,0,0,0,0,0,null,null,0,0,0,0,0,0,0,0,0,0,null,null,0,0,0,0,0,0,0,0,0,0]
[null,null,null,null,null,null,null,null,null,null,null,null,null,null,null,null,null,null,null,null,null,null,null,null,null,null,null,null,null,null,null,null,0,0,0,0,0,0,0,0,0,0,null,null,0,0,0,0,0,0,0,0,0,0,null,null,0,0,0,0,0,0,0,0,0,0,null,null,0,0,0,0,0,0,0,0,0,0,null,null,0,0,0,0,0,0,0,0,0,0]
[null,null,null,null,null,null,null,null,null,null,null,null,null,null,null,null,null,null,null,null,null,null,null,null,null,null,null,null,null,null,null,null,0,0,0,0,0,0,0,0,0,0,null,null,0,0,0,0,0,0,0,0,0,0,null,null,0,0,0,0,0,0,0,0,0,0,null,null,0,0,0,0,0,0,0,0,0,0,null,null,0,0,0,0,0,0,0,0,0,0]
[null,null,null,null,null,null,null,null,null,null,null,null,null,null,null,null,null,null,null,null,null,null,null,null,null,null,null,null,null,null,null,null,0,0,0,0,0,0,0,0,0,0,null,null,0,0,0,0,0,0,0,0,0,0,null,null,0,0,0,0,0,0,0,0,0,0,null,null,0,0,0,0,0,0,0,0,0,0,null,null,0,0,0,0,0,0,0,0,0,0]
[null,null,null,null,null,null,null,null,null,null,null,null,null,null,null,null,null,null,null,null,null,null,null,null,null,null,null,null,null,null,null,null,0,0,0,0,0,0,0,0,0,0,null,null,0,0,0,0,0,0,0,0,0,0,null,null,0,0,0,0,0,0,0,0,0,0,null,null,0,0,0,0,0,0,0,0,0,0,null,null,0,0,0,0,0,0,0,0,0,0]
[null,null,null,null,null,null,null,null,null,null,null,null,null,null,null,null,null,null,null,null,null,null,null,null,null,null,null,null,null,null,null,null,0,0,0,0,0,0,0,0,0,0,null,null,0,0,0,0,0,0,0,0,0,0,null,null,0,0,0,0,0,0,0,0,0,0,null,null,0,0,0,0,0,0,0,0,0,0,null,null,0,0,0,0,0,0,0,0,0,0]
[null,null,null,null,null,null,null,null,null,null,null,null,null,null,null,null,null,null,null,null,null,null,null,null,null,null,null,null,null,null,null,null,0,0,0,0,0,0,0,0,0,0,null,null,0,0,0,0,0,0,0,0,0,0,null,null,0,0,0,0,0,0,0,0,0,0,null,null,0,0,0,0,0,0,0,0,0,0,null,null,0,0,0,0,0,0,0,0,0,0]
[null,null,null,null,null,null,null,null,null,null,null,null,null,null,null,null,null,null,null,null,null,null,null,null,null,null,null,null,null,null,null,null,0,0,0,0,0,0,0,0,0,0,null,null,0,0,0,0,0,0,0,0,0,0,null,null,0,0,0,0,0,0,0,0,0,0,null,null,0,0,0,0,0,0,0,0,0,0,null,null,0,0,0,0,0,0,0,0,0,0]
[null,null,null,null,null,null,null,null,null,null,null,null,null,null,null,null,null,null,null,null,null,null,null,null,null,null,null,null,null,null,null,null,0,0,0,0,0,0,0,0,0,0,null,null,0,0,0,0,0,0,0,0,0,0,null,null,0,0,0,0,0,0,0,0,0,0,null,null,0,0,0,0,0,0,0,0,0,0,null,null,0,0,0,0,0,0,0,0,0,0]
[null,null,null,null,null,null,null,null,null,null,null,null,null,null,null,null,null,null,null,null,null,null,null,null,null,null,null,null,null,null,null,null,0,0,0,0,0,0,0,0,0,0,null,null,0,0,0,0,0,0,0,0,0,0,null,null,0,0,0,0,0,0,0,0,0,0,null,null,0,0,0,0,0,0,0,0,0,0,null,null,0,0,0,0,0,0,0,0,0,0]
[null,null,null,null,null,null,null,null,null,null,null,null,null,null,null,null,null,null,null,null,null,null,null,null,null,null,null,null,null,null,null,null,0,0,0,0,0,0,0,0,0,0,null,null,0,0,0,0,0,0,0,0,0,0,null,null,0,0,0,0,0,0,0,0,0,0,null,null,0,0,0,0,0,0,0,0,0,0,null,null,0,0,0,0,0,0,0,0,0,0]
[null,null,null,null,null,null,null,null,null,null,null,null,null,null,null,null,null,null,null,null,null,null,null,null,null,null,null,null,null,null,null,null,0,0,0,0,0,0,0,0,0,0,null,null,0,0,0,0,0,0,0,0,0,0,null,null,0,0,0,0,0,0,0,0,0,0,null,null,0,0,0,0,0,0,0,0,0,0,null,null,0,0,0,0,0,0,0,0,0,0]
[null,null,null,null,null,null,null,null,null,null,null,null,null,null,null,null,null,null,null,null,null,null,null,null,null,null,null,null,null,null,null,null,0,0,0,0,0,0,0,0,0,0,null,null,0,0,0,0,0,0,0,0,0,0,null,null,0,0,0,0,0,0,0,0,0,0,null,null,0,0,0,0,0,0,0,0,0,0,null,null,0,0,0,0,0,0,0,0,0,0]
[null,null,null,null,null,null,null,null,null,null,null,null,null,null,null,null,null,null,null,null,null,null,null,null,null,null,null,null,null,null,null,null,0,0,0,0,0,0,0,0,0,0,null,null,0,0,0,0,0,0,0,0,0,0,null,null,0,0,0,0,0,0,0,0,0,0,null,null,0,0,0,0,0,0,0,0,0,0,null,null,0,0,0,0,0,0,0,0,0,0]
[null,null,null,null,null,null,null,null,null,null,null,null,null,null,null,null,null,null,null,null,null,null,null,null,null,null,null,null,null,null,null,null,0,0,0,0,0,0,0,0,0,0,null,null,0,0,0,0,0,0,0,0,0,0,null,null,0,0,0,0,0,0,0,0,0,0,null,null,0,0,0,0,0,0,0,0,0,0,null,null,0,0,0,0,0,0,0,0,0,0]
[null,null,null,null,null,null,null,null,null,null,null,null,null,null,null,null,null,null,null,null,null,null,null,null,null,null,null,null,null,null,null,null,0,0,0,0,0,0,0,0,0,0,null,null,0,0,0,0,0,0,0,0,0,0,null,null,0,0,0,0,0,0,0,0,0,0,null,null,0,0,0,0,0,0,0,0,0,0,null,null,0,0,0,0,0,0,0,0,0,0]
[null,null,null,null,null,null,null,null,null,null,null,null,null,null,null,null,null,null,null,null,null,null,null,null,null,null,null,null,null,null,null,null,0,0,0,0,0,0,0,0,0,0,null,null,0,0,0,0,0,0,0,0,0,0,null,null,0,0,0,0,0,0,0,0,0,0,null,null,0,0,0,0,0,0,0,0,0,0,null,null,0,0,0,0,0,0,0,0,0,0]
[null,null,null,null,null,null,null,null,null,null,null,null,null,null,null,null,null,null,null,null,null,null,null,null,null,null,null,null,null,null,null,null,0,0,0,0,0,0,0,0,0,0,null,null,0,0,0,0,0,0,0,0,0,0,null,null,0,0,0,0,0,0,0,0,0,0,null,null,0,0,0,0,0,0,0,0,0,0,null,null,0,0,0,0,0,0,0,0,0,0]
[null,null,null,null,null,null,null,null,null,null,null,null,null,null,null,null,null,null,null,null,null,null,null,null,null,null,null,null,null,null,null,null,0,0,0,0,0,0,0,0,0,0,null,null,0,0,0,0,0,0,0,0,0,0,null,null,0,0,0,0,0,0,0,0,0,0,null,null,0,0,0,0,0,0,0,0,0,0,null,null,0,0,0,0,0,0,0,0,0,0]
[null,null,null,null,null,null,null,null,null,null,null,null,null,null,null,null,null,null,null,null,null,null,null,null,null,null,null,null,null,null,null,null,0,0,0,0,0,0,0,0,0,0,null,null,0,0,0,0,0,0,0,0,0,0,null,null,0,0,0,0,0,0,0,0,0,0,null,null,0,0,0,0,0,0,0,0,0,0,null,null,0,0,0,0,0,0,0,0,0,0]
[null,null,null,null,null,null,null,null,null,null,null,null,null,null,null,null,null,null,null,null,null,null,null,null,null,null,null,null,null,null,null,null,0,0,0,0,0,0,0,0,0,0,null,null,0,0,0,0,0,0,0,0,0,0,null,null,0,0,0,0,0,0,0,0,0,0,null,null,0,0,0,0,0,0,0,0,0,0,null,null,0,0,0,0,0,0,0,0,0,0]
[null,null,null,null,null,null,null,null,null,null,null,null,null,null,null,null,null,null,null,null,null,null,null,null,null,null,null,null,null,null,null,null,0,0,0,0,0,0,0,0,0,0,null,null,0,0,0,0,0,0,0,0,0,0,null,null,0,0,0,0,0,0,0,0,0,0,null,null,0,0,0,0,0,0,0,0,0,0,null,null,0,0,0,0,0,0,0,0,0,0]
[null,null,null,null,null,null,null,null,null,null,null,null,null,null,null,null,null,null,null,null,null,null,null,null,null,null,null,null,null,null,null,null,0,0,0,0,0,0,0,0,0,0,null,null,0,0,0,0,0,0,0,0,0,0,null,null,0,0,0,0,0,0,0,0,0,0,null,null,0,0,0,0,0,0,0,0,0,0,null,null,0,0,0,0,0,0,0,0,0,0]
[null,null,null,null,null,null,null,null,null,null,null,null,null,null,null,null,null,null,null,null,null,null,null,null,null,null,null,null,null,null,null,null,0,0,0,0,0,0,0,0,0,0,null,null,0,0,0,0,0,0,0,0,0,0,null,null,0,0,0,0,0,0,0,0,0,0,null,null,0,0,0,0,0,0,0,0,0,0,null,null,0,0,0,0,0,0,0,0,0,0]
[null,null,null,null,null,null,null,null,null,null,null,null,null,null,null,null,null,null,null,null,null,null,null,null,null,null,null,null,null,null,null,null,0,0,0,0,0,0,0,0,0,0,null,null,0,0,0,0,0,0,0,0,0,0,null,null,0,0,0,0,0,0,0,0,0,0,null,null,0,0,0,0,0,0,0,0,0,0,null,null,0,0,0,0,0,0,0,0,0,0]
[null,null,null,null,null,null,null,null,null,null,null,null,null,null,null,null,null,null,null,null,null,null,null,null,null,null,null,null,null,null,null,null,0,0,0,0,0,0,0,0,0,0,null,null,0,0,0,0,0,0,0,0,0,0,null,null,0,0,0,0,0,0,0,0,0,0,null,null,0,0,0,0,0,0,0,0,0,0,null,null,0,0,0,0,0,0,0,0,0,0]
[null,null,null,null,null,null,null,null,null,null,null,null,null,null,null,null,null,null,null,null,null,null,null,null,null,null,null,null,null,null,null,null,0,0,0,0,0,0,0,0,0,0,null,null,0,0,0,0,0,0,0,0,0,0,null,null,0,0,0,0,0,0,0,0,0,0,null,null,0,0,0,0,0,0,0,0,0,0,null,null,0,0,0,0,0,0,0,0,0,0]
[null,null,null,null,null,null,null,null,null,null,null,null,null,null,null,null,null,null,null,null,null,null,null,null,null,null,null,null,null,null,null,null,0,0,0,0,0,0,0,0,0,0,null,null,0,0,0,0,0,0,0,0,0,0,null,null,0,0,0,0,0,0,0,0,0,0,null,null,0,0,0,0,0,0,0,0,0,0,null,null,0,0,0,0,0,0,0,0,0,0]
[null,null,null,null,null,null,null,null,null,null,null,null,null,null,null,null,null,null,null,null,null,null,null,null,null,null,null,null,null,null,null,null,0,0,0,0,0,0,0,0,0,0,null,null,0,0,0,0,0,0,0,0,0,0,null,null,0,0,0,0,0,0,0,0,0,0,null,null,0,0,0,0,0,0,0,0,0,0,null,null,0,0,0,0,0,0,0,0,0,0]
[null,null,null,null,null,null,null,null,null,null,null,null,null,null,null,null,null,null,null,null,null,null,null,null,null,null,null,null,null,null,null,null,0,0,0,0,0,0,0,0,0,0,null,null,0,0,0,0,0,0,0,0,0,0,null,null,0,0,0,0,0,0,0,0,0,0,null,null,0,0,0,0,0,0,0,0,0,0,null,null,0,0,0,0,0,0,0,0,0,0]
[null,null,null,null,null,null,null,null,null,null,null,null,null,null,null,null,null,null,null,null,null,null,null,null,null,null,null,null,null,null,null,null,0,0,0,0,0,0,0,0,0,0,null,null,0,0,0,0,0,0,0,0,0,0,null,null,0,0,0,0,0,0,0,0,0,0,null,null,0,0,0,0,0,0,0,0,0,0,null,null,0,0,0,0,0,0,0,0,0,0]
[null,null,null,null,null,null,null,null,null,null,null,null,null,null,null,null,null,null,null,null,null,null,null,null,null,null,null,null,null,null,null,null,0,0,0,0,0,0,0,0,0,0,null,null,0,0,0,0,0,0,0,0,0,0,null,null,0,0,0,0,0,0,0,0,0,0,null,null,0,0,0,0,0,0,0,0,0,0,null,null,0,0,0,0,0,0,0,0,0,0]
[null,null,null,null,null,null,null,null,null,null,null,null,null,null,null,null,null,null,null,null,null,null,null,null,null,null,null,null,null,null,null,null,0,0,0,0,0,0,0,0,0,0,null,null,0,0,0,0,0,0,0,0,0,0,null,null,0,0,0,0,0,0,0,0,0,0,null,null,0,0,0,0,0,0,0,0,0,0,null,null,0,0,0,0,0,0,0,0,0,0]
[null,null,null,null,null,null,null,null,null,null,null,null,null,null,null,null,null,null,null,null,null,null,null,null,null,null,null,null,null,null,null,null,0,0,0,0,0,0,0,0,0,0,null,null,0,0,0,0,0,0,0,0,0,0,null,null,0,0,0,0,0,0,0,0,0,0,null,null,0,0,0,0,0,0,0,0,0,0,null,null,0,0,0,0,0,0,0,0,0,0]
[null,null,null,null,null,null,null,null,null,null,null,null,null,null,null,null,null,null,null,null,null,null,null,null,null,null,null,null,null,null,null,null,0,0,0,0,0,0,0,0,0,0,null,null,0,0,0,0,0,0,0,0,0,0,null,null,0,0,0,0,0,0,0,0,0,0,null,null,0,0,0,0,0,0,0,0,0,0,null,null,0,0,0,0,0,0,0,0,0,0]
[null,null,null,null,null,null,null,null,null,null,null,null,null,null,null,null,null,null,null,null,null,null,null,null,null,null,null,null,null,null,null,null,0,0,0,0,0,0,0,0,0,0,null,null,0,0,0,0,0,0,0,0,0,0,null,null,0,0,0,0,0,0,0,0,0,0,null,null,0,0,0,0,0,0,0,0,0,0,null,null,0,0,0,0,0,0,0,0,0,0]
[null,null,null,null,null,null,null,null,null,null,null,null,null,null,null,null,null,null,null,null,null,null,null,null,null,null,null,null,null,null,null,null,0,0,0,0,0,0,0,0,0,0,null,null,0,0,0,0,0,0,0,0,0,0,null,null,0,0,0,0,0,0,0,0,0,0,null,null,0,0,0,0,0,0,0,0,0,0,null,null,0,0,0,0,0,0,0,0,0,0]
[null,null,null,null,null,null,null,null,null,null,null,null,null,null,null,null,null,null,null,null,null,null,null,null,null,null,null,null,null,null,null,null,0,0,0,0,0,0,0,0,0,0,null,null,0,0,0,0,0,0,0,0,0,0,null,null,0,0,0,0,0,0,0,0,0,0,null,null,0,0,0,0,0,0,0,0,0,0,null,null,0,0,0,0,0,0,0,0,0,0]
[null,null,null,null,null,null,null,null,null,null,null,null,null,null,null,null,null,null,null,null,null,null,null,null,null,null,null,null,null,null,null,null,0,0,0,0,0,0,0,0,0,0,null,null,0,0,0,0,0,0,0,0,0,0,null,null,0,0,0,0,0,0,0,0,0,0,null,null,0,0,0,0,0,0,0,0,0,0,null,null,0,0,0,0,0,0,0,0,0,0]
[null,null,null,null,null,null,null,null,null,null,null,null,null,null,null,null,null,null,null,null,null,null,null,null,null,null,null,null,null,null,null,null,0,0,0,0,0,0,0,0,0,0,null,null,0,0,0,0,0,0,0,0,0,0,null,null,0,0,0,0,0,0,0,0,0,0,null,null,0,0,0,0,0,0,0,0,0,0,null,null,0,0,0,0,0,0,0,0,0,0]
[null,null,null,null,null,null,null,null,null,null,null,null,null,null,null,null,null,null,null,null,null,null,null,null,null,null,null,null,null,null,null,null,0,0,0,0,0,0,0,0,0,0,null,null,0,0,0,0,0,0,0,0,0,0,null,null,0,0,0,0,0,0,0,0,0,0,null,null,0,0,0,0,0,0,0,0,0,0,null,null,0,0,0,0,0,0,0,0,0,0]
[null,null,null,null,null,null,null,null,null,null,null,null,null,null,null,null,null,null,null,null,null,null,null,null,null,null,null,null,null,null,null,null,0,0,0,0,0,0,0,0,0,0,null,null,0,0,0,0,0,0,0,0,0,0,null,null,0,0,0,0,0,0,0,0,0,0,null,null,0,0,0,0,0,0,0,0,0,0,null,null,0,0,0,0,0,0,0,0,0,0]
[null,null,null,null,null,null,null,null,null,null,null,null,null,null,null,null,null,null,null,null,null,null,null,null,null,null,null,null,null,null,null,null,0,0,0,0,0,0,0,0,0,0,null,null,0,0,0,0,0,0,0,0,0,0,null,null,0,0,0,0,0,0,0,0,0,0,null,null,0,0,0,0,0,0,0,0,0,0,null,null,0,0,0,0,0,0,0,0,0,0]
[null,null,null,null,null,null,null,null,null,null,null,null,null,null,null,null,null,null,null,null,null,null,null,null,null,null,null,null,null,null,null,null,0,0,0,0,0,0,0,0,0,0,null,null,0,0,0,0,0,0,0,0,0,0,null,null,0,0,0,0,0,0,0,0,0,0,null,null,0,0,0,0,0,0,0,0,0,0,null,null,0,0,0,0,0,0,0,0,0,0]
[null,null,null,null,null,null,null,null,null,null,null,null,null,null,null,null,null,null,null,null,null,null,null,null,null,null,null,null,null,null,null,null,0,0,0,0,0,0,0,0,0,0,null,null,0,0,0,0,0,0,0,0,0,0,null,null,0,0,0,0,0,0,0,0,0,0,null,null,0,0,0,0,0,0,0,0,0,0,null,null,0,0,0,0,0,0,0,0,0,0]
[null,null,null,null,null,null,null,null,null,null,null,null,null,null,null,null,null,null,null,null,null,null,null,null,null,null,null,null,null,null,null,null,0,0,0,0,0,0,0,0,0,0,null,null,0,0,0,0,0,0,0,0,0,0,null,null,0,0,0,0,0,0,0,0,0,0,null,null,0,0,0,0,0,0,0,0,0,0,null,null,0,0,0,0,0,0,0,0,0,0]
[null,null,null,null,null,null,null,null,null,null,null,null,null,null,null,null,null,null,null,null,null,null,null,null,null,null,null,null,null,null,null,null,0,0,0,0,0,0,0,0,0,0,null,null,0,0,0,0,0,0,0,0,0,0,null,null,0,0,0,0,0,0,0,0,0,0,null,null,0,0,0,0,0,0,0,0,0,0,null,null,0,0,0,0,0,0,0,0,0,0]
[null,null,null,null,null,null,null,null,null,null,null,null,null,null,null,null,null,null,null,null,null,null,null,null,null,null,null,null,null,null,null,null,0,0,0,0,0,0,0,0,0,0,null,null,0,0,0,0,0,0,0,0,0,0,null,null,0,0,0,0,0,0,0,0,0,0,null,null,0,0,0,0,0,0,0,0,0,0,null,null,0,0,0,0,0,0,0,0,0,0]
[null,null,null,null,null,null,null,null,null,null,null,null,null,null,null,null,null,null,null,null,null,null,null,null,null,null,null,null,null,null,null,null,0,0,0,0,0,0,0,0,0,0,null,null,0,0,0,0,0,0,0,0,0,0,null,null,0,0,0,0,0,0,0,0,0,0,null,null,0,0,0,0,0,0,0,0,0,0,null,null,0,0,0,0,0,0,0,0,0,0]
[null,null,null,null,null,null,null,null,null,null,null,null,null,null,null,null,null,null,null,null,null,null,null,null,null,null,null,null,null,null,null,null,0,0,0,0,0,0,0,0,0,0,null,null,0,0,0,0,0,0,0,0,0,0,null,null,0,0,0,0,0,0,0,0,0,0,null,null,0,0,0,0,0,0,0,0,0,0,null,null,0,0,0,0,0,0,0,0,0,0]
[null,null,null,null,null,null,null,null,null,null,null,null,null,null,null,null,null,null,null,null,null,null,null,null,null,null,null,null,null,null,null,null,0,0,0,0,0,0,0,0,0,0,null,null,0,0,0,0,0,0,0,0,0,0,null,null,0,0,0,0,0,0,0,0,0,0,null,null,0,0,0,0,0,0,0,0,0,0,null,null,0,0,0,0,0,0,0,0,0,0]
[null,null,null,null,null,null,null,null,null,null,null,null,null,null,null,null,null,null,null,null,null,null,null,null,null,null,null,null,null,null,null,null,0,0,0,0,0,0,0,0,0,0,null,null,0,0,0,0,0,0,0,0,0,0,null,null,0,0,0,0,0,0,0,0,0,0,null,null,0,0,0,0,0,0,0,0,0,0,null,null,0,0,0,0,0,0,0,0,0,0]
[null,null,null,null,null,null,null,null,null,null,null,null,null,null,null,null,null,null,null,null,null,null,null,null,null,null,null,null,null,null,null,null,0,0,0,0,0,0,0,0,0,0,null,null,0,0,0,0,0,0,0,0,0,0,null,null,0,0,0,0,0,0,0,0,0,0,null,null,0,0,0,0,0,0,0,0,0,0,null,null,0,0,0,0,0,0,0,0,0,0]
[null,null,null,null,null,null,null,null,null,null,null,null,null,null,null,null,null,null,null,null,null,null,null,null,null,null,null,null,null,null,null,null,0,0,0,0,0,0,0,0,0,0,null,null,0,0,0,0,0,0,0,0,0,0,null,null,0,0,0,0,0,0,0,0,0,0,null,null,0,0,0,0,0,0,0,0,0,0,null,null,0,0,0,0,0,0,0,0,0,0]
[null,null,null,null,null,null,null,null,null,null,null,null,null,null,null,null,null,null,null,null,null,null,null,null,null,null,null,null,null,null,null,null,0,0,0,0,0,0,0,0,0,0,null,null,0,0,0,0,0,0,0,0,0,0,null,null,0,0,0,0,0,0,0,0,0,0,null,null,0,0,0,0,0,0,0,0,0,0,null,null,0,0,0,0,0,0,0,0,0,0]
[null,null,null,null,null,null,null,null,null,null,null,null,null,null,null,null,null,null,null,null,null,null,null,null,null,null,null,null,null,null,null,null,0,0,0,0,0,0,0,0,0,0,null,null,0,0,0,0,0,0,0,0,0,0,null,null,0,0,0,0,0,0,0,0,0,0,null,null,0,0,0,0,0,0,0,0,0,0,null,null,0,0,0,0,0,0,0,0,0,0]
[null,null,null,null,null,null,null,null,null,null,null,null,null,null,null,null,null,null,null,null,null,null,null,null,null,null,null,null,null,null,null,null,0,0,0,0,0,0,0,0,0,0,null,null,0,0,0,0,0,0,0,0,0,0,null,null,0,0,0,0,0,0,0,0,0,0,null,null,0,0,0,0,0,0,0,0,0,0,null,null,0,0,0,0,0,0,0,0,0,0]
[null,null,null,null,null,null,null,null,null,null,null,null,null,null,null,null,null,null,null,null,null,null,null,null,null,null,null,null,null,null,null,null,0,0,0,0,0,0,0,0,0,0,null,null,0,0,0,0,0,0,0,0,0,0,null,null,0,0,0,0,0,0,0,0,0,0,null,null,0,0,0,0,0,0,0,0,0,0,null,null,0,0,0,0,0,0,0,0,0,0]
[null,null,null,null,null,null,null,null,null,null,null,null,null,null,null,null,null,null,null,null,null,null,null,null,null,null,null,null,null,null,null,null,0,0,0,0,0,0,0,0,0,0,null,null,0,0,0,0,0,0,0,0,0,0,null,null,0,0,0,0,0,0,0,0,0,0,null,null,0,0,0,0,0,0,0,0,0,0,null,null,0,0,0,0,0,0,0,0,0,0]
[null,null,null,null,null,null,null,null,null,null,null,null,null,null,null,null,null,null,null,null,null,null,null,null,null,null,null,null,null,null,null,null,0,0,0,0,0,0,0,0,0,0,null,null,0,0,0,0,0,0,0,0,0,0,null,null,0,0,0,0,0,0,0,0,0,0,null,null,0,0,0,0,0,0,0,0,0,0,null,null,0,0,0,0,0,0,0,0,0,0]
[null,null,null,null,null,null,null,null,null,null,null,null,null,null,null,null,null,null,null,null,null,null,null,null,null,null,null,null,null,null,null,null,0,0,0,0,0,0,0,0,0,0,null,null,0,0,0,0,0,0,0,0,0,0,null,null,0,0,0,0,0,0,0,0,0,0,null,null,0,0,0,0,0,0,0,0,0,0,null,null,0,0,0,0,0,0,0,0,0,0]
[null,null,null,null,null,null,null,null,null,null,null,null,null,null,null,null,null,null,null,null,null,null,null,null,null,null,null,null,null,null,null,null,0,0,0,0,0,0,0,0,0,0,null,null,0,0,0,0,0,0,0,0,0,0,null,null,0,0,0,0,0,0,0,0,0,0,null,null,0,0,0,0,0,0,0,0,0,0,null,null,0,0,0,0,0,0,0,0,0,0]
[null,null,null,null,null,null,null,null,null,null,null,null,null,null,null,null,null,null,null,null,null,null,null,null,null,null,null,null,null,null,null,null,0,0,0,0,0,0,0,0,0,0,null,null,0,0,0,0,0,0,0,0,0,0,null,null,0,0,0,0,0,0,0,0,0,0,null,null,0,0,0,0,0,0,0,0,0,0,null,null,0,0,0,0,0,0,0,0,0,0]
[null,null,null,null,null,null,null,null,null,null,null,null,null,null,null,null,null,null,null,null,null,null,null,null,null,null,null,null,null,null,null,null,0,0,0,0,0,0,0,0,0,0,null,null,0,0,0,0,0,0,0,0,0,0,null,null,0,0,0,0,0,0,0,0,0,0,null,null,0,0,0,0,0,0,0,0,0,0,null,null,0,0,0,0,0,0,0,0,0,0]
[null,null,null,null,null,null,null,null,null,null,null,null,null,null,null,null,null,null,null,null,null,null,null,null,null,null,null,null,null,null,null,null,0,0,0,0,0,0,0,0,0,0,null,null,0,0,0,0,0,0,0,0,0,0,null,null,0,0,0,0,0,0,0,0,0,0,null,null,0,0,0,0,0,0,0,0,0,0,null,null,0,0,0,0,0,0,0,0,0,0]
[null,null,null,null,null,null,null,null,null,null,null,null,null,null,null,null,null,null,null,null,null,null,null,null,null,null,null,null,null,null,null,null,0,0,0,0,0,0,0,0,0,0,null,null,0,0,0,0,0,0,0,0,0,0,null,null,0,0,0,0,0,0,0,0,0,0,null,null,0,0,0,0,0,0,0,0,0,0,null,null,0,0,0,0,0,0,0,0,0,0]
[null,null,null,null,null,null,null,null,null,null,null,null,null,null,null,null,null,null,null,null,null,null,null,null,null,null,null,null,null,null,null,null,0,0,0,0,0,0,0,0,0,0,null,null,0,0,0,0,0,0,0,0,0,0,null,null,0,0,0,0,0,0,0,0,0,0,null,null,0,0,0,0,0,0,0,0,0,0,null,null,0,0,0,0,0,0,0,0,0,0]
[null,null,null,null,null,null,null,null,null,null,null,null,null,null,null,null,null,null,null,null,null,null,null,null,null,null,null,null,null,null,null,null,0,0,0,0,0,0,0,0,0,0,null,null,0,0,0,0,0,0,0,0,0,0,null,null,0,0,0,0,0,0,0,0,0,0,null,null,0,0,0,0,0,0,0,0,0,0,null,null,0,0,0,0,0,0,0,0,0,0]
[null,null,null,null,null,null,null,null,null,null,null,null,null,null,null,null,null,null,null,null,null,null,null,null,null,null,null,null,null,null,null,null,0,0,0,0,0,0,0,0,0,0,null,null,0,0,0,0,0,0,0,0,0,0,null,null,0,0,0,0,0,0,0,0,0,0,null,null,0,0,0,0,0,0,0,0,0,0,null,null,0,0,0,0,0,0,0,0,0,0]
[null,null,null,null,null,null,null,null,null,null,null,null,null,null,null,null,null,null,null,null,null,null,null,null,null,null,null,null,null,null,null,null,0,0,0,0,0,0,0,0,0,0,null,null,0,0,0,0,0,0,0,0,0,0,null,null,0,0,0,0,0,0,0,0,0,0,null,null,0,0,0,0,0,0,0,0,0,0,null,null,0,0,0,0,0,0,0,0,0,0]
[null,null,null,null,null,null,null,null,null,null,null,null,null,null,null,null,null,null,null,null,null,null,null,null,null,null,null,null,null,null,null,null,0,0,0,0,0,0,0,0,0,0,null,null,0,0,0,0,0,0,0,0,0,0,null,null,0,0,0,0,0,0,0,0,0,0,null,null,0,0,0,0,0,0,0,0,0,0,null,null,0,0,0,0,0,0,0,0,0,0]
[null,null,null,null,null,null,null,null,null,null,null,null,null,null,null,null,null,null,null,null,null,null,null,null,null,null,null,null,null,null,null,null,0,0,0,0,0,0,0,0,0,0,null,null,0,0,0,0,0,0,0,0,0,0,null,null,0,0,0,0,0,0,0,0,0,0,null,null,0,0,0,0,0,0,0,0,0,0,null,null,0,0,0,0,0,0,0,0,0,0]
[null,null,null,null,null,null,null,null,null,null,null,null,null,null,null,null,null,null,null,null,null,null,null,null,null,null,null,null,null,null,null,null,0,0,0,0,0,0,0,0,0,0,null,null,0,0,0,0,0,0,0,0,0,0,null,null,0,0,0,0,0,0,0,0,0,0,null,null,0,0,0,0,0,0,0,0,0,0,null,null,0,0,0,0,0,0,0,0,0,0]

{"sheet":"Dashboard","index":8,"n_rows":146,"n_cols":22,"rows_kept":146,"cut":false,"hidden":false,"merged":[[50,9,57,14],[50,2,57,7],[43,11,45,11],[43,10,45,10],[34,2,35,2],[44,3,45,3],[38,3,39,3],[38,4,39,4],[38,5,39,5],[38,6,39,6],[38,7,39,7],[36,3,37,3],[36,4,37,4],[36,5,37,5],[36,6,37,6],[36,7,37,7],[34,3,35,3],[34,4,35,4],[34,5,35,5],[34,6,35,6],[34,7,35,7],[44,2,45,2],[42,2,43,2],[40,2,41,2],[38,2,39,2],[36,2,37,2],[32,2,33,2],[30,2,31,2],[30,7,31,7],[30,6,31,6],[30,5,31,5],[30,4,31,4],[30,3,31,3],[32,3,33,3],[32,4,33,4],[32,5,33,5],[32,6,33,6],[32,7,33,7],[44,7,45,7],[44,6,45,6],[44,5,45,5],[44,4,45,4],[40,3,41,3],[42,3,43,3],[40,6,41,6],[42,4,43,4],[42,5,43,5],[42,6,43,6],[42,7,43,7],[40,4,41,4],[40,5,41,5],[40,7,41,7],[3,21,4,21],[3,20,4,20],[3,19,4,19],[3,18,4,18],[3,17,4,17],[46,7,47,7],[46,11,47,11],[46,10,47,10],[46,9,47,9],[46,2,47,2],[46,3,47,3],[46,4,47,4],[46,5,47,5],[46,6,47,6],[43,9,45,9],[46,14,47,14],[46,13,47,13],[46,12,47,12],[36,9,37,9],[36,10,37,10],[36,11,37,11],[36,12,37,12],[40,9,42,9],[40,10,42,10],[40,14,42,14],[40,13,42,13],[40,12,42,12],[40,11,42,11],[43,14,45,14],[43,13,45,13],[43,12,45,12],[30,14,32,14],[33,9,35,9],[33,10,35,10],[33,11,35,11],[33,12,35,12],[33,13,35,13],[33,14,35,14],[30,9,32,9],[30,10,32,10],[30,11,32,11],[30,12,32,12],[30,13,32,13],[36,13,37,13],[36,14,37,14]]}
[]
[null,null,"Select a program"]
[]
["\n\n",null,null,null,null,null,null,null,null,null,null,null,null,null,null,null,null,{"$f":"D30","v":""},{"$f":"E30","v":""},"","",""]
[null,null,null,null,null,null,null,null,null,null,null,null,null,null,null,null,{"$f":"'Control Panel'!E14","v":"Program"}]
[]
[null,null,null,null,null,null,null,null,null,null,null,null,null,null,null,null,{"$f":"'Control Panel'!E15","v":""},{"$f":"'Control Panel'!F15","v":""},{"$f":"'Control Panel'!G15","v":""},{"$f":"'Control Panel'!H15","v":""},{"$f":"'Control Panel'!I15","v":""},{"$f":"'Control Panel'!J15","v":""}]
[null,null,null,null,null,null,null,null,null,null,null,null,null,null,null,null,{"$f":"'Control Panel'!E16","v":""},{"$f":"'Control Panel'!F16","v":""},{"$f":"'Control Panel'!G16","v":""},{"$f":"'Control Panel'!H16","v":""},{"$f":"'Control Panel'!I16","v":""},{"$f":"'Control Panel'!J16","v":""}]
[null,null,null,null,null,null,null,null,null,null,null,null,null,null,null,null,{"$f":"'Control Panel'!E17","v":""},{"$f":"'Control Panel'!F17","v":""},{"$f":"'Control Panel'!G17","v":""},{"$f":"'Control Panel'!H17","v":""},{"$f":"'Control Panel'!I17","v":""},{"$f":"'Control Panel'!J17","v":""}]
[null,null,null,null,null,null,null,null,null,null,null,null,null,null,null,null,{"$f":"'Control Panel'!E18","v":""},{"$f":"'Control Panel'!F18","v":""},{"$f":"'Control Panel'!G18","v":""},{"$f":"'Control Panel'!H18","v":""},{"$f":"'Control Panel'!I18","v":""},{"$f":"'Control Panel'!J18","v":""}]
[null,null,null,null,null,null,null,null,null,null,null,null,null,null,null,null,{"$f":"'Control Panel'!E19","v":""},{"$f":"'Control Panel'!F19","v":""},{"$f":"'Control Panel'!G19","v":""},{"$f":"'Control Panel'!H19","v":""},{"$f":"'Control Panel'!I19","v":""},{"$f":"'Control Panel'!J19","v":""}]
[null,null,null,null,null,null,null,null,null,null,null,null,null,null,null,null,{"$f":"'Control Panel'!E20","v":""},{"$f":"'Control Panel'!F20","v":""},{"$f":"'Control Panel'!G20","v":""},{"$f":"'Control Panel'!H20","v":""},{"$f":"'Control Panel'!I20","v":""},{"$f":"'Control Panel'!J20","v":""}]
[null,null,null,null,null,null,null,null,null,null,null,null,null,null,null,null,{"$f":"'Control Panel'!E21","v":""},{"$f":"'Control Panel'!F21","v":""},{"$f":"'Control Panel'!G21","v":""},{"$f":"'Control Panel'!H21","v":""},{"$f":"'Control Panel'!I21","v":""},{"$f":"'Control Panel'!J21","v":""}]
[null,null,null,null,null,null,null,null,null,null,null,null,null,null,null,null,{"$f":"'Control Panel'!E22","v":""},{"$f":"'Control Panel'!F22","v":""},{"$f":"'Control Panel'!G22","v":""},{"$f":"'Control Panel'!H22","v":""},{"$f":"'Control Panel'!I22","v":""},{"$f":"'Control Panel'!J22","v":""}]
[null,null,null,null,null,null,null,null,null,null,null,null,null,null,null,null,{"$f":"'Control Panel'!E23","v":""},{"$f":"'Control Panel'!F23","v":""},{"$f":"'Control Panel'!G23","v":""},{"$f":"'Control Panel'!H23","v":""},{"$f":"'Control Panel'!I23","v":""},{"$f":"'Control Panel'!J23","v":""}]
[null,null,null,null,null,null,null,null,null,null,null,null,null,null,null,null,{"$f":"'Control Panel'!E24","v":""},{"$f":"'Control Panel'!F24","v":""},{"$f":"'Control Panel'!G24","v":""},{"$f":"'Control Panel'!H24","v":""},{"$f":"'Control Panel'!I24","v":""},{"$f":"'Control Panel'!J24","v":""}]
[null,null,null,null,null,null,null,null,null,null,null,null,null,null,null,null,{"$f":"'Control Panel'!E25","v":""},{"$f":"'Control Panel'!F25","v":""},{"$f":"'Control Panel'!G25","v":""},{"$f":"'Control Panel'!H25","v":""},{"$f":"'Control Panel'!I25","v":""},{"$f":"'Control Panel'!J25","v":""}]
[null,null,null,null,null,null,null,null,null,null,null,null,null,null,null,null,{"$f":"'Control Panel'!E26","v":""},{"$f":"'Control Panel'!F26","v":""},{"$f":"'Control Panel'!G26","v":""},{"$f":"'Control Panel'!H26","v":""},{"$f":"'Control Panel'!I26","v":""},{"$f":"'Control Panel'!J26","v":""}]
[null,null,null,null,null,null,null,null,null,null,null,null,null,null,null,null,{"$f":"'Control Panel'!E27","v":""},{"$f":"'Control Panel'!F27","v":""},{"$f":"'Control Panel'!G27","v":""},{"$f":"'Control Panel'!H27","v":""},{"$f":"'Control Panel'!I27","v":""},{"$f":"'Control Panel'!J27","v":""}]
[null,null,null,null,null,null,null,null,null,null,null,null,null,null,null,null,{"$f":"'Control Panel'!E28","v":""},{"$f":"'Control Panel'!F28","v":""},{"$f":"'Control Panel'!G28","v":""},{"$f":"'Control Panel'!H28","v":""},{"$f":"'Control Panel'!I28","v":""},{"$f":"'Control Panel'!J28","v":""}]
[null,null,null,null,null,null,null,null,null,null,null,null,null,null,null,null,{"$f":"'Control Panel'!E29","v":""},{"$f":"'Control Panel'!F29","v":""},{"$f":"'Control Panel'!G29","v":""},{"$f":"'Control Panel'!H29","v":""},{"$f":"'Control Panel'!I29","v":""},{"$f":"'Control Panel'!J29","v":""}]
[null,null,null,null,null,null,null,null,null,null,null,null,null,null,null,null,{"$f":"'Control Panel'!E30","v":""},{"$f":"'Control Panel'!F30","v":""},{"$f":"'Control Panel'!G30","v":""},{"$f":"'Control Panel'!H30","v":""},{"$f":"'Control Panel'!I30","v":""},{"$f":"'Control Panel'!J30","v":""}]
[null,null,null,null,null,null,null,null,null,null,null,null,null,null,null,null,{"$f":"'Control Panel'!E31","v":""},{"$f":"'Control Panel'!F31","v":""},{"$f":"'Control Panel'!G31","v":""},{"$f":"'Control Panel'!H31","v":""},{"$f":"'Control Panel'!I31","v":""},{"$f":"'Control Panel'!J31","v":""}]
[null,null,null,null,null,null,null,null,null,null,null,null,null,null,null,null,{"$f":"'Control Panel'!E32","v":""},{"$f":"'Control Panel'!F32","v":""},{"$f":"'Control Panel'!G32","v":""},{"$f":"'Control Panel'!H32","v":""},{"$f":"'Control Panel'!I32","v":""},{"$f":"'Control Panel'!J32","v":""}]
[null,null,null,null,null,null,null,null,null,null,null,null,null,null,null,null,{"$f":"'Control Panel'!E33","v":""},{"$f":"'Control Panel'!F33","v":""},{"$f":"'Control Panel'!G33","v":""},{"$f":"'Control Panel'!H33","v":""},{"$f":"'Control Panel'!I33","v":""},{"$f":"'Control Panel'!J33","v":""}]
[null,null,null,null,null,null,null,null,null,null,null,null,null,null,null,null,{"$f":"'Control Panel'!E34","v":""},{"$f":"'Control Panel'!F34","v":""},{"$f":"'Control Panel'!G34","v":""},{"$f":"'Control Panel'!H34","v":""},{"$f":"'Control Panel'!I34","v":""},{"$f":"'Control Panel'!J34","v":""}]
[null,null,null,null,null,null,null,null,null,null,null,null,null,null,null,null,{"$f":"'Control Panel'!E35","v":""},{"$f":"'Control Panel'!F35","v":""},{"$f":"'Control Panel'!G35","v":""},{"$f":"'Control Panel'!H35","v":""},{"$f":"'Control Panel'!I35","v":""},{"$f":"'Control Panel'!J35","v":""}]
[null,null,null,null,null,null,null,null,null,null,null,null,null,null,null,null,{"$f":"'Control Panel'!E36","v":""},{"$f":"'Control Panel'!F36","v":""},{"$f":"'Control Panel'!G36","v":""},{"$f":"'Control Panel'!H36","v":""},{"$f":"'Control Panel'!I36","v":""},{"$f":"'Control Panel'!J36","v":""}]
[null,null,null,null,null,null,null,null,null,null,null,null,null,null,null,null,{"$f":"'Control Panel'!E37","v":""},{"$f":"'Control Panel'!F37","v":""},{"$f":"'Control Panel'!G37","v":""},{"$f":"'Control Panel'!H37","v":""},{"$f":"'Control Panel'!I37","v":""},{"$f":"'Control Panel'!J37","v":""}]
[null,null,{"$f":"\"Budget by Source: \"&CHAR(10)&$C$3","v":"Budget by Source: \n"},{"$f":"Budget_by_Source!E24","v":""},{"$f":"Budget_by_Source!E25","v":""},{"$f":"Budget_by_Source!E26","v":""},{"$f":"Budget_by_Source!E27","v":""},{"$f":"Budget_by_Source!E28","v":""},null,{"$f":"\"Expenses: \"&CHAR(10)&$C$3","v":"Expenses: \n"},{"$f":"D30","v":""},{"$f":"E30","v":""},{"$f":"F30","v":""},{"$f":"G30","v":""},{"$f":"H30","v":""},null,{"$f":"'Control Panel'!E38","v":""},{"$f":"'Control Panel'!F38","v":""},{"$f":"'Control Panel'!G38","v":""},{"$f":"'Control Panel'!H38","v":""},{"$f":"'Control Panel'!I38","v":""},{"$f":"'Control Panel'!J38","v":""}]
[null,2,{"$f":"Budget_by_Source!F7","v":"Local Funds"},{"$f":"IF(ISERROR(Budget_by_Source!F16),\"\",TEXT(Budget_by_Source!F16,\"##0.00%\"))&CHAR(10)&IF(ISERROR(Budget_by_Source!F8),\"\",TEXT(Budget_by_Source!F8,\"$###,###,###,###,##0\"))","v":"\n"},{"$f":"IF(ISERROR(Budget_by_Source!F17),\"\",TEXT(Budget_by_Source!F17,\"##0.00%\"))&CHAR(10)&IF(ISERROR(Budget_by_Source!F9),\"\",TEXT(Budget_by_Source!F9,\"$###,###,###,###,##0\"))","v":"\n"},{"$f":"IF(ISERROR(Budget_by_Source!F18),\"\",TEXT(Budget_by_Source!F18,\"##0.00%\"))&CHAR(10)&IF(ISERROR(Budget_by_Source!F10),\"\",TEXT(Budget_by_Source!F10,\"$###,###,###,###,##0\"))","v":"\n"},{"$f":"IF(ISERROR(Budget_by_Source!F19),\"\",TEXT(Budget_by_Source!F19,\"##0.00%\"))&CHAR(10)&IF(ISERROR(Budget_by_Source!F11),\"\",TEXT(Budget_by_Source!F11,\"$###,###,###,###,##0\"))","v":"\n"},{"$f":"IF(ISERROR(Budget_by_Source!F20),\"\",TEXT(Budget_by_Source!F20,\"##0.00%\"))&CHAR(10)&IF(ISERROR(Budget_by_Source!F12),\"\",TEXT(Budget_by_Source!F12,\"$###,###,###,###,##0\"))","v":"\n"},2,{"$f":"\"Direct Services:\"&CHAR(10)&C3","v":"Direct Services:\n"},{"$f":"IF(ISERROR(Expenses!$F$16),\"\",TEXT(Expenses!$F$16,\"##0.0%\"))&CHAR(10)&IF(ISERROR(Expenses!$F$8),\"\",TEXT(Expenses!$F$8,\"$###,###,###,###,##0\"))","v":"\n"},{"$f":"IF(ISERROR(Expenses!$F$17),\"\",TEXT(Expenses!$F$17,\"##0.0%\"))&CHAR(10)&IF(ISERROR(Expenses!$F$9),\"\",TEXT(Expenses!$F$9,\"$###,###,###,###,##0\"))","v":"\n"},{"$f":"IF(ISERROR(Expenses!$F$18),\"\",TEXT(Expenses!$F$18,\"##0.0%\"))&CHAR(10)&IF(ISERROR(Expenses!$F$10),\"\",TEXT(Expenses!$F$10,\"$###,###,###,###,##0\"))","v":"\n"},{"$f":"IF(ISERROR(Expenses!$F$19),\"\",TEXT(Expenses!$F$19,\"##0.0%\"))&CHAR(10)&IF(ISERROR(Expenses!$F$11),\"\",TEXT(Expenses!$F$11,\"$###,###,###,###,##0\"))","v":"\n"},{"$f":"IF(ISERROR(Expenses!$F$20),\"\",TEXT(Expenses!$F$20,\"##0.0%\"))&CHAR(10)&IF(ISERROR(Expenses!$F$12),\"\",TEXT(Expenses!$F$12,\"$###,###,###,###,##0\"))","v":"\n"},null,{"$f":"'Control Panel'!E39","v":""},{"$f":"'Control Panel'!F39","v":""},{"$f":"'Control Panel'!G39","v":""},{"$f":"'Control Panel'!H39","v":""},{"$f":"'Control Panel'!I39","v":""},{"$f":"'Control Panel'!J39","v":""}]
[null,null,null,null,null,null,null,null,null,null,null,null,null,null,null,null,{"$f":"'Control Panel'!E40","v":""},{"$f":"'Control Panel'!F40","v":""},{"$f":"'Control Panel'!G40","v":""},{"$f":"'Control Panel'!H40","v":""},{"$f":"'Control Panel'!I40","v":""},{"$f":"'Control Panel'!J40","v":""}]
[null,null,{"$f":"Budget_by_Source!G7","v":"Family Fees"},{"$f":"IF(ISERROR(Budget_by_Source!G16),\"\",TEXT(Budget_by_Source!G16,\"##0.00%\"))&CHAR(10)&IF(ISERROR(Budget_by_Source!G8),\"\",TEXT(Budget_by_Source!G8,\"$###,###,###,###,##0\"))","v":"\n"},{"$f":"IF(ISERROR(Budget_by_Source!G17),\"\",TEXT(Budget_by_Source!G17,\"##0.00%\"))&CHAR(10)&IF(ISERROR(Budget_by_Source!G9),\"\",TEXT(Budget_by_Source!G9,\"$###,###,###,###,##0\"))","v":"\n"},{"$f":"IF(ISERROR(Budget_by_Source!G18),\"\",TEXT(Budget_by_Source!G18,\"##0.00%\"))&CHAR(10)&IF(ISERROR(Budget_by_Source!G10),\"\",TEXT(Budget_by_Source!G10,\"$###,###,###,###,##0\"))","v":"\n"},{"$f":"IF(ISERROR(Budget_by_Source!G19),\"\",TEXT(Budget_by_Source!G19,\"##0.00%\"))&CHAR(10)&IF(ISERROR(Budget_by_Source!G11),\"\",TEXT(Budget_by_Source!G11,\"$###,###,###,###,##0\"))","v":"\n"},{"$f":"IF(ISERROR(Budget_by_Source!G20),\"\",TEXT(Budget_by_Source!G20,\"##0.00%\"))&CHAR(10)&IF(ISERROR(Budget_by_Source!G12),\"\",TEXT(Budget_by_Source!G12,\"$###,###,###,###,##0\"))","v":"\n"},null,null,null,null,null,null,null,null,{"$f":"'Control Panel'!E41","v":""},{"$f":"'Control Panel'!F41","v":""},{"$f":"'Control Panel'!G41","v":""},{"$f":"'Control Panel'!H41","v":""},{"$f":"'Control Panel'!I41","v":""},{"$f":"'Control Panel'!J41","v":""}]
[null,null,null,null,null,null,null,null,null,{"$f":"\"Infrastructure & Administrative:\"&CHAR(10)&C3","v":"Infrastructure & Administrative:\n"},{"$f":"IF(ISERROR(Expenses!$G$16),\"\",TEXT(Expenses!$G$16,\"##0.0%\"))&CHAR(10)&IF(ISERROR(Expenses!$G$8),\"\",TEXT(Expenses!$G$8,\"$###,###,###,###,##0\"))","v":"\n"},{"$f":"IF(ISERROR(Expenses!$G$17),\"\",TEXT(Expenses!$G$17,\"##0.0%\"))&CHAR(10)&IF(ISERROR(Expenses!$G$9),\"\",TEXT(Expenses!$G$9,\"$###,###,###,###,##0\"))","v":"\n"},{"$f":"IF(ISERROR(Expenses!$G$18),\"\",TEXT(Expenses!$G$18,\"##0.0%\"))&CHAR(10)&IF(ISERROR(Expenses!$G$10),\"\",TEXT(Expenses!$G$10,\"$###,###,###,###,##0\"))","v":"\n"},{"$f":"IF(ISERROR(Expenses!$G$19),\"\",TEXT(Expenses!$G$19,\"##0.0%\"))&CHAR(10)&IF(ISERROR(Expenses!$G$11),\"\",TEXT(Expenses!$G$11,\"$###,###,###,###,##0\"))","v":"\n"},{"$f":"IF(ISERROR(Expenses!$G$20),\"\",TEXT(Expenses!$G$20,\"##0.0%\"))&CHAR(10)&IF(ISERROR(Expenses!$G$12),\"\",TEXT(Expenses!$G$12,\"$###,###,###,###,##0\"))","v":"\n"},null,{"$f":"'Control Panel'!E42","v":""},{"$f":"'Control Panel'!F42","v":""},{"$f":"'Control Panel'!G42","v":""},{"$f":"'Control Panel'!H42","v":""},{"$f":"'Control Panel'!I42","v":""},{"$f":"'Control Panel'!J42","v":""}]
[null,2,{"$f":"Budget_by_Source!H7","v":"CHIP"},{"$f":"IF(ISERROR(Budget_by_Source!H16),\"\",TEXT(Budget_by_Source!H16,\"##0.00%\"))&CHAR(10)&IF(ISERROR(Budget_by_Source!H8),\"\",TEXT(Budget_by_Source!H8,\"$###,###,###,###,##0\"))","v":"\n"},{"$f":"IF(ISERROR(Budget_by_Source!H17),\"\",TEXT(Budget_by_Source!H17,\"##0.00%\"))&CHAR(10)&IF(ISERROR(Budget_by_Source!H9),\"\",TEXT(Budget_by_Source!H9,\"$###,###,###,###,##0\"))","v":"\n"},{"$f":"IF(ISERROR(Budget_by_Source!H18),\"\",TEXT(Budget_by_Source!H18,\"##0.00%\"))&CHAR(10)&IF(ISERROR(Budget_by_Source!H10),\"\",TEXT(Budget_by_Source!H10,\"$###,###,###,###,##0\"))","v":"\n"},{"$f":"IF(ISERROR(Budget_by_Source!H19),\"\",TEXT(Budget_by_Source!H19,\"##0.00%\"))&CHAR(10)&IF(ISERROR(Budget_by_Source!H11),\"\",TEXT(Budget_by_Source!H11,\"$###,###,###,###,##0\"))","v":"\n"},{"$f":"IF(ISERROR(Budget_by_Source!H20),\"\",TEXT(Budget_by_Source!H20,\"##0.00%\"))&CHAR(10)&IF(ISERROR(Budget_by_Source!H12),\"\",TEXT(Budget_by_Source!H12,\"$###,###,###,###,##0\"))","v":"\n"},3,null,null,null,null,null,null,null,{"$f":"'Control Panel'!E43","v":""},{"$f":"'Control Panel'!F43","v":""},{"$f":"'Control Panel'!G43","v":""},{"$f":"'Control Panel'!H43","v":""},{"$f":"'Control Panel'!I43","v":""},{"$f":"'Control Panel'!J43","v":""}]
[null,null,null,null,null,null,null,null,null,null,null,null,null,null,null,null,{"$f":"'Control Panel'!E44","v":""},{"$f":"'Control Panel'!F44","v":""},{"$f":"'Control Panel'!G44","v":""},{"$f":"'Control Panel'!H44","v":""},{"$f":"'Control Panel'!I44","v":""},{"$f":"'Control Panel'!J44","v":""}]
[null,1,{"$f":"Budget_by_Source!I7","v":"Private Insurance"},{"$f":"IF(ISERROR(Budget_by_Source!I16),\"\",TEXT(Budget_by_Source!I16,\"##0.00%\"))&CHAR(10)&IF(ISERROR(Budget_by_Source!I8),\"\",TEXT(Budget_by_Source!I8,\"$###,###,###,###,##0\"))","v":"\n"},{"$f":"IF(ISERROR(Budget_by_Source!I17),\"\",TEXT(Budget_by_Source!I17,\"##0.00%\"))&CHAR(10)&IF(ISERROR(Budget_by_Source!I9),\"\",TEXT(Budget_by_Source!I9,\"$###,###,###,###,##0\"))","v":"\n"},{"$f":"IF(ISERROR(Budget_by_Source!I18),\"\",TEXT(Budget_by_Source!I18,\"##0.00%\"))&CHAR(10)&IF(ISERROR(Budget_by_Source!I10),\"\",TEXT(Budget_by_Source!I10,\"$###,###,###,###,##0\"))","v":"\n"},{"$f":"IF(ISERROR(Budget_by_Source!I19),\"\",TEXT(Budget_by_Source!I19,\"##0.00%\"))&CHAR(10)&IF(ISERROR(Budget_by_Source!I11),\"\",TEXT(Budget_by_Source!I11,\"$###,###,###,###,##0\"))","v":"\n"},{"$f":"IF(ISERROR(Budget_by_Source!I20),\"\",TEXT(Budget_by_Source!I20,\"##0.00%\"))&CHAR(10)&IF(ISERROR(Budget_by_Source!I12),\"\",TEXT(Budget_by_Source!I12,\"$###,###,###,###,##0\"))","v":"\n"},null,"TOTAL",{"$f":"SUMIF(Expenses!$F$8:$G$8,\"<>#N/A\")","v":0},{"$f":"SUMIF(Expenses!$F$9:$G$9,\"<>#N/A\")","v":0},{"$f":"SUMIF(Expenses!$F$10:$G$10,\"<>#N/A\")","v":0},{"$f":"SUMIF(Expenses!$F$11:$G$11,\"<>#N/A\")","v":0},{"$f":"SUMIF(Expenses!$F$12:$G$12,\"<>#N/A\")","v":0},null,{"$f":"'Control Panel'!E45","v":""},{"$f":"'Control Panel'!F45","v":""},{"$f":"'Control Panel'!G45","v":""},{"$f":"'Control Panel'!H45","v":""},{"$f":"'Control Panel'!I45","v":""},{"$f":"'Control Panel'!J45","v":""}]
[null,null,null,null,null,null,null,null,null,null,null,null,null,null,null,null,{"$f":"'Control Panel'!E46","v":""},{"$f":"'Control Panel'!F46","v":""},{"$f":"'Control Panel'!G46","v":""},{"$f":"'Control Panel'!H46","v":""},{"$f":"'Control Panel'!I46","v":""},{"$f":"'Control Panel'!J46","v":""}]
[null,3,{"$f":"Budget_by_Source!J7","v":"Federal Part C"},{"$f":"IF(ISERROR(Budget_by_Source!J16),\"\",TEXT(Budget_by_Source!J16,\"##0.00%\"))&CHAR(10)&IF(ISERROR(Budget_by_Source!J8),\"\",TEXT(Budget_by_Source!J8,\"$###,###,###,###,##0\"))","v":"\n"},{"$f":"IF(ISERROR(Budget_by_Source!J17),\"\",TEXT(Budget_by_Source!J17,\"##0.00%\"))&CHAR(10)&IF(ISERROR(Budget_by_Source!J9),\"\",TEXT(Budget_by_Source!J9,\"$###,###,###,###,##0\"))","v":"\n"},{"$f":"IF(ISERROR(Budget_by_Source!J18),\"\",TEXT(Budget_by_Source!J18,\"##0.00%\"))&CHAR(10)&IF(ISERROR(Budget_by_Source!J10),\"\",TEXT(Budget_by_Source!J10,\"$###,###,###,###,##0\"))","v":"\n"},{"$f":"IF(ISERROR(Budget_by_Source!J19),\"\",TEXT(Budget_by_Source!J19,\"##0.00%\"))&CHAR(10)&IF(ISERROR(Budget_by_Source!J11),\"\",TEXT(Budget_by_Source!J11,\"$###,###,###,###,##0\"))","v":"\n"},{"$f":"IF(ISERROR(Budget_by_Source!J20),\"\",TEXT(Budget_by_Source!J20,\"##0.00%\"))&CHAR(10)&IF(ISERROR(Budget_by_Source!J12),\"\",TEXT(Budget_by_Source!J12,\"$###,###,###,###,##0\"))","v":"\n"},4,null,null,null,null,null,null,null,{"$f":"'Control Panel'!E47","v":""},{"$f":"'Control Panel'!F47","v":""},{"$f":"'Control Panel'!G47","v":""},{"$f":"'Control Panel'!H47","v":""},{"$f":"'Control Panel'!I47","v":""},{"$f":"'Control Panel'!J47","v":""}]
[null,null,null,null,null,null,null,null,null,"Statewide",{"$f":"K30","v":""},{"$f":"L30","v":""},"","","",null,{"$f":"'Control Panel'!E48","v":""},{"$f":"'Control Panel'!F48","v":""},{"$f":"'Control Panel'!G48","v":""},{"$f":"'Control Panel'!H48","v":""},{"$f":"'Control Panel'!I48","v":""},{"$f":"'Control Panel'!J48","v":""}]
[null,2,{"$f":"Budget_by_Source!K7","v":"State Part C"},{"$f":"IF(ISERROR(Budget_by_Source!K16),\"\",TEXT(Budget_by_Source!K16,\"##0.00%\"))&CHAR(10)&IF(ISERROR(Budget_by_Source!K8),\"\",TEXT(Budget_by_Source!K8,\"$###,###,###,###,##0\"))","v":"\n"},{"$f":"IF(ISERROR(Budget_by_Source!K17),\"\",TEXT(Budget_by_Source!K17,\"##0.00%\"))&CHAR(10)&IF(ISERROR(Budget_by_Source!K9),\"\",TEXT(Budget_by_Source!K9,\"$###,###,###,###,##0\"))","v":"\n"},{"$f":"IF(ISERROR(Budget_by_Source!K18),\"\",TEXT(Budget_by_Source!K18,\"##0.00%\"))&CHAR(10)&IF(ISERROR(Budget_by_Source!K10),\"\",TEXT(Budget_by_Source!K10,\"$###,###,###,###,##0\"))","v":"\n"},{"$f":"IF(ISERROR(Budget_by_Source!K19),\"\",TEXT(Budget_by_Source!K19,\"##0.00%\"))&CHAR(10)&IF(ISERROR(Budget_by_Source!K11),\"\",TEXT(Budget_by_Source!K11,\"$###,###,###,###,##0\"))","v":"\n"},{"$f":"IF(ISERROR(Budget_by_Source!K20),\"\",TEXT(Budget_by_Source!K20,\"##0.00%\"))&CHAR(10)&IF(ISERROR(Budget_by_Source!K12),\"\",TEXT(Budget_by_Source!K12,\"$###,###,###,###,##0\"))","v":"\n"},null,"Direct Services:\nStatewide",{"$f":"IF(ISERROR(Expenses!$H$16),\"\",TEXT(Expenses!$H$16,\"##0.0%\"))&CHAR(10)&IF(ISERROR(Expenses!$H$8),\"\",TEXT(Expenses!$H$8,\"$###,###,###,###,##0\"))","v":"\n"},{"$f":"IF(ISERROR(Expenses!$H$17),\"\",TEXT(Expenses!$H$17,\"##0.0%\"))&CHAR(10)&IF(ISERROR(Expenses!$H$9),\"\",TEXT(Expenses!$H$9,\"$###,###,###,###,##0\"))","v":"\n"},{"$f":"IF(ISERROR(Expenses!$H$18),\"\",TEXT(Expenses!$H$18,\"##0.0%\"))&CHAR(10)&IF(ISERROR(Expenses!$H$10),\"\",TEXT(Expenses!$H$10,\"$###,###,###,###,##0\"))","v":"\n"},{"$f":"IF(ISERROR(Expenses!$H$19),\"\",TEXT(Expenses!$H$19,\"##0.0%\"))&CHAR(10)&IF(ISERROR(Expenses!$H$11),\"\",TEXT(Expenses!$H$11,\"$###,###,###,###,##0\"))","v":"\n"},{"$f":"IF(ISERROR(Expenses!$H$20),\"\",TEXT(Expenses!$H$20,\"##0.0%\"))&CHAR(10)&IF(ISERROR(Expenses!$H$12),\"\",TEXT(Expenses!$H$12,\"$###,###,###,###,##0\"))","v":"\n"},null,{"$f":"'Control Panel'!E49","v":""},{"$f":"'Control Panel'!F49","v":""},{"$f":"'Control Panel'!G49","v":""},{"$f":"'Control Panel'!H49","v":""},{"$f":"'Control Panel'!I49","v":""},{"$f":"'Control Panel'!J49","v":""}]
[null,null,null,null,null,null,null,null,null,null,null,null,null,null,null,null,{"$f":"'Control Panel'!E50","v":""},{"$f":"'Control Panel'!F50","v":""},{"$f":"'Control Panel'!G50","v":""},{"$f":"'Control Panel'!H50","v":""},{"$f":"'Control Panel'!I50","v":""},{"$f":"'Control Panel'!J50","v":""}]
[null,1,{"$f":"Budget_by_Source!L7","v":"State General Funds"},{"$f":"IF(ISERROR(Budget_by_Source!L16),\"\",TEXT(Budget_by_Source!L16,\"##0.00%\"))&CHAR(10)&IF(ISERROR(Budget_by_Source!L8),\"\",TEXT(Budget_by_Source!L8,\"$###,###,###,###,##0\"))","v":"\n"},{"$f":"IF(ISERROR(Budget_by_Source!L17),\"\",TEXT(Budget_by_Source!L17,\"##0.00%\"))&CHAR(10)&IF(ISERROR(Budget_by_Source!L9),\"\",TEXT(Budget_by_Source!L9,\"$###,###,###,###,##0\"))","v":"\n"},{"$f":"IF(ISERROR(Budget_by_Source!L18),\"\",TEXT(Budget_by_Source!L18,\"##0.00%\"))&CHAR(10)&IF(ISERROR(Budget_by_Source!L10),\"\",TEXT(Budget_by_Source!L10,\"$###,###,###,###,##0\"))","v":"\n"},{"$f":"IF(ISERROR(Budget_by_Source!L19),\"\",TEXT(Budget_by_Source!L19,\"##0.00%\"))&CHAR(10)&IF(ISERROR(Budget_by_Source!L11),\"\",TEXT(Budget_by_Source!L11,\"$###,###,###,###,##0\"))","v":"\n"},{"$f":"IF(ISERROR(Budget_by_Source!L20),\"\",TEXT(Budget_by_Source!L20,\"##0.00%\"))&CHAR(10)&IF(ISERROR(Budget_by_Source!L12),\"\",TEXT(Budget_by_Source!L12,\"$###,###,###,###,##0\"))","v":"\n"},1,null,null,null,null,null,null,null,{"$f":"'Control Panel'!E51","v":""},{"$f":"'Control Panel'!F51","v":""},{"$f":"'Control Panel'!G51","v":""},{"$f":"'Control Panel'!H51","v":""},{"$f":"'Control Panel'!I51","v":""},{"$f":"'Control Panel'!J51","v":""}]
[null,null,null,null,null,null,null,null,null,"Infrastructure & Administrative:\nStatewide",{"$f":"IF(ISERROR(Expenses!$I$16),\"\",TEXT(Expenses!$I$16,\"##0.0%\"))&CHAR(10)&IF(ISERROR(Expenses!$I$8),\"\",TEXT(Expenses!$I$8,\"$###,###,###,###,##0\"))","v":"\n"},{"$f":"IF(ISERROR(Expenses!$I$17),\"\",TEXT(Expenses!$I$17,\"##0.0%\"))&CHAR(10)&IF(ISERROR(Expenses!$I$9),\"\",TEXT(Expenses!$I$9,\"$###,###,###,###,##0\"))","v":"\n"},{"$f":"IF(ISERROR(Expenses!$I$18),\"\",TEXT(Expenses!$I$18,\"##0.0%\"))&CHAR(10)&IF(ISERROR(Expenses!$I$10),\"\",TEXT(Expenses!$I$10,\"$###,###,###,###,##0\"))","v":"\n"},{"$f":"IF(ISERROR(Expenses!$I$19),\"\",TEXT(Expenses!$I$19,\"##0.0%\"))&CHAR(10)&IF(ISERROR(Expenses!$I$11),\"\",TEXT(Expenses!$I$11,\"$###,###,###,###,##0\"))","v":"\n"},{"$f":"IF(ISERROR(Expenses!$I$20),\"\",TEXT(Expenses!$I$20,\"##0.0%\"))&CHAR(10)&IF(ISERROR(Expenses!$I$12),\"\",TEXT(Expenses!$I$12,\"$###,###,###,###,##0\"))","v":"\n"},null,{"$f":"'Control Panel'!E52","v":""},{"$f":"'Control Panel'!F52","v":""},{"$f":"'Control Panel'!G52","v":""},{"$f":"'Control Panel'!H52","v":""},{"$f":"'Control Panel'!I52","v":""},{"$f":"'Control Panel'!J52","v":""}]
[null,1,{"$f":"Budget_by_Source!M7","v":"Medicaid"},{"$f":"IF(ISERROR(Budget_by_Source!M16),\"\",TEXT(Budget_by_Source!M16,\"##0.00%\"))&CHAR(10)&IF(ISERROR(Budget_by_Source!M8),\"\",TEXT(Budget_by_Source!M8,\"$###,###,###,###,##0\"))","v":"\n"},{"$f":"IF(ISERROR(Budget_by_Source!M17),\"\",TEXT(Budget_by_Source!M17,\"##0.00%\"))&CHAR(10)&IF(ISERROR(Budget_by_Source!M9),\"\",TEXT(Budget_by_Source!M9,\"$###,###,###,###,##0\"))","v":"\n"},{"$f":"IF(ISERROR(Budget_by_Source!M18),\"\",TEXT(Budget_by_Source!M18,\"##0.00%\"))&CHAR(10)&IF(ISERROR(Budget_by_Source!M10),\"\",TEXT(Budget_by_Source!M10,\"$###,###,###,###,##0\"))","v":"\n"},{"$f":"IF(ISERROR(Budget_by_Source!M19),\"\",TEXT(Budget_by_Source!M19,\"##0.00%\"))&CHAR(10)&IF(ISERROR(Budget_by_Source!M11),\"\",TEXT(Budget_by_Source!M11,\"$###,###,###,###,##0\"))","v":"\n"},{"$f":"IF(ISERROR(Budget_by_Source!M20),\"\",TEXT(Budget_by_Source!M20,\"##0.00%\"))&CHAR(10)&IF(ISERROR(Budget_by_Source!M12),\"\",TEXT(Budget_by_Source!M12,\"$###,###,###,###,##0\"))","v":"\n"},null,null,null,null,null,null,null,null,{"$f":"'Control Panel'!E53","v":""},{"$f":"'Control Panel'!F53","v":""},{"$f":"'Control Panel'!G53","v":""},{"$f":"'Control Panel'!H53","v":""},{"$f":"'Control Panel'!I53","v":""},{"$f":"'Control Panel'!J53","v":""}]
[null,1,null,null,null,null,null,null,null,null,null,null,null,null,null,null,{"$f":"'Control Panel'!E54","v":""},{"$f":"'Control Panel'!F54","v":""},{"$f":"'Control Panel'!G54","v":""},{"$f":"'Control Panel'!H54","v":""},{"$f":"'Control Panel'!I54","v":""},{"$f":"'Control Panel'!J54","v":""}]
[null,null,"TOTAL",{"$f":"SUMIF(Budget_by_Source!$F8:$M8,\"<>#N/A\")","v":0},{"$f":"SUMIF(Budget_by_Source!$F9:$M9,\"<>#N/A\")","v":0},{"$f":"SUMIF(Budget_by_Source!$F10:$M10,\"<>#N/A\")","v":0},{"$f":"SUMIF(Budget_by_Source!$F11:$M11,\"<>#N/A\")","v":0},{"$f":"SUMIF(Budget_by_Source!$F12:$M12,\"<>#N/A\")","v":0},null,"TOTAL",{"$f":"SUMIF(Expenses!$H$8:$I$8,\"<>#N/A\")","v":0},{"$f":"SUMIF(Expenses!$H$9:$I$9,\"<>#N/A\")","v":0},{"$f":"SUMIF(Expenses!$H$10:$I$10,\"<>#N/A\")","v":0},{"$f":"SUMIF(Expenses!$H$11:$I$11,\"<>#N/A\")","v":0},{"$f":"SUMIF(Expenses!$H$12:$I$12,\"<>#N/A\")","v":0},null,{"$f":"'Control Panel'!E55","v":""},{"$f":"'Control Panel'!F55","v":""},{"$f":"'Control Panel'!G55","v":""},{"$f":"'Control Panel'!H55","v":""},{"$f":"'Control Panel'!I55","v":""},{"$f":"'Control Panel'!J55","v":""}]
[null,null,null,null,null,null,null,null,null,null,null,null,null,null,null,null,{"$f":"'Control Panel'!E56","v":""},{"$f":"'Control Panel'!F56","v":""},{"$f":"'Control Panel'!G56","v":""},{"$f":"'Control Panel'!H56","v":""},{"$f":"'Control Panel'!I56","v":""},{"$f":"'Control Panel'!J56","v":""}]
[null,null,null,null,null,null,null,null,null,null,null,null,null,null,null,null,{"$f":"'Control Panel'!E57","v":""},{"$f":"'Control Panel'!F57","v":""},{"$f":"'Control Panel'!G57","v":""},{"$f":"'Control Panel'!H57","v":""},{"$f":"'Control Panel'!I57","v":""},{"$f":"'Control Panel'!J57","v":""}]
[null,null,"Information about the chart, above:  Click on a cell in the table to read information:",null,null,null,null,null,null,"Information about the chart, above:  Click on a cell in the table to read information:",null,null,null,null,null,null,{"$f":"'Control Panel'!E58","v":""},{"$f":"'Control Panel'!F58","v":""},{"$f":"'Control Panel'!G58","v":""},{"$f":"'Control Panel'!H58","v":""},{"$f":"'Control Panel'!I58","v":""},{"$f":"'Control Panel'!J58","v":""}]
[null,null,{"$f":"IFERROR(IF(CurrentRow2=47,\"The total budget for all sources for \"&INDEX(D30:H30,1,CurrentColumn2-3)&\" was \"&TEXT(INDEX(D47:H47,1,CurrentColumn2-3),\"$###,###,###,##0\")&\".\",\"For the program \"&C3&\", \"&LEFT(INDEX($A$1:$H$46,CurrentRow2,CurrentColumn2),FIND(\"%\",INDEX($A$1:$H$46,CurrentRow2,CurrentColumn2)))&\" of the \"&INDEX($A$1:$H$46,30,CurrentColumn2)&\" budget was allocated to \"&INDEX($A$1:$H$46,CurrentRow2,3)&\" (\"&RIGHT(INDEX($A$1:$H$46,CurrentRow2, CurrentColumn2),LEN(INDEX($A$1:$H$46,CurrentRow2, CurrentColumn2))-FIND(\"%\",INDEX($A$1:$H$46,CurrentRow2, CurrentColumn2))-1)&\").\"),\"\")","v":""},null,null,null,null,null,null,{"$f":"IFERROR(IF(AND(OR(CurrentRow=31,CurrentRow=41),CurrentColumn=11),Expenses!F40&CHAR(10)&CHAR(10)&Expenses!L40,\"\")&\nIF(AND(OR(CurrentRow=31,CurrentRow=41),CurrentColumn=12),Expenses!F43&CHAR(10)&CHAR(10)&Expenses!L43,\"\")&\nIF(AND(OR(CurrentRow=31,CurrentRow=41),CurrentColumn=13),Expenses!F46&CHAR(10)&CHAR(10)&Expenses!L46,\"\")&\nIF(AND(OR(CurrentRow=31,CurrentRow=41),CurrentColumn=14),Expenses!F49&CHAR(10)&CHAR(10)&Expenses!L49,\"\")&\nIF(AND(OR(CurrentRow=31,CurrentRow=41),CurrentColumn=15),Expenses!F52&CHAR(10)&CHAR(10)&Expenses!L52,\"\")&\nIF(AND(OR(CurrentRow=34,CurrentRow=44),CurrentColumn=11),Expenses!F39&CHAR(10)&CHAR(10)&Expenses!L39,\"\")&\nIF(AND(OR(CurrentRow=34,CurrentRow=44),CurrentColumn=12),Expenses!F42&CHAR(10)&CHAR(10)&Expenses!L42,\"\")&\nIF(AND(OR(CurrentRow=34,CurrentRow=44),CurrentColumn=13),Expenses!F45&CHAR(10)&CHAR(10)&Expenses!L45,\"\")&\nIF(AND(OR(CurrentRow=34,CurrentRow=44),CurrentColumn=14),Expenses!F48&CHAR(10)&CHAR(10)&Expenses!L48,\"\")&\nIF(AND(OR(CurrentRow=34,CurrentRow=44),CurrentColumn=15),Expenses!F51&CHAR(10)&CHAR(10)&Expenses!L51,\"\")&\nIF(AND(OR(CurrentRow=37,CurrentRow=47),CurrentColumn>=11,CurrentColumn<=15),\"Total expenditures for \"&IF(CurrentRow=37,C3,\"Statewide Average per Program\")&\" for \"&INDEX($K$30:$O$30,1,CurrentColumn-10)&\" for Direct Services and Infrastructure & Administration was \"&TEXT(INDEX($K$37:$O$48,CurrentRow-36,CurrentColumn-10),\"$###,###,###,##0\")&\".\",\"\"),\"\")","v":"Total expenditures for Statewide Average per Program for  for Direct Services and Infrastructure & Administration was $0."},null,null,null,null,null,null,{"$f":"'Control Panel'!E59","v":""},{"$f":"'Control Panel'!F59","v":""},{"$f":"'Control Panel'!G59","v":""},{"$f":"'Control Panel'!H59","v":""},{"$f":"'Control Panel'!I59","v":""},{"$f":"'Control Panel'!J59","v":""}]
[null,null,null,null,null,null,null,null,null,null,null,null,null,null,null,null,{"$f":"'Control Panel'!E60","v":""},{"$f":"'Control Panel'!F60","v":""},{"$f":"'Control Panel'!G60","v":""},{"$f":"'Control Panel'!H60","v":""},{"$f":"'Control Panel'!I60","v":""},{"$f":"'Control Panel'!J60","v":""}]
[null,null,null,null,null,null,null,null,null,null,null,null,null,null,null,null,{"$f":"'Control Panel'!E61","v":""},{"$f":"'Control Panel'!F61","v":""},{"$f":"'Control Panel'!G61","v":""},{"$f":"'Control Panel'!H61","v":""},{"$f":"'Control Panel'!I61","v":""},{"$f":"'Control Panel'!J61","v":""}]
[null,null,null,null,null,null,null,null,null,null,null,null,null,null,null,null,{"$f":"'Control Panel'!E62","v":""},{"$f":"'Control Panel'!F62","v":""},{"$f":"'Control Panel'!G62","v":""},{"$f":"'Control Panel'!H62","v":""},{"$f":"'Control Panel'!I62","v":""},{"$f":"'Control Panel'!J62","v":""}]
[null,null,null,null,null,null,null,null,null,null,null,null,null,null,null,null,{"$f":"'Control Panel'!E63","v":""},{"$f":"'Control Panel'!F63","v":""},{"$f":"'Control Panel'!G63","v":""},{"$f":"'Control Panel'!H63","v":""},{"$f":"'Control Panel'!I63","v":""},{"$f":"'Control Panel'!J63","v":""}]
[null,null,null,null,null,null,null,null,null,null,null,null,null,null,null,null,{"$f":"'Control Panel'!E64","v":""},{"$f":"'Control Panel'!F64","v":""},{"$f":"'Control Panel'!G64","v":""},{"$f":"'Control Panel'!H64","v":""},{"$f":"'Control Panel'!I64","v":""},{"$f":"'Control Panel'!J64","v":""}]
[null,null,null,null,null,null,null,null,null,null,null,null,null,null,null,null,{"$f":"'Control Panel'!E65","v":""},{"$f":"'Control Panel'!F65","v":""},{"$f":"'Control Panel'!G65","v":""},{"$f":"'Control Panel'!H65","v":""},{"$f":"'Control Panel'!I65","v":""},{"$f":"'Control Panel'!J65","v":""}]
[null,null,null,null,null,null,null,null,null,null,null,null,null,null,null,null,{"$f":"'Control Panel'!E66","v":""},{"$f":"'Control Panel'!F66","v":""},{"$f":"'Control Panel'!G66","v":""},{"$f":"'Control Panel'!H66","v":""},{"$f":"'Control Panel'!I66","v":""},{"$f":"'Control Panel'!J66","v":""}]
[null,null,null,null,null,null,null,null,null,null,null,null,null,null,null,null,{"$f":"'Control Panel'!E67","v":""},{"$f":"'Control Panel'!F67","v":""},{"$f":"'Control Panel'!G67","v":""},{"$f":"'Control Panel'!H67","v":""},{"$f":"'Control Panel'!I67","v":""},{"$f":"'Control Panel'!J67","v":""}]
[null,null,null,null,null,null,null,null,null,null,null,null,null,null,null,null,{"$f":"'Control Panel'!E68","v":""},{"$f":"'Control Panel'!F68","v":""},{"$f":"'Control Panel'!G68","v":""},{"$f":"'Control Panel'!H68","v":""},{"$f":"'Control Panel'!I68","v":""},{"$f":"'Control Panel'!J68","v":""}]
[null,null,null,null,null,null,null,null,null,null,null,null,null,null,null,null,{"$f":"'Control Panel'!E69","v":""},{"$f":"'Control Panel'!F69","v":""},{"$f":"'Control Panel'!G69","v":""},{"$f":"'Control Panel'!H69","v":""},{"$f":"'Control Panel'!I69","v":""},{"$f":"'Control Panel'!J69","v":""}]
[null,null,null,null,null,null,null,null,null,null,null,null,null,null,null,null,{"$f":"'Control Panel'!E70","v":""},{"$f":"'Control Panel'!F70","v":""},{"$f":"'Control Panel'!G70","v":""},{"$f":"'Control Panel'!H70","v":""},{"$f":"'Control Panel'!I70","v":""},{"$f":"'Control Panel'!J70","v":""}]
[null,null,null,null,null,null,null,null,null,null,null,null,null,null,null,null,{"$f":"'Control Panel'!E71","v":""},{"$f":"'Control Panel'!F71","v":""},{"$f":"'Control Panel'!G71","v":""},{"$f":"'Control Panel'!H71","v":""},{"$f":"'Control Panel'!I71","v":""},{"$f":"'Control Panel'!J71","v":""}]
[null,null,null,null,null,null,null,null,null,null,null,null,null,null,null,null,{"$f":"'Control Panel'!E72","v":""},{"$f":"'Control Panel'!F72","v":""},{"$f":"'Control Panel'!G72","v":""},{"$f":"'Control Panel'!H72","v":""},{"$f":"'Control Panel'!I72","v":""},{"$f":"'Control Panel'!J72","v":""}]
[null,null,null,null,null,null,null,null,null,null,null,null,null,null,null,null,{"$f":"'Control Panel'!E73","v":""},{"$f":"'Control Panel'!F73","v":""},{"$f":"'Control Panel'!G73","v":""},{"$f":"'Control Panel'!H73","v":""},{"$f":"'Control Panel'!I73","v":""},{"$f":"'Control Panel'!J73","v":""}]
[]
[null,null,null,null,null,null,null,null,null,null,null,null,null,null,null,null,{"$f":"'Control Panel'!E74","v":""},{"$f":"'Control Panel'!F74","v":""},{"$f":"'Control Panel'!G74","v":""},{"$f":"'Control Panel'!H74","v":""},{"$f":"'Control Panel'!I74","v":""},{"$f":"'Control Panel'!J74","v":""}]
[null,null,null,null,null,null,null,null,null,null,null,null,null,null,null,null,{"$f":"'Control Panel'!E75","v":""},{"$f":"'Control Panel'!F75","v":""},{"$f":"'Control Panel'!G75","v":""},{"$f":"'Control Panel'!H75","v":""},{"$f":"'Control Panel'!I75","v":""},{"$f":"'Control Panel'!J75","v":""}]
[null,null,null,null,null,null,null,null,null,null,null,null,null,null,null,null,{"$f":"'Control Panel'!E76","v":""},{"$f":"'Control Panel'!F76","v":""},{"$f":"'Control Panel'!G76","v":""},{"$f":"'Control Panel'!H76","v":""},{"$f":"'Control Panel'!I76","v":""},{"$f":"'Control Panel'!J76","v":""}]
[null,null,null,null,null,null,null,null,null,null,null,null,null,null,null,null,{"$f":"'Control Panel'!E77","v":""},{"$f":"'Control Panel'!F77","v":""},{"$f":"'Control Panel'!G77","v":""},{"$f":"'Control Panel'!H77","v":""},{"$f":"'Control Panel'!I77","v":""},{"$f":"'Control Panel'!J77","v":""}]
[null,null,null,null,null,null,null,null,null,null,null,null,null,null,null,null,{"$f":"'Control Panel'!E78","v":""},{"$f":"'Control Panel'!F78","v":""},{"$f":"'Control Panel'!G78","v":""},{"$f":"'Control Panel'!H78","v":""},{"$f":"'Control Panel'!I78","v":""},{"$f":"'Control Panel'!J78","v":""}]
[null,null,null,null,null,null,null,null,null,null,null,null,null,null,null,null,{"$f":"'Control Panel'!E79","v":""},{"$f":"'Control Panel'!F79","v":""},{"$f":"'Control Panel'!G79","v":""},{"$f":"'Control Panel'!H79","v":""},{"$f":"'Control Panel'!I79","v":""},{"$f":"'Control Panel'!J79","v":""}]
[null,null,null,null,null,null,null,null,null,null,null,null,null,null,null,null,{"$f":"'Control Panel'!E80","v":""},{"$f":"'Control Panel'!F80","v":""},{"$f":"'Control Panel'!G80","v":""},{"$f":"'Control Panel'!H80","v":""},{"$f":"'Control Panel'!I80","v":""},{"$f":"'Control Panel'!J80","v":""}]
[null,null,null,null,null,null,null,null,null,null,null,null,null,null,null,null,{"$f":"'Control Panel'!E81","v":""},{"$f":"'Control Panel'!F81","v":""},{"$f":"'Control Panel'!G81","v":""},{"$f":"'Control Panel'!H81","v":""},{"$f":"'Control Panel'!I81","v":""},{"$f":"'Control Panel'!J81","v":""}]
[null,null,null,null,null,null,null,null,null,null,null,null,null,null,null,null,{"$f":"'Control Panel'!E82","v":""},{"$f":"'Control Panel'!F82","v":""},{"$f":"'Control Panel'!G82","v":""},{"$f":"'Control Panel'!H82","v":""},{"$f":"'Control Panel'!I82","v":""},{"$f":"'Control Panel'!J82","v":""}]
[null,null,null,null,null,null,null,null,null,null,null,null,null,null,null,null,{"$f":"'Control Panel'!E83","v":""},{"$f":"'Control Panel'!F83","v":""},{"$f":"'Control Panel'!G83","v":""},{"$f":"'Control Panel'!H83","v":""},{"$f":"'Control Panel'!I83","v":""},{"$f":"'Control Panel'!J83","v":""}]
[null,null,null,null,null,null,null,null,null,null,null,null,null,null,null,null,{"$f":"'Control Panel'!E84","v":""},{"$f":"'Control Panel'!F84","v":""},{"$f":"'Control Panel'!G84","v":""},{"$f":"'Control Panel'!H84","v":""},{"$f":"'Control Panel'!I84","v":""},{"$f":"'Control Panel'!J84","v":""}]
[null,null,null,null,null,null,null,null,null,null,null,null,null,null,null,null,{"$f":"'Control Panel'!E85","v":""},{"$f":"'Control Panel'!F85","v":""},{"$f":"'Control Panel'!G85","v":""},{"$f":"'Control Panel'!H85","v":""},{"$f":"'Control Panel'!I85","v":""},{"$f":"'Control Panel'!J85","v":""}]
[null,null,null,null,null,null,null,null,null,null,null,null,null,null,null,null,{"$f":"'Control Panel'!E86","v":""},{"$f":"'Control Panel'!F86","v":""},{"$f":"'Control Panel'!G86","v":""},{"$f":"'Control Panel'!H86","v":""},{"$f":"'Control Panel'!I86","v":""},{"$f":"'Control Panel'!J86","v":""}]
[null,null,null,null,null,null,null,null,null,null,null,null,null,null,null,null,{"$f":"'Control Panel'!E87","v":""},{"$f":"'Control Panel'!F87","v":""},{"$f":"'Control Panel'!G87","v":""},{"$f":"'Control Panel'!H87","v":""},{"$f":"'Control Panel'!I87","v":""},{"$f":"'Control Panel'!J87","v":""}]
[null,null,null,null,null,null,null,null,null,null,null,null,null,null,null,null,{"$f":"'Control Panel'!E88","v":""},{"$f":"'Control Panel'!F88","v":""},{"$f":"'Control Panel'!G88","v":""},{"$f":"'Control Panel'!H88","v":""},{"$f":"'Control Panel'!I88","v":""},{"$f":"'Control Panel'!J88","v":""}]
[null,null,null,null,null,null,null,null,null,null,null,null,null,null,null,null,{"$f":"'Control Panel'!E89","v":""},{"$f":"'Control Panel'!F89","v":""},{"$f":"'Control Panel'!G89","v":""},{"$f":"'Control Panel'!H89","v":""},{"$f":"'Control Panel'!I89","v":""},{"$f":"'Control Panel'!J89","v":""}]
[null,null,null,null,null,null,null,null,null,null,null,null,null,null,null,null,{"$f":"'Control Panel'!E90","v":""},{"$f":"'Control Panel'!F90","v":""},{"$f":"'Control Panel'!G90","v":""},{"$f":"'Control Panel'!H90","v":""},{"$f":"'Control Panel'!I90","v":""},{"$f":"'Control Panel'!J90","v":""}]
[null,null,null,null,null,null,null,null,null,null,null,null,null,null,null,null,{"$f":"'Control Panel'!E91","v":""},{"$f":"'Control Panel'!F91","v":""},{"$f":"'Control Panel'!G91","v":""},{"$f":"'Control Panel'!H91","v":""},{"$f":"'Control Panel'!I91","v":""},{"$f":"'Control Panel'!J91","v":""}]
[null,null,null,null,null,null,null,null,null,null,null,null,null,null,null,null,{"$f":"'Control Panel'!E92","v":""},{"$f":"'Control Panel'!F92","v":""},{"$f":"'Control Panel'!G92","v":""},{"$f":"'Control Panel'!H92","v":""},{"$f":"'Control Panel'!I92","v":""},{"$f":"'Control Panel'!J92","v":""}]
[null,null,null,null,null,null,null,null,null,null,null,null,null,null,null,null,{"$f":"'Control Panel'!E93","v":""},{"$f":"'Control Panel'!F93","v":""},{"$f":"'Control Panel'!G93","v":""},{"$f":"'Control Panel'!H93","v":""},{"$f":"'Control Panel'!I93","v":""},{"$f":"'Control Panel'!J93","v":""}]
[null,null,null,null,null,null,null,null,null,null,null,null,null,null,null,null,{"$f":"'Control Panel'!E94","v":""},{"$f":"'Control Panel'!F94","v":""},{"$f":"'Control Panel'!G94","v":""},{"$f":"'Control Panel'!H94","v":""},{"$f":"'Control Panel'!I94","v":""},{"$f":"'Control Panel'!J94","v":""}]
[null,null,null,null,null,null,null,null,null,null,null,null,null,null,null,null,{"$f":"'Control Panel'!E95","v":""},{"$f":"'Control Panel'!F95","v":""},{"$f":"'Control Panel'!G95","v":""},{"$f":"'Control Panel'!H95","v":""},{"$f":"'Control Panel'!I95","v":""},{"$f":"'Control Panel'!J95","v":""}]
[null,null,null,null,null,null,null,null,null,null,null,null,null,null,null,null,{"$f":"'Control Panel'!E96","v":""},{"$f":"'Control Panel'!F96","v":""},{"$f":"'Control Panel'!G96","v":""},{"$f":"'Control Panel'!H96","v":""},{"$f":"'Control Panel'!I96","v":""},{"$f":"'Control Panel'!J96","v":""}]
[null,null,null,null,null,null,null,null,null,null,null,null,null,null,null,null,{"$f":"'Control Panel'!E97","v":""},{"$f":"'Control Panel'!F97","v":""},{"$f":"'Control Panel'!G97","v":""},{"$f":"'Control Panel'!H97","v":""},{"$f":"'Control Panel'!I97","v":""},{"$f":"'Control Panel'!J97","v":""}]
[null,null,null,null,null,null,null,null,null,null,null,null,null,null,null,null,{"$f":"'Control Panel'!E98","v":""},{"$f":"'Control Panel'!F98","v":""},{"$f":"'Control Panel'!G98","v":""},{"$f":"'Control Panel'!H98","v":""},{"$f":"'Control Panel'!I98","v":""},{"$f":"'Control Panel'!J98","v":""}]
[null,null,null,null,null,null,null,null,null,null,null,null,null,null,null,null,{"$f":"'Control Panel'!E99","v":""},{"$f":"'Control Panel'!F99","v":""},{"$f":"'Control Panel'!G99","v":""},{"$f":"'Control Panel'!H99","v":""},{"$f":"'Control Panel'!I99","v":""},{"$f":"'Control Panel'!J99","v":""}]
[null,null,null,null,null,null,null,null,null,null,null,null,null,null,null,null,{"$f":"'Control Panel'!E100","v":""},{"$f":"'Control Panel'!F100","v":""},{"$f":"'Control Panel'!G100","v":""},{"$f":"'Control Panel'!H100","v":""},{"$f":"'Control Panel'!I100","v":""},{"$f":"'Control Panel'!J100","v":""}]
[null,null,null,null,null,null,null,null,null,null,null,null,null,null,null,null,{"$f":"'Control Panel'!E101","v":""},{"$f":"'Control Panel'!F101","v":""},{"$f":"'Control Panel'!G101","v":""},{"$f":"'Control Panel'!H101","v":""},{"$f":"'Control Panel'!I101","v":""},{"$f":"'Control Panel'!J101","v":""}]
[null,null,null,null,null,null,null,null,null,null,null,null,null,null,null,null,{"$f":"'Control Panel'!E102","v":""},{"$f":"'Control Panel'!F102","v":""},{"$f":"'Control Panel'!G102","v":""},{"$f":"'Control Panel'!H102","v":""},{"$f":"'Control Panel'!I102","v":""},{"$f":"'Control Panel'!J102","v":""}]
[null,null,null,null,null,null,null,null,null,null,null,null,null,null,null,null,{"$f":"'Control Panel'!E103","v":""},{"$f":"'Control Panel'!F103","v":""},{"$f":"'Control Panel'!G103","v":""},{"$f":"'Control Panel'!H103","v":""},{"$f":"'Control Panel'!I103","v":""},{"$f":"'Control Panel'!J103","v":""}]
[null,null,null,null,null,null,null,null,null,null,null,null,null,null,null,null,{"$f":"'Control Panel'!E104","v":""},{"$f":"'Control Panel'!F104","v":""},{"$f":"'Control Panel'!G104","v":""},{"$f":"'Control Panel'!H104","v":""},{"$f":"'Control Panel'!I104","v":""},{"$f":"'Control Panel'!J104","v":""}]
[null,null,null,null,null,null,null,null,null,null,null,null,null,null,null,null,{"$f":"'Control Panel'!E105","v":""},{"$f":"'Control Panel'!F105","v":""},{"$f":"'Control Panel'!G105","v":""},{"$f":"'Control Panel'!H105","v":""},{"$f":"'Control Panel'!I105","v":""},{"$f":"'Control Panel'!J105","v":""}]
[null,null,null,null,null,null,null,null,null,null,null,null,null,null,null,null,{"$f":"'Control Panel'!E106","v":""},{"$f":"'Control Panel'!F106","v":""},{"$f":"'Control Panel'!G106","v":""},{"$f":"'Control Panel'!H106","v":""},{"$f":"'Control Panel'!I106","v":""},{"$f":"'Control Panel'!J106","v":""}]
[null,null,null,null,null,null,null,null,null,null,null,null,null,null,null,null,{"$f":"'Control Panel'!E107","v":""},{"$f":"'Control Panel'!F107","v":""},{"$f":"'Control Panel'!G107","v":""},{"$f":"'Control Panel'!H107","v":""},{"$f":"'Control Panel'!I107","v":""},{"$f":"'Control Panel'!J107","v":""}]
[null,null,null,null,null,null,null,null,null,null,null,null,null,null,null,null,{"$f":"'Control Panel'!E108","v":""},{"$f":"'Control Panel'!F108","v":""},{"$f":"'Control Panel'!G108","v":""},{"$f":"'Control Panel'!H108","v":""},{"$f":"'Control Panel'!I108","v":""},{"$f":"'Control Panel'!J108","v":""}]
[null,null,null,null,null,null,null,null,null,null,null,null,null,null,null,null,{"$f":"'Control Panel'!E109","v":""},{"$f":"'Control Panel'!F109","v":""},{"$f":"'Control Panel'!G109","v":""},{"$f":"'Control Panel'!H109","v":""},{"$f":"'Control Panel'!I109","v":""},{"$f":"'Control Panel'!J109","v":""}]
[null,null,null,null,null,null,null,null,null,null,null,null,null,null,null,null,{"$f":"'Control Panel'!E110","v":""},{"$f":"'Control Panel'!F110","v":""},{"$f":"'Control Panel'!G110","v":""},{"$f":"'Control Panel'!H110","v":""},{"$f":"'Control Panel'!I110","v":""},{"$f":"'Control Panel'!J110","v":""}]
[null,null,null,null,null,null,null,null,null,null,null,null,null,null,null,null,{"$f":"'Control Panel'!E111","v":""},{"$f":"'Control Panel'!F111","v":""},{"$f":"'Control Panel'!G111","v":""},{"$f":"'Control Panel'!H111","v":""},{"$f":"'Control Panel'!I111","v":""},{"$f":"'Control Panel'!J111","v":""}]
[null,null,null,null,null,null,null,null,null,null,null,null,null,null,null,null,{"$f":"'Control Panel'!E112","v":""},{"$f":"'Control Panel'!F112","v":""},{"$f":"'Control Panel'!G112","v":""},{"$f":"'Control Panel'!H112","v":""},{"$f":"'Control Panel'!I112","v":""},{"$f":"'Control Panel'!J112","v":""}]
[null,null,null,null,null,null,null,null,null,null,null,null,null,null,null,null,{"$f":"'Control Panel'!E113","v":""},{"$f":"'Control Panel'!F113","v":""},{"$f":"'Control Panel'!G113","v":""},{"$f":"'Control Panel'!H113","v":""},{"$f":"'Control Panel'!I113","v":""},{"$f":"'Control Panel'!J113","v":""}]
[null,null,null,null,null,null,null,null,null,null,null,null,null,null,null,null,{"$f":"'Control Panel'!E114","v":""},{"$f":"'Control Panel'!F114","v":""},{"$f":"'Control Panel'!G114","v":""},{"$f":"'Control Panel'!H114","v":""},{"$f":"'Control Panel'!I114","v":""},{"$f":"'Control Panel'!J114","v":""}]
[null,null,null,null,null,null,null,null,null,null,null,null,null,null,null,null,{"$f":"'Control Panel'!E115","v":""},{"$f":"'Control Panel'!F115","v":""},{"$f":"'Control Panel'!G115","v":""},{"$f":"'Control Panel'!H115","v":""},{"$f":"'Control Panel'!I115","v":""},{"$f":"'Control Panel'!J115","v":""}]
[null,null,null,null,null,null,null,null,null,null,null,null,null,null,null,null,{"$f":"'Control Panel'!E116","v":""},{"$f":"'Control Panel'!F116","v":""},{"$f":"'Control Panel'!G116","v":""},{"$f":"'Control Panel'!H116","v":""},{"$f":"'Control Panel'!I116","v":""},{"$f":"'Control Panel'!J116","v":""}]
[null,null,null,null,null,null,null,null,null,null,null,null,null,null,null,null,{"$f":"'Control Panel'!E117","v":""},{"$f":"'Control Panel'!F117","v":""},{"$f":"'Control Panel'!G117","v":""},{"$f":"'Control Panel'!H117","v":""},{"$f":"'Control Panel'!I117","v":""},{"$f":"'Control Panel'!J117","v":""}]
[null,null,null,null,null,null,null,null,null,null,null,null,null,null,null,null,{"$f":"'Control Panel'!E118","v":""},{"$f":"'Control Panel'!F118","v":""},{"$f":"'Control Panel'!G118","v":""},{"$f":"'Control Panel'!H118","v":""},{"$f":"'Control Panel'!I118","v":""},{"$f":"'Control Panel'!J118","v":""}]
[null,null,null,null,null,null,null,null,null,null,null,null,null,null,null,null,{"$f":"'Control Panel'!E119","v":""},{"$f":"'Control Panel'!F119","v":""},{"$f":"'Control Panel'!G119","v":""},{"$f":"'Control Panel'!H119","v":""},{"$f":"'Control Panel'!I119","v":""},{"$f":"'Control Panel'!J119","v":""}]
[null,null,null,null,null,null,null,null,null,null,null,null,null,null,null,null,{"$f":"'Control Panel'!E120","v":""},{"$f":"'Control Panel'!F120","v":""},{"$f":"'Control Panel'!G120","v":""},{"$f":"'Control Panel'!H120","v":""},{"$f":"'Control Panel'!I120","v":""},{"$f":"'Control Panel'!J120","v":""}]
[null,null,null,null,null,null,null,null,null,null,null,null,null,null,null,null,{"$f":"'Control Panel'!E121","v":""},{"$f":"'Control Panel'!F121","v":""},{"$f":"'Control Panel'!G121","v":""},{"$f":"'Control Panel'!H121","v":""},{"$f":"'Control Panel'!I121","v":""},{"$f":"'Control Panel'!J121","v":""}]
[null,null,null,null,null,null,null,null,null,null,null,null,null,null,null,null,{"$f":"'Control Panel'!E122","v":""},{"$f":"'Control Panel'!F122","v":""},{"$f":"'Control Panel'!G122","v":""},{"$f":"'Control Panel'!H122","v":""},{"$f":"'Control Panel'!I122","v":""},{"$f":"'Control Panel'!J122","v":""}]
[null,null,null,null,null,null,null,null,null,null,null,null,null,null,null,null,{"$f":"'Control Panel'!E123","v":""},{"$f":"'Control Panel'!F123","v":""},{"$f":"'Control Panel'!G123","v":""},{"$f":"'Control Panel'!H123","v":""},{"$f":"'Control Panel'!I123","v":""},{"$f":"'Control Panel'!J123","v":""}]
[null,null,null,null,null,null,null,null,null,null,null,null,null,null,null,null,{"$f":"'Control Panel'!E124","v":""},{"$f":"'Control Panel'!F124","v":""},{"$f":"'Control Panel'!G124","v":""},{"$f":"'Control Panel'!H124","v":""},{"$f":"'Control Panel'!I124","v":""},{"$f":"'Control Panel'!J124","v":""}]
[null,null,null,null,null,null,null,null,null,null,null,null,null,null,null,null,{"$f":"'Control Panel'!E125","v":""},{"$f":"'Control Panel'!F125","v":""},{"$f":"'Control Panel'!G125","v":""},{"$f":"'Control Panel'!H125","v":""},{"$f":"'Control Panel'!I125","v":""},{"$f":"'Control Panel'!J125","v":""}]
[null,null,null,null,null,null,null,null,null,null,null,null,null,null,null,null,{"$f":"'Control Panel'!E126","v":""},{"$f":"'Control Panel'!F126","v":""},{"$f":"'Control Panel'!G126","v":""},{"$f":"'Control Panel'!H126","v":""},{"$f":"'Control Panel'!I126","v":""},{"$f":"'Control Panel'!J126","v":""}]
[null,null,null,null,null,null,null,null,null,null,null,null,null,null,null,null,{"$f":"'Control Panel'!E127","v":""},{"$f":"'Control Panel'!F127","v":""},{"$f":"'Control Panel'!G127","v":""},{"$f":"'Control Panel'!H127","v":""},{"$f":"'Control Panel'!I127","v":""},{"$f":"'Control Panel'!J127","v":""}]
[null,null,null,null,null,null,null,null,null,null,null,null,null,null,null,null,{"$f":"'Control Panel'!E128","v":""},{"$f":"'Control Panel'!F128","v":""},{"$f":"'Control Panel'!G128","v":""},{"$f":"'Control Panel'!H128","v":""},{"$f":"'Control Panel'!I128","v":""},{"$f":"'Control Panel'!J128","v":""}]
[null,null,null,null,null,null,null,null,null,null,null,null,null,null,null,null,{"$f":"'Control Panel'!E129","v":""},{"$f":"'Control Panel'!F129","v":""},{"$f":"'Control Panel'!G129","v":""},{"$f":"'Control Panel'!H129","v":""},{"$f":"'Control Panel'!I129","v":""},{"$f":"'Control Panel'!J129","v":""}]
[null,null,null,null,null,null,null,null,null,null,null,null,null,null,null,null,{"$f":"'Control Panel'!E130","v":""},{"$f":"'Control Panel'!F130","v":""},{"$f":"'Control Panel'!G130","v":""},{"$f":"'Control Panel'!H130","v":""},{"$f":"'Control Panel'!I130","v":""},{"$f":"'Control Panel'!J130","v":""}]
[null,null,null,null,null,null,null,null,null,null,null,null,null,null,null,null,{"$f":"'Control Panel'!E131","v":""},{"$f":"'Control Panel'!F131","v":""},{"$f":"'Control Panel'!G131","v":""},{"$f":"'Control Panel'!H131","v":""},{"$f":"'Control Panel'!I131","v":""},{"$f":"'Control Panel'!J131","v":""}]
[null,null,null,null,null,null,null,null,null,null,null,null,null,null,null,null,{"$f":"'Control Panel'!E132","v":""},{"$f":"'Control Panel'!F132","v":""},{"$f":"'Control Panel'!G132","v":""},{"$f":"'Control Panel'!H132","v":""},{"$f":"'Control Panel'!I132","v":""},{"$f":"'Control Panel'!J132","v":""}]
[null,null,null,null,null,null,null,null,null,null,null,null,null,null,null,null,{"$f":"'Control Panel'!E133","v":""},{"$f":"'Control Panel'!F133","v":""},{"$f":"'Control Panel'!G133","v":""},{"$f":"'Control Panel'!H133","v":""},{"$f":"'Control Panel'!I133","v":""},{"$f":"'Control Panel'!J133","v":""}]
[null,null,null,null,null,null,null,null,null,null,null,null,null,null,null,null,{"$f":"'Control Panel'!E134","v":""},{"$f":"'Control Panel'!F134","v":""},{"$f":"'Control Panel'!G134","v":""},{"$f":"'Control Panel'!H134","v":""},{"$f":"'Control Panel'!I134","v":""},{"$f":"'Control Panel'!J134","v":""}]
[null,null,null,null,null,null,null,null,null,null,null,null,null,null,null,null,{"$f":"'Control Panel'!E135","v":""},{"$f":"'Control Panel'!F135","v":""},{"$f":"'Control Panel'!G135","v":""},{"$f":"'Control Panel'!H135","v":""},{"$f":"'Control Panel'!I135","v":""},{"$f":"'Control Panel'!J135","v":""}]
[null,null,null,null,null,null,null,null,null,null,null,null,null,null,null,null,{"$f":"'Control Panel'!E136","v":""},{"$f":"'Control Panel'!F136","v":""},{"$f":"'Control Panel'!G136","v":""},{"$f":"'Control Panel'!H136","v":""},{"$f":"'Control Panel'!I136","v":""},{"$f":"'Control Panel'!J136","v":""}]
[null,null,null,null,null,null,null,null,null,null,null,null,null,null,null,null,{"$f":"'Control Panel'!E137","v":""},{"$f":"'Control Panel'!F137","v":""},{"$f":"'Control Panel'!G137","v":""},{"$f":"'Control Panel'!H137","v":""},{"$f":"'Control Panel'!I137","v":""},{"$f":"'Control Panel'!J137","v":""}]
[null,null,null,null,null,null,null,null,null,null,null,null,null,null,null,null,{"$f":"'Control Panel'!E138","v":""},{"$f":"'Control Panel'!F138","v":""},{"$f":"'Control Panel'!G138","v":""},{"$f":"'Control Panel'!H138","v":""},{"$f":"'Control Panel'!I138","v":""},{"$f":"'Control Panel'!J138","v":""}]
[null,null,null,null,null,null,null,null,null,null,null,null,null,null,null,null,{"$f":"'Control Panel'!E139","v":""},{"$f":"'Control Panel'!F139","v":""},{"$f":"'Control Panel'!G139","v":""},{"$f":"'Control Panel'!H139","v":""},{"$f":"'Control Panel'!I139","v":""},{"$f":"'Control Panel'!J139","v":""}]
[null,null,null,null,null,null,null,null,null,null,null,null,null,null,null,null,{"$f":"'Control Panel'!E140","v":""},{"$f":"'Control Panel'!F140","v":""},{"$f":"'Control Panel'!G140","v":""},{"$f":"'Control Panel'!H140","v":""},{"$f":"'Control Panel'!I140","v":""},{"$f":"'Control Panel'!J140","v":""}]
[null,null,null,null,null,null,null,null,null,null,null,null,null,null,null,null,{"$f":"'Control Panel'!E141","v":""},{"$f":"'Control Panel'!F141","v":""},{"$f":"'Control Panel'!G141","v":""},{"$f":"'Control Panel'!H141","v":""},{"$f":"'Control Panel'!I141","v":""},{"$f":"'Control Panel'!J141","v":""}]
[null,null,null,null,null,null,null,null,null,null,null,null,null,null,null,null,{"$f":"'Control Panel'!E142","v":""},{"$f":"'Control Panel'!F142","v":""},{"$f":"'Control Panel'!G142","v":""},{"$f":"'Control Panel'!H142","v":""},{"$f":"'Control Panel'!I142","v":""},{"$f":"'Control Panel'!J142","v":""}]
[null,null,null,null,null,null,null,null,null,null,null,null,null,null,null,null,{"$f":"'Control Panel'!E143","v":""},{"$f":"'Control Panel'!F143","v":""},{"$f":"'Control Panel'!G143","v":""},{"$f":"'Control Panel'!H143","v":""},{"$f":"'Control Panel'!I143","v":""},{"$f":"'Control Panel'!J143","v":""}]
[null,null,null,null,null,null,null,null,null,null,null,null,null,null,null,null,{"$f":"'Control Panel'!E144","v":""},{"$f":"'Control Panel'!F144","v":""},{"$f":"'Control Panel'!G144","v":""},{"$f":"'Control Panel'!H144","v":""},{"$f":"'Control Panel'!I144","v":""},{"$f":"'Control Panel'!J144","v":""}]
[null,null,null,null,null,null,null,null,null,null,null,null,null,null,null,null,{"$f":"'Control Panel'!E145","v":""},{"$f":"'Control Panel'!F145","v":""},{"$f":"'Control Panel'!G145","v":""},{"$f":"'Control Panel'!H145","v":""},{"$f":"'Control Panel'!I145","v":""},{"$f":"'Control Panel'!J145","v":""}]
[null,null,null,null,null,null,null,null,null,null,null,null,null,null,null,null,{"$f":"'Control Panel'!E146","v":""},{"$f":"'Control Panel'!F146","v":""},{"$f":"'Control Panel'!G146","v":""},{"$f":"'Control Panel'!H146","v":""},{"$f":"'Control Panel'!I146","v":""},{"$f":"'Control Panel'!J146","v":""}]
[null,null,null,null,null,null,null,null,null,null,null,null,null,null,null,null,{"$f":"'Control Panel'!E147","v":""},{"$f":"'Control Panel'!F147","v":""},{"$f":"'Control Panel'!G147","v":""},{"$f":"'Control Panel'!H147","v":""},{"$f":"'Control Panel'!I147","v":""},{"$f":"'Control Panel'!J147","v":""}]
[null,null,null,null,null,null,null,null,null,null,null,null,null,null,null,null,{"$f":"'Control Panel'!E148","v":""},{"$f":"'Control Panel'!F148","v":""},{"$f":"'Control Panel'!G148","v":""},{"$f":"'Control Panel'!H148","v":""},{"$f":"'Control Panel'!I148","v":""},{"$f":"'Control Panel'!J148","v":""}]
[null,null,null,null,null,null,null,null,null,null,null,null,null,null,null,null,{"$f":"'Control Panel'!E149","v":""},{"$f":"'Control Panel'!F149","v":""},{"$f":"'Control Panel'!G149","v":""},{"$f":"'Control Panel'!H149","v":""},{"$f":"'Control Panel'!I149","v":""},{"$f":"'Control Panel'!J149","v":""}]
[null,null,null,null,null,null,null,null,null,null,null,null,null,null,null,null,{"$f":"'Control Panel'!E150","v":""},{"$f":"'Control Panel'!F150","v":""},{"$f":"'Control Panel'!G150","v":""},{"$f":"'Control Panel'!H150","v":""},{"$f":"'Control Panel'!I150","v":""},{"$f":"'Control Panel'!J150","v":""}]
[null,null,null,null,null,null,null,null,null,null,null,null,null,null,null,null,{"$f":"'Control Panel'!E151","v":""},{"$f":"'Control Panel'!F151","v":""},{"$f":"'Control Panel'!G151","v":""},{"$f":"'Control Panel'!H151","v":""},{"$f":"'Control Panel'!I151","v":""},{"$f":"'Control Panel'!J151","v":""}]
[null,null,null,null,null,null,null,null,null,null,null,null,null,null,null,null,{"$f":"'Control Panel'!E152","v":""},{"$f":"'Control Panel'!F152","v":""},{"$f":"'Control Panel'!G152","v":""},{"$f":"'Control Panel'!H152","v":""},{"$f":"'Control Panel'!I152","v":""},{"$f":"'Control Panel'!J152","v":""}]
[null,null,null,null,null,null,null,null,null,null,null,null,null,null,null,null,{"$f":"'Control Panel'!E153","v":""},{"$f":"'Control Panel'!F153","v":""},{"$f":"'Control Panel'!G153","v":""},{"$f":"'Control Panel'!H153","v":""},{"$f":"'Control Panel'!I153","v":""},{"$f":"'Control Panel'!J153","v":""}]

{"sheet":"Color Contrast verification","index":9,"n_rows":59,"n_cols":19,"rows_kept":59,"cut":false,"hidden":true,"merged":[[1,6,1,7],[1,8,1,9],[0,8,0,9],[0,6,0,7]]}
[null,null,null,null,null,null,"https://webaim.org/resources/contrastchecker/",null,"https://accessibleweb.com/color-contrast-checker/"]
[null,"Tab","Cells","Background","Foreground","FontSize","Web Aim",null,"Accessibleweb"]
[null,"Control Panel","(tab)","#FFFF66","#000000",10,"19.74:1","AA: Pass\nAAA: Pass","19.75:1","AA: Pass\nAAA: Pass"]
[null,"Control Panel","D3:K7, M3:M7","#FFFFCC","#000000",11,"20.42:1","AA: Pass\nAAA: Pass","20.43:1","AA: Pass\nAAA: Pass"]
[null,"Control Panel","L3:L7","#FFFFFF","#800000",11,"10.94:1","AA: Pass\nAAA: Pass","10.95:1","AA: Pass\nAAA: Pass"]
[null,"Control Panel","C2:N2, E14:J14","#F2F2F2","#000000",11,"18.75:1","AA: Pass\nAAA: Pass","18.76:1","AA: Pass\nAAA: Pass"]
[null,"Control Panel","(buttons)","#FFFFCC","#1F4E79",11,"8.42:1","AA: Pass\nAAA: Pass","8.43:1","AA: Pass\nAAA: Pass"]
[null,"Control Panel","C9:K10","#FFFFFF","#000000",11,"21:1","AA: Pass\nAAA: Pass","21.00:1","AA: Pass\nAAA: Pass"]
[null,"Control Panel","F15:J487","#C9F1FF","#000000",11,"17.5:1","AA: Pass\nAAA: Pass","17.51:1","AA: Pass\nAAA: Pass"]
[]
[null,"File 1: File 5","A1:A200","#FFFFFF","#C00000",11,"6.47:1","AA: Pass\nAAA: Fail","6.48:1","AA: Pass\nAAA: Fail"]
[null,"File 1: File 5","B4:C200","#FFFFCC","#0000FF",11,"8.35:1","AA: Pass\nAAA: Pass","8.36:1","AA: Pass\nAAA: Pass"]
[null,"File 1: File 5","B1:AK3, D4:AK200","#FFFFFF","#000000",11,"21:1","AA: Pass\nAAA: Pass","21.00:1","AA: Pass\nAAA: Pass"]
[]
[null,"Dashboard","C2","#FFFFFF","#000000",11,"21:1","AA: Pass\nAAA: Pass","21.00:1","AA: Pass\nAAA: Pass"]
[null,"Dashboard","C3","#FFFFCC","#002060",12,"14.85:1","AA: Pass\nAAA: Pass","14.85:1","AA: Pass\nAAA: Pass"]
[null,"Dashboard","(buttons)","#FFFFCC","#002060",8,"14.85:1","AA: Pass\nAAA: Pass","14.85:1","AA: Pass\nAAA: Pass"]
[null,"Dashboard","(buttons)","#4472C4","#FFFFFF",8,"4.71:1","AA: Pass\nAAA: Fail","4.72:1","AA: Pass\nAAA: Fail"]
[null,"Dashboard","(buttons)","#5B9BD5","#000000",8,"7.09:1","AA: Pass\nAAA: Pass","7.09:1","AA: Pass\nAAA: Pass"]
[null,"Dashboard","(buttons)","#ED7D31","#000000",8,"7.57:1","AA: Pass\nAAA: Pass","7.58:1","AA: Pass\nAAA: Pass"]
[null,"Dashboard","(buttons)","#70AD47","#000000",8,"7.75:1","AA: Pass\nAAA: Pass","7.76:1","AA: Pass\nAAA: Pass"]
[null,"Dashboard","(buttons)","#A5A5A5","#000000",8,"8.52:1","AA: Pass\nAAA: Pass","8.53:1","AA: Pass\nAAA: Pass"]
[null,"Dashboard","(buttons)","#203864","#FFFFFF",8,"11.59:1","AA: Pass\nAAA: Pass","11.60:1","AA: Pass\nAAA: Pass"]
[null,"Dashboard","(buttons)","#FFC000","#000000",8,"12.79:1","AA: Pass\nAAA: Pass","12.79:1","AA: Pass\nAAA: Pass"]
[null,"Dashboard","(buttons)","#9E480E","#FFFFFF",8,"6.19:1","AA: Pass\nAAA: Fail","6.20:1","AA: Pass\nAAA: Fail",null,"UPDATED","#8A3D0A","#FFFFFF",8,"7.62:1","AA: Pass\nAAA: Pass","7.63:1","AA: Pass\nAAA: Pass"]
[null,"Dashboard","(buttons)","#7F7F7F","#FFFFFF",8,"4:1","AA: Fail\nAAA: Fail","4.00:1","AA: Fail\nAAA: Fail",null,"UPDATED","#575757","#FFFFFF",8,"7.22:1","AA: Pass\nAAA: Pass","7.23:1","AA: Pass\nAAA: Pass"]
[null,"Dashboard","(buttons)","#692286","#FFFFFF",8,"9.66:1","AA: Pass\nAAA: Pass","9.66:1","AA: Pass\nAAA: Pass"]
[null,"Dashboard","(buttons)","#D9D9D9","#000000",8,"14.87:1","AA: Pass\nAAA: Pass","14.88:1","AA: Pass\nAAA: Pass"]
[null,"Dashboard","(buttons)","#CF97E5","#000000",8,"9.21:1","AA: Pass\nAAA: Pass","9.21:1","AA: Pass\nAAA: Pass"]
[null,"Dashboard","Q5, R4:V5","#D9D9D9","#000000",8,"14.87:1","AA: Pass\nAAA: Pass","14.88:1","AA: Pass\nAAA: Pass"]
[null,"Dashboard","Q7:V145","#C9F1FF","#000000",11,"17.5:1","AA: Pass\nAAA: Pass","17.51:1","AA: Pass\nAAA: Pass"]
[null,"Dashboard","C30, J30, J40, C50:O50","#FFFFFF","#000000",11,"21:1","AA: Pass\nAAA: Pass","21.00:1","AA: Pass\nAAA: Pass"]
[null,"Dashboard","D30:H30, K30:O30, K40:O40","#F2F2F2","#000000",11,"18.75:1","AA: Pass\nAAA: Pass","18.76:1","AA: Pass\nAAA: Pass"]
[null,"Dashboard","C31:C32","#4472C4","#FFFFFF",8,"4.71:1","AA: Pass\nAAA: Fail","4.72:1","AA: Pass\nAAA: Fail"]
[null,"Dashboard","C33:C34","#ED7D31","#000000",8,"7.57:1","AA: Pass\nAAA: Pass","7.58:1","AA: Pass\nAAA: Pass"]
[null,"Dashboard","C35:C36","#A5A5A5","#000000",8,"8.52:1","AA: Pass\nAAA: Pass","8.53:1","AA: Pass\nAAA: Pass"]
[null,"Dashboard","C37:C38","#FFC000","#000000",8,"12.79:1","AA: Pass\nAAA: Pass","12.79:1","AA: Pass\nAAA: Pass"]
[null,"Dashboard","C39:C40","#5B9BD5","#000000",8,"7.09:1","AA: Pass\nAAA: Pass","7.09:1","AA: Pass\nAAA: Pass"]
[null,"Dashboard","C41:C42","#70AD47","#000000",8,"7.75:1","AA: Pass\nAAA: Pass","7.76:1","AA: Pass\nAAA: Pass"]
[null,"Dashboard","C43:C44","#203864","#FFFFFF",8,"11.59:1","AA: Pass\nAAA: Pass","11.60:1","AA: Pass\nAAA: Pass"]
[null,"Dashboard","C45:C46","#9E480E","#FFFFFF",8,"6.19:1","AA: Pass\nAAA: Fail","6.20:1","AA: Pass\nAAA: Fail",null,"UPDATED","#8A3D0A","#FFFFFF",8,"7.62:1","AA: Pass\nAAA: Pass","7.63:1","AA: Pass\nAAA: Pass"]
[null,"Dashboard","J31:J33","#808080","#FFFFFF",8,"3.94:1","AA: Fail\nAAA: Fail","3.95:1","AA: Fail\nAAA: Fail",null,"UPDATED","#575757","#FFFFFF",8,"7.22:1","AA: Pass\nAAA: Pass","7.23:1","AA: Pass\nAAA: Pass"]
[null,"Dashboard","J34:J36","#692286","#FFFFFF",8,"9.66:1","AA: Pass\nAAA: Pass","9.66:1","AA: Pass\nAAA: Pass"]
[null,"Dashboard","J37:J38, J47:J48","#000000","#FFFFFF",8,"21:1","AA: Pass\nAAA: Pass","21.00:1","AA: Pass\nAAA: Pass"]
[null,"Dashboard","J41:J43","#D9D9D9","#000000",8,"14.87:1","AA: Pass\nAAA: Pass","14.88:1","AA: Pass\nAAA: Pass"]
[null,"Dashboard","J44:J46","#CF97E5","#000000",8,"9.21:1","AA: Pass\nAAA: Pass","9.21:1","AA: Pass\nAAA: Pass"]
[null,"Dashboard","D31:H32","#DDEBF7","#000000",8,"17.3:1","AA: Pass\nAAA: Pass","17.30:1","AA: Pass\nAAA: Pass"]
[null,"Dashboard","D33:H34","#FCE4D6","#000000",8,"17.2:1","AA: Pass\nAAA: Pass","17.21:1","AA: Pass\nAAA: Pass"]
[null,"Dashboard","D35:H36","#EDEDED","#000000",8,"17.93:1","AA: Pass\nAAA: Pass","17.94:1","AA: Pass\nAAA: Pass"]
[null,"Dashboard","D37:H38","#FFF2CC","#000000",8,"18.82:1","AA: Pass\nAAA: Pass","18.82:1","AA: Pass\nAAA: Pass"]
[null,"Dashboard","D39:H40","#DDEBF7","#000000",8,"17.3:1","AA: Pass\nAAA: Pass","17.30:1","AA: Pass\nAAA: Pass"]
[null,"Dashboard","D41:H42","#E2EFDA","#000000",8,"7.59:1","AA: Pass\nAAA: Pass","17.59:1","AA: Pass\nAAA: Pass"]
[null,"Dashboard","D43:H44","#D9E1F2","#000000",8,"16:1","AA: Pass\nAAA: Pass","16.00:1","AA: Pass\nAAA: Pass"]
[null,"Dashboard","D45:H46","#F7E9DB","#000000",8,"17.63:1","AA: Pass\nAAA: Pass","17.63:1","AA: Pass\nAAA: Pass"]
[null,"Dashboard","K31:O33","#F2F2F2","#000000",8,"18.75:1","AA: Pass\nAAA: Pass","18.76:1","AA: Pass\nAAA: Pass"]
[null,"Dashboard","K41:O43","#F7F7F7","#000000",8,"19.6:1","AA: Pass\nAAA: Pass","19.60:1","AA: Pass\nAAA: Pass"]
[null,"Dashboard","K37:O38, K47:O48, K44:O46","#FAE7FF","#000000",8,"17.93:1","AA: Pass\nAAA: Pass","17.94:1","AA: Pass\nAAA: Pass"]
[null,"Dashboard","K34:O36","#E4CAF2","#000000",8,"14.02:1","AA: Pass\nAAA: Pass","14.03:1","AA: Pass\nAAA: Pass"]
[null,"Dashboard","D31:H47,K31:O36,K37:O38,K47:O48,K41:O46","#FFC000","#000000",8,"12.79:1","AA: Pass\nAAA: Pass","12.79:1","AA: Pass\nAAA: Pass"]

{"sheet":"Budget_by_Source","index":10,"n_rows":52,"n_cols":14,"rows_kept":52,"cut":false,"hidden":true,"merged":[]}
[{"$f":"\"Budget by Funding Source Over Time for \"&B2","v":"Budget by Funding Source Over Time for (no program selected)"},null,null,null,null,{"$f":"IF('File 1'!J2=\"\",\"Source \"&COLUMNS($F2:F2),'File 1'!J2)","v":"Local Funds"},{"$f":"IF('File 1'!K2=\"\",\"Source \"&COLUMNS($F2:G2),'File 1'!K2)","v":"Family Fees"},{"$f":"IF('File 1'!L2=\"\",\"Source \"&COLUMNS($F2:H2),'File 1'!L2)","v":"CHIP"},{"$f":"IF('File 1'!M2=\"\",\"Source \"&COLUMNS($F2:I2),'File 1'!M2)","v":"Private Insurance"},{"$f":"IF('File 1'!N2=\"\",\"Source \"&COLUMNS($F2:J2),'File 1'!N2)","v":"Federal Part C"},{"$f":"IF('File 1'!O2=\"\",\"Source \"&COLUMNS($F2:K2),'File 1'!O2)","v":"State Part C"},{"$f":"IF('File 1'!P2=\"\",\"Source \"&COLUMNS($F2:L2),'File 1'!P2)","v":"State General Funds"},{"$f":"IF('File 1'!Q2=\"\",\"Source \"&COLUMNS($F2:M2),'File 1'!Q2)","v":"Medicaid"}]
[null,{"$f":"IF(Dashboard!C3=\"\",\"(no program selected)\",Dashboard!C3)","v":"(no program selected)"},null,null,null,{"$f":"F1","v":"Local Funds"},{"$f":"G1","v":"Family Fees"},"CHIP","Private Insurance","Federal Part C","State Part C","State General Funds","Medicaid"]
[]
[null,null,null,null,null,1,1,1,1,1,1,1,1]
[null,null,null,null,null,"B_Los_","B_Fas_","B_CHP_","B_Pre_","B_FeC_","B_StC_","B_Sts_","B_Med_"]
[null,null,null,null,"[1] Sum all programs by file from Flat tab"]
[null,null,null,null,null,{"$f":"F1","v":"Local Funds"},{"$f":"G1","v":"Family Fees"},"CHIP","Private Insurance","Federal Part C","State Part C","State General Funds","Medicaid","TOTAL"]
[null,null,null,null,"File 1",{"$f":"IF(SUMIFS(Flat!$G:$G,Flat!$A:$A,$E8,Flat!$C:$C,\"Budget by Source\",Flat!$B:$B,F$5,Flat!$F:$F,$B$2)=0,#N/A,SUMIFS(Flat!$G:$G,Flat!$A:$A,$E8,Flat!$C:$C,\"Budget by Source\",Flat!$B:$B,F$5,Flat!$F:$F,$B$2))","v":{"$error":"#N/A"}},{"$f":"IF(SUMIFS(Flat!$G:$G,Flat!$A:$A,$E8,Flat!$C:$C,\"Budget by Source\",Flat!$B:$B,G$5,Flat!$F:$F,$B$2)=0,#N/A,SUMIFS(Flat!$G:$G,Flat!$A:$A,$E8,Flat!$C:$C,\"Budget by Source\",Flat!$B:$B,G$5,Flat!$F:$F,$B$2))","v":{"$error":"#N/A"}},{"$f":"IF(SUMIFS(Flat!$G:$G,Flat!$A:$A,$E8,Flat!$C:$C,\"Budget by Source\",Flat!$B:$B,H$5,Flat!$F:$F,$B$2)=0,#N/A,SUMIFS(Flat!$G:$G,Flat!$A:$A,$E8,Flat!$C:$C,\"Budget by Source\",Flat!$B:$B,H$5,Flat!$F:$F,$B$2))","v":{"$error":"#N/A"}},{"$f":"IF(SUMIFS(Flat!$G:$G,Flat!$A:$A,$E8,Flat!$C:$C,\"Budget by Source\",Flat!$B:$B,I$5,Flat!$F:$F,$B$2)=0,#N/A,SUMIFS(Flat!$G:$G,Flat!$A:$A,$E8,Flat!$C:$C,\"Budget by Source\",Flat!$B:$B,I$5,Flat!$F:$F,$B$2))","v":{"$error":"#N/A"}},{"$f":"IF(SUMIFS(Flat!$G:$G,Flat!$A:$A,$E8,Flat!$C:$C,\"Budget by Source\",Flat!$B:$B,J$5,Flat!$F:$F,$B$2)=0,#N/A,SUMIFS(Flat!$G:$G,Flat!$A:$A,$E8,Flat!$C:$C,\"Budget by Source\",Flat!$B:$B,J$5,Flat!$F:$F,$B$2))","v":{"$error":"#N/A"}},{"$f":"IF(SUMIFS(Flat!$G:$G,Flat!$A:$A,$E8,Flat!$C:$C,\"Budget by Source\",Flat!$B:$B,K$5,Flat!$F:$F,$B$2)=0,#N/A,SUMIFS(Flat!$G:$G,Flat!$A:$A,$E8,Flat!$C:$C,\"Budget by Source\",Flat!$B:$B,K$5,Flat!$F:$F,$B$2))","v":{"$error":"#N/A"}},{"$f":"IF(SUMIFS(Flat!$G:$G,Flat!$A:$A,$E8,Flat!$C:$C,\"Budget by Source\",Flat!$B:$B,L$5,Flat!$F:$F,$B$2)=0,#N/A,SUMIFS(Flat!$G:$G,Flat!$A:$A,$E8,Flat!$C:$C,\"Budget by Source\",Flat!$B:$B,L$5,Flat!$F:$F,$B$2))","v":{"$error":"#N/A"}},{"$f":"IF(SUMIFS(Flat!$G:$G,Flat!$A:$A,$E8,Flat!$C:$C,\"Budget by Source\",Flat!$B:$B,M$5,Flat!$F:$F,$B$2)=0,#N/A,SUMIFS(Flat!$G:$G,Flat!$A:$A,$E8,Flat!$C:$C,\"Budget by Source\",Flat!$B:$B,M$5,Flat!$F:$F,$B$2))","v":{"$error":"#N/A"}},{"$f":"SUMIF(F8:M8,\"<>#N/A\")","v":0}]
[null,null,null,null,"File 2",{"$f":"IF(SUMIFS(Flat!$G:$G,Flat!$A:$A,$E9,Flat!$C:$C,\"Budget by Source\",Flat!$B:$B,F$5,Flat!$F:$F,$B$2)=0,#N/A,SUMIFS(Flat!$G:$G,Flat!$A:$A,$E9,Flat!$C:$C,\"Budget by Source\",Flat!$B:$B,F$5,Flat!$F:$F,$B$2))","v":{"$error":"#N/A"}},{"$f":"IF(SUMIFS(Flat!$G:$G,Flat!$A:$A,$E9,Flat!$C:$C,\"Budget by Source\",Flat!$B:$B,G$5,Flat!$F:$F,$B$2)=0,#N/A,SUMIFS(Flat!$G:$G,Flat!$A:$A,$E9,Flat!$C:$C,\"Budget by Source\",Flat!$B:$B,G$5,Flat!$F:$F,$B$2))","v":{"$error":"#N/A"}},{"$f":"IF(SUMIFS(Flat!$G:$G,Flat!$A:$A,$E9,Flat!$C:$C,\"Budget by Source\",Flat!$B:$B,H$5,Flat!$F:$F,$B$2)=0,#N/A,SUMIFS(Flat!$G:$G,Flat!$A:$A,$E9,Flat!$C:$C,\"Budget by Source\",Flat!$B:$B,H$5,Flat!$F:$F,$B$2))","v":{"$error":"#N/A"}},{"$f":"IF(SUMIFS(Flat!$G:$G,Flat!$A:$A,$E9,Flat!$C:$C,\"Budget by Source\",Flat!$B:$B,I$5,Flat!$F:$F,$B$2)=0,#N/A,SUMIFS(Flat!$G:$G,Flat!$A:$A,$E9,Flat!$C:$C,\"Budget by Source\",Flat!$B:$B,I$5,Flat!$F:$F,$B$2))","v":{"$error":"#N/A"}},{"$f":"IF(SUMIFS(Flat!$G:$G,Flat!$A:$A,$E9,Flat!$C:$C,\"Budget by Source\",Flat!$B:$B,J$5,Flat!$F:$F,$B$2)=0,#N/A,SUMIFS(Flat!$G:$G,Flat!$A:$A,$E9,Flat!$C:$C,\"Budget by Source\",Flat!$B:$B,J$5,Flat!$F:$F,$B$2))","v":{"$error":"#N/A"}},{"$f":"IF(SUMIFS(Flat!$G:$G,Flat!$A:$A,$E9,Flat!$C:$C,\"Budget by Source\",Flat!$B:$B,K$5,Flat!$F:$F,$B$2)=0,#N/A,SUMIFS(Flat!$G:$G,Flat!$A:$A,$E9,Flat!$C:$C,\"Budget by Source\",Flat!$B:$B,K$5,Flat!$F:$F,$B$2))","v":{"$error":"#N/A"}},{"$f":"IF(SUMIFS(Flat!$G:$G,Flat!$A:$A,$E9,Flat!$C:$C,\"Budget by Source\",Flat!$B:$B,L$5,Flat!$F:$F,$B$2)=0,#N/A,SUMIFS(Flat!$G:$G,Flat!$A:$A,$E9,Flat!$C:$C,\"Budget by Source\",Flat!$B:$B,L$5,Flat!$F:$F,$B$2))","v":{"$error":"#N/A"}},{"$f":"IF(SUMIFS(Flat!$G:$G,Flat!$A:$A,$E9,Flat!$C:$C,\"Budget by Source\",Flat!$B:$B,M$5,Flat!$F:$F,$B$2)=0,#N/A,SUMIFS(Flat!$G:$G,Flat!$A:$A,$E9,Flat!$C:$C,\"Budget by Source\",Flat!$B:$B,M$5,Flat!$F:$F,$B$2))","v":{"$error":"#N/A"}},{"$f":"SUMIF(F9:M9,\"<>#N/A\")","v":0}]
[null,null,null,null,"File 3",{"$f":"IF(SUMIFS(Flat!$G:$G,Flat!$A:$A,$E10,Flat!$C:$C,\"Budget by Source\",Flat!$B:$B,F$5,Flat!$F:$F,$B$2)=0,#N/A,SUMIFS(Flat!$G:$G,Flat!$A:$A,$E10,Flat!$C:$C,\"Budget by Source\",Flat!$B:$B,F$5,Flat!$F:$F,$B$2))","v":{"$error":"#N/A"}},{"$f":"IF(SUMIFS(Flat!$G:$G,Flat!$A:$A,$E10,Flat!$C:$C,\"Budget by Source\",Flat!$B:$B,G$5,Flat!$F:$F,$B$2)=0,#N/A,SUMIFS(Flat!$G:$G,Flat!$A:$A,$E10,Flat!$C:$C,\"Budget by Source\",Flat!$B:$B,G$5,Flat!$F:$F,$B$2))","v":{"$error":"#N/A"}},{"$f":"IF(SUMIFS(Flat!$G:$G,Flat!$A:$A,$E10,Flat!$C:$C,\"Budget by Source\",Flat!$B:$B,H$5,Flat!$F:$F,$B$2)=0,#N/A,SUMIFS(Flat!$G:$G,Flat!$A:$A,$E10,Flat!$C:$C,\"Budget by Source\",Flat!$B:$B,H$5,Flat!$F:$F,$B$2))","v":{"$error":"#N/A"}},{"$f":"IF(SUMIFS(Flat!$G:$G,Flat!$A:$A,$E10,Flat!$C:$C,\"Budget by Source\",Flat!$B:$B,I$5,Flat!$F:$F,$B$2)=0,#N/A,SUMIFS(Flat!$G:$G,Flat!$A:$A,$E10,Flat!$C:$C,\"Budget by Source\",Flat!$B:$B,I$5,Flat!$F:$F,$B$2))","v":{"$error":"#N/A"}},{"$f":"IF(SUMIFS(Flat!$G:$G,Flat!$A:$A,$E10,Flat!$C:$C,\"Budget by Source\",Flat!$B:$B,J$5,Flat!$F:$F,$B$2)=0,#N/A,SUMIFS(Flat!$G:$G,Flat!$A:$A,$E10,Flat!$C:$C,\"Budget by Source\",Flat!$B:$B,J$5,Flat!$F:$F,$B$2))","v":{"$error":"#N/A"}},{"$f":"IF(SUMIFS(Flat!$G:$G,Flat!$A:$A,$E10,Flat!$C:$C,\"Budget by Source\",Flat!$B:$B,K$5,Flat!$F:$F,$B$2)=0,#N/A,SUMIFS(Flat!$G:$G,Flat!$A:$A,$E10,Flat!$C:$C,\"Budget by Source\",Flat!$B:$B,K$5,Flat!$F:$F,$B$2))","v":{"$error":"#N/A"}},{"$f":"IF(SUMIFS(Flat!$G:$G,Flat!$A:$A,$E10,Flat!$C:$C,\"Budget by Source\",Flat!$B:$B,L$5,Flat!$F:$F,$B$2)=0,#N/A,SUMIFS(Flat!$G:$G,Flat!$A:$A,$E10,Flat!$C:$C,\"Budget by Source\",Flat!$B:$B,L$5,Flat!$F:$F,$B$2))","v":{"$error":"#N/A"}},{"$f":"IF(SUMIFS(Flat!$G:$G,Flat!$A:$A,$E10,Flat!$C:$C,\"Budget by Source\",Flat!$B:$B,M$5,Flat!$F:$F,$B$2)=0,#N/A,SUMIFS(Flat!$G:$G,Flat!$A:$A,$E10,Flat!$C:$C,\"Budget by Source\",Flat!$B:$B,M$5,Flat!$F:$F,$B$2))","v":{"$error":"#N/A"}},0]
[null,null,null,null,"File 4",{"$f":"IF(SUMIFS(Flat!$G:$G,Flat!$A:$A,$E11,Flat!$C:$C,\"Budget by Source\",Flat!$B:$B,F$5,Flat!$F:$F,$B$2)=0,#N/A,SUMIFS(Flat!$G:$G,Flat!$A:$A,$E11,Flat!$C:$C,\"Budget by Source\",Flat!$B:$B,F$5,Flat!$F:$F,$B$2))","v":{"$error":"#N/A"}},{"$f":"IF(SUMIFS(Flat!$G:$G,Flat!$A:$A,$E11,Flat!$C:$C,\"Budget by Source\",Flat!$B:$B,G$5,Flat!$F:$F,$B$2)=0,#N/A,SUMIFS(Flat!$G:$G,Flat!$A:$A,$E11,Flat!$C:$C,\"Budget by Source\",Flat!$B:$B,G$5,Flat!$F:$F,$B$2))","v":{"$error":"#N/A"}},{"$f":"IF(SUMIFS(Flat!$G:$G,Flat!$A:$A,$E11,Flat!$C:$C,\"Budget by Source\",Flat!$B:$B,H$5,Flat!$F:$F,$B$2)=0,#N/A,SUMIFS(Flat!$G:$G,Flat!$A:$A,$E11,Flat!$C:$C,\"Budget by Source\",Flat!$B:$B,H$5,Flat!$F:$F,$B$2))","v":{"$error":"#N/A"}},{"$f":"IF(SUMIFS(Flat!$G:$G,Flat!$A:$A,$E11,Flat!$C:$C,\"Budget by Source\",Flat!$B:$B,I$5,Flat!$F:$F,$B$2)=0,#N/A,SUMIFS(Flat!$G:$G,Flat!$A:$A,$E11,Flat!$C:$C,\"Budget by Source\",Flat!$B:$B,I$5,Flat!$F:$F,$B$2))","v":{"$error":"#N/A"}},{"$f":"IF(SUMIFS(Flat!$G:$G,Flat!$A:$A,$E11,Flat!$C:$C,\"Budget by Source\",Flat!$B:$B,J$5,Flat!$F:$F,$B$2)=0,#N/A,SUMIFS(Flat!$G:$G,Flat!$A:$A,$E11,Flat!$C:$C,\"Budget by Source\",Flat!$B:$B,J$5,Flat!$F:$F,$B$2))","v":{"$error":"#N/A"}},{"$f":"IF(SUMIFS(Flat!$G:$G,Flat!$A:$A,$E11,Flat!$C:$C,\"Budget by Source\",Flat!$B:$B,K$5,Flat!$F:$F,$B$2)=0,#N/A,SUMIFS(Flat!$G:$G,Flat!$A:$A,$E11,Flat!$C:$C,\"Budget by Source\",Flat!$B:$B,K$5,Flat!$F:$F,$B$2))","v":{"$error":"#N/A"}},{"$f":"IF(SUMIFS(Flat!$G:$G,Flat!$A:$A,$E11,Flat!$C:$C,\"Budget by Source\",Flat!$B:$B,L$5,Flat!$F:$F,$B$2)=0,#N/A,SUMIFS(Flat!$G:$G,Flat!$A:$A,$E11,Flat!$C:$C,\"Budget by Source\",Flat!$B:$B,L$5,Flat!$F:$F,$B$2))","v":{"$error":"#N/A"}},{"$f":"IF(SUMIFS(Flat!$G:$G,Flat!$A:$A,$E11,Flat!$C:$C,\"Budget by Source\",Flat!$B:$B,M$5,Flat!$F:$F,$B$2)=0,#N/A,SUMIFS(Flat!$G:$G,Flat!$A:$A,$E11,Flat!$C:$C,\"Budget by Source\",Flat!$B:$B,M$5,Flat!$F:$F,$B$2))","v":{"$error":"#N/A"}},0]
[null,null,null,null,"File 5",{"$f":"IF(SUMIFS(Flat!$G:$G,Flat!$A:$A,$E12,Flat!$C:$C,\"Budget by Source\",Flat!$B:$B,F$5,Flat!$F:$F,$B$2)=0,#N/A,SUMIFS(Flat!$G:$G,Flat!$A:$A,$E12,Flat!$C:$C,\"Budget by Source\",Flat!$B:$B,F$5,Flat!$F:$F,$B$2))","v":{"$error":"#N/A"}},{"$f":"IF(SUMIFS(Flat!$G:$G,Flat!$A:$A,$E12,Flat!$C:$C,\"Budget by Source\",Flat!$B:$B,G$5,Flat!$F:$F,$B$2)=0,#N/A,SUMIFS(Flat!$G:$G,Flat!$A:$A,$E12,Flat!$C:$C,\"Budget by Source\",Flat!$B:$B,G$5,Flat!$F:$F,$B$2))","v":{"$error":"#N/A"}},{"$f":"IF(SUMIFS(Flat!$G:$G,Flat!$A:$A,$E12,Flat!$C:$C,\"Budget by Source\",Flat!$B:$B,H$5,Flat!$F:$F,$B$2)=0,#N/A,SUMIFS(Flat!$G:$G,Flat!$A:$A,$E12,Flat!$C:$C,\"Budget by Source\",Flat!$B:$B,H$5,Flat!$F:$F,$B$2))","v":{"$error":"#N/A"}},{"$f":"IF(SUMIFS(Flat!$G:$G,Flat!$A:$A,$E12,Flat!$C:$C,\"Budget by Source\",Flat!$B:$B,I$5,Flat!$F:$F,$B$2)=0,#N/A,SUMIFS(Flat!$G:$G,Flat!$A:$A,$E12,Flat!$C:$C,\"Budget by Source\",Flat!$B:$B,I$5,Flat!$F:$F,$B$2))","v":{"$error":"#N/A"}},{"$f":"IF(SUMIFS(Flat!$G:$G,Flat!$A:$A,$E12,Flat!$C:$C,\"Budget by Source\",Flat!$B:$B,J$5,Flat!$F:$F,$B$2)=0,#N/A,SUMIFS(Flat!$G:$G,Flat!$A:$A,$E12,Flat!$C:$C,\"Budget by Source\",Flat!$B:$B,J$5,Flat!$F:$F,$B$2))","v":{"$error":"#N/A"}},{"$f":"IF(SUMIFS(Flat!$G:$G,Flat!$A:$A,$E12,Flat!$C:$C,\"Budget by Source\",Flat!$B:$B,K$5,Flat!$F:$F,$B$2)=0,#N/A,SUMIFS(Flat!$G:$G,Flat!$A:$A,$E12,Flat!$C:$C,\"Budget by Source\",Flat!$B:$B,K$5,Flat!$F:$F,$B$2))","v":{"$error":"#N/A"}},{"$f":"IF(SUMIFS(Flat!$G:$G,Flat!$A:$A,$E12,Flat!$C:$C,\"Budget by Source\",Flat!$B:$B,L$5,Flat!$F:$F,$B$2)=0,#N/A,SUMIFS(Flat!$G:$G,Flat!$A:$A,$E12,Flat!$C:$C,\"Budget by Source\",Flat!$B:$B,L$5,Flat!$F:$F,$B$2))","v":{"$error":"#N/A"}},{"$f":"IF(SUMIFS(Flat!$G:$G,Flat!$A:$A,$E12,Flat!$C:$C,\"Budget by Source\",Flat!$B:$B,M$5,Flat!$F:$F,$B$2)=0,#N/A,SUMIFS(Flat!$G:$G,Flat!$A:$A,$E12,Flat!$C:$C,\"Budget by Source\",Flat!$B:$B,M$5,Flat!$F:$F,$B$2))","v":{"$error":"#N/A"}},0]
[]
[null,null,null,null,"[2] Build percentages"]
[null,null,null,null,null,{"$f":"F1","v":"Local Funds"},{"$f":"G1","v":"Family Fees"},"CHIP","Private Insurance","Federal Part C","State Part C","State General Funds","Medicaid"]
[null,null,null,null,"File 1",{"$f":"F8/$N8","v":{"$error":"#N/A"}},{"$f":"G8/$N8","v":{"$error":"#N/A"}},{"$error":"#N/A"},{"$error":"#N/A"},{"$error":"#N/A"},{"$error":"#N/A"},{"$error":"#N/A"},{"$error":"#N/A"},{"$error":"#DIV/0!"}]
[null,null,null,null,"File 2",{"$f":"F9/$N9","v":{"$error":"#N/A"}},{"$error":"#N/A"},{"$error":"#N/A"},{"$error":"#N/A"},{"$error":"#N/A"},{"$error":"#N/A"},{"$error":"#N/A"},{"$error":"#N/A"},{"$error":"#DIV/0!"}]
[null,null,null,null,"File 3",{"$f":"F10/$N10","v":{"$error":"#N/A"}},{"$error":"#N/A"},{"$error":"#N/A"},{"$error":"#N/A"},{"$error":"#N/A"},{"$error":"#N/A"},{"$error":"#N/A"},{"$error":"#N/A"},{"$error":"#DIV/0!"}]
[null,null,null,null,"File 4",{"$f":"F11/$N11","v":{"$error":"#N/A"}},{"$error":"#N/A"},{"$error":"#N/A"},{"$error":"#N/A"},{"$error":"#N/A"},{"$error":"#N/A"},{"$error":"#N/A"},{"$error":"#N/A"},{"$error":"#DIV/0!"}]
[null,null,null,null,"File 5",{"$f":"F12/$N12","v":{"$error":"#N/A"}},{"$error":"#N/A"},{"$error":"#N/A"},{"$error":"#N/A"},{"$error":"#N/A"},{"$error":"#N/A"},{"$error":"#N/A"},{"$error":"#N/A"},{"$error":"#DIV/0!"}]
[]
[null,null,null,null,"[3] Build graphs's data source (only selected subcategories) - visual based on selections in Dashboard"]
[null,null,null,null,null,{"$f":"F1","v":"Local Funds"},{"$f":"G1","v":"Family Fees"},"CHIP","Private Insurance","Federal Part C","State Part C","State General Funds","Medicaid"]
[null,null,null,"File 1",{"$f":"SUBSTITUTE(IF(VLOOKUP(VALUE(RIGHT($D24)),'Control Panel'!$B$3:$M$7,12,FALSE)=\"\",\"\",VLOOKUP(VALUE(RIGHT($D24)),'Control Panel'!$B$3:$M$7,12,FALSE)),\"-\",CHAR(10)&\"-\")","v":""},{"$f":"IFERROR(IF(F$4=0,#N/A,F16),#N/A)","v":{"$error":"#N/A"}},{"$f":"IFERROR(IF(G$4=0,#N/A,G16),#N/A)","v":{"$error":"#N/A"}},{"$error":"#N/A"},{"$error":"#N/A"},{"$error":"#N/A"},{"$error":"#N/A"},{"$error":"#N/A"},{"$error":"#N/A"}]
[null,null,null,"File 2",{"$f":"SUBSTITUTE(IF(VLOOKUP(VALUE(RIGHT($D25)),'Control Panel'!$B$3:$M$7,12,FALSE)=\"\",\"\",VLOOKUP(VALUE(RIGHT($D25)),'Control Panel'!$B$3:$M$7,12,FALSE)),\"-\",CHAR(10)&\"-\")","v":""},{"$f":"IFERROR(IF(F$4=0,#N/A,F17),#N/A)","v":{"$error":"#N/A"}},{"$error":"#N/A"},{"$error":"#N/A"},{"$error":"#N/A"},{"$error":"#N/A"},{"$error":"#N/A"},{"$error":"#N/A"},{"$error":"#N/A"}]
[null,null,null,"File 3",{"$f":"SUBSTITUTE(IF(VLOOKUP(VALUE(RIGHT($D26)),'Control Panel'!$B$3:$M$7,12,FALSE)=\"\",\"\",VLOOKUP(VALUE(RIGHT($D26)),'Control Panel'!$B$3:$M$7,12,FALSE)),\"-\",CHAR(10)&\"-\")","v":""},{"$f":"IFERROR(IF(F$4=0,#N/A,F18),#N/A)","v":{"$error":"#N/A"}},{"$error":"#N/A"},{"$error":"#N/A"},{"$error":"#N/A"},{"$error":"#N/A"},{"$error":"#N/A"},{"$error":"#N/A"},{"$error":"#N/A"}]
[null,null,null,"File 4",{"$f":"SUBSTITUTE(IF(VLOOKUP(VALUE(RIGHT($D27)),'Control Panel'!$B$3:$M$7,12,FALSE)=\"\",\"\",VLOOKUP(VALUE(RIGHT($D27)),'Control Panel'!$B$3:$M$7,12,FALSE)),\"-\",CHAR(10)&\"-\")","v":""},{"$f":"IFERROR(IF(F$4=0,#N/A,F19),#N/A)","v":{"$error":"#N/A"}},{"$error":"#N/A"},{"$error":"#N/A"},{"$error":"#N/A"},{"$error":"#N/A"},{"$error":"#N/A"},{"$error":"#N/A"},{"$error":"#N/A"}]
[null,null,null,"File 5",{"$f":"SUBSTITUTE(IF(VLOOKUP(VALUE(RIGHT($D28)),'Control Panel'!$B$3:$M$7,12,FALSE)=\"\",\"\",VLOOKUP(VALUE(RIGHT($D28)),'Control Panel'!$B$3:$M$7,12,FALSE)),\"-\",CHAR(10)&\"-\")","v":""},{"$f":"IFERROR(IF(F$4=0,#N/A,F20),#N/A)","v":{"$error":"#N/A"}},{"$error":"#N/A"},{"$error":"#N/A"},{"$error":"#N/A"},{"$error":"#N/A"},{"$error":"#N/A"},{"$error":"#N/A"},{"$error":"#N/A"}]
[]
[null,null,null,null,"[4] Create interactive graph labels"]
[null,null,null,null,null,{"$f":"F1","v":"Local Funds"},{"$f":"G1","v":"Family Fees"},"CHIP","Private Insurance","Federal Part C","State Part C","State General Funds","Medicaid"]
["\n","Show %?",0,null,"File 1",{"$f":"IF($C$32=1,TEXT(F16,\"#0.00%\"),\"\")&IF(AND($C$32>0,$C$35>0),CHAR(10),\"\")&IF($C$35=2,TEXT(F8,\"$###,###,###,##0\"),IF($C$35=1,IF(F8>99999999,TEXT(#REF!/10^9,\"$##0.0\")&\" B\",IF(F8>99999,TEXT(F8/10^6,\"$##0.0\")&\" M\",IF(F8>999,TEXT(F8/10^3,\"$##0.0\")&\" K\",TEXT(F8,\"$##0\")))),\"\"))","v":""},{"$f":"IF($C$32=1,TEXT(G16,\"#0.00%\"),\"\")&IF(AND($C$32>0,$C$35>0),CHAR(10),\"\")&IF($C$35=2,TEXT(G8,\"$###,###,###,##0\"),IF($C$35=1,IF(G8>99999999,TEXT(#REF!/10^9,\"$##0.0\")&\" B\",IF(G8>99999,TEXT(G8/10^6,\"$##0.0\")&\" M\",IF(G8>999,TEXT(G8/10^3,\"$##0.0\")&\" K\",TEXT(G8,\"$##0\")))),\"\"))","v":""},{"$f":"IF($C$32=1,TEXT(H16,\"#0.00%\"),\"\")&IF(AND($C$32>0,$C$35>0),CHAR(10),\"\")&IF($C$35=2,TEXT(H8,\"$###,###,###,##0\"),IF($C$35=1,IF(H8>99999999,TEXT(#REF!/10^9,\"$##0.0\")&\" B\",IF(H8>99999,TEXT(H8/10^6,\"$##0.0\")&\" M\",IF(H8>999,TEXT(H8/10^3,\"$##0.0\")&\" K\",TEXT(H8,\"$##0\")))),\"\"))","v":""},{"$f":"IF($C$32=1,TEXT(I16,\"#0.00%\"),\"\")&IF(AND($C$32>0,$C$35>0),CHAR(10),\"\")&IF($C$35=2,TEXT(I8,\"$###,###,###,##0\"),IF($C$35=1,IF(I8>99999999,TEXT(#REF!/10^9,\"$##0.0\")&\" B\",IF(I8>99999,TEXT(I8/10^6,\"$##0.0\")&\" M\",IF(I8>999,TEXT(I8/10^3,\"$##0.0\")&\" K\",TEXT(I8,\"$##0\")))),\"\"))","v":""},{"$f":"IF($C$32=1,TEXT(J16,\"#0.00%\"),\"\")&IF(AND($C$32>0,$C$35>0),CHAR(10),\"\")&IF($C$35=2,TEXT(J8,\"$###,###,###,##0\"),IF($C$35=1,IF(J8>99999999,TEXT(#REF!/10^9,\"$##0.0\")&\" B\",IF(J8>99999,TEXT(J8/10^6,\"$##0.0\")&\" M\",IF(J8>999,TEXT(J8/10^3,\"$##0.0\")&\" K\",TEXT(J8,\"$##0\")))),\"\"))","v":""},{"$f":"IF($C$32=1,TEXT(K16,\"#0.00%\"),\"\")&IF(AND($C$32>0,$C$35>0),CHAR(10),\"\")&IF($C$35=2,TEXT(K8,\"$###,###,###,##0\"),IF($C$35=1,IF(K8>99999999,TEXT(#REF!/10^9,\"$##0.0\")&\" B\",IF(K8>99999,TEXT(K8/10^6,\"$##0.0\")&\" M\",IF(K8>999,TEXT(K8/10^3,\"$##0.0\")&\" K\",TEXT(K8,\"$##0\")))),\"\"))","v":""},{"$f":"IF($C$32=1,TEXT(L16,\"#0.00%\"),\"\")&IF(AND($C$32>0,$C$35>0),CHAR(10),\"\")&IF($C$35=2,TEXT(L8,\"$###,###,###,##0\"),IF($C$35=1,IF(L8>99999999,TEXT(#REF!/10^9,\"$##0.0\")&\" B\",IF(L8>99999,TEXT(L8/10^6,\"$##0.0\")&\" M\",IF(L8>999,TEXT(L8/10^3,\"$##0.0\")&\" K\",TEXT(L8,\"$##0\")))),\"\"))","v":""},{"$f":"IF($C$32=1,TEXT(M16,\"#0.00%\"),\"\")&IF(AND($C$32>0,$C$35>0),CHAR(10),\"\")&IF($C$35=2,TEXT(M8,\"$###,###,###,##0\"),IF($C$35=1,IF(M8>99999999,TEXT(#REF!/10^9,\"$##0.0\")&\" B\",IF(M8>99999,TEXT(M8/10^6,\"$##0.0\")&\" M\",IF(M8>999,TEXT(M8/10^3,\"$##0.0\")&\" K\",TEXT(M8,\"$##0\")))),\"\"))","v":""}]
["\n","(0=No, 1=Yes)",null,null,"File 2",{"$f":"IF($C$32=1,TEXT(F17,\"#0.00%\"),\"\")&IF(AND($C$32>0,$C$35>0),CHAR(10),\"\")&IF($C$35=2,TEXT(F9,\"$###,###,###,##0\"),IF($C$35=1,IF(F9>99999999,TEXT(#REF!/10^9,\"$##0.0\")&\" B\",IF(F9>99999,TEXT(F9/10^6,\"$##0.0\")&\" M\",IF(F9>999,TEXT(F9/10^3,\"$##0.0\")&\" K\",TEXT(F9,\"$##0\")))),\"\"))","v":""},{"$f":"IF($C$32=1,TEXT(G17,\"#0.00%\"),\"\")&IF(AND($C$32>0,$C$35>0),CHAR(10),\"\")&IF($C$35=2,TEXT(G9,\"$###,###,###,##0\"),IF($C$35=1,IF(G9>99999999,TEXT(#REF!/10^9,\"$##0.0\")&\" B\",IF(G9>99999,TEXT(G9/10^6,\"$##0.0\")&\" M\",IF(G9>999,TEXT(G9/10^3,\"$##0.0\")&\" K\",TEXT(G9,\"$##0\")))),\"\"))","v":""},{"$f":"IF($C$32=1,TEXT(H17,\"#0.00%\"),\"\")&IF(AND($C$32>0,$C$35>0),CHAR(10),\"\")&IF($C$35=2,TEXT(H9,\"$###,###,###,##0\"),IF($C$35=1,IF(H9>99999999,TEXT(#REF!/10^9,\"$##0.0\")&\" B\",IF(H9>99999,TEXT(H9/10^6,\"$##0.0\")&\" M\",IF(H9>999,TEXT(H9/10^3,\"$##0.0\")&\" K\",TEXT(H9,\"$##0\")))),\"\"))","v":""},{"$f":"IF($C$32=1,TEXT(I17,\"#0.00%\"),\"\")&IF(AND($C$32>0,$C$35>0),CHAR(10),\"\")&IF($C$35=2,TEXT(I9,\"$###,###,###,##0\"),IF($C$35=1,IF(I9>99999999,TEXT(#REF!/10^9,\"$##0.0\")&\" B\",IF(I9>99999,TEXT(I9/10^6,\"$##0.0\")&\" M\",IF(I9>999,TEXT(I9/10^3,\"$##0.0\")&\" K\",TEXT(I9,\"$##0\")))),\"\"))","v":""},{"$f":"IF($C$32=1,TEXT(J17,\"#0.00%\"),\"\")&IF(AND($C$32>0,$C$35>0),CHAR(10),\"\")&IF($C$35=2,TEXT(J9,\"$###,###,###,##0\"),IF($C$35=1,IF(J9>99999999,TEXT(#REF!/10^9,\"$##0.0\")&\" B\",IF(J9>99999,TEXT(J9/10^6,\"$##0.0\")&\" M\",IF(J9>999,TEXT(J9/10^3,\"$##0.0\")&\" K\",TEXT(J9,\"$##0\")))),\"\"))","v":""},{"$f":"IF($C$32=1,TEXT(K17,\"#0.00%\"),\"\")&IF(AND($C$32>0,$C$35>0),CHAR(10),\"\")&IF($C$35=2,TEXT(K9,\"$###,###,###,##0\"),IF($C$35=1,IF(K9>99999999,TEXT(#REF!/10^9,\"$##0.0\")&\" B\",IF(K9>99999,TEXT(K9/10^6,\"$##0.0\")&\" M\",IF(K9>999,TEXT(K9/10^3,\"$##0.0\")&\" K\",TEXT(K9,\"$##0\")))),\"\"))","v":""},{"$f":"IF($C$32=1,TEXT(L17,\"#0.00%\"),\"\")&IF(AND($C$32>0,$C$35>0),CHAR(10),\"\")&IF($C$35=2,TEXT(L9,\"$###,###,###,##0\"),IF($C$35=1,IF(L9>99999999,TEXT(#REF!/10^9,\"$##0.0\")&\" B\",IF(L9>99999,TEXT(L9/10^6,\"$##0.0\")&\" M\",IF(L9>999,TEXT(L9/10^3,\"$##0.0\")&\" K\",TEXT(L9,\"$##0\")))),\"\"))","v":""},{"$f":"IF($C$32=1,TEXT(M17,\"#0.00%\"),\"\")&IF(AND($C$32>0,$C$35>0),CHAR(10),\"\")&IF($C$35=2,TEXT(M9,\"$###,###,###,##0\"),IF($C$35=1,IF(M9>99999999,TEXT(#REF!/10^9,\"$##0.0\")&\" B\",IF(M9>99999,TEXT(M9/10^6,\"$##0.0\")&\" M\",IF(M9>999,TEXT(M9/10^3,\"$##0.0\")&\" K\",TEXT(M9,\"$##0\")))),\"\"))","v":""}]
["\n",null,null,null,"File 3",{"$f":"IF($C$32=1,TEXT(F18,\"#0.00%\"),\"\")&IF(AND($C$32>0,$C$35>0),CHAR(10),\"\")&IF($C$35=2,TEXT(F10,\"$###,###,###,##0\"),IF($C$35=1,IF(F10>99999999,TEXT(#REF!/10^9,\"$##0.0\")&\" B\",IF(F10>99999,TEXT(F10/10^6,\"$##0.0\")&\" M\",IF(F10>999,TEXT(F10/10^3,\"$##0.0\")&\" K\",TEXT(F10,\"$##0\")))),\"\"))","v":""},{"$f":"IF($C$32=1,TEXT(G18,\"#0.00%\"),\"\")&IF(AND($C$32>0,$C$35>0),CHAR(10),\"\")&IF($C$35=2,TEXT(G10,\"$###,###,###,##0\"),IF($C$35=1,IF(G10>99999999,TEXT(#REF!/10^9,\"$##0.0\")&\" B\",IF(G10>99999,TEXT(G10/10^6,\"$##0.0\")&\" M\",IF(G10>999,TEXT(G10/10^3,\"$##0.0\")&\" K\",TEXT(G10,\"$##0\")))),\"\"))","v":""},{"$f":"IF($C$32=1,TEXT(H18,\"#0.00%\"),\"\")&IF(AND($C$32>0,$C$35>0),CHAR(10),\"\")&IF($C$35=2,TEXT(H10,\"$###,###,###,##0\"),IF($C$35=1,IF(H10>99999999,TEXT(#REF!/10^9,\"$##0.0\")&\" B\",IF(H10>99999,TEXT(H10/10^6,\"$##0.0\")&\" M\",IF(H10>999,TEXT(H10/10^3,\"$##0.0\")&\" K\",TEXT(H10,\"$##0\")))),\"\"))","v":""},{"$f":"IF($C$32=1,TEXT(I18,\"#0.00%\"),\"\")&IF(AND($C$32>0,$C$35>0),CHAR(10),\"\")&IF($C$35=2,TEXT(I10,\"$###,###,###,##0\"),IF($C$35=1,IF(I10>99999999,TEXT(#REF!/10^9,\"$##0.0\")&\" B\",IF(I10>99999,TEXT(I10/10^6,\"$##0.0\")&\" M\",IF(I10>999,TEXT(I10/10^3,\"$##0.0\")&\" K\",TEXT(I10,\"$##0\")))),\"\"))","v":""},{"$f":"IF($C$32=1,TEXT(J18,\"#0.00%\"),\"\")&IF(AND($C$32>0,$C$35>0),CHAR(10),\"\")&IF($C$35=2,TEXT(J10,\"$###,###,###,##0\"),IF($C$35=1,IF(J10>99999999,TEXT(#REF!/10^9,\"$##0.0\")&\" B\",IF(J10>99999,TEXT(J10/10^6,\"$##0.0\")&\" M\",IF(J10>999,TEXT(J10/10^3,\"$##0.0\")&\" K\",TEXT(J10,\"$##0\")))),\"\"))","v":""},{"$f":"IF($C$32=1,TEXT(K18,\"#0.00%\"),\"\")&IF(AND($C$32>0,$C$35>0),CHAR(10),\"\")&IF($C$35=2,TEXT(K10,\"$###,###,###,##0\"),IF($C$35=1,IF(K10>99999999,TEXT(#REF!/10^9,\"$##0.0\")&\" B\",IF(K10>99999,TEXT(K10/10^6,\"$##0.0\")&\" M\",IF(K10>999,TEXT(K10/10^3,\"$##0.0\")&\" K\",TEXT(K10,\"$##0\")))),\"\"))","v":""},{"$f":"IF($C$32=1,TEXT(L18,\"#0.00%\"),\"\")&IF(AND($C$32>0,$C$35>0),CHAR(10),\"\")&IF($C$35=2,TEXT(L10,\"$###,###,###,##0\"),IF($C$35=1,IF(L10>99999999,TEXT(#REF!/10^9,\"$##0.0\")&\" B\",IF(L10>99999,TEXT(L10/10^6,\"$##0.0\")&\" M\",IF(L10>999,TEXT(L10/10^3,\"$##0.0\")&\" K\",TEXT(L10,\"$##0\")))),\"\"))","v":""},{"$f":"IF($C$32=1,TEXT(M18,\"#0.00%\"),\"\")&IF(AND($C$32>0,$C$35>0),CHAR(10),\"\")&IF($C$35=2,TEXT(M10,\"$###,###,###,##0\"),IF($C$35=1,IF(M10>99999999,TEXT(#REF!/10^9,\"$##0.0\")&\" B\",IF(M10>99999,TEXT(M10/10^6,\"$##0.0\")&\" M\",IF(M10>999,TEXT(M10/10^3,\"$##0.0\")&\" K\",TEXT(M10,\"$##0\")))),\"\"))","v":""}]
["\n","Show $?",0,null,"File 4",{"$f":"IF($C$32=1,TEXT(F19,\"#0.00%\"),\"\")&IF(AND($C$32>0,$C$35>0),CHAR(10),\"\")&IF($C$35=2,TEXT(F11,\"$###,###,###,##0\"),IF($C$35=1,IF(F11>99999999,TEXT(#REF!/10^9,\"$##0.0\")&\" B\",IF(F11>99999,TEXT(F11/10^6,\"$##0.0\")&\" M\",IF(F11>999,TEXT(F11/10^3,\"$##0.0\")&\" K\",TEXT(F11,\"$##0\")))),\"\"))","v":""},{"$f":"IF($C$32=1,TEXT(G19,\"#0.00%\"),\"\")&IF(AND($C$32>0,$C$35>0),CHAR(10),\"\")&IF($C$35=2,TEXT(G11,\"$###,###,###,##0\"),IF($C$35=1,IF(G11>99999999,TEXT(#REF!/10^9,\"$##0.0\")&\" B\",IF(G11>99999,TEXT(G11/10^6,\"$##0.0\")&\" M\",IF(G11>999,TEXT(G11/10^3,\"$##0.0\")&\" K\",TEXT(G11,\"$##0\")))),\"\"))","v":""},{"$f":"IF($C$32=1,TEXT(H19,\"#0.00%\"),\"\")&IF(AND($C$32>0,$C$35>0),CHAR(10),\"\")&IF($C$35=2,TEXT(H11,\"$###,###,###,##0\"),IF($C$35=1,IF(H11>99999999,TEXT(#REF!/10^9,\"$##0.0\")&\" B\",IF(H11>99999,TEXT(H11/10^6,\"$##0.0\")&\" M\",IF(H11>999,TEXT(H11/10^3,\"$##0.0\")&\" K\",TEXT(H11,\"$##0\")))),\"\"))","v":""},{"$f":"IF($C$32=1,TEXT(I19,\"#0.00%\"),\"\")&IF(AND($C$32>0,$C$35>0),CHAR(10),\"\")&IF($C$35=2,TEXT(I11,\"$###,###,###,##0\"),IF($C$35=1,IF(I11>99999999,TEXT(#REF!/10^9,\"$##0.0\")&\" B\",IF(I11>99999,TEXT(I11/10^6,\"$##0.0\")&\" M\",IF(I11>999,TEXT(I11/10^3,\"$##0.0\")&\" K\",TEXT(I11,\"$##0\")))),\"\"))","v":""},{"$f":"IF($C$32=1,TEXT(J19,\"#0.00%\"),\"\")&IF(AND($C$32>0,$C$35>0),CHAR(10),\"\")&IF($C$35=2,TEXT(J11,\"$###,###,###,##0\"),IF($C$35=1,IF(J11>99999999,TEXT(#REF!/10^9,\"$##0.0\")&\" B\",IF(J11>99999,TEXT(J11/10^6,\"$##0.0\")&\" M\",IF(J11>999,TEXT(J11/10^3,\"$##0.0\")&\" K\",TEXT(J11,\"$##0\")))),\"\"))","v":""},{"$f":"IF($C$32=1,TEXT(K19,\"#0.00%\"),\"\")&IF(AND($C$32>0,$C$35>0),CHAR(10),\"\")&IF($C$35=2,TEXT(K11,\"$###,###,###,##0\"),IF($C$35=1,IF(K11>99999999,TEXT(#REF!/10^9,\"$##0.0\")&\" B\",IF(K11>99999,TEXT(K11/10^6,\"$##0.0\")&\" M\",IF(K11>999,TEXT(K11/10^3,\"$##0.0\")&\" K\",TEXT(K11,\"$##0\")))),\"\"))","v":""},{"$f":"IF($C$32=1,TEXT(L19,\"#0.00%\"),\"\")&IF(AND($C$32>0,$C$35>0),CHAR(10),\"\")&IF($C$35=2,TEXT(L11,\"$###,###,###,##0\"),IF($C$35=1,IF(L11>99999999,TEXT(#REF!/10^9,\"$##0.0\")&\" B\",IF(L11>99999,TEXT(L11/10^6,\"$##0.0\")&\" M\",IF(L11>999,TEXT(L11/10^3,\"$##0.0\")&\" K\",TEXT(L11,\"$##0\")))),\"\"))","v":""},{"$f":"IF($C$32=1,TEXT(M19,\"#0.00%\"),\"\")&IF(AND($C$32>0,$C$35>0),CHAR(10),\"\")&IF($C$35=2,TEXT(M11,\"$###,###,###,##0\"),IF($C$35=1,IF(M11>99999999,TEXT(#REF!/10^9,\"$##0.0\")&\" B\",IF(M11>99999,TEXT(M11/10^6,\"$##0.0\")&\" M\",IF(M11>999,TEXT(M11/10^3,\"$##0.0\")&\" K\",TEXT(M11,\"$##0\")))),\"\"))","v":""}]
["\n","(0=No,1=Short, 2=Long)",null,null,"File 5",{"$f":"IF($C$32=1,TEXT(F20,\"#0.00%\"),\"\")&IF(AND($C$32>0,$C$35>0),CHAR(10),\"\")&IF($C$35=2,TEXT(F12,\"$###,###,###,##0\"),IF($C$35=1,IF(F12>99999999,TEXT(#REF!/10^9,\"$##0.0\")&\" B\",IF(F12>99999,TEXT(F12/10^6,\"$##0.0\")&\" M\",IF(F12>999,TEXT(F12/10^3,\"$##0.0\")&\" K\",TEXT(F12,\"$##0\")))),\"\"))","v":""},{"$f":"IF($C$32=1,TEXT(G20,\"#0.00%\"),\"\")&IF(AND($C$32>0,$C$35>0),CHAR(10),\"\")&IF($C$35=2,TEXT(G12,\"$###,###,###,##0\"),IF($C$35=1,IF(G12>99999999,TEXT(#REF!/10^9,\"$##0.0\")&\" B\",IF(G12>99999,TEXT(G12/10^6,\"$##0.0\")&\" M\",IF(G12>999,TEXT(G12/10^3,\"$##0.0\")&\" K\",TEXT(G12,\"$##0\")))),\"\"))","v":""},{"$f":"IF($C$32=1,TEXT(H20,\"#0.00%\"),\"\")&IF(AND($C$32>0,$C$35>0),CHAR(10),\"\")&IF($C$35=2,TEXT(H12,\"$###,###,###,##0\"),IF($C$35=1,IF(H12>99999999,TEXT(#REF!/10^9,\"$##0.0\")&\" B\",IF(H12>99999,TEXT(H12/10^6,\"$##0.0\")&\" M\",IF(H12>999,TEXT(H12/10^3,\"$##0.0\")&\" K\",TEXT(H12,\"$##0\")))),\"\"))","v":""},{"$f":"IF($C$32=1,TEXT(I20,\"#0.00%\"),\"\")&IF(AND($C$32>0,$C$35>0),CHAR(10),\"\")&IF($C$35=2,TEXT(I12,\"$###,###,###,##0\"),IF($C$35=1,IF(I12>99999999,TEXT(#REF!/10^9,\"$##0.0\")&\" B\",IF(I12>99999,TEXT(I12/10^6,\"$##0.0\")&\" M\",IF(I12>999,TEXT(I12/10^3,\"$##0.0\")&\" K\",TEXT(I12,\"$##0\")))),\"\"))","v":""},{"$f":"IF($C$32=1,TEXT(J20,\"#0.00%\"),\"\")&IF(AND($C$32>0,$C$35>0),CHAR(10),\"\")&IF($C$35=2,TEXT(J12,\"$###,###,###,##0\"),IF($C$35=1,IF(J12>99999999,TEXT(#REF!/10^9,\"$##0.0\")&\" B\",IF(J12>99999,TEXT(J12/10^6,\"$##0.0\")&\" M\",IF(J12>999,TEXT(J12/10^3,\"$##0.0\")&\" K\",TEXT(J12,\"$##0\")))),\"\"))","v":""},{"$f":"IF($C$32=1,TEXT(K20,\"#0.00%\"),\"\")&IF(AND($C$32>0,$C$35>0),CHAR(10),\"\")&IF($C$35=2,TEXT(K12,\"$###,###,###,##0\"),IF($C$35=1,IF(K12>99999999,TEXT(#REF!/10^9,\"$##0.0\")&\" B\",IF(K12>99999,TEXT(K12/10^6,\"$##0.0\")&\" M\",IF(K12>999,TEXT(K12/10^3,\"$##0.0\")&\" K\",TEXT(K12,\"$##0\")))),\"\"))","v":""},{"$f":"IF($C$32=1,TEXT(L20,\"#0.00%\"),\"\")&IF(AND($C$32>0,$C$35>0),CHAR(10),\"\")&IF($C$35=2,TEXT(L12,\"$###,###,###,##0\"),IF($C$35=1,IF(L12>99999999,TEXT(#REF!/10^9,\"$##0.0\")&\" B\",IF(L12>99999,TEXT(L12/10^6,\"$##0.0\")&\" M\",IF(L12>999,TEXT(L12/10^3,\"$##0.0\")&\" K\",TEXT(L12,\"$##0\")))),\"\"))","v":""},{"$f":"IF($C$32=1,TEXT(M20,\"#0.00%\"),\"\")&IF(AND($C$32>0,$C$35>0),CHAR(10),\"\")&IF($C$35=2,TEXT(M12,\"$###,###,###,##0\"),IF($C$35=1,IF(M12>99999999,TEXT(#REF!/10^9,\"$##0.0\")&\" B\",IF(M12>99999,TEXT(M12/10^6,\"$##0.0\")&\" M\",IF(M12>999,TEXT(M12/10^3,\"$##0.0\")&\" K\",TEXT(M12,\"$##0\")))),\"\"))","v":""}]
[]
[]
[null,null,null,null,null,{"$f":"\"• In Year 1, \"&IFERROR(TEXT(G16,\"#0.0%\"),\"[no data]\")&\" of the \"&$B$2&\" expenses were for Infrastructure & Administration compared to \"&IFERROR(TEXT(I16,\"#0.0%\"),\"[no data]\")&\" for the statewide average.\"","v":"• In Year 1, [no data] of the (no program selected) expenses were for Infrastructure & Administration compared to [no data] for the statewide average."}]
[null,null,null,null,null,{"$f":"\"• In Year 1, \"&IFERROR(TEXT(F16,\"#0.0%\"),\"[no data]\")&\" of the \"&$B$2&\" expenses were for Direct Services compared to \"&IFERROR(TEXT(H16,\"#0.0%\"),\"[no data]\")&\"% for the statewide average.\"","v":"• In Year 1, [no data] of the (no program selected) expenses were for Direct Services compared to [no data]% for the statewide average."}]
[]
[null,null,null,null,null,{"$f":"\"• In Year 2, \"&IFERROR(TEXT(G17,\"#0.0%\"),\"[no data]\")&\" of the \"&$B$2&\" expenses were for Infrastructure & Administration compared to \"&IFERROR(TEXT(I17,\"#0.0%\"),\"[no data]\")&\" for the statewide average.\"","v":"• In Year 2, [no data] of the (no program selected) expenses were for Infrastructure & Administration compared to [no data] for the statewide average."}]
[null,null,null,null,null,{"$f":"\"• In Year 2, \"&IFERROR(TEXT(F17,\"#0.0%\"),\"[no data]\")&\" of the \"&$B$2&\" expenses were for Direct Services compared to \"&IFERROR(TEXT(H17,\"#0.0%\"),\"[no data]\")&\"% for the statewide average.\"","v":"• In Year 2, [no data] of the (no program selected) expenses were for Direct Services compared to [no data]% for the statewide average."}]
[]
[null,null,null,null,null,{"$f":"\"• In Year 3, \"&IFERROR(TEXT(G18,\"#0.0%\"),\"[no data]\")&\" of the \"&$B$2&\" expenses were for Infrastructure & Administration compared to \"&IFERROR(TEXT(I18,\"#0.0%\"),\"[no data]\")&\" for the statewide average.\"","v":"• In Year 3, [no data] of the (no program selected) expenses were for Infrastructure & Administration compared to [no data] for the statewide average."}]
[null,null,null,null,null,{"$f":"\"• In Year 3, \"&IFERROR(TEXT(F18,\"#0.0%\"),\"[no data]\")&\" of the \"&$B$2&\" expenses were for Direct Services compared to \"&IFERROR(TEXT(H18,\"#0.0%\"),\"[no data]\")&\"% for the statewide average.\"","v":"• In Year 3, [no data] of the (no program selected) expenses were for Direct Services compared to [no data]% for the statewide average."}]
[null,null,0]
[null,null,null,null,null,{"$f":"\"• In Year 4, \"&IFERROR(TEXT(G19,\"#0.0%\"),\"[no data]\")&\" of the \"&$B$2&\" expenses were for Infrastructure & Administration compared to \"&IFERROR(TEXT(I19,\"#0.0%\"),\"[no data]\")&\" for the statewide average.\"","v":"• In Year 4, [no data] of the (no program selected) expenses were for Infrastructure & Administration compared to [no data] for the statewide average."}]
[null,null,null,null,null,{"$f":"\"• In Year 4, \"&IFERROR(TEXT(F19,\"#0.0%\"),\"[no data]\")&\" of the \"&$B$2&\" expenses were for Direct Services compared to \"&IFERROR(TEXT(H19,\"#0.0%\"),\"[no data]\")&\"% for the statewide average.\"","v":"• In Year 4, [no data] of the (no program selected) expenses were for Direct Services compared to [no data]% for the statewide average."}]
[null,null,2]
[null,null,null,null,null,{"$f":"\"• In Year 5, \"&IFERROR(TEXT(G20,\"#0.0%\"),\"[no data]\")&\" of the \"&$B$2&\" expenses were for Infrastructure & Administration compared to \"&IFERROR(TEXT(I20,\"#0.0%\"),\"[no data]\")&\" for the statewide average.\"","v":"• In Year 5, [no data] of the (no program selected) expenses were for Infrastructure & Administration compared to [no data] for the statewide average."}]
[null,null,null,null,null,{"$f":"\"• In Year 5, \"&IFERROR(TEXT(F20,\"#0.0%\"),\"[no data]\")&\" of the \"&$B$2&\" expenses were for Direct Services compared to \"&IFERROR(TEXT(H20,\"#0.0%\"),\"[no data]\")&\"% for the statewide average.\"","v":"• In Year 5, [no data] of the (no program selected) expenses were for Direct Services compared to [no data]% for the statewide average."}]

{"sheet":"Expenses","index":11,"n_rows":52,"n_cols":12,"rows_kept":52,"cut":false,"hidden":true,"merged":[[5,7,5,8],[5,9,5,10],[13,10,14,11]]}
[{"$f":"\"Total Expenses Over Time by Type for \"&B2&\" vs. Statewide Average\"","v":"Total Expenses Over Time by Type for (no program selected) vs. Statewide Average"},null,null,null,null,"Direct Services: Program","Infrastructure & Administrative: Program","Direct Services: Statewide","Infrastructure & Administrative: Statewide"]
[null,{"$f":"IF(Dashboard!C3=\"\",\"(no program selected)\",Dashboard!C3)","v":"(no program selected)"},null,null,null,"Direct Services: Program","Infrastructure & Administrative: Program","Direct Services: Statewide","Infrastructure & Administrative: Statewide"]
[null,null,null,null,null,{"$f":"\"Select D.S.: \"&B2","v":"Select D.S.: (no program selected)"},{"$f":"\"Select I.A.: \"&B2","v":"Select I.A.: (no program selected)"}]
[null,null,null,null,null,1,1,1,1]
[]
[null,null,null,null,"[1] Sum all programs by file from Flat tab",null,null,"Statewide Per Program Average",null,"Count of programs statewide:"]
[null,null,null,null,null,"Direct Services","Infrastructure & Administrative","Direct Services","Infrastructure & Administrative",{"$f":"H7","v":"Direct Services"},{"$f":"I7","v":"Infrastructure & Administrative"}]
[null,null,null,null,"File 1",{"$f":"IF(SUMIFS(Flat!$G:$G,Flat!$A:$A,$E8,Flat!$C:$C,\"Expenses\",Flat!$D:$D,F$7,Flat!$F:$F,$B$2)=0,#N/A,SUMIFS(Flat!$G:$G,Flat!$A:$A,$E8,Flat!$C:$C,\"Expenses\",Flat!$D:$D,F$7,Flat!$F:$F,$B$2))","v":{"$error":"#N/A"}},{"$f":"IF(SUMIFS(Flat!$G:$G,Flat!$A:$A,$E8,Flat!$C:$C,\"Expenses\",Flat!$D:$D,G$7,Flat!$F:$F,$B$2)=0,#N/A,SUMIFS(Flat!$G:$G,Flat!$A:$A,$E8,Flat!$C:$C,\"Expenses\",Flat!$D:$D,G$7,Flat!$F:$F,$B$2))","v":{"$error":"#N/A"}},{"$f":"IF(SUMIFS(Flat!$G:$G,Flat!$A:$A,$E8,Flat!$C:$C,\"Expenses\",Flat!$D:$D,H$7)=0,#N/A,SUMIFS(Flat!$G:$G,Flat!$A:$A,$E8,Flat!$C:$C,\"Expenses\",Flat!$D:$D,H$7))/J8","v":{"$error":"#N/A"}},{"$f":"IF(SUMIFS(Flat!$G:$G,Flat!$A:$A,$E8,Flat!$C:$C,\"Expenses\",Flat!$D:$D,I$7)=0,#N/A,SUMIFS(Flat!$G:$G,Flat!$A:$A,$E8,Flat!$C:$C,\"Expenses\",Flat!$D:$D,I$7))/K8","v":{"$error":"#N/A"}},{"$f":"COUNTIFS(Flat!$A:$A,$E8,Flat!$D:$D,J$7)","v":0},{"$f":"COUNTIFS(Flat!$A:$A,$E8,Flat!$D:$D,K$7)","v":0}]
[null,null,null,null,"File 2",{"$f":"IF(SUMIFS(Flat!$G:$G,Flat!$A:$A,$E9,Flat!$C:$C,\"Expenses\",Flat!$D:$D,F$7,Flat!$F:$F,$B$2)=0,#N/A,SUMIFS(Flat!$G:$G,Flat!$A:$A,$E9,Flat!$C:$C,\"Expenses\",Flat!$D:$D,F$7,Flat!$F:$F,$B$2))","v":{"$error":"#N/A"}},{"$f":"IF(SUMIFS(Flat!$G:$G,Flat!$A:$A,$E9,Flat!$C:$C,\"Expenses\",Flat!$D:$D,G$7,Flat!$F:$F,$B$2)=0,#N/A,SUMIFS(Flat!$G:$G,Flat!$A:$A,$E9,Flat!$C:$C,\"Expenses\",Flat!$D:$D,G$7,Flat!$F:$F,$B$2))","v":{"$error":"#N/A"}},{"$f":"IF(SUMIFS(Flat!$G:$G,Flat!$A:$A,$E9,Flat!$C:$C,\"Expenses\",Flat!$D:$D,H$7)=0,#N/A,SUMIFS(Flat!$G:$G,Flat!$A:$A,$E9,Flat!$C:$C,\"Expenses\",Flat!$D:$D,H$7))/J9","v":{"$error":"#N/A"}},{"$f":"IF(SUMIFS(Flat!$G:$G,Flat!$A:$A,$E9,Flat!$C:$C,\"Expenses\",Flat!$D:$D,I$7)=0,#N/A,SUMIFS(Flat!$G:$G,Flat!$A:$A,$E9,Flat!$C:$C,\"Expenses\",Flat!$D:$D,I$7))/K9","v":{"$error":"#N/A"}},{"$f":"COUNTIFS(Flat!$A:$A,$E9,Flat!$D:$D,J$7)","v":0},{"$f":"COUNTIFS(Flat!$A:$A,$E9,Flat!$D:$D,K$7)","v":0}]
[null,null,null,null,"File 3",{"$f":"IF(SUMIFS(Flat!$G:$G,Flat!$A:$A,$E10,Flat!$C:$C,\"Expenses\",Flat!$D:$D,F$7,Flat!$F:$F,$B$2)=0,#N/A,SUMIFS(Flat!$G:$G,Flat!$A:$A,$E10,Flat!$C:$C,\"Expenses\",Flat!$D:$D,F$7,Flat!$F:$F,$B$2))","v":{"$error":"#N/A"}},{"$f":"IF(SUMIFS(Flat!$G:$G,Flat!$A:$A,$E10,Flat!$C:$C,\"Expenses\",Flat!$D:$D,G$7,Flat!$F:$F,$B$2)=0,#N/A,SUMIFS(Flat!$G:$G,Flat!$A:$A,$E10,Flat!$C:$C,\"Expenses\",Flat!$D:$D,G$7,Flat!$F:$F,$B$2))","v":{"$error":"#N/A"}},{"$f":"IF(SUMIFS(Flat!$G:$G,Flat!$A:$A,$E10,Flat!$C:$C,\"Expenses\",Flat!$D:$D,H$7)=0,#N/A,SUMIFS(Flat!$G:$G,Flat!$A:$A,$E10,Flat!$C:$C,\"Expenses\",Flat!$D:$D,H$7))/J10","v":{"$error":"#N/A"}},{"$f":"IF(SUMIFS(Flat!$G:$G,Flat!$A:$A,$E10,Flat!$C:$C,\"Expenses\",Flat!$D:$D,I$7)=0,#N/A,SUMIFS(Flat!$G:$G,Flat!$A:$A,$E10,Flat!$C:$C,\"Expenses\",Flat!$D:$D,I$7))/K10","v":{"$error":"#N/A"}},{"$f":"COUNTIFS(Flat!$A:$A,$E10,Flat!$D:$D,J$7)","v":0},{"$f":"COUNTIFS(Flat!$A:$A,$E10,Flat!$D:$D,K$7)","v":0}]
[null,null,null,null,"File 4",{"$f":"IF(SUMIFS(Flat!$G:$G,Flat!$A:$A,$E11,Flat!$C:$C,\"Expenses\",Flat!$D:$D,F$7,Flat!$F:$F,$B$2)=0,#N/A,SUMIFS(Flat!$G:$G,Flat!$A:$A,$E11,Flat!$C:$C,\"Expenses\",Flat!$D:$D,F$7,Flat!$F:$F,$B$2))","v":{"$error":"#N/A"}},{"$f":"IF(SUMIFS(Flat!$G:$G,Flat!$A:$A,$E11,Flat!$C:$C,\"Expenses\",Flat!$D:$D,G$7,Flat!$F:$F,$B$2)=0,#N/A,SUMIFS(Flat!$G:$G,Flat!$A:$A,$E11,Flat!$C:$C,\"Expenses\",Flat!$D:$D,G$7,Flat!$F:$F,$B$2))","v":{"$error":"#N/A"}},{"$f":"IF(SUMIFS(Flat!$G:$G,Flat!$A:$A,$E11,Flat!$C:$C,\"Expenses\",Flat!$D:$D,H$7)=0,#N/A,SUMIFS(Flat!$G:$G,Flat!$A:$A,$E11,Flat!$C:$C,\"Expenses\",Flat!$D:$D,H$7))/J11","v":{"$error":"#N/A"}},{"$f":"IF(SUMIFS(Flat!$G:$G,Flat!$A:$A,$E11,Flat!$C:$C,\"Expenses\",Flat!$D:$D,I$7)=0,#N/A,SUMIFS(Flat!$G:$G,Flat!$A:$A,$E11,Flat!$C:$C,\"Expenses\",Flat!$D:$D,I$7))/K11","v":{"$error":"#N/A"}},{"$f":"COUNTIFS(Flat!$A:$A,$E11,Flat!$D:$D,J$7)","v":0},{"$f":"COUNTIFS(Flat!$A:$A,$E11,Flat!$D:$D,K$7)","v":0}]
[null,null,null,null,"File 5",{"$f":"IF(SUMIFS(Flat!$G:$G,Flat!$A:$A,$E12,Flat!$C:$C,\"Expenses\",Flat!$D:$D,F$7,Flat!$F:$F,$B$2)=0,#N/A,SUMIFS(Flat!$G:$G,Flat!$A:$A,$E12,Flat!$C:$C,\"Expenses\",Flat!$D:$D,F$7,Flat!$F:$F,$B$2))","v":{"$error":"#N/A"}},{"$f":"IF(SUMIFS(Flat!$G:$G,Flat!$A:$A,$E12,Flat!$C:$C,\"Expenses\",Flat!$D:$D,G$7,Flat!$F:$F,$B$2)=0,#N/A,SUMIFS(Flat!$G:$G,Flat!$A:$A,$E12,Flat!$C:$C,\"Expenses\",Flat!$D:$D,G$7,Flat!$F:$F,$B$2))","v":{"$error":"#N/A"}},{"$f":"IF(SUMIFS(Flat!$G:$G,Flat!$A:$A,$E12,Flat!$C:$C,\"Expenses\",Flat!$D:$D,H$7)=0,#N/A,SUMIFS(Flat!$G:$G,Flat!$A:$A,$E12,Flat!$C:$C,\"Expenses\",Flat!$D:$D,H$7))/J12","v":{"$error":"#N/A"}},{"$f":"IF(SUMIFS(Flat!$G:$G,Flat!$A:$A,$E12,Flat!$C:$C,\"Expenses\",Flat!$D:$D,I$7)=0,#N/A,SUMIFS(Flat!$G:$G,Flat!$A:$A,$E12,Flat!$C:$C,\"Expenses\",Flat!$D:$D,I$7))/K12","v":{"$error":"#N/A"}},{"$f":"COUNTIFS(Flat!$A:$A,$E12,Flat!$D:$D,J$7)","v":0},{"$f":"COUNTIFS(Flat!$A:$A,$E12,Flat!$D:$D,K$7)","v":0}]
[]
[null,null,null,null,"[2] Build percentages",null,null,null,null,null,"4/6/22: Formulas to use if errors should be disregarded and remaining value given 100% (as opposed to both % disappearing from graphs)"]
[null,null,null,null,null,"Direct Services","Infrastructure & Administrative","Direct Services","Infrastructure & Administrative"]
[null,null,null,null,"File 1",{"$f":"F8/SUM($F8:$G8)","v":{"$error":"#N/A"}},{"$error":"#N/A"},{"$f":"H8/SUM($H8:$I8)","v":{"$error":"#N/A"}},{"$error":"#N/A"},null,{"$f":"F8/SUMIF($F8:$G8,\"<>#N/A\")","v":{"$error":"#N/A"}},{"$f":"G8/SUMIF($F8:$G8,\"<>#N/A\")","v":{"$error":"#N/A"}}]
[null,null,null,null,"File 2",{"$error":"#N/A"},{"$error":"#N/A"},{"$error":"#N/A"},{"$error":"#N/A"},null,{"$f":"F9/SUMIF($F9:$G9,\"<>#N/A\")","v":{"$error":"#N/A"}},{"$error":"#N/A"}]
[null,null,null,null,"File 3",{"$error":"#N/A"},{"$error":"#N/A"},{"$error":"#N/A"},{"$error":"#N/A"},null,{"$error":"#N/A"},{"$error":"#N/A"}]
[null,null,null,null,"File 4",{"$error":"#N/A"},{"$error":"#N/A"},{"$error":"#N/A"},{"$error":"#N/A"},null,{"$error":"#N/A"},{"$error":"#N/A"}]
[null,null,null,null,"File 5",{"$error":"#N/A"},{"$error":"#N/A"},{"$error":"#N/A"},{"$error":"#N/A"},null,{"$error":"#N/A"},{"$error":"#N/A"}]
[]
[null,null,null,null,"[3] Build graphs's data source (only selected subcategories)"]
[null,null,null,null,null,{"$f":"\"Direct Services: \"&$B$2","v":"Direct Services: (no program selected)"},{"$f":"\"Infrastructure & Administrative: \"&$B$2","v":"Infrastructure & Administrative: (no program selected)"},"Direct Services: Statewide","Infrastructure & Administrative: Statewide"]
[null,null,null,"File 1",{"$f":"SUBSTITUTE(IF(VLOOKUP(VALUE(RIGHT($D24)),'Control Panel'!$B$3:$M$7,12,FALSE)=\"\",\"\",VLOOKUP(VALUE(RIGHT($D24)),'Control Panel'!$B$3:$M$7,12,FALSE)),\"-\",CHAR(10)&\"-\")","v":""},{"$f":"IFERROR(IF(F$4=0,#N/A,F16),#N/A)","v":{"$error":"#N/A"}},{"$f":"IFERROR(IF(G$4=0,#N/A,G16),#N/A)","v":{"$error":"#N/A"}},{"$error":"#N/A"},{"$error":"#N/A"}]
[null,null,null,"File 2",{"$f":"SUBSTITUTE(IF(VLOOKUP(VALUE(RIGHT($D25)),'Control Panel'!$B$3:$M$7,12,FALSE)=\"\",\"\",VLOOKUP(VALUE(RIGHT($D25)),'Control Panel'!$B$3:$M$7,12,FALSE)),\"-\",CHAR(10)&\"-\")","v":""},{"$f":"IFERROR(IF(F$4=0,#N/A,F17),#N/A)","v":{"$error":"#N/A"}},{"$error":"#N/A"},{"$error":"#N/A"},{"$error":"#N/A"}]
[null,null,null,"File 3",{"$f":"SUBSTITUTE(IF(VLOOKUP(VALUE(RIGHT($D26)),'Control Panel'!$B$3:$M$7,12,FALSE)=\"\",\"\",VLOOKUP(VALUE(RIGHT($D26)),'Control Panel'!$B$3:$M$7,12,FALSE)),\"-\",CHAR(10)&\"-\")","v":""},{"$f":"IFERROR(IF(F$4=0,#N/A,F18),#N/A)","v":{"$error":"#N/A"}},{"$error":"#N/A"},{"$error":"#N/A"},{"$error":"#N/A"}]
[null,null,null,"File 4",{"$f":"SUBSTITUTE(IF(VLOOKUP(VALUE(RIGHT($D27)),'Control Panel'!$B$3:$M$7,12,FALSE)=\"\",\"\",VLOOKUP(VALUE(RIGHT($D27)),'Control Panel'!$B$3:$M$7,12,FALSE)),\"-\",CHAR(10)&\"-\")","v":""},{"$f":"IFERROR(IF(F$4=0,#N/A,F19),#N/A)","v":{"$error":"#N/A"}},{"$error":"#N/A"},{"$error":"#N/A"},{"$error":"#N/A"}]
[null,null,null,"File 5",{"$f":"SUBSTITUTE(IF(VLOOKUP(VALUE(RIGHT($D28)),'Control Panel'!$B$3:$M$7,12,FALSE)=\"\",\"\",VLOOKUP(VALUE(RIGHT($D28)),'Control Panel'!$B$3:$M$7,12,FALSE)),\"-\",CHAR(10)&\"-\")","v":""},{"$f":"IFERROR(IF(F$4=0,#N/A,F20),#N/A)","v":{"$error":"#N/A"}},{"$error":"#N/A"},{"$error":"#N/A"},{"$error":"#N/A"}]
[]
[null,null,null,null,"[4] Create interactive graph labels"]
[null,null,null,null,null,{"$f":"F15","v":"Direct Services"},{"$f":"G15","v":"Infrastructure & Administrative"},{"$f":"H15","v":"Direct Services"},{"$f":"I15","v":"Infrastructure & Administrative"}]
[null,"Show %?",1,null,"File 1",{"$f":"IF($C$32=1,TEXT(F16,\"#0.0%\"),\"\")&IF(AND($C$32>0,$C$35>0),CHAR(10),\"\")&IF($C$35=2,TEXT(F8,\"$###,###,###,##0\"),IF($C$35=1,IF(F8>99999999,TEXT(#REF!/10^9,\"$##0.0\")&\" B\",IF(F8>99999,TEXT(F8/10^6,\"$##0.0\")&\" M\",IF(F8>999,TEXT(F8/10^3,\"$##0.0\")&\" K\",TEXT(F8,\"$##0\")))),\"\"))","v":{"$error":"#N/A"}},{"$f":"IF($C$32=1,TEXT(G16,\"#0.0%\"),\"\")&IF(AND($C$32>0,$C$35>0),CHAR(10),\"\")&IF($C$35=2,TEXT(G8,\"$###,###,###,##0\"),IF($C$35=1,IF(G8>99999999,TEXT(#REF!/10^9,\"$##0.0\")&\" B\",IF(G8>99999,TEXT(G8/10^6,\"$##0.0\")&\" M\",IF(G8>999,TEXT(G8/10^3,\"$##0.0\")&\" K\",TEXT(G8,\"$##0\")))),\"\"))","v":{"$error":"#N/A"}},{"$f":"IF($C$32=1,TEXT(H16,\"#0.0%\"),\"\")&IF(AND($C$32>0,$C$35>0),CHAR(10),\"\")&IF($C$35=2,TEXT(H8,\"$###,###,###,##0\"),IF($C$35=1,IF(H8>99999999,TEXT(#REF!/10^9,\"$##0.0\")&\" B\",IF(H8>99999,TEXT(H8/10^6,\"$##0.0\")&\" M\",IF(H8>999,TEXT(H8/10^3,\"$##0.0\")&\" K\",TEXT(H8,\"$##0\")))),\"\"))","v":{"$error":"#N/A"}},{"$f":"IF($C$32=1,TEXT(I16,\"#0.0%\"),\"\")&IF(AND($C$32>0,$C$35>0),CHAR(10),\"\")&IF($C$35=2,TEXT(I8,\"$###,###,###,##0\"),IF($C$35=1,IF(I8>99999999,TEXT(#REF!/10^9,\"$##0.0\")&\" B\",IF(I8>99999,TEXT(I8/10^6,\"$##0.0\")&\" M\",IF(I8>999,TEXT(I8/10^3,\"$##0.0\")&\" K\",TEXT(I8,\"$##0\")))),\"\"))","v":{"$error":"#N/A"}},"\n"]
[null,"(0=No, 1=Yes)",null,null,"File 2",{"$f":"IF($C$32=1,TEXT(F17,\"#0.0%\"),\"\")&IF(AND($C$32>0,$C$35>0),CHAR(10),\"\")&IF($C$35=2,TEXT(F9,\"$###,###,###,##0\"),IF($C$35=1,IF(F9>99999999,TEXT(#REF!/10^9,\"$##0.0\")&\" B\",IF(F9>99999,TEXT(F9/10^6,\"$##0.0\")&\" M\",IF(F9>999,TEXT(F9/10^3,\"$##0.0\")&\" K\",TEXT(F9,\"$##0\")))),\"\"))","v":{"$error":"#N/A"}},{"$f":"IF($C$32=1,TEXT(G17,\"#0.0%\"),\"\")&IF(AND($C$32>0,$C$35>0),CHAR(10),\"\")&IF($C$35=2,TEXT(G9,\"$###,###,###,##0\"),IF($C$35=1,IF(G9>99999999,TEXT(#REF!/10^9,\"$##0.0\")&\" B\",IF(G9>99999,TEXT(G9/10^6,\"$##0.0\")&\" M\",IF(G9>999,TEXT(G9/10^3,\"$##0.0\")&\" K\",TEXT(G9,\"$##0\")))),\"\"))","v":{"$error":"#N/A"}},{"$f":"IF($C$32=1,TEXT(H17,\"#0.0%\"),\"\")&IF(AND($C$32>0,$C$35>0),CHAR(10),\"\")&IF($C$35=2,TEXT(H9,\"$###,###,###,##0\"),IF($C$35=1,IF(H9>99999999,TEXT(#REF!/10^9,\"$##0.0\")&\" B\",IF(H9>99999,TEXT(H9/10^6,\"$##0.0\")&\" M\",IF(H9>999,TEXT(H9/10^3,\"$##0.0\")&\" K\",TEXT(H9,\"$##0\")))),\"\"))","v":{"$error":"#N/A"}},{"$f":"IF($C$32=1,TEXT(I17,\"#0.0%\"),\"\")&IF(AND($C$32>0,$C$35>0),CHAR(10),\"\")&IF($C$35=2,TEXT(I9,\"$###,###,###,##0\"),IF($C$35=1,IF(I9>99999999,TEXT(#REF!/10^9,\"$##0.0\")&\" B\",IF(I9>99999,TEXT(I9/10^6,\"$##0.0\")&\" M\",IF(I9>999,TEXT(I9/10^3,\"$##0.0\")&\" K\",TEXT(I9,\"$##0\")))),\"\"))","v":{"$error":"#N/A"}},"\n"]
[null,null,null,null,"File 3",{"$f":"IF($C$32=1,TEXT(F18,\"#0.0%\"),\"\")&IF(AND($C$32>0,$C$35>0),CHAR(10),\"\")&IF($C$35=2,TEXT(F10,\"$###,###,###,##0\"),IF($C$35=1,IF(F10>99999999,TEXT(#REF!/10^9,\"$##0.0\")&\" B\",IF(F10>99999,TEXT(F10/10^6,\"$##0.0\")&\" M\",IF(F10>999,TEXT(F10/10^3,\"$##0.0\")&\" K\",TEXT(F10,\"$##0\")))),\"\"))","v":{"$error":"#N/A"}},{"$f":"IF($C$32=1,TEXT(G18,\"#0.0%\"),\"\")&IF(AND($C$32>0,$C$35>0),CHAR(10),\"\")&IF($C$35=2,TEXT(G10,\"$###,###,###,##0\"),IF($C$35=1,IF(G10>99999999,TEXT(#REF!/10^9,\"$##0.0\")&\" B\",IF(G10>99999,TEXT(G10/10^6,\"$##0.0\")&\" M\",IF(G10>999,TEXT(G10/10^3,\"$##0.0\")&\" K\",TEXT(G10,\"$##0\")))),\"\"))","v":{"$error":"#N/A"}},{"$f":"IF($C$32=1,TEXT(H18,\"#0.0%\"),\"\")&IF(AND($C$32>0,$C$35>0),CHAR(10),\"\")&IF($C$35=2,TEXT(H10,\"$###,###,###,##0\"),IF($C$35=1,IF(H10>99999999,TEXT(#REF!/10^9,\"$##0.0\")&\" B\",IF(H10>99999,TEXT(H10/10^6,\"$##0.0\")&\" M\",IF(H10>999,TEXT(H10/10^3,\"$##0.0\")&\" K\",TEXT(H10,\"$##0\")))),\"\"))","v":{"$error":"#N/A"}},{"$f":"IF($C$32=1,TEXT(I18,\"#0.0%\"),\"\")&IF(AND($C$32>0,$C$35>0),CHAR(10),\"\")&IF($C$35=2,TEXT(I10,\"$###,###,###,##0\"),IF($C$35=1,IF(I10>99999999,TEXT(#REF!/10^9,\"$##0.0\")&\" B\",IF(I10>99999,TEXT(I10/10^6,\"$##0.0\")&\" M\",IF(I10>999,TEXT(I10/10^3,\"$##0.0\")&\" K\",TEXT(I10,\"$##0\")))),\"\"))","v":{"$error":"#N/A"}},"\n"]
[null,"Show $?",1,null,"File 4",{"$f":"IF($C$32=1,TEXT(F19,\"#0.0%\"),\"\")&IF(AND($C$32>0,$C$35>0),CHAR(10),\"\")&IF($C$35=2,TEXT(F11,\"$###,###,###,##0\"),IF($C$35=1,IF(F11>99999999,TEXT(#REF!/10^9,\"$##0.0\")&\" B\",IF(F11>99999,TEXT(F11/10^6,\"$##0.0\")&\" M\",IF(F11>999,TEXT(F11/10^3,\"$##0.0\")&\" K\",TEXT(F11,\"$##0\")))),\"\"))","v":{"$error":"#N/A"}},{"$f":"IF($C$32=1,TEXT(G19,\"#0.0%\"),\"\")&IF(AND($C$32>0,$C$35>0),CHAR(10),\"\")&IF($C$35=2,TEXT(G11,\"$###,###,###,##0\"),IF($C$35=1,IF(G11>99999999,TEXT(#REF!/10^9,\"$##0.0\")&\" B\",IF(G11>99999,TEXT(G11/10^6,\"$##0.0\")&\" M\",IF(G11>999,TEXT(G11/10^3,\"$##0.0\")&\" K\",TEXT(G11,\"$##0\")))),\"\"))","v":{"$error":"#N/A"}},{"$f":"IF($C$32=1,TEXT(H19,\"#0.0%\"),\"\")&IF(AND($C$32>0,$C$35>0),CHAR(10),\"\")&IF($C$35=2,TEXT(H11,\"$###,###,###,##0\"),IF($C$35=1,IF(H11>99999999,TEXT(#REF!/10^9,\"$##0.0\")&\" B\",IF(H11>99999,TEXT(H11/10^6,\"$##0.0\")&\" M\",IF(H11>999,TEXT(H11/10^3,\"$##0.0\")&\" K\",TEXT(H11,\"$##0\")))),\"\"))","v":{"$error":"#N/A"}},{"$f":"IF($C$32=1,TEXT(I19,\"#0.0%\"),\"\")&IF(AND($C$32>0,$C$35>0),CHAR(10),\"\")&IF($C$35=2,TEXT(I11,\"$###,###,###,##0\"),IF($C$35=1,IF(I11>99999999,TEXT(#REF!/10^9,\"$##0.0\")&\" B\",IF(I11>99999,TEXT(I11/10^6,\"$##0.0\")&\" M\",IF(I11>999,TEXT(I11/10^3,\"$##0.0\")&\" K\",TEXT(I11,\"$##0\")))),\"\"))","v":{"$error":"#N/A"}},"\n"]
[null,"(0=No,1=Short, 2=Long)",null,null,"File 5",{"$f":"IF($C$32=1,TEXT(F20,\"#0.0%\"),\"\")&IF(AND($C$32>0,$C$35>0),CHAR(10),\"\")&IF($C$35=2,TEXT(F12,\"$###,###,###,##0\"),IF($C$35=1,IF(F12>99999999,TEXT(#REF!/10^9,\"$##0.0\")&\" B\",IF(F12>99999,TEXT(F12/10^6,\"$##0.0\")&\" M\",IF(F12>999,TEXT(F12/10^3,\"$##0.0\")&\" K\",TEXT(F12,\"$##0\")))),\"\"))","v":{"$error":"#N/A"}},{"$f":"IF($C$32=1,TEXT(G20,\"#0.0%\"),\"\")&IF(AND($C$32>0,$C$35>0),CHAR(10),\"\")&IF($C$35=2,TEXT(G12,\"$###,###,###,##0\"),IF($C$35=1,IF(G12>99999999,TEXT(#REF!/10^9,\"$##0.0\")&\" B\",IF(G12>99999,TEXT(G12/10^6,\"$##0.0\")&\" M\",IF(G12>999,TEXT(G12/10^3,\"$##0.0\")&\" K\",TEXT(G12,\"$##0\")))),\"\"))","v":{"$error":"#N/A"}},{"$f":"IF($C$32=1,TEXT(H20,\"#0.0%\"),\"\")&IF(AND($C$32>0,$C$35>0),CHAR(10),\"\")&IF($C$35=2,TEXT(H12,\"$###,###,###,##0\"),IF($C$35=1,IF(H12>99999999,TEXT(#REF!/10^9,\"$##0.0\")&\" B\",IF(H12>99999,TEXT(H12/10^6,\"$##0.0\")&\" M\",IF(H12>999,TEXT(H12/10^3,\"$##0.0\")&\" K\",TEXT(H12,\"$##0\")))),\"\"))","v":{"$error":"#N/A"}},{"$f":"IF($C$32=1,TEXT(I20,\"#0.0%\"),\"\")&IF(AND($C$32>0,$C$35>0),CHAR(10),\"\")&IF($C$35=2,TEXT(I12,\"$###,###,###,##0\"),IF($C$35=1,IF(I12>99999999,TEXT(#REF!/10^9,\"$##0.0\")&\" B\",IF(I12>99999,TEXT(I12/10^6,\"$##0.0\")&\" M\",IF(I12>999,TEXT(I12/10^3,\"$##0.0\")&\" K\",TEXT(I12,\"$##0\")))),\"\"))","v":{"$error":"#N/A"}},"\n"]
[]
[]
[null,null,null,null,null,{"$f":"\"• In \"&E24&\", \"&IFERROR(TEXT(G16,\"#0.0%\"),\"[no data]\")&\" of the \"&$B$2&\" expenses were for Infrastructure & Administration compared to \"&IFERROR(TEXT(I16,\"#0.0%\"),\"[no data]\")&\" for the statewide average.\"","v":"• In , [no data] of the (no program selected) expenses were for Infrastructure & Administration compared to [no data] for the statewide average."},null,null,null,null,null,{"$f":"\"• In \"&E24&\", \"&$B$2&\" spent \"&IFERROR(TEXT(G8,\"$###,###,###,##0\"),\"[no data]\")&\" for Infrastructure & Administration compared to \"&IFERROR(TEXT(I8,\"$###,###,###,##0\"),\"[no data]\")&\" for the statewide per program average (based on \"&K8&\" programs).\"","v":"• In , (no program selected) spent [no data] for Infrastructure & Administration compared to [no data] for the statewide per program average (based on 0 programs)."}]
[null,null,null,null,null,{"$f":"\"• In \"&E24&\", \"&IFERROR(TEXT(F16,\"#0.0%\"),\"[no data]\")&\" of the \"&$B$2&\" expenses were for Direct Services compared to \"&IFERROR(TEXT(H16,\"#0.0%\"),\"[no data]\")&\" for the statewide average.\"","v":"• In , [no data] of the (no program selected) expenses were for Direct Services compared to [no data] for the statewide average."},null,null,null,null,null,{"$f":"\"• In \"&E24&\", \"&$B$2&\" spent \"&IFERROR(TEXT(F8,\"$###,###,###,##0\"),\"[no data]\")&\" for Direct Services compared to \"&IFERROR(TEXT(H8,\"$###,###,###,##0\"),\"[no data]\")&\" for the statewide per program average (based on \"&J8&\" programs).\"","v":"• In , (no program selected) spent [no data] for Direct Services compared to [no data] for the statewide per program average (based on 0 programs)."}]
[]
[null,null,null,null,null,{"$f":"\"• In \"&E25&\", \"&IFERROR(TEXT(G17,\"#0.0%\"),\"[no data]\")&\" of the \"&$B$2&\" expenses were for Infrastructure & Administration compared to \"&IFERROR(TEXT(I17,\"#0.0%\"),\"[no data]\")&\" for the statewide average.\"","v":"• In , [no data] of the (no program selected) expenses were for Infrastructure & Administration compared to [no data] for the statewide average."},null,null,null,null,null,{"$f":"\"• In \"&E25&\", \"&$B$2&\" spent \"&IFERROR(TEXT(G9,\"$###,###,###,##0\"),\"[no data]\")&\" for Infrastructure & Administration compared to \"&IFERROR(TEXT(I9,\"$###,###,###,##0\"),\"[no data]\")&\" for the statewide per program average (based on \"&K9&\" programs).\"","v":"• In , (no program selected) spent [no data] for Infrastructure & Administration compared to [no data] for the statewide per program average (based on 0 programs)."}]
[null,null,null,null,null,{"$f":"\"• In \"&E25&\", \"&IFERROR(TEXT(F17,\"#0.0%\"),\"[no data]\")&\" of the \"&$B$2&\" expenses were for Direct Services compared to \"&IFERROR(TEXT(H17,\"#0.0%\"),\"[no data]\")&\" for the statewide average.\"","v":"• In , [no data] of the (no program selected) expenses were for Direct Services compared to [no data] for the statewide average."},null,null,null,null,null,{"$f":"\"• In \"&E25&\", \"&$B$2&\" spent \"&IFERROR(TEXT(F9,\"$###,###,###,##0\"),\"[no data]\")&\" for Direct Services compared to \"&IFERROR(TEXT(H9,\"$###,###,###,##0\"),\"[no data]\")&\" for the statewide per program average (based on \"&J9&\" programs).\"","v":"• In , (no program selected) spent [no data] for Direct Services compared to [no data] for the statewide per program average (based on 0 programs)."}]
[]
[null,null,null,null,null,{"$f":"\"• In \"&E26&\", \"&IFERROR(TEXT(G18,\"#0.0%\"),\"[no data]\")&\" of the \"&$B$2&\" expenses were for Infrastructure & Administration compared to \"&IFERROR(TEXT(I18,\"#0.0%\"),\"[no data]\")&\" for the statewide average.\"","v":"• In , [no data] of the (no program selected) expenses were for Infrastructure & Administration compared to [no data] for the statewide average."},null,null,null,null,null,{"$f":"\"• In \"&E26&\", \"&$B$2&\" spent \"&IFERROR(TEXT(G10,\"$###,###,###,##0\"),\"[no data]\")&\" for Infrastructure & Administration compared to \"&IFERROR(TEXT(I10,\"$###,###,###,##0\"),\"[no data]\")&\" for the statewide per program average (based on \"&K10&\" programs).\"","v":"• In , (no program selected) spent [no data] for Infrastructure & Administration compared to [no data] for the statewide per program average (based on 0 programs)."}]
[null,null,null,null,null,{"$f":"\"• In \"&E26&\", \"&IFERROR(TEXT(F18,\"#0.0%\"),\"[no data]\")&\" of the \"&$B$2&\" expenses were for Direct Services compared to \"&IFERROR(TEXT(H18,\"#0.0%\"),\"[no data]\")&\" for the statewide average.\"","v":"• In , [no data] of the (no program selected) expenses were for Direct Services compared to [no data] for the statewide average."},null,null,null,null,null,{"$f":"\"• In \"&E26&\", \"&$B$2&\" spent \"&IFERROR(TEXT(F10,\"$###,###,###,##0\"),\"[no data]\")&\" for Direct Services compared to \"&IFERROR(TEXT(H10,\"$###,###,###,##0\"),\"[no data]\")&\" for the statewide per program average (based on \"&J10&\" programs).\"","v":"• In , (no program selected) spent [no data] for Direct Services compared to [no data] for the statewide per program average (based on 0 programs)."}]
[]
[null,null,null,null,null,{"$f":"\"• In \"&E27&\", \"&IFERROR(TEXT(G19,\"#0.0%\"),\"[no data]\")&\" of the \"&$B$2&\" expenses were for Infrastructure & Administration compared to \"&IFERROR(TEXT(I19,\"#0.0%\"),\"[no data]\")&\" for the statewide average.\"","v":"• In , [no data] of the (no program selected) expenses were for Infrastructure & Administration compared to [no data] for the statewide average."},null,null,null,null,null,{"$f":"\"• In \"&E27&\", \"&$B$2&\" spent \"&IFERROR(TEXT(G11,\"$###,###,###,##0\"),\"[no data]\")&\" for Infrastructure & Administration compared to \"&IFERROR(TEXT(I11,\"$###,###,###,##0\"),\"[no data]\")&\" for the statewide per program average (based on \"&K11&\" programs).\"","v":"• In , (no program selected) spent [no data] for Infrastructure & Administration compared to [no data] for the statewide per program average (based on 0 programs)."}]
[null,null,null,null,null,{"$f":"\"• In \"&E27&\", \"&IFERROR(TEXT(F19,\"#0.0%\"),\"[no data]\")&\" of the \"&$B$2&\" expenses were for Direct Services compared to \"&IFERROR(TEXT(H19,\"#0.0%\"),\"[no data]\")&\" for the statewide average.\"","v":"• In , [no data] of the (no program selected) expenses were for Direct Services compared to [no data] for the statewide average."},null,null,null,null,null,{"$f":"\"• In \"&E27&\", \"&$B$2&\" spent \"&IFERROR(TEXT(F11,\"$###,###,###,##0\"),\"[no data]\")&\" for Direct Services compared to \"&IFERROR(TEXT(H11,\"$###,###,###,##0\"),\"[no data]\")&\" for the statewide per program average (based on \"&J11&\" programs).\"","v":"• In , (no program selected) spent [no data] for Direct Services compared to [no data] for the statewide per program average (based on 0 programs)."}]
[]
[null,null,null,null,null,{"$f":"\"• In \"&E28&\", \"&IFERROR(TEXT(G20,\"#0.0%\"),\"[no data]\")&\" of the \"&$B$2&\" expenses were for Infrastructure & Administration compared to \"&IFERROR(TEXT(I20,\"#0.0%\"),\"[no data]\")&\" for the statewide average.\"","v":"• In , [no data] of the (no program selected) expenses were for Infrastructure & Administration compared to [no data] for the statewide average."},null,null,null,null,null,{"$f":"\"• In \"&E28&\", \"&$B$2&\" spent \"&IFERROR(TEXT(G12,\"$###,###,###,##0\"),\"[no data]\")&\" for Infrastructure & Administration compared to \"&IFERROR(TEXT(I12,\"$###,###,###,##0\"),\"[no data]\")&\" for the statewide per program average (based on \"&K12&\" programs).\"","v":"• In , (no program selected) spent [no data] for Infrastructure & Administration compared to [no data] for the statewide per program average (based on 0 programs)."}]
[null,null,null,null,null,{"$f":"\"• In \"&E28&\", \"&IFERROR(TEXT(F20,\"#0.0%\"),\"[no data]\")&\" of the \"&$B$2&\" expenses were for Direct Services compared to \"&IFERROR(TEXT(H20,\"#0.0%\"),\"[no data]\")&\" for the statewide average.\"","v":"• In , [no data] of the (no program selected) expenses were for Direct Services compared to [no data] for the statewide average."},null,null,null,null,null,{"$f":"\"• In \"&E28&\", \"&$B$2&\" spent \"&IFERROR(TEXT(F12,\"$###,###,###,##0\"),\"[no data]\")&\" for Direct Services compared to \"&IFERROR(TEXT(H12,\"$###,###,###,##0\"),\"[no data]\")&\" for the statewide per program average (based on \"&J12&\" programs).\"","v":"• In , (no program selected) spent [no data] for Direct Services compared to [no data] for the statewide per program average (based on 0 programs)."}]